{"text_format":"1","workbook":"xlsx","n_sheets":9,"sheets":["Guide utilisateur","HYPreno+","CalculFinancier","Calcul Valeur PEB + finitions","AnalyseFinanciere","Données","listes","1.t.de.fi","1.t.de.fi  (2)"],"not_rendered":{"charts":0,"images":34,"macros":1,"external_links":1,"defined_names":22,"comments":0,"pivot_tables":0},"unopened":[],"bounds":{"document_bytes":16777216,"sheet_cells":100000,"rows_first":2000,"rows_last":500,"rows_between":2000,"halvings":0,"cell_chars":16384,"cell_head_chars":4096},"cells_cut":0,"cells_raw":0,"read":"whole","date_system":"1900"}

{"sheet":"Guide utilisateur","index":0,"n_rows":55,"n_cols":13,"rows_kept":55,"cut":false,"hidden":false,"merged":[]}
["Guide utilisateur"]
[]
["Cette première version de l'outil \"Analyse financière\" est destinée à être utilisée par les Plateformes Locales de Rénovation Energétique (PLRE) et les professionnels de l'accompagnement  de projets de rénovation énergétique de logements."]
[]
["Cet outil vous permet de calculer différents éléments financiers, tels que la rentabilité de votre investissement, la valeur verte de votre bien après travaux…."]
["Pour ce faire, il se base sur des HYPOTHESES fixes, ainsi que vos réponses à certaines questions."]
[]
["Il est important de noter qu'il s'agit d'un outil simplifié, vous permettant d'avoir une estimation rapide de la situation, sur base de ces hypothèses et de vos réponses."]
["Cet outil ne permet pas de faire des calculs dans le cas où la surface de l'habitation varie (création d'une nouvelle pièce, par exemple)."]
[]
["Veuillez également activer l'utilisation des macros à l'ouverture du fichier, sans quoi l'outil ne fonctionnera pas."]
[]
["Guide pratique"]
["En très bref…"]
[]
[null,"Veuillez remplir toutes les cellules colorées du cadre \"Encodage des données\" de la feuille \"AnalyseFinanciere\""]
[null,"Les données d'entrée attendues sont les suivantes:"]
[null,null,null,"menu déroulant"]
[null,null,null,"champs à remplir"]
[]
[null,"L'outil a besoin de l'estimation des consommations de votre maison avant et après travaux,  par vecteur énergétique, ainsi que des labels associés."]
[null,"Il a également besoin de connaître l'investissement consenti, avec et sans primes."]
[]
[null,"De l'aide est disponible pour certaines cellules: celles-ci sont identifiées via un le symbole [?] . En cliquant sur ces cellules, une bulle contenant des informations s'affiche."]
[]
["Remplissage pas à pas de l'onglet \"Analyse financière\""]
[]
[null,"Données concernant votre maison"]
[null,"Label énergétique: ",null,"si vous ne connaissez pas le label de base de votre maison, le site ",null,null,null,null,null,"www.monquickscan.be ",null,null,"peut vous aider à l'estimer"]
[null,"Aspect des finitions: ",null,"l'aspect des finitions a une influence sur la valeur immobilière de votre bien."]
[null,null,null,"Plus un bien présente de belles finitions, tant intérieures qu'extérieures, plus sa valeur augmente."]
[null,null,null,"C'est à vous d'estimer dans quel état sont vos finitions."]
[null,"Chauffage et eau chaude sanitaire:"]
[null,"Les différentes consommations à encoder correspondent aux valeurs annuelles."]
[]
[null,"Consommation en électricité:"]
[null,"AVANT TRAVAUX"]
[null,null,null,"Encoder la consommation en déduisant la production d'électricité des panneaux photovoltaïques (PV) que vous possédez déjà (installation existante)."]
[null,"APRES TRAVAUX"]
[null,null,null,"Encoder la consommation en déduisant la production d'électricité des panneaux photovoltaïques (PV) que vous possédez déjà (installation existante)."]
[null,null,null,"Si le chauffage et/ ou l'eau chaude sanitaire ne sont pas produits via électricité, la consommation après travaux est en général égale à la consommation avant travaux."]
[]
[null,null,null,"Si installer des panneaux photovoltaïques fait partie de vos travaux: "]
[null,null,null,null,null,"Je choisis \"OUI\" dans la cellule J25 et j'encode le nombre de panneaux ou de kWc en J26."]
[null,null,null,null,null,"Je précise en K26 si j'ai encodé le nombre de panneaux ou de kWc."]
[null,null,null,null,null,"La production d'électricité de la nouvelle installation sera calculée par l'outil."]
[null,"Données concernant le volet financier"]
[null,"Encoder la somme que vous souhaitez investir, primes déduites et primes non déduites."]
[]
[null,"Lancement des calculs"]
[null,"Une fois toutes les données remplies, cliquer sur le bouton \"Lancer les calculs\"."]
[null,"Si celui-ci est grisé, c'est que certaines données nécessaires au calcul sont manquantes."]
[]
[null,"Création du rapport pdf"]
[null,"Lorsque les résultats ont été générés, le bouton \"Rapport pdf!\" s'active et vous permet d'imprimer une copie des résultats. "]

{"sheet":"HYPreno+","index":1,"n_rows":220,"n_cols":21,"rows_kept":220,"cut":false,"hidden":true,"merged":[[95,0,132,0],[11,2,12,4],[41,0,57,0],[58,0,64,0],[65,0,94,0]]}
["Hypothèses de travail RENO+"]
[]
["La feuille où s'effectuent tous les calculs est cachées, il s'agit de 'Calcul Financier'."]
["Comme c'est un outil qui compile plusieurs outils différents, toutes les données d'entrées étaient un peu éparpillées; c'est dans 'Calcul Financier' qu'on fait le lien vers toutes les autres feuilles."]
[]
["Ne pas changer les noms des onglets, ils sont liés dans le code!"]
[]
["L'outil permet de calculer les mensualités etc de deux cas extrêmes:  avec prêt classique et sans primes, avec prêt 0% et primes"]
[]
["Hypothèses de calcul"]
[null,null,null,null,null,null,"à mettre à jour jusqu'en octobre 2024"]
[null,null,"Hypothèses de calcul fixes"]
[null,null,null,null,null,"source"]
[null,null,"Prix du mazout/gaz de chauffage (T0)",{"$f":"[1]AnalyseFinanciere!F166","v":0.107},"€ TVAC/kWh","funnel","ce sont les prix à l'année 0 "]
[null,null,"Prix de l'électricité (T0)",{"$f":"[1]AnalyseFinanciere!F167","v":0.39300000000000002},"€ TVAC/kWh","funnel"]
[null,null,"Prix bûches (T0)",{"$f":"[1]AnalyseFinanciere!F168","v":4.4999999999999998E-2},"€ TVAC/kWh","funnel"]
[null,null,"Prix pellets (T0)",{"$f":"[1]AnalyseFinanciere!F169","v":0.11},"€ TVAC/kWh","US111"]
[null,null,"Taux d'actualisation",{"$f":"[1]AnalyseFinanciere!F170","v":0.03},null,"SALIM"]
[null,null,"Hypothèse d'évolution annuelle du prix de l'énergie",{"$f":"[1]AnalyseFinanciere!F171","v":0.03},null,"SALIM"]
[null,null,"Durée de vie théorique de l'investissement",{"$f":"[1]AnalyseFinanciere!F172","v":30},"ans"]
[null,null,"Taux d'emprunt classique",{"$f":"[1]AnalyseFinanciere!F173","v":0.04},null,"SALIM"]
[null,null,"Taux d'emprunt crédit social",{"$f":"[1]AnalyseFinanciere!F174","v":9.9999999999999994E-12}]
[null,null,"Facteur d'émission de CO2 - Mazout",{"$f":"[1]AnalyseFinanciere!F178","v":7.2999999999999995E-2},"kg/MJ","Annexe X - méthode de calcul certification des unités résidentielles existantes v 2"]
[null,null,"Facteur d'émission de CO2 - Gaz",{"$f":"[1]AnalyseFinanciere!F179","v":5.6000000000000001E-2},"kg/MJ","Annexe X - méthode de calcul certification des unités résidentielles existantes v 2"]
[null,null,"Facteur d'émission de CO2 - Electricité",{"$f":"[1]AnalyseFinanciere!F180","v":0.19800000000000001},"kg/MJ","Annexe X - méthode de calcul certification des unités résidentielles existantes v 2"]
[null,null,"Facteur d'émission de CO2 - Bois",{"$f":"[1]AnalyseFinanciere!F181","v":0},"kg/MJ","Annexe X - méthode de calcul certification des unités résidentielles existantes v 2"]
[null,null,"Facteur d'émission de CO2 - Granulé (pellets)",{"$f":"[1]AnalyseFinanciere!F182","v":0},"kg/MJ","Annexe X - méthode de calcul certification des unités résidentielles existantes v 2"]
[null,null,"Facteur de conversion litres de mazout en kWh",{"$f":"[1]AnalyseFinanciere!F183","v":10.1},"kWh/l","US111"]
[null,null,"Facteur de conversion stères de bois en kWh",{"$f":"[1]AnalyseFinanciere!F184","v":2000},"kWh/stère","US111"]
[null,null,"Facteur de conversion kg de granulés en kWh",{"$f":"[1]AnalyseFinanciere!F185","v":4.8},"kWh/kg","US111"]
[]
[]
["Onglet 'CalculFinancier'"]
[]
["Légende:",null,"calculé via macro "]
[null,null,"calcul dans la feuille",null,null,null,null,null,null,"théoriquement, valeurs des primes sont HTVA."]
[null,null,"Eléments liés à une autre feuille",null,null,null,null,null,null,"Mais on a décidé, puisque c'est un outil d'estimation, de ne pas tenir compte de point."]
[]
[null,null,null,null,null,null,null,null,null,null,null,null,null,null,null,null,"Le prêt 0% peut porter sur maximum 60000 euros."]
[null,null,null,null,"données encodées par utilisateur dans AnalyseFinancière",null,null,null,null,null,null,null,null,null,null,null,"Donc on regarde quelle proportion de l'investissement avec primes pourra en bénéficier."]
[]
["HYPOTHESES"]
[]
[]
[]
[]
[]
[]
[null,null,null,null,null,null,null,null,"Hypothèses FIXES de coûts, etc (redite de ce qui est mis précédemmentà"]
[null,null,null,null,null,null,null,null,"Les infos en rose sont dépendantes du montant de l'investissement:"]
[null,null,null,null,null,null,null,null,null,null,null,"(onglet Données)"]
[]
[]
[]
[]
[]
[]
[]
["COUTS INVESTISSEMENT"]
[]
[null,null,null,null,null,null,null,null,"calcul effectué dans la feuille '1.t.de.fi (2)' (voir plus bas pour un peu plus de détails, sinon, voir SALIM)"]
[]
[null,null,null,null,null,null,null,null,"calcul effectué en interne à la feuille (mais aussi dans la feuille '1.t.de.fi ' (voir plus bas pour un peu plus de détails, sinon, voir SALIM)"]
[]
[]
["COUTS ENERGIE et EMISSIONS CO2"]
[]
[]
[]
[]
[]
[]
[]
[null,null,"Les coûts et émissions de CO2 associés à chaque vecteur énergétique sous calculés via une macro,pour les situations avant et après travaux"]
[]
[null,null,"Coûts: ","Coût associé à un vecteur    =   conso encodée utilisateur   x   facteur de conversion éventuel   x   (prix énergie   x   (1  +   hyp.évolution du prix de l'énergie) ^1"]
[]
[]
[null,null,null,null,"facteur fixes",null,null,null,null,null,null,null,"Hyp fixes",null,"L'exposant 1, c'est simplement parce que on calcule à l'année 1 dans ce cas."]
[null,null,null,null,"provenant de ",null,null,null,null,null,null,null,"voir plus"]
[null,null,null,null,"la US111",null,null,null,null,null,null,null,"haut"]
[]
[]
[null,null,"Emissions de CO2 par vecteur:","CO2 associé à un vecteur    =   conso encodée utilisateur   x   facteur de conversion éventuel   x   facteur de conversion en énergie primaire  x  facteur d'émission de CO2"]
[]
[]
[null,null,"Emissions de CO2 économisée par la nouvelle installation PV:",null,"formule du funnel"]
[null,null,null,null,"utilisateur peut encoder les kWC ou le nombre de panneaux"]
[null,null,null,null,null,"si utilisateur encode kWc"]
[null,null,null,null,null,null,"production élec PV = ",null,null,"800  x (nbre kWc)",null,"(kWh)"]
[null,null,null,null,null,null,"émission CO2:",null,null,"production élec PV  x   facteur conversion Ep élec  x facteur émission CO2 élec"]
[]
[null,null,null,null,null,"si utilisateur encode nombre de panneaux"]
[null,null,null,null,null,null,"production élec PV = ",null,null,"nbre panneaux  x  0.34  (kWc/panneau)  x  800",null,null,null,null,"(kWh)"]
[null,null,null,null,null,null,"émission CO2:",null,null,"production élec PV  x   facteur conversion Ep élec  x facteur émission CO2 élec"]
["CALCUL FINANCIER","Lignes 71 à 105: tableau de calcul établi par Salim"]
[null,"Pour plus d'infos, voir avec lui."]
[null,"Mais la logique est la suivante:"]
[null,null,null,"colonne E","on calcule le coût de la facture avant travaux, sur base des éléments devéloppés ci-dessus"]
[null,null,null,null,"On somme les coûts pour chaque vecteur,"]
[null,null,null,null,"et on fait ça sur 30, en tenant compte de l'évolution du prix de l'énergie"]
[]
[null,null,null,null,null,null,"Coût associé à un vecteur    =   conso encodée utilisateur   x   facteur de conversion éventuel   x   (prix énergie   x   (1  +   hyp.évolution du prix de l'énergie) ^ i"]
[]
[null,null,null,"colonne F","idem, mais avec les consos après travaux",null,null,null,null,null,null,null,null,null,null,null,null,null,null,null,"avec I = 1 à 30, soit les années"]
[]
[null,null,null,"colonne G ","simplement la différence des deux consos précédentes"]
[]
[null,null,null,"colonne H","gain dû à la revente d'élec suite à la production via nouvelle installation PV"]
[null,null,null,null,"même principe que pour les émissions de CO2"]
[]
[null,null,null,null,null,"si utilisateur encode kWc"]
[null,null,null,null,null,null,"gain financier=",null,null,"production élec PV  x   (prix élec   x   (1  +   hyp.évolution du prix de l'énergie) ^ i  -  nbre kWc  x 85"]
[null,null,null,null,null,null,null,null,null,null,null,null,null,null,null,null,null,"taxe prosumer: 85 euros par kWc"]
[null,null,null,null,null,"si utilisateur encode nombre de panneaux"]
[null,null,null,null,null,null,"émission CO2:",null,null,"production élec PV  x   (prix élec   x   (1  +   hyp.évolution du prix de l'énergie) ^ i  -  nbre panneaux x  0.34  x  85"]
[]
[null,null,null,"colonne I","gain financier annuel = somme colonne G + colonne H"]
[]
[null,null,null,"colonnes J à AA: calcul financier proprement dit --> SALIM"]
[null,null,null,null,"colonnes J, K, L:",null,"cas du prêt 0%, avec primes"]
[null,null,null,null,"colonne J",null,"ce qu'on rembourse annuellement, intérêts compris"]
[null,null,null,null,null,null,"dans ce cas, il n'y a d'intérêts que sur la somme qui dépasse 60000 euros"]
[null,null,null,null,null,null,"ce qui dépasse est considéré au taux classique"]
[]
[null,null,null,null,null,null,"voir onglet:  '1.t.de.fi  (2)'"]
[null,null,null,null,null,null,null,"macro: Modules > ModCredit0"]
[]
[null,null,null,null,"colonnes M, N, O:",null,"cas du prêt classique, sans prime"]
[null,null,null,null,null,null,"voir onglet:  '1.t.de.fi'"]
[null,null,null,null,null,null,null,"macro: Modules > ModCreditClassique"]
[]
[]
[null,null,null,null,null,"PARTIE résumé de toute les valeurs liées au calcul financier, juste pour avoir toutes celles qui nous intéressent au même endroit"]
[]
[]
[null,null,null,null,null,"vient de 1.t.de.fi (2), cellule AD15"]
[null,null,null,null,null,"vient de 1.t.de.fi, cellule R15"]
[null,null,null,null,null,"gain mensuel lié aux économies d'énergie à différentes années"]
[]
[]
[]
[]
[null,null,null,null,null,"investissement de départ"]
[]
[]
[]
[]
[]
[]
[null,null,null,null,null,"estimation de la plus-value immobilière liée aux travaux"]
[]
[null,null,null,null,null,"les valeurs sont calculées dans  l'onglet 'Calcul Valeur PEB + finitions'"]
[null,null,null,null,null,"qui utilise lui-même l'onglet 'Données'"]
[]
[null,null,null,null,"Onglet Données"]
[null,null,null,null,"Les calculs ont été développés par Damien (si besoin de plus d'infos)"]
[null,null,null,null,"La logique est la suivante:"]
[null,null,null,null,null,"La plus-value immobilière d'un bien dépend de sa valeur verte (= label énergétique) et de l'état de ses finitions."]
[null,null,null,null,null,"Etablissement d'un tableau, reprenant, localité par localité pour la Wallonie:"]
[null,null,null,null,null,null,"* les prix au m² (le tableau comprend aussi les apparts, mais on n'utilise que les données concernant les maisons)"]
[null,null,null,null,null,null,null,null,"source:","Immoweb. Ce sont des prix par commune"]
[null,null,null,null,null,"Impact du label PEB sur la vente:"]
[null,null,null,null,null,null,"Des coefficients (en rouge) sont donc appliqués au prix de base par localité"]
[null,null,null,null,null,null,null,null,"source:","baromètre de la Fednot https://www.notaire.be/download/news%2F63bf144d98cd8.pdf"]
[null,null,null,null,null,null,null,null,"Ce document spécifie que les maisons wallone:"]
[null,null,null,null,null,null,null,null,null,"avec certificat entre A et D",null,null,"--> 2022: se vendent environ 17.3% de plus que le prix de la maison moyenne en Wallonie"]
[null,null,null,null,null,null,null,null,null,"avec certificat entre E et G",null,null,"--> 2022: se vendent environ 15.1% de moinss que le prix de la maison moyenne en Wallonie"]
[null,null,null,null,null,null,"* de MA à MG, il s'agit du prix impacté par le label énergétique."]
[]
[null,null,null,null,null,"Impact des finitions:"]
[null,null,null,null,null,null,"Des coefficients (en vert) sont donc appliqués au prix de base par localité"]
[null,null,null,null,null,null,null,"source:","grille des loyers de la RW"]
[]
[null,null,null,null,null,"Un coefficient de négociation est aussi pris en compte: 0.9"]
[]
[]
[]
[]
[]
[]
[]
[]
[]
[]
[]
[]
[]
[]
[]
[]
[]
[]
[]
[]
[]
[]
[]
[]
[]
[]
[null,null,null,null,"Onglet Calcul Valeur PEB et finitions"]
[]
[null,null,null,null,"En rose: les données encodées par l'utilisateur"]
[null,null,null,null,"Et puis, la majorité des choses se passe dans la macro derrière (cellules en vert)"]
[null,null,null,null,null,"sur base du code postal, on a le prix au m²",null,null,null,"-->","estimation du prix de base de la maison"]
[null,null,null,null,null,"ce prix est corrigé, sur base des labels avant et après travaux, en utilisant les coefficients rougges"]
[null,null,null,null,null,"idem pour les finitions (coefficients verts)"]
[]
[null,null,null,null,null,"coef.negoc  x  prix m²  x  coef. Label avant  x coef . Finitions avant"]
[null,null,null,null,null,"coef.negoc  x  prix m²   x  coef. Label après  x coef . Finitions après"]
[]
[null,null,null,null,null,"idem x surface maison"]
[]
[]
[]
[]
[null,null,null,null,"calcul de la valeur verte seule (on considère que les finitions ont un coef de 1 avant et après)"]
[]
[null,null,null,null,"calcul de la valeur due aux finition: plus value totale - valeur verte"]

{"sheet":"CalculFinancier","index":2,"n_rows":152,"n_cols":27,"rows_kept":152,"cut":false,"hidden":true,"merged":[[1,3,1,5],[33,3,34,5],[151,3,151,4],[70,3,70,27],[105,3,106,4],[115,3,116,4],[133,3,134,5],[142,3,143,4],[149,3,150,4]]}
[]
[null,null,null,"Analyse de l'investissement de la rentabilité liée aux travaux d'une maison"]
[]
[null,"Données concernant Uotre maison"]
[]
[]
[null,null,null,"Code postal de l'endroit où se situe la maison"]
[null,null,null,"Surface habitable",null,"m²"]
[]
[null,null,null,"avant travaux",null,null,null,"Après travaux"]
[null,null,null,"Label énergétique",null,null,null,"Label énergétique"]
[null,null,null,"Aspect des finitions",null,null,null,"Aspect des finitions"]
[null,null,null,"Chauffage",null,null,null,"Chauffage"]
[null,null,null,"Uecteur énergétique principal",null,null,null,"Uecteur énergétique"]
[null,null,null,"Consommation en énergie associée à ce Uecteur",null,{"$f":"ULOOKUP(E14,listes!$H$3:$J$8,3,FALSE)","v":{"$error":"#NAME?"}},null,"Consommation en énergie associée à ce Uecteur",null,null,{"$f":"ULOOKUP(J14,listes!$H$3:$J$7,3,FALSE)","v":{"$error":"#NAME?"}}]
[null,null,null,"Uecteur énergétique secondaire",null,null,null,"Uecteur énergétique"]
[null,null,null,"Consommation en énergie associée à ce Uecteur",null,{"$f":"ULOOKUP(E16,listes!$H$3:$J$8,3,FALSE)","v":{"$error":"#NAME?"}},null,"Consommation en énergie associée à ce Uecteur",null,null,{"$f":"ULOOKUP(J16,listes!$H$3:$J$7,3,FALSE)","v":{"$error":"#NAME?"}}]
[null,null,null,"Eau chaude sanitaire",null,null,null,"Eau chaude sanitaire"]
[null,null,null,"Uecteur énergétique",null,null,null,"Uecteur énergétique"]
[null,null,null,"Consommation en énergie associée à ce Uecteur",null,{"$f":"ULOOKUP(E19,listes!$H$3:$J$7,3,FALSE)","v":{"$error":"#NAME?"}},null,"Consommation en énergie associée à ce Uecteur",null,null,{"$f":"ULOOKUP(J19,listes!$H$3:$J$7,3,FALSE)","v":{"$error":"#NAME?"}}]
[null,null,null,"Consommation électrique (PV déduit le cas échéant)",null,"kWh",null,"Consommation électrique",null,null,"kWh"]
[]
[]
[null,null,null,"L'installation d'une installation photoUoltaïque est-elle préUue?"]
[null,null,null,"Nombre de kWc ou de panneaux"]
[]
[]
[null,"Données concernant le Volet financier"]
[null,null,null,null,null,null,"quid primes sans TVA????","prêt 0%","prêt classique"]
[null,null,null,"Montant de l'investissement (primes déduites)",{"$f":"AnalyseFinanciere!E32","v":100000},"€ TVAC",null,{"$f":"IF(E30<=60000,E30,60000)","v":60000},{"$f":"E30-H30","v":40000}]
[null,null,null,"Montant de l'investissement (primes non déduites)",{"$f":"AnalyseFinanciere!E33","v":120000},"€ TVAC"]
[]
[]
[null,null,null,"Hypothèses de calcul"]
[null,null,null,null,null,null,null,"calculé via macro "]
[null,null,null,"Prix du mazout/gaz de chauffage (T0)",0.107,"€ TVAC/kWh",null,"calcul dans la feuille"]
[null,null,null,"Prix de l'électricité (T0)",0.39300000000000002,"€ TVAC/kWh",null,"Eléments liés à une autre feuille"]
[null,null,null,"Prix bûches (T0)",4.4999999999999998E-2,"€ TVAC/kWh"]
[null,null,null,"Prix pellets (T0)",0.11,"€ TVAC/kWh"]
[null,null,null,"Taux d'actualisation",0.03]
[null,null,null,"Hypothèse d'évolution annuelle du prix de l'énergie",0.03]
[null,null,null,"Durée de vie théorique de l'investissement",30,"ans","HYP: fixe"]
[null,null,null,"Taux d'emprunt classique",0.04]
[null,null,null,"Durée de l'emprunt classique",{"$f":"'1.t.de.fi'!Q7","v":240},"mois"]
[null,null,null,"Taux d'emprunt crédit social",9.9999999999999994E-12]
[null,null,null,"Durée de l'emprunt crédit social",{"$f":"'1.t.de.fi  (2)'!E7","v":240},"mois"]
[]
[null,null,"Coût de l'investissement","investissement total net (avec prime)",{"$f":"AnalyseFinanciere!E32","v":100000}]
[null,null,null,"Coût total remboursé de l'investissement net (avec prime et prêt social)",{"$f":"'1.t.de.fi  (2)'!AK35","v":118174.10664832134},"€"]
[null,null,null,"Mensualité totale de l'emprunt (avec prime et prêt social)",{"$f":"'1.t.de.fi  (2)'!AD15","v":492.39211103467221},"€"]
[null,null,null,"investissement total brut total (hors prime)",{"$f":"AnalyseFinanciere!E33","v":120000},"€"]
[null,null,null,"Coût total remboursé de l'investissement  brut (hors prime)",{"$f":"(E51*E43/12)/(1-(1+(E43/12))^-E44)*E44","v":174522.33483822949},"€"]
[null,null,null,"Mensualité totale de l'emprunt (hors prime)",{"$f":"(E51*E43/12)/(1-(1+(E43/12))^-E44)","v":727.17639515928954}]
[]
[]
[null,null,null,"Coûts énergétiques",null,null,null,"Emissions de CO2","avant travaux","APRES travaux"]
[null,null,null,null,"AVANT travaux","APRES travaux"]
[null,null,"En T1 ","Coût associé au mazout",2226.2419999999997,0,null,"Emission CO2 associée au mazout",5308.5599999999995,0]
[null,null,null,"Coût associé au gaz",0,0,null,"Emission CO2 associée au gaz",0,0]
[null,null,null,"Coût associé aux pellets",0,0,null,"Emission CO2 associée aux pellets",0,0]
[null,null,null,"Coût associé aux bûches",370.8,370.8,null,"Emission CO2 associée aux bûches",0,0]
[null,null,null,"Coût associé à l'élec (PV existant déduit)",1052.4540000000002,404.79,null,"Emission CO2 associée à l'élec (PV existant déduit)",4633.2000000000007,1782.0000000000002]
[null,null,null,"TOTAL",{"$f":"SUM(E58:E62)","v":3649.4960000000001},{"$f":"SUM(F58:F62)","v":775.59},null,"Emission CO2 économisée grace aux nouveaux PV",null,5816.4480000000012]
[null,null,null,null,null,null,null,null,{"$f":"SUM(I58:I62)","v":9941.76},{"$f":"SUM(J58:J62)-J63","v":-4034.4480000000012}]
[null,null,null,"Gain sur facture avant retrait PV",{"$f":"E63-F63","v":2873.9059999999999},"juste pour check avec valeur "]
[null,null,null,null,null,"dans tableau ci-dessous"]
[]
[]
[null,null,null,null,"."]
[]
[null,null,null,"Flux financiers générés par l'investissement"]
[null,null,null,"Périodes (T)","Coût de la facture avant travaux","Coût de la facture après travaux","Gains financiers annuels estimés (delta facture corrigée )","Gain supplémentaires suite revente d'électricité (cas de la production)","Gains financiers annuels estimés (delta facture corrigée + gain suite à la revente d'électricité )","Coût annuel du montant de l'emprunt (avec prime) et prêt social","dont capital","dont intérêts","Coût annuel du montant de l'emprunt (hors prime) sur 5 ans ","dont capital","dont intérêts","CF annuel du projet, avec prime (Gains - charges financières de l'emprunt)","CF annuel du projet, hors prime (Gains - charges financières de l'emprunt)","Calcul du temps de retour des flux non actualisés avec prime","Calcul du temps de retour des flux non actualisés hors prime","Calcul du temps de retour des flux  actualisés avec prime","Calcul du temps de retour des flux  actualisés hors prime","Calcul du temps de retour des flux  actualisés avec prime, et plus-value immobilière au T0","Calcul du temps de retour des flux  actualisés hors prime et plus-value immobilière au T0","Gains financiers annuels estimés actualisés avec prime","Gains financiers annuels estimés actualisés hors prime","VAN de l'investissement avec prime","VAN de l'investissement hors prime"]
[null,null,null,null,"check gain annuel facture:",{"$f":"F75-E75-H75","v":-3848.3405600000006},null,null,null,null,{"$f":"SUM(K75:K94)","v":99999.995035576634},{"$f":"SUM(L75:L94)","v":18174.111612744713},null,{"$f":"SUM(N75:N94)","v":119999.99999999526},{"$f":"SUM(O75:O94)","v":54522.334838234208},"Calcul TRI","Calcul TRI","Calcul PBP (non actu)","Calcul PBP (non actu)","Calcul PBP (actu)","Calcul PBP (actu)","Calcul PBP (actu)","Calcul PBP (actu)","Calcul Gain financier total (actu)","Calcul Gain financier total (actu)","Calcul VAN","Calcul VAN"]
[null,null,null,0,null,null,null,null,null,{"$f":"-$E$48","v":-100000},null,null,{"$f":"-$E$51","v":-120000},null,null,{"$f":"-$E$48","v":-100000},{"$f":"-$E$51","v":-120000},{"$f":"-$E$48","v":-100000},{"$f":"-$E$51","v":-120000},{"$f":"R74","v":-100000},{"$f":"S74","v":-120000},{"$f":"R74+E127","v":-31878.999999999971},{"$f":"S74+E127","v":-51878.999999999971},{"$f":"-$E$48","v":-100000},{"$f":"-$E$51","v":-120000},{"$f":"-$E$48","v":-100000},{"$f":"-$E$51","v":-120000}]
[null,null,null,1,3649.4960000000005,775.59,{"$f":"(E75-F75)","v":2873.9060000000004},974.43456000000037,{"$f":"G75+H75","v":3848.3405600000006},{"$f":"$E$50*12","v":5908.7053324160661},{"$f":"'1.t.de.fi  (2)'!AI15","v":4332.9668663513339},{"$f":"'1.t.de.fi  (2)'!AJ15","v":1575.7384660647335},{"$f":"$E$53*12","v":8726.1167419114754},{"$f":"'1.t.de.fi'!W15","v":3998.9013437172744},{"$f":"'1.t.de.fi'!X15","v":4727.2153981941992},{"$f":"I75-L75","v":2272.602093935267},{"$f":"I75-O75","v":-878.87483819419867},{"$f":"R74+P75","v":-97727.39790606474},{"$f":"S74+Q75","v":-120878.8748381942},{"$f":"T74+(P75/(1+$E$40)^D75)","v":-97793.590200062841},{"$f":"U74+(Q75/(1+$E$40)^D75)","v":-120853.27654193611},{"$f":"V74+(P75/(1+$E$40)^D75)","v":-29672.590200062819},{"$f":"W74+(Q75/(1+$E$40)^D75)","v":-52732.276541936088},{"$f":"P75/((1+$E$40)^D75)","v":2206.4097999371525},{"$f":"Q75/((1+$E$40)^D75)","v":-853.27654193611522},{"$f":"Z74+X75","v":-97793.590200062841},{"$f":"AA74+Y75","v":-120853.27654193611}]
[null,null,null,2,3758.9808800000001,798.85770000000002,{"$f":"(E76-F76)","v":2960.12318},1014.0715968000004,{"$f":"G76+H76","v":3974.1947768000005},5908.7053324160661,{"$f":"'1.t.de.fi  (2)'!AI16","v":4387.2740032603551},{"$f":"'1.t.de.fi  (2)'!AJ16","v":1521.4313291557125},8726.1167419114754,{"$f":"'1.t.de.fi'!W16","v":4161.8227544443362},{"$f":"'1.t.de.fi'!X16","v":4564.2939874671383},{"$f":"I76-L76","v":2452.7634476442881},{"$f":"I76-O76","v":-590.09921066713787},{"$f":"R75+P76","v":-95274.634458420449},{"$f":"S75+Q76","v":-121468.97404886133},-95481.625408240536,-121409.50164389401,{"$f":"V75+(P76/(1+$E$40)^D76)","v":-27360.62540824051},-53288.501643893993,2311.9647918223095,-556.22510195790164,{"$f":"Z75+X76","v":-95481.625408240536},-121409.50164389401]
[null,null,null,3,3871.7503063999998,822.82343100000003,{"$f":"(E77-F77)","v":3048.9268753999995},1054.8977447040002,4103.8246201040001,5908.7053324160661,{"$f":"'1.t.de.fi  (2)'!AI17","v":4443.7936967186051},{"$f":"'1.t.de.fi  (2)'!AJ17","v":1464.9116356974619},8726.1167419114754,{"$f":"'1.t.de.fi'!W17","v":4331.381834819088},{"$f":"'1.t.de.fi'!X17","v":4394.7349070923883},{"$f":"I77-L77","v":2638.9129844065383},-290.91028698838818,{"$f":"R76+P77","v":-92635.721474013917},-121759.88433584973,-93066.646200802134,-121675.72576665146,-24945.646200802112,-53554.725766651449,2414.9792074383981,-266.22412275745745,-93066.646200802134,-121675.72576665146]
[null,null,null,4,3987.9028155920005,847.5081339300001,3140.3946816620005,1096.9486770451206,4237.3433587071213,5908.7053324160661,{"$f":"'1.t.de.fi  (2)'!AI18","v":4502.6160896936981},{"$f":"'1.t.de.fi  (2)'!AJ18","v":1406.0892427223689},8726.1167419114754,{"$f":"'1.t.de.fi'!W18","v":4507.849013744365},{"$f":"'1.t.de.fi'!X18","v":4218.2677281671085},2831.2541159847524,19.075630540012753,-89804.467358029171,-121740.80870530971,-90551.113589391694,-121658.77731598583,-22430.113589391676,-53537.777315985826,2515.5326114104364,16.948450665626289,-90551.113589391694,-121658.77731598583]
[null,null,null,5,4107.5399000597599,872.9333779479,3234.6065221118597,1140.2611373564739,4374.8676594683338,5908.7053324160661,{"$f":"'1.t.de.fi  (2)'!AI19","v":4563.8349977168309},{"$f":"'1.t.de.fi  (2)'!AJ19","v":1344.8703346992363},8726.1167419114754,{"$f":"'1.t.de.fi'!W19","v":4691.5057378137635},{"$f":"'1.t.de.fi'!X19","v":4034.6110040977105},3029.9973247690978,{"$f":"I79-O79","v":340.25665537062332},-86774.470033260077,-121400.55204993908,-87937.41128038535,-121365.26893611797,-19816.411280385335,-53244.268936117951,2613.7023090063408,293.50837986787485,-87937.41128038535,-121365.26893611797]
[null,null,null,6,4230.7660970615534,899.12137928633706,3331.6447177752161,1184.8729714771682,4516.5176892523841,5908.7053324160661,{"$f":"'1.t.de.fi  (2)'!AI20","v":4627.5480585086907},{"$f":"'1.t.de.fi  (2)'!AJ20","v":1281.1572739073767},8726.1167419114754,{"$f":"'1.t.de.fi'!W20","v":4882.6449201893438},{"$f":"'1.t.de.fi'!X20","v":3843.4718217221307},3235.3604153450074,673.04586753025342,-83539.109617915063,-120727.50618240883,-85227.847867836419,-120801.60361803538,-17106.847867836401,-52680.603618035369,2709.5634125489328,563.66531808257957,-85227.847867836419,-120801.60361803538]
[null,null,null,7,4357.6890799733992,926.09502066492723,3431.594059308472,1230.8231606214833,4662.4172199299555,5908.7053324160661,{"$f":"'1.t.de.fi  (2)'!AI21","v":4693.8568877013531},{"$f":"'1.t.de.fi  (2)'!AJ21","v":1214.8484447147143},8726.1167419114754,{"$f":"'1.t.de.fi'!W21","v":5081.571407767331},{"$f":"'1.t.de.fi'!X21","v":3644.5453341441435},3447.5687752152412,{"$f":"I81-O81","v":1017.8718857858121},-80091.540842699818,-119709.63429662301,-82424.658961936497,-119973.98062806789,-14303.658961936486,-51852.980628067875,2803.1889058999154,827.62298996749553,-82424.658961936497,-119973.98062806789]
[null,null,null,8,4488.4197523726025,953.87787128487503,3534.5418810877272,1278.151855440128,4812.6937365278554,5908.7053324160661,{"$f":"'1.t.de.fi  (2)'!AI22","v":4762.8672409045284},{"$f":"'1.t.de.fi  (2)'!AJ22","v":1145.8380915115381},8726.1167419114754,{"$f":"'1.t.de.fi'!W22","v":5288.6024673768579},{"$f":"'1.t.de.fi'!X22","v":3437.5142745346166},3666.8556450163173,1375.1794619932389,-76424.685197683502,-118334.45483462978,-79530.009254864432,-118888.40126193156,-11409.009254864421,-50767.40126193154,2894.6497070720643,1085.5793661363327,-79530.009254864432,-118888.40126193156]
[null,null,null,9,4623.072344943781,982.49420742342136,3640.5781375203596,1326.9004111033319,4967.4785486236915,5908.7053324160661,{"$f":"'1.t.de.fi  (2)'!AI23","v":4834.6891823746428},{"$f":"'1.t.de.fi  (2)'!AJ23","v":1074.0161500414247},8726.1167419114754,{"$f":"'1.t.de.fi'!W23","v":5504.0682917871973},{"$f":"'1.t.de.fi'!X23","v":3222.0484501242777},3893.4623985822668,1745.4300984994138,-72531.222799101233,-116589.02473613036,-76545.994525840229,-117550.67442930542,-8424.9945258402204,-49429.674429305407,2984.0147290242007,1337.7268326261355,-76545.994525840229,-117550.67442930542]
[null,null,null,10,4761.7645152920932,1011.969033646124,3749.7954816459692,1377.1114234364318,5126.906905082401,5908.7053324160661,{"$f":"'1.t.de.fi  (2)'!AI24","v":4909.4372605557428},{"$f":"'1.t.de.fi  (2)'!AJ24","v":999.26807186032386},8726.1167419114754,{"$f":"'1.t.de.fi'!W24","v":5728.3125263304973},{"$f":"'1.t.de.fi'!X24","v":2997.8042155809767},4127.6388332220768,{"$f":"I84-O84","v":2129.1026895014243},-68403.583965879152,-114459.92204662894,-73474.643587148268,-115966.42207385716,-5353.6435871482545,-47845.422073857146,3071.3509386919659,1584.2523554482616,-73474.643587148268,-115966.42207385716]
[null,null,null,11,4904.6174507508567,1042.3281046555078,3862.2893460953492,1428.8287661395248,5291.1181122348735,5908.7053324160661,{"$f":"'1.t.de.fi  (2)'!AI25","v":4987.2306907722304},{"$f":"'1.t.de.fi  (2)'!AJ25","v":921.47464164383643},8726.1167419114754,{"$f":"'1.t.de.fi'!W25","v":5961.6928169799612},{"$f":"'1.t.de.fi'!X25","v":2764.4239249315142},4369.6434705910369,2526.6941873033593,-64033.940495288116,-111933.22785932558,-70317.920172842452,-114141.08443349079,-2196.9201728424314,-46020.084433490782,3156.7234143058231,1825.3376403663651,-70317.920172842452,-114141.08443349079]
[null,null,null,12,5051.7559742733829,1073.597947795173,3978.1580264782096,1482.0976291237107,5460.2556556019208,5908.7053324160661,{"$f":"'1.t.de.fi  (2)'!AI26","v":5068.1935453647611},{"$f":"'1.t.de.fi  (2)'!AJ26","v":840.5117870513061},8726.1167419114754,{"$f":"'1.t.de.fi'!W26","v":6204.5813807575505},{"$f":"'1.t.de.fi'!X26","v":2521.535361153924},4619.7438685506149,2938.7202944479968,-59414.196626737503,-108994.50756487758,-67077.724771796202,-112079.92514545019,1043.2752282038214,-43958.925145450186,3240.1954010462528,2061.1592880405951,-67077.724771796202,-112079.92514545019]
[null,null,null,13,5203.3086535015846,1105.8058862290281,4097.5027672725564,1536.9645579974222,5634.4673252699786,5908.7053324160661,{"$f":"'1.t.de.fi  (2)'!AI27","v":5152.4549515725812},{"$f":"'1.t.de.fi  (2)'!AJ27","v":756.25038084348569},8726.1167419114754,{"$f":"'1.t.de.fi'!W27","v":6457.3655993810125},{"$f":"'1.t.de.fi'!X27","v":2268.7511425304619},4878.2169444264928,3365.7161827395166,-54535.979682311008,-105628.79138213806,-63755.896406711559,-109788.036200777,4365.1035932884679,-41667.036200776987,3321.8283650846461,2291.8889446731973,-63755.896406711559,-109788.036200777]
[null,null,null,14,5359.4079131066319,1138.9800628158991,4220.4278502907327,1593.4774947373451,5813.905345028078,5908.7053324160661,{"$f":"'1.t.de.fi  (2)'!AI28","v":5240.1492974778994},{"$f":"'1.t.de.fi  (2)'!AJ28","v":668.55603493816761},8726.1167419114754,{"$f":"'1.t.de.fi'!W28","v":6720.4486370969671},{"$f":"'1.t.de.fi'!X28","v":2005.6681048145072},5145.3493100899104,3808.2372402135707,-49390.630372221101,-101820.5541419245,-60354.214360654572,-107270.34275249025,7766.7856393454558,-39149.342752490236,3401.6820460569879,2517.69344828675,-60354.214360654572,-107270.34275249025]
[null,null,null,15,5520.1901504998305,1173.149464700376,4347.0406857994549,1651.685819579465,5998.7265053789197,5908.7053324160661,{"$f":"'1.t.de.fi  (2)'!AI29","v":5331.4164463407424},{"$f":"'1.t.de.fi  (2)'!AJ29","v":577.28888607532485},8726.1167419114754,{"$f":"'1.t.de.fi'!W29","v":6994.2500836854952},{"$f":"'1.t.de.fi'!X29","v":1731.8666582259793},5421.4376193035951,4266.8598471529403,-43969.192752917508,-97553.694294771558,-56874.39985263854,-104531.6077817278,11246.600147361487,-36410.607781727791,3479.8145080160307,2738.7349707624476,-56874.39985263854,-104531.6077817278]
[null,null,null,16,5685.7958550148269,1208.3439486413877,4477.4519063734388,1711.6403941668493,6189.0923005402883,5908.7053324160661,{"$f":"'1.t.de.fi  (2)'!AI30","v":5426.4019596661474},{"$f":"'1.t.de.fi  (2)'!AJ30","v":482.30337274991984},8726.1167419114754,{"$f":"'1.t.de.fi'!W30","v":7279.2066236617093},{"$f":"'1.t.de.fi'!X30","v":1446.9101182497645},5706.7889277903687,4742.182182290524,-38262.403825127141,-92811.512112481039,-53318.117663732177,-101576.43662596565,14802.882336267849,-33455.436625965645,3556.2821889063625,2955.1711557621484,-53318.117663732177,-101576.43662596565]
[null,null,null,17,5856.3697306652703,1244.5942671006292,4611.7754635646415,1773.3936059918544,6385.1690695564957,5908.7053324160661,{"$f":"'1.t.de.fi  (2)'!AI31","v":5525.2573293594578},{"$f":"'1.t.de.fi  (2)'!AJ31","v":383.44800305660942},8726.1167419114754,{"$f":"'1.t.de.fi'!W31","v":7575.7727327416396},{"$f":"'1.t.de.fi'!X31","v":1150.3440091698337},6001.7210664998865,{"$f":"I91-O91","v":5234.8250603866618},-32260.682758627256,-87576.687052094378,-49686.977715126726,-98409.281373311373,18434.022284873299,-30288.281373311365,3631.1399486054511,3167.1552526542782,-49686.977715126726,-98409.281373311373]
[null,null,null,18,6032.0608225852293,1281.9320951136483,4750.1287274715814,1836.9994141716104,6587.1281416431921,5908.7053324160661,{"$f":"'1.t.de.fi  (2)'!AI32","v":5628.140219339979},{"$f":"'1.t.de.fi  (2)'!AJ32","v":280.56511307608753},8726.1167419114754,{"$f":"'1.t.de.fi'!W32","v":7884.421402683206},{"$f":"'1.t.de.fi'!X32","v":841.69533922826838},6306.563028567105,5745.4328024149236,-25954.119730060149,-81831.254249679449,-45982.536599554194,-95034.445126751132,22138.463400445828,-26913.445126751132,3704.4411155725302,3374.8362465602336,{"$f":"Z91+X92","v":-45982.536599554194},-95034.445126751132]
[null,null,null,19,6213.0226472627855,1320.3900579670576,4892.6325892957284,1902.5133965967586,6795.1459858924873,5908.7053324160661,{"$f":"'1.t.de.fi  (2)'!AI33","v":5735.2147169983555},{"$f":"'1.t.de.fi  (2)'!AJ33","v":173.49061541771212},8726.1167419114754,{"$f":"'1.t.de.fi'!W33","v":8205.6448956583317},{"$f":"'1.t.de.fi'!X33","v":520.47184625314276},6621.6553704747748,6274.6741396393445,{"$f":"R92+P93","v":-19332.464359585374},-75556.5801100401,-42206.29906740829,-91456.086142116677,25914.700932591732,-23335.086142116677,3776.2375321459044,3578.3589846344557,-42206.29906740829,-91456.086142116677]
[null,null,null,20,6399.4133266806703,1360.0017597060696,5039.4115669746006,1969.9927984946619,7009.4043654692623,5908.7053324160661,{"$f":"'1.t.de.fi  (2)'!AI34","v":5846.6515948986944},{"$f":"'1.t.de.fi  (2)'!AJ34","v":62.053737517373108},8726.1167419114754,{"$f":"'1.t.de.fi'!W34","v":8539.9555293593476},{"$f":"'1.t.de.fi'!X34","v":186.16121255212599},6947.3506279518888,6823.2431529171363,-12385.113731633486,-68733.33695712297,-38359.719468880117,-87678.221843428531,29761.280531119901,-19557.221843428535,3846.5795985281698,3777.8642986881414,-38359.719468880117,-87678.221843428531]
[null,null,null,21,6591.3957264810906,1400.8018124972514,5190.5939139838392,2039.4965824495014,7230.0904964333404,null,null,null,null,null,null,7230.0904964333404,7230.0904964333404,-5155.0232352001458,-61503.246460689632,-34473.189557765378,-83791.691932313784,33647.810442234644,-15670.691932313794,3886.529911114741,3886.529911114741,-34473.189557765378,-83791.691932313784]
[null,null,null,22,6789.1375982755235,1442.8258668721689,5346.3117314033543,2111.085479922986,7457.3972113263408,null,null,null,null,null,null,7457.3972113263408,7457.3972113263408,2302.373976126195,-54045.849249363295,-30581.229877071455,-79899.732251619862,37539.770122928567,-11778.732251619871,3891.959680693923,3891.959680693923,-30581.229877071455,-79899.732251619862]
[null,null,null,23,6992.8117262237884,1486.1106428783341,5506.7010833454542,2184.822044320676,7691.5231276661307,null,null,null,null,null,null,7691.5231276661307,7691.5231276661307,9993.8971037923257,-46354.326121697166,-26683.998575426871,-76002.500949975278,41437.001424573151,-7881.5009499752859,3897.2313016445851,3897.2313016445851,-26683.998575426871,-76002.500949975278]
[null,null,null,24,7202.5960780105042,1530.6939621646843,5671.9021158458199,2260.7707056502963,7932.6728214961167,null,null,null,null,null,null,7932.6728214961167,7932.6728214961167,17926.569925288444,-38421.653300201047,-22781.649195189406,-72100.15156973782,45339.350804810616,-3979.1515697378227,3902.3493802374633,3902.3493802374633,-22781.649195189406,-72100.15156973782]
[null,null,null,25,7418.6739603508177,1576.6147810296247,5842.0591793211934,2338.9978268198051,8181.0570061409981,null,null,null,null,null,null,8181.0570061409981,8181.0570061409981,26107.62693142944,-30240.596294060051,-18874.330806609345,-68192.833181157766,49246.669193390677,-71.833181157762283,3907.3183885800604,3907.3183885800604,-18874.330806609345,-68192.833181157766]
[null,null,null,26,7641.2341791613444,1623.9132244605134,6017.320954700831,2419.5717616243996,8436.8927163252301,null,null,null,null,null,null,8436.8927163252301,8436.8927163252301,34544.519647754671,-21803.703577734821,-14962.188138085014,-64280.690512633439,53158.811861915005,3840.3094873665686,3912.1426685243309,3912.1426685243309,-14962.188138085014,-64280.690512633439]
[null,null,null,27,7870.4712045361848,1672.630621194329,6197.8405833418556,2502.562914473132,8700.4034978149866,null,null,null,null,null,null,8700.4034978149866,8700.4034978149866,43244.923145569657,-13103.300079919834,-11045.361702624497,-60363.864077172926,57075.638297375524,7757.1359228270849,3916.8264354605162,3916.8264354605162,-11045.361702624497,-60363.864077172926]
[null,null,null,28,8106.585340672269,1722.8095398301589,6383.7758008421097,2588.0438019073258,8971.8196027494359,null,null,null,null,null,null,8971.8196027494359,8971.8196027494359,52216.742748319091,-4131.4804771703984,-7123.9879206239966,-56442.490295172422,60997.012079376029,11678.509704827586,3921.3737820005013,3921.3737820005013,-7123.9879206239966,-56442.490295172422]
[null,null,null,29,8349.7829008924382,1774.4938260250638,6575.2890748673744,2676.0891159645457,9251.3781908319197,null,null,null,null,null,null,9251.3781908319197,9251.3781908319197,61468.120939151013,5119.8977136615213,-3198.1992390701112,-52516.701613618534,64922.800760929917,15604.298386381472,3925.7886815538855,3925.7886815538855,-3198.1992390701112,-52516.701613618534]
[null,null,null,30,8600.2763879192098,1827.7286408058158,6772.5477471133945,2766.7757894434822,9539.3235365568762,null,null,null,null,null,null,9539.3235365568762,9539.3235365568762,71007.444475707889,14659.221250218397,731.8757527297771,-48586.626621818643,68852.8757527298,19534.373378181361,3930.0749917998883,3930.0749917998883,731.8757527297771,-48586.626621818643]
[]
[null,null,null,"Résultats de l'opération, mensualités"]
[]
[null,null,null,"Mensualité de l'emprunt (avec prime et prêt à taux zéro)",{"$f":"E50","v":492.39211103467221}]
[null,null,null,"Mensualité totale de l'emprunt (hors prime et hors prêt à taux zéro)",{"$f":"E53","v":727.17639515928954}]
[]
[null,null,null,"Gain mensuel sur facture estimé, année 1",{"$f":"I75/12","v":320.69504666666671}]
[null,null,null,"Gain mensuel sur facture estimé, année 10",{"$f":"I84/12","v":427.24224209020008}]
[null,null,null,"Gain sur facture estimé, année 20",{"$f":"I94/12","v":584.1170304557719}]
[]
[]
[null,null,null,"Résultats globaux de l'opération"]
[]
[null,null,null,"investissement total net (avec prime et prêt à taux zéro)",{"$f":"E48","v":100000}]
[null,null,null,"investissement total brut total (hors prime et hors prêt à taux zéro)",{"$f":"E51","v":120000}]
[]
[null,null,null,"Gain financier total actualisé (avec prime et prêt à taux zéro)",{"$f":"SUM(X75:X104)","v":100731.87575272977}]
[null,null,null,"Gain financier total actualisé (hors prime et hors prêt à taux zéro)",{"$f":"SUM(Y75:Y104)","v":71413.373378181335}]
[]
[null,null,null,"VAN (avec prime et prêt à taux zéro) sur la durée de vie de l'investissement",{"$f":"NPV(0.02,P75:P104)-E48","v":19173.602632381022}]
[null,null,null,"VAN (hors prime et hors prêt à taux zéro) sur la durée de vie de l'investissement",{"$f":"NPV(0.02,Q75:Q104)-E51","v":-32232.146467469865}]
[]
[null,null,null,"Estimation de la plus-value immobilière liée au travaux : PV immobilière ",{"$f":"'Calcul Valeur PEB + finitions'!C6","v":68121.000000000029}]
[null,null,null,"dont Valeur verte",{"$f":"'Calcul Valeur PEB + finitions'!F11","v":46980.000000000029}]
[null,null,null,"dont amélioration des finitions",{"$f":"'Calcul Valeur PEB + finitions'!F12","v":21141}]
[]
[null,null,null,"VAN (avec prime et prêt à taux zéro) sur la durée de vie de l'investissement, avec prise en considération de la plus-value estimée",{"$f":"E124+E127","v":87294.602632381051}]
[null,null,null,"VAN (hors prime et hors prêt à taux zéro) sur la durée de vie de l'investissement, avec prise en considération de la plus-value estimée",{"$f":"E125+E127","v":35888.853532530164}]
[]
[null,null,null,"Temps de retour"]
[null,null,null,null,null,null,"dernier négatif","premier positif"]
[null,null,"colonne U","PBP des flux actualisés (avec prime et prêt à taux zéro)",{"$f":"COUNTIF(T75:T104,\"<0\")","v":29},{"$f":"IF(E136=30,0,((-G136)/(-G136+H136))*365)","v":297.02810371208039},{"$f":"LOOKUP(9.99999999999999E+307,IF($T$75:$T$104<0,$T$75:$T$104))","v":-3198.1992390701112},{"$f":"INDEX($T$75:$T$104,MATCH(TRUE,$T$75:$T$104>0,0))","v":731.8757527297771},{"$f":"ROUND((E136+F136/365),1)","v":29.8}]
[null,null,null,"PBP des flux actualisés (hors prime et hors prêt à taux zéro)",{"$f":"COUNTIF(U75:U104,\"<0\")","v":30},{"$f":"IF(E137=30,0,((-G137)/(-G137+H137))*365)","v":0},{"$f":"LOOKUP(9.99999999999999E+307,IF($U$75:$U$104<0,$U$75:$U$104))","v":-48586.626621818643},{"$f":"INDEX($U$75:$U$104,MATCH(TRUE,$U$75:$U$104>0,0))","v":{"$error":"#N/A"}},{"$f":"ROUND((E137+F137/365),1)","v":30}]
[null,null,null,null,"années","jours","dernier négatif","premier positif"]
[null,null,null,"PBP des flux actualisés (avec prime et prêt à taux zéro), et prise en considération de la plus-value estimée",{"$f":"COUNTIF(V75:V104,\"<0\")","v":11},{"$f":"IF(E139=30,0,((-G139)/(-G139+H139))*365)","v":247.47762521623335},{"$f":"LOOKUP(9.99999999999999E+307,IF($V$75:$V$104<0,$V$75:$V$104))","v":-2196.9201728424314},{"$f":"INDEX($V$75:$V$104,MATCH(TRUE,$V$75:$V$104>0,0))","v":1043.2752282038214},{"$f":"ROUND((E139+F139/365),1)","v":11.7}]
[null,null,null,"PBP des flux actualisés (hors prime et hors prêt à taux zéro), et prise en considération de la plus-value estimée",{"$f":"COUNTIF(W75:W104,\"<0\")","v":25},{"$f":"IF(E140=30,0,((-G140)/(-G140+H140))*365)","v":6.7019823519046513},{"$f":"LOOKUP(9.99999999999999E+307,IF($W$75:$W$104<0,$W$75:$W$104))","v":-71.833181157762283},{"$f":"INDEX($W$75:$W$104,MATCH(TRUE,$W$75:$W$104>0,0))","v":3840.3094873665686},{"$f":"ROUND((E140+F140/365),1)","v":25}]
[]
[]
[null,null,null,"Résultats environnementaux de l'opération",null,{"$f":"IF(E136=0,\"0\",IF(E136=30,\"30\",I136))","v":29.8}]
[null,null,null,null,null,{"$f":"IF(E137=0,\"0\",IF(E137=30,\"30\",I137))","v":"30"}]
[null,null,null,"Gain estimé en équivalent CO2 (T)",{"$f":"IF(E147<0,E146/1000,(E146-E147)/1000)","v":9.9417600000000004}]
[null,null,null,"CO2 avant (kg)",{"$f":"SUM(I58:I62)","v":9941.76},{"$f":"IF(E139=0,\"0\",IF(E139=30,\"30\",I139))","v":11.7}]
[null,null,null,"CO2 après (kg)",{"$f":"IF(AnalyseFinanciere!J25=\"Non\",SUM(J58:J62),SUM(J59:J62)-J63)","v":-4034.4480000000012},25]
[null,null,null,null,null,"Idée pour aller plus loin (nice to have) : Quid de l'énergie grise? Ou un autre indicateur qui favorise les matériaux biosourcés"]
[null,null,null,null,null,"Comparer économies de CO2 suite aux travaux, à la production de CO2 (énergie grise pour la réno), avec option matériaux trad et matériaux biosourcés, afin d'estimer le nombre d'année de récupération"]
[null,null,null,"Autres bénéfices  liés à la rénovation "]
[]
[null,null,null," - Augmentation du confort (thermique, acoustique, surchauffe...) \n - Maintien de l'état du bien (Entretien et pérennisation) \n - Amélioration esthétique \n - Valorisation du patrimoine immobilier \n - Amélioration de l'empreinte écologique\n - Anticipation des obligations de rénovation\n - Augmentation, et optimisation des loyers (cas du propriétaire bailleur)\n - Anticipation des augmentations de coûts (matériaux, main-d'oeuvre)\n - ..."]

{"sheet":"Calcul Valeur PEB + finitions","index":3,"n_rows":17,"n_cols":11,"rows_kept":17,"cut":false,"hidden":true,"merged":[[1,4,1,5],[3,4,3,5]]}
[null,null,null,null,"AVANT","APRES"]
[null,"type de bien","Code Postal","Surface habitable","PEB",null,null,null,"prix base m²","correction","total"]
[null,"Maison",{"$f":"AnalyseFinanciere!E7","v":5640},{"$f":"AnalyseFinanciere!E8","v":180},{"$f":"AnalyseFinanciere!E13","v":"F"},{"$f":"AnalyseFinanciere!J13","v":"B"},null,"avant travaux",1450,1057.05,190269]
[null,null,null,null,"Finitions",null,null,"après travaux",null,1435.5000000000002,258390.00000000003]
[null,null,null,null,{"$f":"AnalyseFinanciere!E14","v":"5 - à rénover"},{"$f":"AnalyseFinanciere!J14","v":"3 - correctes"},null,"différence",null,{"$f":"J4-J3","v":378.45000000000027},68121.000000000029]
[null,"Estimation augmentation de valeur",{"$f":"K5","v":68121.000000000029}]
[null,"Estimation valeur du bien temps T0",{"$f":"K3","v":190269}]
[]
[]
[null,null,null,null,"Valeur immo totale",{"$f":"C6","v":68121.000000000029}]
[null,null,null,null,"Check valeur verte",46980.000000000029]
[null,null,null,null,"Valeur finition",{"$f":"F10-F11","v":21141},"différence de valeur immo totale et valeur verte"]
[]
[]
[null,"calculé via macro "]
[null,"calcul dans la feuille"]
[null,"Eléments liés à une autre feuille"]

{"sheet":"AnalyseFinanciere","index":4,"n_rows":185,"n_cols":11,"rows_kept":185,"cut":false,"hidden":false,"merged":[[177,2,184,2],[121,3,122,6],[121,7,122,10],[132,3,133,10],[114,1,114,12],[165,2,173,2],[72,3,73,10],[1,1,1,12],[9,3,10,5],[9,8,10,10],[64,7,65,10],[64,3,65,6],[43,1,44,1],[46,1,46,12],[15,3,15,5],[15,8,15,10]]}
[]
[null,"Analyse de l'investissement et de la rentabilité liés aux travaux d'une maison"]
[null,"Encodage des données"]
[]
[null,null,"Données concernant votre maison"]
[]
[null,null,null,"Code postal de l'endroit où se situe la maison",5640]
[null,null,null,"Surface habitable",180,"m²"]
[]
[null,null,null,"Avant travaux",null,null,null,null,"Après travaux"]
[]
[]
[null,null,null,"Label énergétique [?]","F",null,null,null,"Label énergétique","B"]
[null,null,null,"Aspect des finitions [?]","5 - à rénover",null,null,null,"Aspect des finitions","3 - correctes"]
[]
[null,null,null,"Consommations annuelles par vecteur énergétique",null,null,null,null,"Consommations annuelles par vecteur énergétique"]
[]
[null,null,null,"Mazout",2000,"litres/an",null,null,"Mazout",0,"litres/an"]
[null,null,null,"Gaz",0,"kWh/an",null,null,"Gaz",0,"kWh/an"]
[null,null,null,"Bois (pellets)",0,"kg/an",null,null,"Bois (pellets)",0,"kg/an"]
[null,null,null,"Bois (bûches)",4,"stères/an",null,null,"Bois (bûches)",4,"stères/an"]
[null,null,null,"Electricité (PV existant déduit le cas échéant)",2600,"kWh/an",null,null,"Electricité (PV existant déduit le cas échéant)",1000,"kWh/an"]
[null,null,null,null,{"$f":"E18*10.1+E19+E20*4.8+E21*2000+E22","v":30800},null,null,null,null,{"$f":"J18*10.1+J19+J20*4.8+J21*2000+J22","v":9000}]
[]
[null,null,null,null,null,null,null,null,"Une installation photovoltaïque est-elle prévue?","Oui"]
[null,null,null,null,null,null,null,null,"Nombre de kWc ou de panneaux",12,"panneaux"]
[]
[]
[]
[null,null,"Données concernant le volet financier"]
[]
[null,null,null,"Montant de l'investissement (primes déduites)",100000,"€ TVAC"]
[null,null,null,"Montant de l'investissement (primes non déduites)",120000,"€ TVAC"]
[]
[]
[]
[]
[]
[]
[]
[]
[]
[]
[]
[]
[]
[null,"Analyse de l'investissement et de la rentabilité liés aux travaux d'une maison"]
[]
[null,null,"Résultats"]
[]
[null,null,null,"Les résultats présentés ci-dessous sont des ESTIMATIONS, sur base des informations fournies par vos soins et des hypothèses énoncées ci-dessus."]
[]
[null,null,null,"Les résultats de la colonne de gauche correspondent au cas où l'obtention d'un crédit social est possible, ainsi que l'obtention de primes."]
[null,null,null,"Le calcul est effectué de manière simplifiée, en considérant que le montant des primes est déduit au temps 0 de votre investissement."]
[null,null,null,"Dans la réalité, le montant des primes sera versé plus tard dans le processus de rénovation."]
[]
[null,null,null,"Les résultats de la colonne de droite correspondent au cas où ni l'obtention d'un crédit social ni l'obtention de primes ne sont possibles."]
[]
[null,null,null,"Ces deux cas forment deux cas extrêmes; il existe une multitude d'autres cas, non traités dans cet outil, qui présenteront des résultats intermédiaires."]
[]
[]
[null,null,"Résultats -  en bref"]
[]
[]
[null,null,null,"Avec obtention d'un crédit social et primes",null,null,null,"Sans l'obtention d'un crédit social ni primes"]
[]
[]
[]
[]
[null,null,null,"Mensualités totales à rembourser (année 1)",{"$f":"ROUNDUP(CalculFinancier!E108,-1)","v":500},"€ TVAC",null,null,"Mensualités  totales à rembourser (année 1)",{"$f":"ROUNDUP(CalculFinancier!E109,-1)","v":730},"€ TVAC"]
[null,null,null,"Temps de retour (plus value immobilière incluse) [?]",{"$f":"IF(CalculFinancier!E139=0,\"Moins d'un\",IF(CalculFinancier!E139=30,\"Plus de 30\",CalculFinancier!I139))","v":11.7},"an(s)",null,null,"Temps de retour (plus value immobilière incluse) [?]",{"$f":"IF(CalculFinancier!E140=0,\"Moins d'un\",IF(CalculFinancier!E140=30,\"Plus de 30\",CalculFinancier!I140))","v":25},"an(s)"]
[]
[null,null,null,"Résultats communs, indépendants du type de crédit ou des primes"]
[]
[]
[]
[]
[]
[null,null,null,"Gain mensuel sur facture (année 1)",{"$f":"ROUNDUP(CalculFinancier!$E$111,-1)","v":330},"€ TVAC",null,null,"Economie de CO2",{"$f":"CalculFinancier!E145","v":9.9417600000000004},"T /an"]
[null,null,null,"Plus value immobilière (valeur verte + finitions) [?]",{"$f":"ROUNDUP(CalculFinancier!E127,-2)","v":68200},"€ TVAC",null,null,"ce qui correspond à une moyenne annuelle de ",{"$f":"ROUNDUP(J79*12048.19,-1)","v":119790},"km en voiture*"]
[]
[]
[null,null,null,null,null,null,null,"Impacts non chiffrables"]
[]
[]
[null,null,null,null,"Augmentation du confort (thermique, acoustique, surchauffe,…)",null,null,null,"Amélioration de l'empreinte écologique"]
[]
[null,null,null,null," Maintien de l'état du bien (entretien et pérennisation) ",null,null,null,"Anticipation des futures obligations de rénovation"]
[]
[null,null,null,null,"Amélioration esthétique",null,null,null,"Anticipation des augmentations de coûts (matériaux, main-d'oeuvre)"]
[]
[null,null,null,null,"Valorisation du patrimoine immobilier",null,null,null,"Impact positif sur la santé des occupants"]
[]
[]
[]
[null,null,"* calcul effectué sur base de 83g de CO2 émis par km parcouru."]
[]
[]
[null,null,"Note sur le calcul d'économie de CO2:"]
[null,null,null,"Le calcul des émissions de CO2 implémentés dans cet outil prend uniquement en compte les émissions dues au chauffage, à l'eau chaude sanitaire et à l'électricité consommés dans votre habitation."]
[null,null,null,"Les émissions de CO2 pour produire, transporter, mettre en oeuvre,… les différents matériaux nécessaires à votre rénovation ne sont donc pas pris pris en compte."]
[]
[null,null,"Note concernant le calcul du temps de retour:"]
[null,null,null,"Le temps de retour calculé est un temps de retour simple, basé sur les flux non actualisés. "]
[null,null,null,"Tous les calculs sont effectués hors réinvestissement pour la maintenance, les réparations, le remplacement,…"]
[]
[null,null,"Note concernant le revenu cadastral"]
[null,null,null,"Il est  de votre responsabilité de vérifier que vos travaux n'impliquent pas une modification du revenu cadastral."]
[null,null,null,"(Remarque : une série de travaux visant l’amélioration énergétique n’ont pas d’influence directe sur le revenu cadastral) "]
[]
[]
[]
[]
[]
[null,"Analyse de l'investissement et de la rentabilité liés aux travaux d'une maison - Annexes"]
[]
[null,null,"Annexes"]
[]
[null,null,"Résultats détaillés"]
[]
[]
[null,null,null,"Avec obtention d'un crédit social et primes",null,null,null,"Sans l'obtention d'un crédit social ni primes"]
[]
[]
[null,null,null,"Mensualités à rembourser (année 1, prêt 0%)",{"$f":"ROUNDUP('1.t.de.fi  (2)'!$F$15,-1)","v":250},"€ TVAC"]
[null,null,null,"Durée de l'emprunt à 0 %",{"$f":"'1.t.de.fi  (2)'!$E$7","v":240},"mois",null,null,"Durée de l'emprunt à taux classique",{"$f":"'1.t.de.fi'!$Q$7","v":240},"mois"]
[null,null,null,"Mensualités à rembourser (année 1, prêt à taux classique)",{"$f":"ROUNDUP('1.t.de.fi  (2)'!$R$15,-1)","v":250},"€ TVAC",null,null,"Mensualités TOTALES à rembourser (taux classique, année 1)",{"$f":"ROUNDUP('1.t.de.fi'!$R$15,-1)","v":730},"€ TVAC"]
[null,null,null,"Durée de l'emprunt à taux classique",{"$f":"'1.t.de.fi  (2)'!$Q$7","v":240},"mois"]
[null,null,null,"Mensualités TOTALES à rembourser (année 1)",{"$f":"ROUNDUP(CalculFinancier!$E$108,-1)","v":500},"€ TVAC"]
[]
[null,null,null,"Temps de retour (plus value immobilière incluse) [?]",{"$f":"$E$71","v":11.7},"an(s)",null,null,"Temps de retour (plus value immobilière incluse) [?]",{"$f":"$J$71","v":25},"an(s)"]
[]
[null,null,null,"Résultats communs, indépendants du type de crédit ou des primes"]
[]
[]
[]
[null,null,null,"Gain annuel sur facture (année 1)",{"$f":"ROUNDUP(CalculFinancier!$I$75,-1)","v":3850},"€ TVAC"]
[null,null,null,"Gain mensuel sur facture (année 1)",{"$f":"ROUNDUP(CalculFinancier!$E$111,-1)","v":330},"€ TVAC",null,null,"Economie de CO2",{"$f":"CalculFinancier!$E$145","v":9.9417600000000004},"T /an"]
[null,null,null,"Gain mensuel sur facture (année 20) [?]",{"$f":"ROUNDUP(CalculFinancier!$E$113,-1)","v":590},"€ TVAC",null,null,"ce qui correspond à une moyenne annuelle de ",{"$f":"$J$80","v":119790},"km en voiture*"]
[null,null,null,"Plus value immobilière (valeur verte + finitions) [?]",{"$f":"ROUNDUP(CalculFinancier!$E$127,-2)","v":68200},"€ TVAC"]
[null,null,null,"dont plus-value due à la valeur verte [?]",{"$f":"ROUNDUP(CalculFinancier!$E$128,-2)","v":47000},"€ TVAC"]
[null,null,null,"dont plus-value due aux finitions [?]",{"$f":"ROUNDUP(CalculFinancier!$E$129,-2)","v":21200},"€ TVAC"]
[]
[null,null,null,"Estimation du bien avant travaux (année 0)",{"$f":"ROUNDUP('Calcul Valeur PEB + finitions'!$C$7,-2)","v":190300},"€ TVAC"]
[]
[]
[null,null,null,null,null,null,null,"Impacts non chiffrables"]
[]
[]
[null,null,null,null,"Augmentation du confort (thermique, acoustique, surchauffe,…)",null,null,null,"Amélioration de l'empreinte écologique"]
[]
[null,null,null,null," Maintien de l'état du bien (entretien et pérennisation) ",null,null,null,"Anticipation des futures obligations de rénovation"]
[]
[null,null,null,null,"Amélioration esthétique",null,null,null,"Anticipation des augmentations de coûts (matériaux, main-d'oeuvre)"]
[]
[null,null,null,null,"Valorisation du patrimoine immobilier",null,null,null,"Impact positif sur la santé des occupants"]
[]
[]
[]
[]
[null,null,"* calcul effectué sur base de 83g de CO2 émis par km parcouru."]
[]
[null,null,"Hypothèses de calcul fixes"]
[]
[null,null,null,"Calcul financier"]
[null,null,null,null,"Prix du mazout/gaz de chauffage (T0)",0.107,"€ TVAC/kWh"]
[null,null,null,null,"Prix de l'électricité (T0)",0.39300000000000002,"€ TVAC/kWh"]
[null,null,null,null,"Prix bûches (T0)",4.4999999999999998E-2,"€ TVAC/kWh"]
[null,null,null,null,"Prix pellets (T0)",0.11,"€ TVAC/kWh"]
[null,null,null,null,"Taux d'actualisation",0.03]
[null,null,null,null,"Hypothèse d'évolution annuelle du prix de l'énergie",0.03]
[null,null,null,null,"Durée de vie théorique de l'investissement",30,"ans"]
[null,null,null,null,"Taux d'emprunt classique",0.04]
[null,null,null,null,"Taux d'emprunt crédit social",9.9999999999999994E-12]
[]
[]
[null,null,null,"Calcul énergétique"]
[null,null,null,null,"Facteur d'émission de CO2 - Mazout",7.2999999999999995E-2,"kg/MJ"]
[null,null,null,null,"Facteur d'émission de CO2 - Gaz",5.6000000000000001E-2,"kg/MJ"]
[null,null,null,null,"Facteur d'émission de CO2 - Electricité",0.19800000000000001,"kg/MJ"]
[null,null,null,null,"Facteur d'émission de CO2 - Bois",0,"kg/MJ"]
[null,null,null,null,"Facteur d'émission de CO2 - Granulé (pellets)",0,"kg/MJ"]
[null,null,null,null,"Facteur de conversion litres de mazout en kWh",10.1,"kWh/l"]
[null,null,null,null,"Facteur de conversion stères de bois en kWh",2000,"kWh/stère"]
[null,null,null,null,"Facteur de conversion kg de granulés en kWh",4.8,"kWh/kg"]

{"sheet":"Données","index":5,"n_rows":1047550,"n_cols":32,"rows_kept":4500,"cut":true,"hidden":true,"merged":[[5,22,5,23],[4,27,4,30]],"bounds":{"rows_first":2000,"rows_last":500,"rows_between":2000,"halvings":0}}
[]
[null,"Coefficient PEB (arbitraires pour le moment)",null,null,null,null,null,null,null,"Coeff negoc immoweb",null,null,"Coefficient finitions (grilles des loyers)"]
[null,"A","B","C","D","E","F","G",null,null,null,null,1,2,3,4,5]
[null,1.1499999999999999,1.1000000000000001,1.05,1,0.95,0.9,0.85,null,0.9,null,null,1.1000000000000001,1.05,1,0.95,0.9]
[null,null,null,null,null,null,null,null,null,null,null,null,null,null,null,null,null,null,null,null,null,null,null,null,null,null,null,"durée de l'investissement"]
[null,"CP","Localité","Commune","m²appart","m²maison","AA","AB","AC","AD","AE","AF","AG","MA","MB","MC","MD","ME","MF","MG",null,null,"Montant emprunté",null,"Durée maximale de remboursement",null,null,null,"prêt classique",null,"pret 0%","complément pret classique"]
[null,1300,"Wavre","Wavre",2786,2313,{"$f":"Données!$E7*B$4","v":3203.8999999999996},{"$f":"Données!$E7*C$4","v":3064.6000000000004},{"$f":"Données!$E7*D$4","v":2925.3},{"$f":"Données!$E7*E$4","v":2786},{"$f":"Données!$E7*F$4","v":2646.7},{"$f":"Données!$E7*G$4","v":2507.4},{"$f":"Données!$E7*H$4","v":2368.1},{"$f":"Données!$F7*B$4","v":2659.95},{"$f":"Données!$F7*C$4","v":2544.3000000000002},{"$f":"Données!$F7*D$4","v":2428.65},{"$f":"Données!$F7*E$4","v":2313},{"$f":"Données!$F7*F$4","v":2197.35},{"$f":"Données!$F7*G$4","v":2081.7000000000003},{"$f":"Données!$F7*H$4","v":1966.05},null,null,"min","max"]
[null,1300,"Limal","Wavre",2786,2313,{"$f":"Données!$E8*B$4","v":3203.8999999999996},{"$f":"Données!$E8*C$4","v":3064.6000000000004},{"$f":"Données!$E8*D$4","v":2925.3},{"$f":"Données!$E8*E$4","v":2786},{"$f":"Données!$E8*F$4","v":2646.7},{"$f":"Données!$E8*G$4","v":2507.4},{"$f":"Données!$E8*H$4","v":2368.1},{"$f":"Données!$F8*B$4","v":2659.95},{"$f":"Données!$F8*C$4","v":2544.3000000000002},{"$f":"Données!$F8*D$4","v":2428.65},{"$f":"Données!$F8*E$4","v":2313},{"$f":"Données!$F8*F$4","v":2197.35},{"$f":"Données!$F8*G$4","v":2081.7000000000003},{"$f":"Données!$F8*H$4","v":1966.05},null,null,501,2500,24,null,null,null,{"$f":"IF(AND(CalculFinancier!$E$31>=Données!W8,CalculFinancier!$E$31<=X8),Y8,0)","v":0},null,{"$f":"IF(AND(CalculFinancier!$H$30>=Données!W8,CalculFinancier!$H$30<=X8),Y8,0)","v":0},{"$f":"IF(AND(CalculFinancier!$I$30>=Données!W8,CalculFinancier!$I$30<=X8),Y8,0)","v":0}]
[null,1301,"Bierges","Wavre",2786,2313,{"$f":"Données!$E9*B$4","v":3203.8999999999996},{"$f":"Données!$E9*C$4","v":3064.6000000000004},{"$f":"Données!$E9*D$4","v":2925.3},{"$f":"Données!$E9*E$4","v":2786},{"$f":"Données!$E9*F$4","v":2646.7},{"$f":"Données!$E9*G$4","v":2507.4},{"$f":"Données!$E9*H$4","v":2368.1},{"$f":"Données!$F9*B$4","v":2659.95},{"$f":"Données!$F9*C$4","v":2544.3000000000002},{"$f":"Données!$F9*D$4","v":2428.65},{"$f":"Données!$F9*E$4","v":2313},{"$f":"Données!$F9*F$4","v":2197.35},{"$f":"Données!$F9*G$4","v":2081.7000000000003},{"$f":"Données!$F9*H$4","v":1966.05},null,null,2501,3700,30,null,null,null,{"$f":"IF(AND(CalculFinancier!$E$31>=Données!W9,CalculFinancier!$E$31<=X9),Y9,0)","v":0},null,{"$f":"IF(AND(CalculFinancier!$H$30>=Données!W9,CalculFinancier!$H$30<=X9),Y9,0)","v":0},{"$f":"IF(AND(CalculFinancier!$I$30>=Données!W9,CalculFinancier!$I$30<=X9),Y9,0)","v":0}]
[null,1310,"La Hulpe","La Hulpe",2786,2313,{"$f":"Données!$E10*B$4","v":3203.8999999999996},{"$f":"Données!$E10*C$4","v":3064.6000000000004},{"$f":"Données!$E10*D$4","v":2925.3},{"$f":"Données!$E10*E$4","v":2786},{"$f":"Données!$E10*F$4","v":2646.7},{"$f":"Données!$E10*G$4","v":2507.4},{"$f":"Données!$E10*H$4","v":2368.1},{"$f":"Données!$F10*B$4","v":2659.95},{"$f":"Données!$F10*C$4","v":2544.3000000000002},{"$f":"Données!$F10*D$4","v":2428.65},{"$f":"Données!$F10*E$4","v":2313},{"$f":"Données!$F10*F$4","v":2197.35},{"$f":"Données!$F10*G$4","v":2081.7000000000003},{"$f":"Données!$F10*H$4","v":1966.05},null,null,3701,5600,36,null,null,null,{"$f":"IF(AND(CalculFinancier!$E$31>=Données!W10,CalculFinancier!$E$31<=X10),Y10,0)","v":0},null,{"$f":"IF(AND(CalculFinancier!$H$30>=Données!W10,CalculFinancier!$H$30<=X10),Y10,0)","v":0},{"$f":"IF(AND(CalculFinancier!$I$30>=Données!W10,CalculFinancier!$I$30<=X10),Y10,0)","v":0}]
[null,1315,"Glimes","Incourt",3578,2842,{"$f":"Données!$E11*B$4","v":4114.7},{"$f":"Données!$E11*C$4","v":3935.8},{"$f":"Données!$E11*D$4","v":3756.9},{"$f":"Données!$E11*E$4","v":3578},{"$f":"Données!$E11*F$4","v":3399.1},{"$f":"Données!$E11*G$4","v":3220.2000000000003},{"$f":"Données!$E11*H$4","v":3041.2999999999997},{"$f":"Données!$F11*B$4","v":3268.2999999999997},{"$f":"Données!$F11*C$4","v":3126.2000000000003},{"$f":"Données!$F11*D$4","v":2984.1},{"$f":"Données!$F11*E$4","v":2842},{"$f":"Données!$F11*F$4","v":2699.9},{"$f":"Données!$F11*G$4","v":2557.8000000000002},{"$f":"Données!$F11*H$4","v":2415.6999999999998},null,null,5601,7500,42,null,null,null,{"$f":"IF(AND(CalculFinancier!$E$31>=Données!W11,CalculFinancier!$E$31<=X11),Y11,0)","v":0},null,{"$f":"IF(AND(CalculFinancier!$H$30>=Données!W11,CalculFinancier!$H$30<=X11),Y11,0)","v":0},{"$f":"IF(AND(CalculFinancier!$I$30>=Données!W11,CalculFinancier!$I$30<=X11),Y11,0)","v":0}]
[null,1315,"Opprebais","Incourt",3578,2842,{"$f":"Données!$E12*B$4","v":4114.7},{"$f":"Données!$E12*C$4","v":3935.8},{"$f":"Données!$E12*D$4","v":3756.9},{"$f":"Données!$E12*E$4","v":3578},{"$f":"Données!$E12*F$4","v":3399.1},{"$f":"Données!$E12*G$4","v":3220.2000000000003},{"$f":"Données!$E12*H$4","v":3041.2999999999997},{"$f":"Données!$F12*B$4","v":3268.2999999999997},{"$f":"Données!$F12*C$4","v":3126.2000000000003},{"$f":"Données!$F12*D$4","v":2984.1},{"$f":"Données!$F12*E$4","v":2842},{"$f":"Données!$F12*F$4","v":2699.9},{"$f":"Données!$F12*G$4","v":2557.8000000000002},{"$f":"Données!$F12*H$4","v":2415.6999999999998},null,null,7501,10000,48,null,null,null,{"$f":"IF(AND(CalculFinancier!$E$31>=Données!W12,CalculFinancier!$E$31<=X12),Y12,0)","v":0},null,{"$f":"IF(AND(CalculFinancier!$H$30>=Données!W12,CalculFinancier!$H$30<=X12),Y12,0)","v":0},{"$f":"IF(AND(CalculFinancier!$I$30>=Données!W12,CalculFinancier!$I$30<=X12),Y12,0)","v":0}]
[null,1315,"Incourt","Incourt",3578,2842,{"$f":"Données!$E13*B$4","v":4114.7},{"$f":"Données!$E13*C$4","v":3935.8},{"$f":"Données!$E13*D$4","v":3756.9},{"$f":"Données!$E13*E$4","v":3578},{"$f":"Données!$E13*F$4","v":3399.1},{"$f":"Données!$E13*G$4","v":3220.2000000000003},{"$f":"Données!$E13*H$4","v":3041.2999999999997},{"$f":"Données!$F13*B$4","v":3268.2999999999997},{"$f":"Données!$F13*C$4","v":3126.2000000000003},{"$f":"Données!$F13*D$4","v":2984.1},{"$f":"Données!$F13*E$4","v":2842},{"$f":"Données!$F13*F$4","v":2699.9},{"$f":"Données!$F13*G$4","v":2557.8000000000002},{"$f":"Données!$F13*H$4","v":2415.6999999999998},null,null,10001,15000,60,null,null,null,{"$f":"IF(AND(CalculFinancier!$E$31>=Données!W13,CalculFinancier!$E$31<=X13),Y13,0)","v":0},null,{"$f":"IF(AND(CalculFinancier!$H$30>=Données!W13,CalculFinancier!$H$30<=X13),Y13,0)","v":0},{"$f":"IF(AND(CalculFinancier!$I$30>=Données!W13,CalculFinancier!$I$30<=X13),Y13,0)","v":0}]
[null,1315,"Piètrebais","Incourt",3578,2842,{"$f":"Données!$E14*B$4","v":4114.7},{"$f":"Données!$E14*C$4","v":3935.8},{"$f":"Données!$E14*D$4","v":3756.9},{"$f":"Données!$E14*E$4","v":3578},{"$f":"Données!$E14*F$4","v":3399.1},{"$f":"Données!$E14*G$4","v":3220.2000000000003},{"$f":"Données!$E14*H$4","v":3041.2999999999997},{"$f":"Données!$F14*B$4","v":3268.2999999999997},{"$f":"Données!$F14*C$4","v":3126.2000000000003},{"$f":"Données!$F14*D$4","v":2984.1},{"$f":"Données!$F14*E$4","v":2842},{"$f":"Données!$F14*F$4","v":2699.9},{"$f":"Données!$F14*G$4","v":2557.8000000000002},{"$f":"Données!$F14*H$4","v":2415.6999999999998},null,null,15001,20000,84,null,null,null,{"$f":"IF(AND(CalculFinancier!$E$31>=Données!W14,CalculFinancier!$E$31<=X14),Y14,0)","v":0},null,{"$f":"IF(AND(CalculFinancier!$H$30>=Données!W14,CalculFinancier!$H$30<=X14),Y14,0)","v":0},{"$f":"IF(AND(CalculFinancier!$I$30>=Données!W14,CalculFinancier!$I$30<=X14),Y14,0)","v":0}]
[null,1315,"Roux-Miroir","Incourt",3578,2842,{"$f":"Données!$E15*B$4","v":4114.7},{"$f":"Données!$E15*C$4","v":3935.8},{"$f":"Données!$E15*D$4","v":3756.9},{"$f":"Données!$E15*E$4","v":3578},{"$f":"Données!$E15*F$4","v":3399.1},{"$f":"Données!$E15*G$4","v":3220.2000000000003},{"$f":"Données!$E15*H$4","v":3041.2999999999997},{"$f":"Données!$F15*B$4","v":3268.2999999999997},{"$f":"Données!$F15*C$4","v":3126.2000000000003},{"$f":"Données!$F15*D$4","v":2984.1},{"$f":"Données!$F15*E$4","v":2842},{"$f":"Données!$F15*F$4","v":2699.9},{"$f":"Données!$F15*G$4","v":2557.8000000000002},{"$f":"Données!$F15*H$4","v":2415.6999999999998},null,null,20001,37000,100,null,null,null,{"$f":"IF(AND(CalculFinancier!$E$31>=Données!W15,CalculFinancier!$E$31<=X15),Y15,0)","v":0},null,{"$f":"IF(AND(CalculFinancier!$H$30>=Données!W15,CalculFinancier!$H$30<=X15),Y15,0)","v":0},{"$f":"IF(AND(CalculFinancier!$I$30>=Données!W15,CalculFinancier!$I$30<=X15),Y15,0)","v":0}]
[null,1320,"Beauvechain","Beauvechain",2329,1931,{"$f":"Données!$E16*B$4","v":2678.35},{"$f":"Données!$E16*C$4","v":2561.9},{"$f":"Données!$E16*D$4","v":2445.4500000000003},{"$f":"Données!$E16*E$4","v":2329},{"$f":"Données!$E16*F$4","v":2212.5499999999997},{"$f":"Données!$E16*G$4","v":2096.1},{"$f":"Données!$E16*H$4","v":1979.6499999999999},{"$f":"Données!$F16*B$4","v":2220.6499999999996},{"$f":"Données!$F16*C$4","v":2124.1000000000004},{"$f":"Données!$F16*D$4","v":2027.5500000000002},{"$f":"Données!$F16*E$4","v":1931},{"$f":"Données!$F16*F$4","v":1834.4499999999998},{"$f":"Données!$F16*G$4","v":1737.9},{"$f":"Données!$F16*H$4","v":1641.35},null,null,37001,null,240,null,null,null,{"$f":"IF(CalculFinancier!$E$31>=Données!W16,Y16,0)","v":240},null,{"$f":"IF(CalculFinancier!$H$30>=Données!W16,Y16,0)","v":240},{"$f":"IF(CalculFinancier!$I$30>=Données!W16,Y16,0)","v":240}]
[null,1320,"Hamme-Mille","Beauvechain",2329,1931,{"$f":"Données!$E17*B$4","v":2678.35},{"$f":"Données!$E17*C$4","v":2561.9},{"$f":"Données!$E17*D$4","v":2445.4500000000003},{"$f":"Données!$E17*E$4","v":2329},{"$f":"Données!$E17*F$4","v":2212.5499999999997},{"$f":"Données!$E17*G$4","v":2096.1},{"$f":"Données!$E17*H$4","v":1979.6499999999999},{"$f":"Données!$F17*B$4","v":2220.6499999999996},{"$f":"Données!$F17*C$4","v":2124.1000000000004},{"$f":"Données!$F17*D$4","v":2027.5500000000002},{"$f":"Données!$F17*E$4","v":1931},{"$f":"Données!$F17*F$4","v":1834.4499999999998},{"$f":"Données!$F17*G$4","v":1737.9},{"$f":"Données!$F17*H$4","v":1641.35},null,null,null,null,null,null,null,null,{"$f":"SUM(AC8:AC16)","v":240},null,{"$f":"SUM(AE8:AE16)","v":240},{"$f":"SUM(AF8:AF16)","v":240}]
[null,1320,"Nodebais","Beauvechain",2329,1931,{"$f":"Données!$E18*B$4","v":2678.35},{"$f":"Données!$E18*C$4","v":2561.9},{"$f":"Données!$E18*D$4","v":2445.4500000000003},{"$f":"Données!$E18*E$4","v":2329},{"$f":"Données!$E18*F$4","v":2212.5499999999997},{"$f":"Données!$E18*G$4","v":2096.1},{"$f":"Données!$E18*H$4","v":1979.6499999999999},{"$f":"Données!$F18*B$4","v":2220.6499999999996},{"$f":"Données!$F18*C$4","v":2124.1000000000004},{"$f":"Données!$F18*D$4","v":2027.5500000000002},{"$f":"Données!$F18*E$4","v":1931},{"$f":"Données!$F18*F$4","v":1834.4499999999998},{"$f":"Données!$F18*G$4","v":1737.9},{"$f":"Données!$F18*H$4","v":1641.35}]
[null,1320,"L'ecluse","Beauvechain",2329,1931,{"$f":"Données!$E19*B$4","v":2678.35},{"$f":"Données!$E19*C$4","v":2561.9},{"$f":"Données!$E19*D$4","v":2445.4500000000003},{"$f":"Données!$E19*E$4","v":2329},{"$f":"Données!$E19*F$4","v":2212.5499999999997},{"$f":"Données!$E19*G$4","v":2096.1},{"$f":"Données!$E19*H$4","v":1979.6499999999999},{"$f":"Données!$F19*B$4","v":2220.6499999999996},{"$f":"Données!$F19*C$4","v":2124.1000000000004},{"$f":"Données!$F19*D$4","v":2027.5500000000002},{"$f":"Données!$F19*E$4","v":1931},{"$f":"Données!$F19*F$4","v":1834.4499999999998},{"$f":"Données!$F19*G$4","v":1737.9},{"$f":"Données!$F19*H$4","v":1641.35}]
[null,1320,"Tourinnes-La-Grosse","Beauvechain",2329,1931,{"$f":"Données!$E20*B$4","v":2678.35},{"$f":"Données!$E20*C$4","v":2561.9},{"$f":"Données!$E20*D$4","v":2445.4500000000003},{"$f":"Données!$E20*E$4","v":2329},{"$f":"Données!$E20*F$4","v":2212.5499999999997},{"$f":"Données!$E20*G$4","v":2096.1},{"$f":"Données!$E20*H$4","v":1979.6499999999999},{"$f":"Données!$F20*B$4","v":2220.6499999999996},{"$f":"Données!$F20*C$4","v":2124.1000000000004},{"$f":"Données!$F20*D$4","v":2027.5500000000002},{"$f":"Données!$F20*E$4","v":1931},{"$f":"Données!$F20*F$4","v":1834.4499999999998},{"$f":"Données!$F20*G$4","v":1737.9},{"$f":"Données!$F20*H$4","v":1641.35}]
[null,1325,"Chaumont-Gistoux","Chaumont-Gistoux",3024,2303,{"$f":"Données!$E21*B$4","v":3477.6},{"$f":"Données!$E21*C$4","v":3326.4},{"$f":"Données!$E21*D$4","v":3175.2000000000003},{"$f":"Données!$E21*E$4","v":3024},{"$f":"Données!$E21*F$4","v":2872.7999999999997},{"$f":"Données!$E21*G$4","v":2721.6},{"$f":"Données!$E21*H$4","v":2570.4},{"$f":"Données!$F21*B$4","v":2648.45},{"$f":"Données!$F21*C$4","v":2533.3000000000002},{"$f":"Données!$F21*D$4","v":2418.15},{"$f":"Données!$F21*E$4","v":2303},{"$f":"Données!$F21*F$4","v":2187.85},{"$f":"Données!$F21*G$4","v":2072.7000000000003},{"$f":"Données!$F21*H$4","v":1957.55}]
[null,1325,"Longueville","Chaumont-Gistoux",3024,2303,{"$f":"Données!$E22*B$4","v":3477.6},{"$f":"Données!$E22*C$4","v":3326.4},{"$f":"Données!$E22*D$4","v":3175.2000000000003},{"$f":"Données!$E22*E$4","v":3024},{"$f":"Données!$E22*F$4","v":2872.7999999999997},{"$f":"Données!$E22*G$4","v":2721.6},{"$f":"Données!$E22*H$4","v":2570.4},{"$f":"Données!$F22*B$4","v":2648.45},{"$f":"Données!$F22*C$4","v":2533.3000000000002},{"$f":"Données!$F22*D$4","v":2418.15},{"$f":"Données!$F22*E$4","v":2303},{"$f":"Données!$F22*F$4","v":2187.85},{"$f":"Données!$F22*G$4","v":2072.7000000000003},{"$f":"Données!$F22*H$4","v":1957.55}]
[null,1325,"Bonlez","Chaumont-Gistoux",3024,2303,{"$f":"Données!$E23*B$4","v":3477.6},{"$f":"Données!$E23*C$4","v":3326.4},{"$f":"Données!$E23*D$4","v":3175.2000000000003},{"$f":"Données!$E23*E$4","v":3024},{"$f":"Données!$E23*F$4","v":2872.7999999999997},{"$f":"Données!$E23*G$4","v":2721.6},{"$f":"Données!$E23*H$4","v":2570.4},{"$f":"Données!$F23*B$4","v":2648.45},{"$f":"Données!$F23*C$4","v":2533.3000000000002},{"$f":"Données!$F23*D$4","v":2418.15},{"$f":"Données!$F23*E$4","v":2303},{"$f":"Données!$F23*F$4","v":2187.85},{"$f":"Données!$F23*G$4","v":2072.7000000000003},{"$f":"Données!$F23*H$4","v":1957.55}]
[null,1325,"Corroy-Le-Grand","Chaumont-Gistoux",3024,2303,{"$f":"Données!$E24*B$4","v":3477.6},{"$f":"Données!$E24*C$4","v":3326.4},{"$f":"Données!$E24*D$4","v":3175.2000000000003},{"$f":"Données!$E24*E$4","v":3024},{"$f":"Données!$E24*F$4","v":2872.7999999999997},{"$f":"Données!$E24*G$4","v":2721.6},{"$f":"Données!$E24*H$4","v":2570.4},{"$f":"Données!$F24*B$4","v":2648.45},{"$f":"Données!$F24*C$4","v":2533.3000000000002},{"$f":"Données!$F24*D$4","v":2418.15},{"$f":"Données!$F24*E$4","v":2303},{"$f":"Données!$F24*F$4","v":2187.85},{"$f":"Données!$F24*G$4","v":2072.7000000000003},{"$f":"Données!$F24*H$4","v":1957.55}]
[null,1325,"Dion-Valmont","Chaumont-Gistoux",3024,2303,{"$f":"Données!$E25*B$4","v":3477.6},{"$f":"Données!$E25*C$4","v":3326.4},{"$f":"Données!$E25*D$4","v":3175.2000000000003},{"$f":"Données!$E25*E$4","v":3024},{"$f":"Données!$E25*F$4","v":2872.7999999999997},{"$f":"Données!$E25*G$4","v":2721.6},{"$f":"Données!$E25*H$4","v":2570.4},{"$f":"Données!$F25*B$4","v":2648.45},{"$f":"Données!$F25*C$4","v":2533.3000000000002},{"$f":"Données!$F25*D$4","v":2418.15},{"$f":"Données!$F25*E$4","v":2303},{"$f":"Données!$F25*F$4","v":2187.85},{"$f":"Données!$F25*G$4","v":2072.7000000000003},{"$f":"Données!$F25*H$4","v":1957.55}]
[null,1330,"Rixensart","Rixensart",3168,2605,{"$f":"Données!$E26*B$4","v":3643.2},{"$f":"Données!$E26*C$4","v":3484.8},{"$f":"Données!$E26*D$4","v":3326.4},{"$f":"Données!$E26*E$4","v":3168},{"$f":"Données!$E26*F$4","v":3009.6},{"$f":"Données!$E26*G$4","v":2851.2000000000003},{"$f":"Données!$E26*H$4","v":2692.7999999999997},{"$f":"Données!$F26*B$4","v":2995.7499999999995},{"$f":"Données!$F26*C$4","v":2865.5000000000005},{"$f":"Données!$F26*D$4","v":2735.25},{"$f":"Données!$F26*E$4","v":2605},{"$f":"Données!$F26*F$4","v":2474.75},{"$f":"Données!$F26*G$4","v":2344.5},{"$f":"Données!$F26*H$4","v":2214.25}]
[null,1331,"Rosières","Rixensart",3168,2605,{"$f":"Données!$E27*B$4","v":3643.2},{"$f":"Données!$E27*C$4","v":3484.8},{"$f":"Données!$E27*D$4","v":3326.4},{"$f":"Données!$E27*E$4","v":3168},{"$f":"Données!$E27*F$4","v":3009.6},{"$f":"Données!$E27*G$4","v":2851.2000000000003},{"$f":"Données!$E27*H$4","v":2692.7999999999997},{"$f":"Données!$F27*B$4","v":2995.7499999999995},{"$f":"Données!$F27*C$4","v":2865.5000000000005},{"$f":"Données!$F27*D$4","v":2735.25},{"$f":"Données!$F27*E$4","v":2605},{"$f":"Données!$F27*F$4","v":2474.75},{"$f":"Données!$F27*G$4","v":2344.5},{"$f":"Données!$F27*H$4","v":2214.25}]
[null,1332,"Genval","Rixensart",3168,2605,{"$f":"Données!$E28*B$4","v":3643.2},{"$f":"Données!$E28*C$4","v":3484.8},{"$f":"Données!$E28*D$4","v":3326.4},{"$f":"Données!$E28*E$4","v":3168},{"$f":"Données!$E28*F$4","v":3009.6},{"$f":"Données!$E28*G$4","v":2851.2000000000003},{"$f":"Données!$E28*H$4","v":2692.7999999999997},{"$f":"Données!$F28*B$4","v":2995.7499999999995},{"$f":"Données!$F28*C$4","v":2865.5000000000005},{"$f":"Données!$F28*D$4","v":2735.25},{"$f":"Données!$F28*E$4","v":2605},{"$f":"Données!$F28*F$4","v":2474.75},{"$f":"Données!$F28*G$4","v":2344.5},{"$f":"Données!$F28*H$4","v":2214.25}]
[null,1340,"Ottignies","Ottignies-Louvain-La-Neuve",3908,2544,{"$f":"Données!$E29*B$4","v":4494.2},{"$f":"Données!$E29*C$4","v":4298.8},{"$f":"Données!$E29*D$4","v":4103.4000000000005},{"$f":"Données!$E29*E$4","v":3908},{"$f":"Données!$E29*F$4","v":3712.6},{"$f":"Données!$E29*G$4","v":3517.2000000000003},{"$f":"Données!$E29*H$4","v":3321.7999999999997},{"$f":"Données!$F29*B$4","v":2925.6},{"$f":"Données!$F29*C$4","v":2798.4},{"$f":"Données!$F29*D$4","v":2671.2000000000003},{"$f":"Données!$F29*E$4","v":2544},{"$f":"Données!$F29*F$4","v":2416.7999999999997},{"$f":"Données!$F29*G$4","v":2289.6},{"$f":"Données!$F29*H$4","v":2162.4}]
[null,1340,"Ottignies-Louvain-La-Neuve","Ottignies-Louvain-La-Neuve",3908,2544,{"$f":"Données!$E30*B$4","v":4494.2},{"$f":"Données!$E30*C$4","v":4298.8},{"$f":"Données!$E30*D$4","v":4103.4000000000005},{"$f":"Données!$E30*E$4","v":3908},{"$f":"Données!$E30*F$4","v":3712.6},{"$f":"Données!$E30*G$4","v":3517.2000000000003},{"$f":"Données!$E30*H$4","v":3321.7999999999997},{"$f":"Données!$F30*B$4","v":2925.6},{"$f":"Données!$F30*C$4","v":2798.4},{"$f":"Données!$F30*D$4","v":2671.2000000000003},{"$f":"Données!$F30*E$4","v":2544},{"$f":"Données!$F30*F$4","v":2416.7999999999997},{"$f":"Données!$F30*G$4","v":2289.6},{"$f":"Données!$F30*H$4","v":2162.4}]
[null,1341,"Céroux-Mousty","Ottignies-Louvain-La-Neuve",3908,2544,{"$f":"Données!$E31*B$4","v":4494.2},{"$f":"Données!$E31*C$4","v":4298.8},{"$f":"Données!$E31*D$4","v":4103.4000000000005},{"$f":"Données!$E31*E$4","v":3908},{"$f":"Données!$E31*F$4","v":3712.6},{"$f":"Données!$E31*G$4","v":3517.2000000000003},{"$f":"Données!$E31*H$4","v":3321.7999999999997},{"$f":"Données!$F31*B$4","v":2925.6},{"$f":"Données!$F31*C$4","v":2798.4},{"$f":"Données!$F31*D$4","v":2671.2000000000003},{"$f":"Données!$F31*E$4","v":2544},{"$f":"Données!$F31*F$4","v":2416.7999999999997},{"$f":"Données!$F31*G$4","v":2289.6},{"$f":"Données!$F31*H$4","v":2162.4}]
[null,1342,"Limelette","Ottignies-Louvain-La-Neuve",3908,2544,{"$f":"Données!$E32*B$4","v":4494.2},{"$f":"Données!$E32*C$4","v":4298.8},{"$f":"Données!$E32*D$4","v":4103.4000000000005},{"$f":"Données!$E32*E$4","v":3908},{"$f":"Données!$E32*F$4","v":3712.6},{"$f":"Données!$E32*G$4","v":3517.2000000000003},{"$f":"Données!$E32*H$4","v":3321.7999999999997},{"$f":"Données!$F32*B$4","v":2925.6},{"$f":"Données!$F32*C$4","v":2798.4},{"$f":"Données!$F32*D$4","v":2671.2000000000003},{"$f":"Données!$F32*E$4","v":2544},{"$f":"Données!$F32*F$4","v":2416.7999999999997},{"$f":"Données!$F32*G$4","v":2289.6},{"$f":"Données!$F32*H$4","v":2162.4}]
[null,1348,"Louvain-La-Neuve","Ottignies-Louvain-La-Neuve",3908,2544,{"$f":"Données!$E33*B$4","v":4494.2},{"$f":"Données!$E33*C$4","v":4298.8},{"$f":"Données!$E33*D$4","v":4103.4000000000005},{"$f":"Données!$E33*E$4","v":3908},{"$f":"Données!$E33*F$4","v":3712.6},{"$f":"Données!$E33*G$4","v":3517.2000000000003},{"$f":"Données!$E33*H$4","v":3321.7999999999997},{"$f":"Données!$F33*B$4","v":2925.6},{"$f":"Données!$F33*C$4","v":2798.4},{"$f":"Données!$F33*D$4","v":2671.2000000000003},{"$f":"Données!$F33*E$4","v":2544},{"$f":"Données!$F33*F$4","v":2416.7999999999997},{"$f":"Données!$F33*G$4","v":2289.6},{"$f":"Données!$F33*H$4","v":2162.4}]
[null,1350,"Noduwez","Orp-Jauche",2051,1663,{"$f":"Données!$E34*B$4","v":2358.6499999999996},{"$f":"Données!$E34*C$4","v":2256.1000000000004},{"$f":"Données!$E34*D$4","v":2153.5500000000002},{"$f":"Données!$E34*E$4","v":2051},{"$f":"Données!$E34*F$4","v":1948.4499999999998},{"$f":"Données!$E34*G$4","v":1845.9},{"$f":"Données!$E34*H$4","v":1743.35},{"$f":"Données!$F34*B$4","v":1912.4499999999998},{"$f":"Données!$F34*C$4","v":1829.3000000000002},{"$f":"Données!$F34*D$4","v":1746.15},{"$f":"Données!$F34*E$4","v":1663},{"$f":"Données!$F34*F$4","v":1579.85},{"$f":"Données!$F34*G$4","v":1496.7},{"$f":"Données!$F34*H$4","v":1413.55}]
[null,1350,"Orp-Jauche","Orp-Jauche",2051,1663,{"$f":"Données!$E35*B$4","v":2358.6499999999996},{"$f":"Données!$E35*C$4","v":2256.1000000000004},{"$f":"Données!$E35*D$4","v":2153.5500000000002},{"$f":"Données!$E35*E$4","v":2051},{"$f":"Données!$E35*F$4","v":1948.4499999999998},{"$f":"Données!$E35*G$4","v":1845.9},{"$f":"Données!$E35*H$4","v":1743.35},{"$f":"Données!$F35*B$4","v":1912.4499999999998},{"$f":"Données!$F35*C$4","v":1829.3000000000002},{"$f":"Données!$F35*D$4","v":1746.15},{"$f":"Données!$F35*E$4","v":1663},{"$f":"Données!$F35*F$4","v":1579.85},{"$f":"Données!$F35*G$4","v":1496.7},{"$f":"Données!$F35*H$4","v":1413.55}]
[null,1350,"Enines","Orp-Jauche",2051,1663,{"$f":"Données!$E36*B$4","v":2358.6499999999996},{"$f":"Données!$E36*C$4","v":2256.1000000000004},{"$f":"Données!$E36*D$4","v":2153.5500000000002},{"$f":"Données!$E36*E$4","v":2051},{"$f":"Données!$E36*F$4","v":1948.4499999999998},{"$f":"Données!$E36*G$4","v":1845.9},{"$f":"Données!$E36*H$4","v":1743.35},{"$f":"Données!$F36*B$4","v":1912.4499999999998},{"$f":"Données!$F36*C$4","v":1829.3000000000002},{"$f":"Données!$F36*D$4","v":1746.15},{"$f":"Données!$F36*E$4","v":1663},{"$f":"Données!$F36*F$4","v":1579.85},{"$f":"Données!$F36*G$4","v":1496.7},{"$f":"Données!$F36*H$4","v":1413.55}]
[null,1350,"Jauche","Orp-Jauche",2051,1663,{"$f":"Données!$E37*B$4","v":2358.6499999999996},{"$f":"Données!$E37*C$4","v":2256.1000000000004},{"$f":"Données!$E37*D$4","v":2153.5500000000002},{"$f":"Données!$E37*E$4","v":2051},{"$f":"Données!$E37*F$4","v":1948.4499999999998},{"$f":"Données!$E37*G$4","v":1845.9},{"$f":"Données!$E37*H$4","v":1743.35},{"$f":"Données!$F37*B$4","v":1912.4499999999998},{"$f":"Données!$F37*C$4","v":1829.3000000000002},{"$f":"Données!$F37*D$4","v":1746.15},{"$f":"Données!$F37*E$4","v":1663},{"$f":"Données!$F37*F$4","v":1579.85},{"$f":"Données!$F37*G$4","v":1496.7},{"$f":"Données!$F37*H$4","v":1413.55}]
[null,1350,"Orp-Le-Grand","Orp-Jauche",2051,1663,{"$f":"Données!$E38*B$4","v":2358.6499999999996},{"$f":"Données!$E38*C$4","v":2256.1000000000004},{"$f":"Données!$E38*D$4","v":2153.5500000000002},{"$f":"Données!$E38*E$4","v":2051},{"$f":"Données!$E38*F$4","v":1948.4499999999998},{"$f":"Données!$E38*G$4","v":1845.9},{"$f":"Données!$E38*H$4","v":1743.35},{"$f":"Données!$F38*B$4","v":1912.4499999999998},{"$f":"Données!$F38*C$4","v":1829.3000000000002},{"$f":"Données!$F38*D$4","v":1746.15},{"$f":"Données!$F38*E$4","v":1663},{"$f":"Données!$F38*F$4","v":1579.85},{"$f":"Données!$F38*G$4","v":1496.7},{"$f":"Données!$F38*H$4","v":1413.55}]
[null,1350,"Folx-Les-Caves","Orp-Jauche",2051,1663,{"$f":"Données!$E39*B$4","v":2358.6499999999996},{"$f":"Données!$E39*C$4","v":2256.1000000000004},{"$f":"Données!$E39*D$4","v":2153.5500000000002},{"$f":"Données!$E39*E$4","v":2051},{"$f":"Données!$E39*F$4","v":1948.4499999999998},{"$f":"Données!$E39*G$4","v":1845.9},{"$f":"Données!$E39*H$4","v":1743.35},{"$f":"Données!$F39*B$4","v":1912.4499999999998},{"$f":"Données!$F39*C$4","v":1829.3000000000002},{"$f":"Données!$F39*D$4","v":1746.15},{"$f":"Données!$F39*E$4","v":1663},{"$f":"Données!$F39*F$4","v":1579.85},{"$f":"Données!$F39*G$4","v":1496.7},{"$f":"Données!$F39*H$4","v":1413.55}]
[null,1350,"Marilles","Orp-Jauche",2051,1663,{"$f":"Données!$E40*B$4","v":2358.6499999999996},{"$f":"Données!$E40*C$4","v":2256.1000000000004},{"$f":"Données!$E40*D$4","v":2153.5500000000002},{"$f":"Données!$E40*E$4","v":2051},{"$f":"Données!$E40*F$4","v":1948.4499999999998},{"$f":"Données!$E40*G$4","v":1845.9},{"$f":"Données!$E40*H$4","v":1743.35},{"$f":"Données!$F40*B$4","v":1912.4499999999998},{"$f":"Données!$F40*C$4","v":1829.3000000000002},{"$f":"Données!$F40*D$4","v":1746.15},{"$f":"Données!$F40*E$4","v":1663},{"$f":"Données!$F40*F$4","v":1579.85},{"$f":"Données!$F40*G$4","v":1496.7},{"$f":"Données!$F40*H$4","v":1413.55}]
[null,1350,"Jandrain-Jandrenouille","Orp-Jauche",2051,1663,{"$f":"Données!$E41*B$4","v":2358.6499999999996},{"$f":"Données!$E41*C$4","v":2256.1000000000004},{"$f":"Données!$E41*D$4","v":2153.5500000000002},{"$f":"Données!$E41*E$4","v":2051},{"$f":"Données!$E41*F$4","v":1948.4499999999998},{"$f":"Données!$E41*G$4","v":1845.9},{"$f":"Données!$E41*H$4","v":1743.35},{"$f":"Données!$F41*B$4","v":1912.4499999999998},{"$f":"Données!$F41*C$4","v":1829.3000000000002},{"$f":"Données!$F41*D$4","v":1746.15},{"$f":"Données!$F41*E$4","v":1663},{"$f":"Données!$F41*F$4","v":1579.85},{"$f":"Données!$F41*G$4","v":1496.7},{"$f":"Données!$F41*H$4","v":1413.55}]
[null,1357,"Opheylissem","Hélécine",2132,1618,{"$f":"Données!$E42*B$4","v":2451.7999999999997},{"$f":"Données!$E42*C$4","v":2345.2000000000003},{"$f":"Données!$E42*D$4","v":2238.6},{"$f":"Données!$E42*E$4","v":2132},{"$f":"Données!$E42*F$4","v":2025.3999999999999},{"$f":"Données!$E42*G$4","v":1918.8},{"$f":"Données!$E42*H$4","v":1812.2},{"$f":"Données!$F42*B$4","v":1860.6999999999998},{"$f":"Données!$F42*C$4","v":1779.8000000000002},{"$f":"Données!$F42*D$4","v":1698.9},{"$f":"Données!$F42*E$4","v":1618},{"$f":"Données!$F42*F$4","v":1537.1},{"$f":"Données!$F42*G$4","v":1456.2},{"$f":"Données!$F42*H$4","v":1375.3}]
[null,1357,"Neerheylissem","Hélécine",2132,1618,{"$f":"Données!$E43*B$4","v":2451.7999999999997},{"$f":"Données!$E43*C$4","v":2345.2000000000003},{"$f":"Données!$E43*D$4","v":2238.6},{"$f":"Données!$E43*E$4","v":2132},{"$f":"Données!$E43*F$4","v":2025.3999999999999},{"$f":"Données!$E43*G$4","v":1918.8},{"$f":"Données!$E43*H$4","v":1812.2},{"$f":"Données!$F43*B$4","v":1860.6999999999998},{"$f":"Données!$F43*C$4","v":1779.8000000000002},{"$f":"Données!$F43*D$4","v":1698.9},{"$f":"Données!$F43*E$4","v":1618},{"$f":"Données!$F43*F$4","v":1537.1},{"$f":"Données!$F43*G$4","v":1456.2},{"$f":"Données!$F43*H$4","v":1375.3}]
[null,1357,"Hélécine","Hélécine",2132,1618,{"$f":"Données!$E44*B$4","v":2451.7999999999997},{"$f":"Données!$E44*C$4","v":2345.2000000000003},{"$f":"Données!$E44*D$4","v":2238.6},{"$f":"Données!$E44*E$4","v":2132},{"$f":"Données!$E44*F$4","v":2025.3999999999999},{"$f":"Données!$E44*G$4","v":1918.8},{"$f":"Données!$E44*H$4","v":1812.2},{"$f":"Données!$F44*B$4","v":1860.6999999999998},{"$f":"Données!$F44*C$4","v":1779.8000000000002},{"$f":"Données!$F44*D$4","v":1698.9},{"$f":"Données!$F44*E$4","v":1618},{"$f":"Données!$F44*F$4","v":1537.1},{"$f":"Données!$F44*G$4","v":1456.2},{"$f":"Données!$F44*H$4","v":1375.3}]
[null,1357,"Linsmeau","Hélécine",2132,1618,{"$f":"Données!$E45*B$4","v":2451.7999999999997},{"$f":"Données!$E45*C$4","v":2345.2000000000003},{"$f":"Données!$E45*D$4","v":2238.6},{"$f":"Données!$E45*E$4","v":2132},{"$f":"Données!$E45*F$4","v":2025.3999999999999},{"$f":"Données!$E45*G$4","v":1918.8},{"$f":"Données!$E45*H$4","v":1812.2},{"$f":"Données!$F45*B$4","v":1860.6999999999998},{"$f":"Données!$F45*C$4","v":1779.8000000000002},{"$f":"Données!$F45*D$4","v":1698.9},{"$f":"Données!$F45*E$4","v":1618},{"$f":"Données!$F45*F$4","v":1537.1},{"$f":"Données!$F45*G$4","v":1456.2},{"$f":"Données!$F45*H$4","v":1375.3}]
[null,1360,"Thorembais-Les-Béguines","Perwez",2435,1861,{"$f":"Données!$E46*B$4","v":2800.25},{"$f":"Données!$E46*C$4","v":2678.5},{"$f":"Données!$E46*D$4","v":2556.75},{"$f":"Données!$E46*E$4","v":2435},{"$f":"Données!$E46*F$4","v":2313.25},{"$f":"Données!$E46*G$4","v":2191.5},{"$f":"Données!$E46*H$4","v":2069.75},{"$f":"Données!$F46*B$4","v":2140.1499999999996},{"$f":"Données!$F46*C$4","v":2047.1000000000001},{"$f":"Données!$F46*D$4","v":1954.0500000000002},{"$f":"Données!$F46*E$4","v":1861},{"$f":"Données!$F46*F$4","v":1767.9499999999998},{"$f":"Données!$F46*G$4","v":1674.9},{"$f":"Données!$F46*H$4","v":1581.85}]
[null,1360,"Thorembais-Saint-Trond","Perwez",2435,1861,{"$f":"Données!$E47*B$4","v":2800.25},{"$f":"Données!$E47*C$4","v":2678.5},{"$f":"Données!$E47*D$4","v":2556.75},{"$f":"Données!$E47*E$4","v":2435},{"$f":"Données!$E47*F$4","v":2313.25},{"$f":"Données!$E47*G$4","v":2191.5},{"$f":"Données!$E47*H$4","v":2069.75},{"$f":"Données!$F47*B$4","v":2140.1499999999996},{"$f":"Données!$F47*C$4","v":2047.1000000000001},{"$f":"Données!$F47*D$4","v":1954.0500000000002},{"$f":"Données!$F47*E$4","v":1861},{"$f":"Données!$F47*F$4","v":1767.9499999999998},{"$f":"Données!$F47*G$4","v":1674.9},{"$f":"Données!$F47*H$4","v":1581.85}]
[null,1360,"Malèves-Sainte-Marie-Wastines","Perwez",2435,1861,{"$f":"Données!$E48*B$4","v":2800.25},{"$f":"Données!$E48*C$4","v":2678.5},{"$f":"Données!$E48*D$4","v":2556.75},{"$f":"Données!$E48*E$4","v":2435},{"$f":"Données!$E48*F$4","v":2313.25},{"$f":"Données!$E48*G$4","v":2191.5},{"$f":"Données!$E48*H$4","v":2069.75},{"$f":"Données!$F48*B$4","v":2140.1499999999996},{"$f":"Données!$F48*C$4","v":2047.1000000000001},{"$f":"Données!$F48*D$4","v":1954.0500000000002},{"$f":"Données!$F48*E$4","v":1861},{"$f":"Données!$F48*F$4","v":1767.9499999999998},{"$f":"Données!$F48*G$4","v":1674.9},{"$f":"Données!$F48*H$4","v":1581.85}]
[null,1360,"Perwez","Perwez",2435,1861,{"$f":"Données!$E49*B$4","v":2800.25},{"$f":"Données!$E49*C$4","v":2678.5},{"$f":"Données!$E49*D$4","v":2556.75},{"$f":"Données!$E49*E$4","v":2435},{"$f":"Données!$E49*F$4","v":2313.25},{"$f":"Données!$E49*G$4","v":2191.5},{"$f":"Données!$E49*H$4","v":2069.75},{"$f":"Données!$F49*B$4","v":2140.1499999999996},{"$f":"Données!$F49*C$4","v":2047.1000000000001},{"$f":"Données!$F49*D$4","v":1954.0500000000002},{"$f":"Données!$F49*E$4","v":1861},{"$f":"Données!$F49*F$4","v":1767.9499999999998},{"$f":"Données!$F49*G$4","v":1674.9},{"$f":"Données!$F49*H$4","v":1581.85}]
[null,1360,"Orbais","Perwez",2435,1861,{"$f":"Données!$E50*B$4","v":2800.25},{"$f":"Données!$E50*C$4","v":2678.5},{"$f":"Données!$E50*D$4","v":2556.75},{"$f":"Données!$E50*E$4","v":2435},{"$f":"Données!$E50*F$4","v":2313.25},{"$f":"Données!$E50*G$4","v":2191.5},{"$f":"Données!$E50*H$4","v":2069.75},{"$f":"Données!$F50*B$4","v":2140.1499999999996},{"$f":"Données!$F50*C$4","v":2047.1000000000001},{"$f":"Données!$F50*D$4","v":1954.0500000000002},{"$f":"Données!$F50*E$4","v":1861},{"$f":"Données!$F50*F$4","v":1767.9499999999998},{"$f":"Données!$F50*G$4","v":1674.9},{"$f":"Données!$F50*H$4","v":1581.85}]
[null,1367,"Autre-Eglise","Ramillies",2081,1653,{"$f":"Données!$E51*B$4","v":2393.1499999999996},{"$f":"Données!$E51*C$4","v":2289.1000000000004},{"$f":"Données!$E51*D$4","v":2185.0500000000002},{"$f":"Données!$E51*E$4","v":2081},{"$f":"Données!$E51*F$4","v":1976.9499999999998},{"$f":"Données!$E51*G$4","v":1872.9},{"$f":"Données!$E51*H$4","v":1768.85},{"$f":"Données!$F51*B$4","v":1900.9499999999998},{"$f":"Données!$F51*C$4","v":1818.3000000000002},{"$f":"Données!$F51*D$4","v":1735.65},{"$f":"Données!$F51*E$4","v":1653},{"$f":"Données!$F51*F$4","v":1570.35},{"$f":"Données!$F51*G$4","v":1487.7},{"$f":"Données!$F51*H$4","v":1405.05}]
[null,1367,"Huppaye","Ramillies",2081,1653,{"$f":"Données!$E52*B$4","v":2393.1499999999996},{"$f":"Données!$E52*C$4","v":2289.1000000000004},{"$f":"Données!$E52*D$4","v":2185.0500000000002},{"$f":"Données!$E52*E$4","v":2081},{"$f":"Données!$E52*F$4","v":1976.9499999999998},{"$f":"Données!$E52*G$4","v":1872.9},{"$f":"Données!$E52*H$4","v":1768.85},{"$f":"Données!$F52*B$4","v":1900.9499999999998},{"$f":"Données!$F52*C$4","v":1818.3000000000002},{"$f":"Données!$F52*D$4","v":1735.65},{"$f":"Données!$F52*E$4","v":1653},{"$f":"Données!$F52*F$4","v":1570.35},{"$f":"Données!$F52*G$4","v":1487.7},{"$f":"Données!$F52*H$4","v":1405.05}]
[null,1367,"Ramillies","Ramillies",2081,1653,{"$f":"Données!$E53*B$4","v":2393.1499999999996},{"$f":"Données!$E53*C$4","v":2289.1000000000004},{"$f":"Données!$E53*D$4","v":2185.0500000000002},{"$f":"Données!$E53*E$4","v":2081},{"$f":"Données!$E53*F$4","v":1976.9499999999998},{"$f":"Données!$E53*G$4","v":1872.9},{"$f":"Données!$E53*H$4","v":1768.85},{"$f":"Données!$F53*B$4","v":1900.9499999999998},{"$f":"Données!$F53*C$4","v":1818.3000000000002},{"$f":"Données!$F53*D$4","v":1735.65},{"$f":"Données!$F53*E$4","v":1653},{"$f":"Données!$F53*F$4","v":1570.35},{"$f":"Données!$F53*G$4","v":1487.7},{"$f":"Données!$F53*H$4","v":1405.05}]
[null,1367,"Grand-Rosière-Hottomont","Ramillies",2081,1653,{"$f":"Données!$E54*B$4","v":2393.1499999999996},{"$f":"Données!$E54*C$4","v":2289.1000000000004},{"$f":"Données!$E54*D$4","v":2185.0500000000002},{"$f":"Données!$E54*E$4","v":2081},{"$f":"Données!$E54*F$4","v":1976.9499999999998},{"$f":"Données!$E54*G$4","v":1872.9},{"$f":"Données!$E54*H$4","v":1768.85},{"$f":"Données!$F54*B$4","v":1900.9499999999998},{"$f":"Données!$F54*C$4","v":1818.3000000000002},{"$f":"Données!$F54*D$4","v":1735.65},{"$f":"Données!$F54*E$4","v":1653},{"$f":"Données!$F54*F$4","v":1570.35},{"$f":"Données!$F54*G$4","v":1487.7},{"$f":"Données!$F54*H$4","v":1405.05}]
[null,1367,"Bomal","Ramillies",2081,1653,{"$f":"Données!$E55*B$4","v":2393.1499999999996},{"$f":"Données!$E55*C$4","v":2289.1000000000004},{"$f":"Données!$E55*D$4","v":2185.0500000000002},{"$f":"Données!$E55*E$4","v":2081},{"$f":"Données!$E55*F$4","v":1976.9499999999998},{"$f":"Données!$E55*G$4","v":1872.9},{"$f":"Données!$E55*H$4","v":1768.85},{"$f":"Données!$F55*B$4","v":1900.9499999999998},{"$f":"Données!$F55*C$4","v":1818.3000000000002},{"$f":"Données!$F55*D$4","v":1735.65},{"$f":"Données!$F55*E$4","v":1653},{"$f":"Données!$F55*F$4","v":1570.35},{"$f":"Données!$F55*G$4","v":1487.7},{"$f":"Données!$F55*H$4","v":1405.05}]
[null,1367,"Gérompont","Ramillies",2081,1653,{"$f":"Données!$E56*B$4","v":2393.1499999999996},{"$f":"Données!$E56*C$4","v":2289.1000000000004},{"$f":"Données!$E56*D$4","v":2185.0500000000002},{"$f":"Données!$E56*E$4","v":2081},{"$f":"Données!$E56*F$4","v":1976.9499999999998},{"$f":"Données!$E56*G$4","v":1872.9},{"$f":"Données!$E56*H$4","v":1768.85},{"$f":"Données!$F56*B$4","v":1900.9499999999998},{"$f":"Données!$F56*C$4","v":1818.3000000000002},{"$f":"Données!$F56*D$4","v":1735.65},{"$f":"Données!$F56*E$4","v":1653},{"$f":"Données!$F56*F$4","v":1570.35},{"$f":"Données!$F56*G$4","v":1487.7},{"$f":"Données!$F56*H$4","v":1405.05}]
[null,1367,"Mont-Saint-André","Ramillies",2081,1653,{"$f":"Données!$E57*B$4","v":2393.1499999999996},{"$f":"Données!$E57*C$4","v":2289.1000000000004},{"$f":"Données!$E57*D$4","v":2185.0500000000002},{"$f":"Données!$E57*E$4","v":2081},{"$f":"Données!$E57*F$4","v":1976.9499999999998},{"$f":"Données!$E57*G$4","v":1872.9},{"$f":"Données!$E57*H$4","v":1768.85},{"$f":"Données!$F57*B$4","v":1900.9499999999998},{"$f":"Données!$F57*C$4","v":1818.3000000000002},{"$f":"Données!$F57*D$4","v":1735.65},{"$f":"Données!$F57*E$4","v":1653},{"$f":"Données!$F57*F$4","v":1570.35},{"$f":"Données!$F57*G$4","v":1487.7},{"$f":"Données!$F57*H$4","v":1405.05}]
[null,1370,"Dongelberg","Jodoigne",2425,1823,{"$f":"Données!$E58*B$4","v":2788.75},{"$f":"Données!$E58*C$4","v":2667.5},{"$f":"Données!$E58*D$4","v":2546.25},{"$f":"Données!$E58*E$4","v":2425},{"$f":"Données!$E58*F$4","v":2303.75},{"$f":"Données!$E58*G$4","v":2182.5},{"$f":"Données!$E58*H$4","v":2061.25},{"$f":"Données!$F58*B$4","v":2096.4499999999998},{"$f":"Données!$F58*C$4","v":2005.3000000000002},{"$f":"Données!$F58*D$4","v":1914.15},{"$f":"Données!$F58*E$4","v":1823},{"$f":"Données!$F58*F$4","v":1731.85},{"$f":"Données!$F58*G$4","v":1640.7},{"$f":"Données!$F58*H$4","v":1549.55}]
[null,1370,"Jauchelette","Jodoigne",2425,1823,{"$f":"Données!$E59*B$4","v":2788.75},{"$f":"Données!$E59*C$4","v":2667.5},{"$f":"Données!$E59*D$4","v":2546.25},{"$f":"Données!$E59*E$4","v":2425},{"$f":"Données!$E59*F$4","v":2303.75},{"$f":"Données!$E59*G$4","v":2182.5},{"$f":"Données!$E59*H$4","v":2061.25},{"$f":"Données!$F59*B$4","v":2096.4499999999998},{"$f":"Données!$F59*C$4","v":2005.3000000000002},{"$f":"Données!$F59*D$4","v":1914.15},{"$f":"Données!$F59*E$4","v":1823},{"$f":"Données!$F59*F$4","v":1731.85},{"$f":"Données!$F59*G$4","v":1640.7},{"$f":"Données!$F59*H$4","v":1549.55}]
[null,1370,"Saint-Jean-Geest","Jodoigne",2425,1823,{"$f":"Données!$E60*B$4","v":2788.75},{"$f":"Données!$E60*C$4","v":2667.5},{"$f":"Données!$E60*D$4","v":2546.25},{"$f":"Données!$E60*E$4","v":2425},{"$f":"Données!$E60*F$4","v":2303.75},{"$f":"Données!$E60*G$4","v":2182.5},{"$f":"Données!$E60*H$4","v":2061.25},{"$f":"Données!$F60*B$4","v":2096.4499999999998},{"$f":"Données!$F60*C$4","v":2005.3000000000002},{"$f":"Données!$F60*D$4","v":1914.15},{"$f":"Données!$F60*E$4","v":1823},{"$f":"Données!$F60*F$4","v":1731.85},{"$f":"Données!$F60*G$4","v":1640.7},{"$f":"Données!$F60*H$4","v":1549.55}]
[null,1370,"Jodoigne-Souveraine","Jodoigne",2425,1823,{"$f":"Données!$E61*B$4","v":2788.75},{"$f":"Données!$E61*C$4","v":2667.5},{"$f":"Données!$E61*D$4","v":2546.25},{"$f":"Données!$E61*E$4","v":2425},{"$f":"Données!$E61*F$4","v":2303.75},{"$f":"Données!$E61*G$4","v":2182.5},{"$f":"Données!$E61*H$4","v":2061.25},{"$f":"Données!$F61*B$4","v":2096.4499999999998},{"$f":"Données!$F61*C$4","v":2005.3000000000002},{"$f":"Données!$F61*D$4","v":1914.15},{"$f":"Données!$F61*E$4","v":1823},{"$f":"Données!$F61*F$4","v":1731.85},{"$f":"Données!$F61*G$4","v":1640.7},{"$f":"Données!$F61*H$4","v":1549.55}]
[null,1370,"Piétrain","Jodoigne",2425,1823,{"$f":"Données!$E62*B$4","v":2788.75},{"$f":"Données!$E62*C$4","v":2667.5},{"$f":"Données!$E62*D$4","v":2546.25},{"$f":"Données!$E62*E$4","v":2425},{"$f":"Données!$E62*F$4","v":2303.75},{"$f":"Données!$E62*G$4","v":2182.5},{"$f":"Données!$E62*H$4","v":2061.25},{"$f":"Données!$F62*B$4","v":2096.4499999999998},{"$f":"Données!$F62*C$4","v":2005.3000000000002},{"$f":"Données!$F62*D$4","v":1914.15},{"$f":"Données!$F62*E$4","v":1823},{"$f":"Données!$F62*F$4","v":1731.85},{"$f":"Données!$F62*G$4","v":1640.7},{"$f":"Données!$F62*H$4","v":1549.55}]
[null,1370,"Jodoigne","Jodoigne",2425,1823,{"$f":"Données!$E63*B$4","v":2788.75},{"$f":"Données!$E63*C$4","v":2667.5},{"$f":"Données!$E63*D$4","v":2546.25},{"$f":"Données!$E63*E$4","v":2425},{"$f":"Données!$E63*F$4","v":2303.75},{"$f":"Données!$E63*G$4","v":2182.5},{"$f":"Données!$E63*H$4","v":2061.25},{"$f":"Données!$F63*B$4","v":2096.4499999999998},{"$f":"Données!$F63*C$4","v":2005.3000000000002},{"$f":"Données!$F63*D$4","v":1914.15},{"$f":"Données!$F63*E$4","v":1823},{"$f":"Données!$F63*F$4","v":1731.85},{"$f":"Données!$F63*G$4","v":1640.7},{"$f":"Données!$F63*H$4","v":1549.55}]
[null,1370,"Mélin","Jodoigne",2425,1823,{"$f":"Données!$E64*B$4","v":2788.75},{"$f":"Données!$E64*C$4","v":2667.5},{"$f":"Données!$E64*D$4","v":2546.25},{"$f":"Données!$E64*E$4","v":2425},{"$f":"Données!$E64*F$4","v":2303.75},{"$f":"Données!$E64*G$4","v":2182.5},{"$f":"Données!$E64*H$4","v":2061.25},{"$f":"Données!$F64*B$4","v":2096.4499999999998},{"$f":"Données!$F64*C$4","v":2005.3000000000002},{"$f":"Données!$F64*D$4","v":1914.15},{"$f":"Données!$F64*E$4","v":1823},{"$f":"Données!$F64*F$4","v":1731.85},{"$f":"Données!$F64*G$4","v":1640.7},{"$f":"Données!$F64*H$4","v":1549.55}]
[null,1370,"Saint-Remy-Geest","Jodoigne",2425,1823,{"$f":"Données!$E65*B$4","v":2788.75},{"$f":"Données!$E65*C$4","v":2667.5},{"$f":"Données!$E65*D$4","v":2546.25},{"$f":"Données!$E65*E$4","v":2425},{"$f":"Données!$E65*F$4","v":2303.75},{"$f":"Données!$E65*G$4","v":2182.5},{"$f":"Données!$E65*H$4","v":2061.25},{"$f":"Données!$F65*B$4","v":2096.4499999999998},{"$f":"Données!$F65*C$4","v":2005.3000000000002},{"$f":"Données!$F65*D$4","v":1914.15},{"$f":"Données!$F65*E$4","v":1823},{"$f":"Données!$F65*F$4","v":1731.85},{"$f":"Données!$F65*G$4","v":1640.7},{"$f":"Données!$F65*H$4","v":1549.55}]
[null,1370,"Lathuy","Jodoigne",2425,1823,{"$f":"Données!$E66*B$4","v":2788.75},{"$f":"Données!$E66*C$4","v":2667.5},{"$f":"Données!$E66*D$4","v":2546.25},{"$f":"Données!$E66*E$4","v":2425},{"$f":"Données!$E66*F$4","v":2303.75},{"$f":"Données!$E66*G$4","v":2182.5},{"$f":"Données!$E66*H$4","v":2061.25},{"$f":"Données!$F66*B$4","v":2096.4499999999998},{"$f":"Données!$F66*C$4","v":2005.3000000000002},{"$f":"Données!$F66*D$4","v":1914.15},{"$f":"Données!$F66*E$4","v":1823},{"$f":"Données!$F66*F$4","v":1731.85},{"$f":"Données!$F66*G$4","v":1640.7},{"$f":"Données!$F66*H$4","v":1549.55}]
[null,1370,"Zétrud-Lumay","Jodoigne",2425,1823,{"$f":"Données!$E67*B$4","v":2788.75},{"$f":"Données!$E67*C$4","v":2667.5},{"$f":"Données!$E67*D$4","v":2546.25},{"$f":"Données!$E67*E$4","v":2425},{"$f":"Données!$E67*F$4","v":2303.75},{"$f":"Données!$E67*G$4","v":2182.5},{"$f":"Données!$E67*H$4","v":2061.25},{"$f":"Données!$F67*B$4","v":2096.4499999999998},{"$f":"Données!$F67*C$4","v":2005.3000000000002},{"$f":"Données!$F67*D$4","v":1914.15},{"$f":"Données!$F67*E$4","v":1823},{"$f":"Données!$F67*F$4","v":1731.85},{"$f":"Données!$F67*G$4","v":1640.7},{"$f":"Données!$F67*H$4","v":1549.55}]
[null,1380,"Lasne-Chapelle-Saint-Lambert","Lasne",3376,2840,{"$f":"Données!$E68*B$4","v":3882.3999999999996},{"$f":"Données!$E68*C$4","v":3713.6000000000004},{"$f":"Données!$E68*D$4","v":3544.8},{"$f":"Données!$E68*E$4","v":3376},{"$f":"Données!$E68*F$4","v":3207.2},{"$f":"Données!$E68*G$4","v":3038.4},{"$f":"Données!$E68*H$4","v":2869.6},{"$f":"Données!$F68*B$4","v":3265.9999999999995},{"$f":"Données!$F68*C$4","v":3124.0000000000005},{"$f":"Données!$F68*D$4","v":2982},{"$f":"Données!$F68*E$4","v":2840},{"$f":"Données!$F68*F$4","v":2698},{"$f":"Données!$F68*G$4","v":2556},{"$f":"Données!$F68*H$4","v":2414}]
[null,1380,"Maransart","Lasne",3376,2840,{"$f":"Données!$E69*B$4","v":3882.3999999999996},{"$f":"Données!$E69*C$4","v":3713.6000000000004},{"$f":"Données!$E69*D$4","v":3544.8},{"$f":"Données!$E69*E$4","v":3376},{"$f":"Données!$E69*F$4","v":3207.2},{"$f":"Données!$E69*G$4","v":3038.4},{"$f":"Données!$E69*H$4","v":2869.6},{"$f":"Données!$F69*B$4","v":3265.9999999999995},{"$f":"Données!$F69*C$4","v":3124.0000000000005},{"$f":"Données!$F69*D$4","v":2982},{"$f":"Données!$F69*E$4","v":2840},{"$f":"Données!$F69*F$4","v":2698},{"$f":"Données!$F69*G$4","v":2556},{"$f":"Données!$F69*H$4","v":2414}]
[null,1380,"Ohain","Lasne",3376,2840,{"$f":"Données!$E70*B$4","v":3882.3999999999996},{"$f":"Données!$E70*C$4","v":3713.6000000000004},{"$f":"Données!$E70*D$4","v":3544.8},{"$f":"Données!$E70*E$4","v":3376},{"$f":"Données!$E70*F$4","v":3207.2},{"$f":"Données!$E70*G$4","v":3038.4},{"$f":"Données!$E70*H$4","v":2869.6},{"$f":"Données!$F70*B$4","v":3265.9999999999995},{"$f":"Données!$F70*C$4","v":3124.0000000000005},{"$f":"Données!$F70*D$4","v":2982},{"$f":"Données!$F70*E$4","v":2840},{"$f":"Données!$F70*F$4","v":2698},{"$f":"Données!$F70*G$4","v":2556},{"$f":"Données!$F70*H$4","v":2414}]
[null,1380,"Couture-Saint-Germain","Lasne",3376,2840,{"$f":"Données!$E71*B$4","v":3882.3999999999996},{"$f":"Données!$E71*C$4","v":3713.6000000000004},{"$f":"Données!$E71*D$4","v":3544.8},{"$f":"Données!$E71*E$4","v":3376},{"$f":"Données!$E71*F$4","v":3207.2},{"$f":"Données!$E71*G$4","v":3038.4},{"$f":"Données!$E71*H$4","v":2869.6},{"$f":"Données!$F71*B$4","v":3265.9999999999995},{"$f":"Données!$F71*C$4","v":3124.0000000000005},{"$f":"Données!$F71*D$4","v":2982},{"$f":"Données!$F71*E$4","v":2840},{"$f":"Données!$F71*F$4","v":2698},{"$f":"Données!$F71*G$4","v":2556},{"$f":"Données!$F71*H$4","v":2414}]
[null,1380,"Plancenoit","Lasne",3376,2840,{"$f":"Données!$E72*B$4","v":3882.3999999999996},{"$f":"Données!$E72*C$4","v":3713.6000000000004},{"$f":"Données!$E72*D$4","v":3544.8},{"$f":"Données!$E72*E$4","v":3376},{"$f":"Données!$E72*F$4","v":3207.2},{"$f":"Données!$E72*G$4","v":3038.4},{"$f":"Données!$E72*H$4","v":2869.6},{"$f":"Données!$F72*B$4","v":3265.9999999999995},{"$f":"Données!$F72*C$4","v":3124.0000000000005},{"$f":"Données!$F72*D$4","v":2982},{"$f":"Données!$F72*E$4","v":2840},{"$f":"Données!$F72*F$4","v":2698},{"$f":"Données!$F72*G$4","v":2556},{"$f":"Données!$F72*H$4","v":2414}]
[null,1380,"Lasne","Lasne",3376,2840,{"$f":"Données!$E73*B$4","v":3882.3999999999996},{"$f":"Données!$E73*C$4","v":3713.6000000000004},{"$f":"Données!$E73*D$4","v":3544.8},{"$f":"Données!$E73*E$4","v":3376},{"$f":"Données!$E73*F$4","v":3207.2},{"$f":"Données!$E73*G$4","v":3038.4},{"$f":"Données!$E73*H$4","v":2869.6},{"$f":"Données!$F73*B$4","v":3265.9999999999995},{"$f":"Données!$F73*C$4","v":3124.0000000000005},{"$f":"Données!$F73*D$4","v":2982},{"$f":"Données!$F73*E$4","v":2840},{"$f":"Données!$F73*F$4","v":2698},{"$f":"Données!$F73*G$4","v":2556},{"$f":"Données!$F73*H$4","v":2414}]
[null,1390,"Grez-Doiceau","Grez-Doiceau",2757,2227,{"$f":"Données!$E74*B$4","v":3170.5499999999997},{"$f":"Données!$E74*C$4","v":3032.7000000000003},{"$f":"Données!$E74*D$4","v":2894.85},{"$f":"Données!$E74*E$4","v":2757},{"$f":"Données!$E74*F$4","v":2619.15},{"$f":"Données!$E74*G$4","v":2481.3000000000002},{"$f":"Données!$E74*H$4","v":2343.4499999999998},{"$f":"Données!$F74*B$4","v":2561.0499999999997},{"$f":"Données!$F74*C$4","v":2449.7000000000003},{"$f":"Données!$F74*D$4","v":2338.35},{"$f":"Données!$F74*E$4","v":2227},{"$f":"Données!$F74*F$4","v":2115.65},{"$f":"Données!$F74*G$4","v":2004.3},{"$f":"Données!$F74*H$4","v":1892.95}]
[null,1390,"Bossut-Gottechain","Grez-Doiceau",2757,2227,{"$f":"Données!$E75*B$4","v":3170.5499999999997},{"$f":"Données!$E75*C$4","v":3032.7000000000003},{"$f":"Données!$E75*D$4","v":2894.85},{"$f":"Données!$E75*E$4","v":2757},{"$f":"Données!$E75*F$4","v":2619.15},{"$f":"Données!$E75*G$4","v":2481.3000000000002},{"$f":"Données!$E75*H$4","v":2343.4499999999998},{"$f":"Données!$F75*B$4","v":2561.0499999999997},{"$f":"Données!$F75*C$4","v":2449.7000000000003},{"$f":"Données!$F75*D$4","v":2338.35},{"$f":"Données!$F75*E$4","v":2227},{"$f":"Données!$F75*F$4","v":2115.65},{"$f":"Données!$F75*G$4","v":2004.3},{"$f":"Données!$F75*H$4","v":1892.95}]
[null,1390,"Biez","Grez-Doiceau",2757,2227,{"$f":"Données!$E76*B$4","v":3170.5499999999997},{"$f":"Données!$E76*C$4","v":3032.7000000000003},{"$f":"Données!$E76*D$4","v":2894.85},{"$f":"Données!$E76*E$4","v":2757},{"$f":"Données!$E76*F$4","v":2619.15},{"$f":"Données!$E76*G$4","v":2481.3000000000002},{"$f":"Données!$E76*H$4","v":2343.4499999999998},{"$f":"Données!$F76*B$4","v":2561.0499999999997},{"$f":"Données!$F76*C$4","v":2449.7000000000003},{"$f":"Données!$F76*D$4","v":2338.35},{"$f":"Données!$F76*E$4","v":2227},{"$f":"Données!$F76*F$4","v":2115.65},{"$f":"Données!$F76*G$4","v":2004.3},{"$f":"Données!$F76*H$4","v":1892.95}]
[null,1390,"Nethen","Grez-Doiceau",2757,2227,{"$f":"Données!$E77*B$4","v":3170.5499999999997},{"$f":"Données!$E77*C$4","v":3032.7000000000003},{"$f":"Données!$E77*D$4","v":2894.85},{"$f":"Données!$E77*E$4","v":2757},{"$f":"Données!$E77*F$4","v":2619.15},{"$f":"Données!$E77*G$4","v":2481.3000000000002},{"$f":"Données!$E77*H$4","v":2343.4499999999998},{"$f":"Données!$F77*B$4","v":2561.0499999999997},{"$f":"Données!$F77*C$4","v":2449.7000000000003},{"$f":"Données!$F77*D$4","v":2338.35},{"$f":"Données!$F77*E$4","v":2227},{"$f":"Données!$F77*F$4","v":2115.65},{"$f":"Données!$F77*G$4","v":2004.3},{"$f":"Données!$F77*H$4","v":1892.95}]
[null,1390,"Archennes","Grez-Doiceau",2757,2227,{"$f":"Données!$E78*B$4","v":3170.5499999999997},{"$f":"Données!$E78*C$4","v":3032.7000000000003},{"$f":"Données!$E78*D$4","v":2894.85},{"$f":"Données!$E78*E$4","v":2757},{"$f":"Données!$E78*F$4","v":2619.15},{"$f":"Données!$E78*G$4","v":2481.3000000000002},{"$f":"Données!$E78*H$4","v":2343.4499999999998},{"$f":"Données!$F78*B$4","v":2561.0499999999997},{"$f":"Données!$F78*C$4","v":2449.7000000000003},{"$f":"Données!$F78*D$4","v":2338.35},{"$f":"Données!$F78*E$4","v":2227},{"$f":"Données!$F78*F$4","v":2115.65},{"$f":"Données!$F78*G$4","v":2004.3},{"$f":"Données!$F78*H$4","v":1892.95}]
[null,1400,"Nivelles","Nivelles",2542,2142,{"$f":"Données!$E79*B$4","v":2923.2999999999997},{"$f":"Données!$E79*C$4","v":2796.2000000000003},{"$f":"Données!$E79*D$4","v":2669.1},{"$f":"Données!$E79*E$4","v":2542},{"$f":"Données!$E79*F$4","v":2414.9},{"$f":"Données!$E79*G$4","v":2287.8000000000002},{"$f":"Données!$E79*H$4","v":2160.6999999999998},{"$f":"Données!$F79*B$4","v":2463.2999999999997},{"$f":"Données!$F79*C$4","v":2356.2000000000003},{"$f":"Données!$F79*D$4","v":2249.1},{"$f":"Données!$F79*E$4","v":2142},{"$f":"Données!$F79*F$4","v":2034.8999999999999},{"$f":"Données!$F79*G$4","v":1927.8},{"$f":"Données!$F79*H$4","v":1820.7}]
[null,1400,"Monstreux","Nivelles",2542,2142,{"$f":"Données!$E80*B$4","v":2923.2999999999997},{"$f":"Données!$E80*C$4","v":2796.2000000000003},{"$f":"Données!$E80*D$4","v":2669.1},{"$f":"Données!$E80*E$4","v":2542},{"$f":"Données!$E80*F$4","v":2414.9},{"$f":"Données!$E80*G$4","v":2287.8000000000002},{"$f":"Données!$E80*H$4","v":2160.6999999999998},{"$f":"Données!$F80*B$4","v":2463.2999999999997},{"$f":"Données!$F80*C$4","v":2356.2000000000003},{"$f":"Données!$F80*D$4","v":2249.1},{"$f":"Données!$F80*E$4","v":2142},{"$f":"Données!$F80*F$4","v":2034.8999999999999},{"$f":"Données!$F80*G$4","v":1927.8},{"$f":"Données!$F80*H$4","v":1820.7}]
[null,1401,"Baulers","Nivelles",2542,2142,{"$f":"Données!$E81*B$4","v":2923.2999999999997},{"$f":"Données!$E81*C$4","v":2796.2000000000003},{"$f":"Données!$E81*D$4","v":2669.1},{"$f":"Données!$E81*E$4","v":2542},{"$f":"Données!$E81*F$4","v":2414.9},{"$f":"Données!$E81*G$4","v":2287.8000000000002},{"$f":"Données!$E81*H$4","v":2160.6999999999998},{"$f":"Données!$F81*B$4","v":2463.2999999999997},{"$f":"Données!$F81*C$4","v":2356.2000000000003},{"$f":"Données!$F81*D$4","v":2249.1},{"$f":"Données!$F81*E$4","v":2142},{"$f":"Données!$F81*F$4","v":2034.8999999999999},{"$f":"Données!$F81*G$4","v":1927.8},{"$f":"Données!$F81*H$4","v":1820.7}]
[null,1402,"Thines","Nivelles",2542,2142,{"$f":"Données!$E82*B$4","v":2923.2999999999997},{"$f":"Données!$E82*C$4","v":2796.2000000000003},{"$f":"Données!$E82*D$4","v":2669.1},{"$f":"Données!$E82*E$4","v":2542},{"$f":"Données!$E82*F$4","v":2414.9},{"$f":"Données!$E82*G$4","v":2287.8000000000002},{"$f":"Données!$E82*H$4","v":2160.6999999999998},{"$f":"Données!$F82*B$4","v":2463.2999999999997},{"$f":"Données!$F82*C$4","v":2356.2000000000003},{"$f":"Données!$F82*D$4","v":2249.1},{"$f":"Données!$F82*E$4","v":2142},{"$f":"Données!$F82*F$4","v":2034.8999999999999},{"$f":"Données!$F82*G$4","v":1927.8},{"$f":"Données!$F82*H$4","v":1820.7}]
[null,1404,"Bornival","Nivelles",2542,2142,{"$f":"Données!$E83*B$4","v":2923.2999999999997},{"$f":"Données!$E83*C$4","v":2796.2000000000003},{"$f":"Données!$E83*D$4","v":2669.1},{"$f":"Données!$E83*E$4","v":2542},{"$f":"Données!$E83*F$4","v":2414.9},{"$f":"Données!$E83*G$4","v":2287.8000000000002},{"$f":"Données!$E83*H$4","v":2160.6999999999998},{"$f":"Données!$F83*B$4","v":2463.2999999999997},{"$f":"Données!$F83*C$4","v":2356.2000000000003},{"$f":"Données!$F83*D$4","v":2249.1},{"$f":"Données!$F83*E$4","v":2142},{"$f":"Données!$F83*F$4","v":2034.8999999999999},{"$f":"Données!$F83*G$4","v":1927.8},{"$f":"Données!$F83*H$4","v":1820.7}]
[null,1410,"Waterloo","Waterloo",3425,2802,{"$f":"Données!$E84*B$4","v":3938.7499999999995},{"$f":"Données!$E84*C$4","v":3767.5000000000005},{"$f":"Données!$E84*D$4","v":3596.25},{"$f":"Données!$E84*E$4","v":3425},{"$f":"Données!$E84*F$4","v":3253.75},{"$f":"Données!$E84*G$4","v":3082.5},{"$f":"Données!$E84*H$4","v":2911.25},{"$f":"Données!$F84*B$4","v":3222.2999999999997},{"$f":"Données!$F84*C$4","v":3082.2000000000003},{"$f":"Données!$F84*D$4","v":2942.1},{"$f":"Données!$F84*E$4","v":2802},{"$f":"Données!$F84*F$4","v":2661.9},{"$f":"Données!$F84*G$4","v":2521.8000000000002},{"$f":"Données!$F84*H$4","v":2381.6999999999998}]
[null,1420,"Braine-L'alleud","Braine-L'alleud",2768,2436,{"$f":"Données!$E85*B$4","v":3183.2},{"$f":"Données!$E85*C$4","v":3044.8},{"$f":"Données!$E85*D$4","v":2906.4},{"$f":"Données!$E85*E$4","v":2768},{"$f":"Données!$E85*F$4","v":2629.6},{"$f":"Données!$E85*G$4","v":2491.2000000000003},{"$f":"Données!$E85*H$4","v":2352.7999999999997},{"$f":"Données!$F85*B$4","v":2801.3999999999996},{"$f":"Données!$F85*C$4","v":2679.6000000000004},{"$f":"Données!$F85*D$4","v":2557.8000000000002},{"$f":"Données!$F85*E$4","v":2436},{"$f":"Données!$F85*F$4","v":2314.1999999999998},{"$f":"Données!$F85*G$4","v":2192.4},{"$f":"Données!$F85*H$4","v":2070.6}]
[null,1421,"Ophain-Bois-Seigneur-Isaac","Braine-L'alleud",2768,2436,{"$f":"Données!$E86*B$4","v":3183.2},{"$f":"Données!$E86*C$4","v":3044.8},{"$f":"Données!$E86*D$4","v":2906.4},{"$f":"Données!$E86*E$4","v":2768},{"$f":"Données!$E86*F$4","v":2629.6},{"$f":"Données!$E86*G$4","v":2491.2000000000003},{"$f":"Données!$E86*H$4","v":2352.7999999999997},{"$f":"Données!$F86*B$4","v":2801.3999999999996},{"$f":"Données!$F86*C$4","v":2679.6000000000004},{"$f":"Données!$F86*D$4","v":2557.8000000000002},{"$f":"Données!$F86*E$4","v":2436},{"$f":"Données!$F86*F$4","v":2314.1999999999998},{"$f":"Données!$F86*G$4","v":2192.4},{"$f":"Données!$F86*H$4","v":2070.6}]
[null,1428,"Lillois-Witterzée","Braine-L'alleud",2768,2436,{"$f":"Données!$E87*B$4","v":3183.2},{"$f":"Données!$E87*C$4","v":3044.8},{"$f":"Données!$E87*D$4","v":2906.4},{"$f":"Données!$E87*E$4","v":2768},{"$f":"Données!$E87*F$4","v":2629.6},{"$f":"Données!$E87*G$4","v":2491.2000000000003},{"$f":"Données!$E87*H$4","v":2352.7999999999997},{"$f":"Données!$F87*B$4","v":2801.3999999999996},{"$f":"Données!$F87*C$4","v":2679.6000000000004},{"$f":"Données!$F87*D$4","v":2557.8000000000002},{"$f":"Données!$F87*E$4","v":2436},{"$f":"Données!$F87*F$4","v":2314.1999999999998},{"$f":"Données!$F87*G$4","v":2192.4},{"$f":"Données!$F87*H$4","v":2070.6}]
[null,1430,"Rebecq-Rognon","Rebecq",2034,1835,{"$f":"Données!$E88*B$4","v":2339.1},{"$f":"Données!$E88*C$4","v":2237.4},{"$f":"Données!$E88*D$4","v":2135.7000000000003},{"$f":"Données!$E88*E$4","v":2034},{"$f":"Données!$E88*F$4","v":1932.3},{"$f":"Données!$E88*G$4","v":1830.6000000000001},{"$f":"Données!$E88*H$4","v":1728.8999999999999},{"$f":"Données!$F88*B$4","v":2110.25},{"$f":"Données!$F88*C$4","v":2018.5000000000002},{"$f":"Données!$F88*D$4","v":1926.75},{"$f":"Données!$F88*E$4","v":1835},{"$f":"Données!$F88*F$4","v":1743.25},{"$f":"Données!$F88*G$4","v":1651.5},{"$f":"Données!$F88*H$4","v":1559.75}]
[null,1430,"Rebecq","Rebecq",2034,1835,{"$f":"Données!$E89*B$4","v":2339.1},{"$f":"Données!$E89*C$4","v":2237.4},{"$f":"Données!$E89*D$4","v":2135.7000000000003},{"$f":"Données!$E89*E$4","v":2034},{"$f":"Données!$E89*F$4","v":1932.3},{"$f":"Données!$E89*G$4","v":1830.6000000000001},{"$f":"Données!$E89*H$4","v":1728.8999999999999},{"$f":"Données!$F89*B$4","v":2110.25},{"$f":"Données!$F89*C$4","v":2018.5000000000002},{"$f":"Données!$F89*D$4","v":1926.75},{"$f":"Données!$F89*E$4","v":1835},{"$f":"Données!$F89*F$4","v":1743.25},{"$f":"Données!$F89*G$4","v":1651.5},{"$f":"Données!$F89*H$4","v":1559.75}]
[null,1430,"Bierghes","Rebecq",2034,1835,{"$f":"Données!$E90*B$4","v":2339.1},{"$f":"Données!$E90*C$4","v":2237.4},{"$f":"Données!$E90*D$4","v":2135.7000000000003},{"$f":"Données!$E90*E$4","v":2034},{"$f":"Données!$E90*F$4","v":1932.3},{"$f":"Données!$E90*G$4","v":1830.6000000000001},{"$f":"Données!$E90*H$4","v":1728.8999999999999},{"$f":"Données!$F90*B$4","v":2110.25},{"$f":"Données!$F90*C$4","v":2018.5000000000002},{"$f":"Données!$F90*D$4","v":1926.75},{"$f":"Données!$F90*E$4","v":1835},{"$f":"Données!$F90*F$4","v":1743.25},{"$f":"Données!$F90*G$4","v":1651.5},{"$f":"Données!$F90*H$4","v":1559.75}]
[null,1430,"Quenast","Rebecq",2034,1835,{"$f":"Données!$E91*B$4","v":2339.1},{"$f":"Données!$E91*C$4","v":2237.4},{"$f":"Données!$E91*D$4","v":2135.7000000000003},{"$f":"Données!$E91*E$4","v":2034},{"$f":"Données!$E91*F$4","v":1932.3},{"$f":"Données!$E91*G$4","v":1830.6000000000001},{"$f":"Données!$E91*H$4","v":1728.8999999999999},{"$f":"Données!$F91*B$4","v":2110.25},{"$f":"Données!$F91*C$4","v":2018.5000000000002},{"$f":"Données!$F91*D$4","v":1926.75},{"$f":"Données!$F91*E$4","v":1835},{"$f":"Données!$F91*F$4","v":1743.25},{"$f":"Données!$F91*G$4","v":1651.5},{"$f":"Données!$F91*H$4","v":1559.75}]
[null,1435,"Corbais","Mont-Saint-Guibert",2917,2132,{"$f":"Données!$E92*B$4","v":3354.5499999999997},{"$f":"Données!$E92*C$4","v":3208.7000000000003},{"$f":"Données!$E92*D$4","v":3062.85},{"$f":"Données!$E92*E$4","v":2917},{"$f":"Données!$E92*F$4","v":2771.15},{"$f":"Données!$E92*G$4","v":2625.3},{"$f":"Données!$E92*H$4","v":2479.4499999999998},{"$f":"Données!$F92*B$4","v":2451.7999999999997},{"$f":"Données!$F92*C$4","v":2345.2000000000003},{"$f":"Données!$F92*D$4","v":2238.6},{"$f":"Données!$F92*E$4","v":2132},{"$f":"Données!$F92*F$4","v":2025.3999999999999},{"$f":"Données!$F92*G$4","v":1918.8},{"$f":"Données!$F92*H$4","v":1812.2}]
[null,1435,"Hévillers","Mont-Saint-Guibert",2917,2132,{"$f":"Données!$E93*B$4","v":3354.5499999999997},{"$f":"Données!$E93*C$4","v":3208.7000000000003},{"$f":"Données!$E93*D$4","v":3062.85},{"$f":"Données!$E93*E$4","v":2917},{"$f":"Données!$E93*F$4","v":2771.15},{"$f":"Données!$E93*G$4","v":2625.3},{"$f":"Données!$E93*H$4","v":2479.4499999999998},{"$f":"Données!$F93*B$4","v":2451.7999999999997},{"$f":"Données!$F93*C$4","v":2345.2000000000003},{"$f":"Données!$F93*D$4","v":2238.6},{"$f":"Données!$F93*E$4","v":2132},{"$f":"Données!$F93*F$4","v":2025.3999999999999},{"$f":"Données!$F93*G$4","v":1918.8},{"$f":"Données!$F93*H$4","v":1812.2}]
[null,1435,"Mont-Saint-Guibert","Mont-Saint-Guibert",2917,2132,{"$f":"Données!$E94*B$4","v":3354.5499999999997},{"$f":"Données!$E94*C$4","v":3208.7000000000003},{"$f":"Données!$E94*D$4","v":3062.85},{"$f":"Données!$E94*E$4","v":2917},{"$f":"Données!$E94*F$4","v":2771.15},{"$f":"Données!$E94*G$4","v":2625.3},{"$f":"Données!$E94*H$4","v":2479.4499999999998},{"$f":"Données!$F94*B$4","v":2451.7999999999997},{"$f":"Données!$F94*C$4","v":2345.2000000000003},{"$f":"Données!$F94*D$4","v":2238.6},{"$f":"Données!$F94*E$4","v":2132},{"$f":"Données!$F94*F$4","v":2025.3999999999999},{"$f":"Données!$F94*G$4","v":1918.8},{"$f":"Données!$F94*H$4","v":1812.2}]
[null,1440,"Wauthier-Braine","Braine-Le-Château",2537,2179,{"$f":"Données!$E95*B$4","v":2917.5499999999997},{"$f":"Données!$E95*C$4","v":2790.7000000000003},{"$f":"Données!$E95*D$4","v":2663.85},{"$f":"Données!$E95*E$4","v":2537},{"$f":"Données!$E95*F$4","v":2410.15},{"$f":"Données!$E95*G$4","v":2283.3000000000002},{"$f":"Données!$E95*H$4","v":2156.4499999999998},{"$f":"Données!$F95*B$4","v":2505.85},{"$f":"Données!$F95*C$4","v":2396.9},{"$f":"Données!$F95*D$4","v":2287.9500000000003},{"$f":"Données!$F95*E$4","v":2179},{"$f":"Données!$F95*F$4","v":2070.0499999999997},{"$f":"Données!$F95*G$4","v":1961.1000000000001},{"$f":"Données!$F95*H$4","v":1852.1499999999999}]
[null,1440,"Braine-Le-Château","Braine-Le-Château",2537,2179,{"$f":"Données!$E96*B$4","v":2917.5499999999997},{"$f":"Données!$E96*C$4","v":2790.7000000000003},{"$f":"Données!$E96*D$4","v":2663.85},{"$f":"Données!$E96*E$4","v":2537},{"$f":"Données!$E96*F$4","v":2410.15},{"$f":"Données!$E96*G$4","v":2283.3000000000002},{"$f":"Données!$E96*H$4","v":2156.4499999999998},{"$f":"Données!$F96*B$4","v":2505.85},{"$f":"Données!$F96*C$4","v":2396.9},{"$f":"Données!$F96*D$4","v":2287.9500000000003},{"$f":"Données!$F96*E$4","v":2179},{"$f":"Données!$F96*F$4","v":2070.0499999999997},{"$f":"Données!$F96*G$4","v":1961.1000000000001},{"$f":"Données!$F96*H$4","v":1852.1499999999999}]
[null,1450,"Cortil-Noirmont","Chastre",2156,2036,{"$f":"Données!$E97*B$4","v":2479.3999999999996},{"$f":"Données!$E97*C$4","v":2371.6000000000004},{"$f":"Données!$E97*D$4","v":2263.8000000000002},{"$f":"Données!$E97*E$4","v":2156},{"$f":"Données!$E97*F$4","v":2048.1999999999998},{"$f":"Données!$E97*G$4","v":1940.4},{"$f":"Données!$E97*H$4","v":1832.6},{"$f":"Données!$F97*B$4","v":2341.3999999999996},{"$f":"Données!$F97*C$4","v":2239.6000000000004},{"$f":"Données!$F97*D$4","v":2137.8000000000002},{"$f":"Données!$F97*E$4","v":2036},{"$f":"Données!$F97*F$4","v":1934.1999999999998},{"$f":"Données!$F97*G$4","v":1832.4},{"$f":"Données!$F97*H$4","v":1730.6}]
[null,1450,"Gentinnes","Chastre",2156,2036,{"$f":"Données!$E98*B$4","v":2479.3999999999996},{"$f":"Données!$E98*C$4","v":2371.6000000000004},{"$f":"Données!$E98*D$4","v":2263.8000000000002},{"$f":"Données!$E98*E$4","v":2156},{"$f":"Données!$E98*F$4","v":2048.1999999999998},{"$f":"Données!$E98*G$4","v":1940.4},{"$f":"Données!$E98*H$4","v":1832.6},{"$f":"Données!$F98*B$4","v":2341.3999999999996},{"$f":"Données!$F98*C$4","v":2239.6000000000004},{"$f":"Données!$F98*D$4","v":2137.8000000000002},{"$f":"Données!$F98*E$4","v":2036},{"$f":"Données!$F98*F$4","v":1934.1999999999998},{"$f":"Données!$F98*G$4","v":1832.4},{"$f":"Données!$F98*H$4","v":1730.6}]
[null,1450,"Chastre","Chastre",2156,2036,{"$f":"Données!$E99*B$4","v":2479.3999999999996},{"$f":"Données!$E99*C$4","v":2371.6000000000004},{"$f":"Données!$E99*D$4","v":2263.8000000000002},{"$f":"Données!$E99*E$4","v":2156},{"$f":"Données!$E99*F$4","v":2048.1999999999998},{"$f":"Données!$E99*G$4","v":1940.4},{"$f":"Données!$E99*H$4","v":1832.6},{"$f":"Données!$F99*B$4","v":2341.3999999999996},{"$f":"Données!$F99*C$4","v":2239.6000000000004},{"$f":"Données!$F99*D$4","v":2137.8000000000002},{"$f":"Données!$F99*E$4","v":2036},{"$f":"Données!$F99*F$4","v":1934.1999999999998},{"$f":"Données!$F99*G$4","v":1832.4},{"$f":"Données!$F99*H$4","v":1730.6}]
[null,1450,"Chastre-Villeroux-Blanmont","Chastre",2156,2036,{"$f":"Données!$E100*B$4","v":2479.3999999999996},{"$f":"Données!$E100*C$4","v":2371.6000000000004},{"$f":"Données!$E100*D$4","v":2263.8000000000002},{"$f":"Données!$E100*E$4","v":2156},{"$f":"Données!$E100*F$4","v":2048.1999999999998},{"$f":"Données!$E100*G$4","v":1940.4},{"$f":"Données!$E100*H$4","v":1832.6},{"$f":"Données!$F100*B$4","v":2341.3999999999996},{"$f":"Données!$F100*C$4","v":2239.6000000000004},{"$f":"Données!$F100*D$4","v":2137.8000000000002},{"$f":"Données!$F100*E$4","v":2036},{"$f":"Données!$F100*F$4","v":1934.1999999999998},{"$f":"Données!$F100*G$4","v":1832.4},{"$f":"Données!$F100*H$4","v":1730.6}]
[null,1450,"Saint-Géry","Chastre",2156,2036,{"$f":"Données!$E101*B$4","v":2479.3999999999996},{"$f":"Données!$E101*C$4","v":2371.6000000000004},{"$f":"Données!$E101*D$4","v":2263.8000000000002},{"$f":"Données!$E101*E$4","v":2156},{"$f":"Données!$E101*F$4","v":2048.1999999999998},{"$f":"Données!$E101*G$4","v":1940.4},{"$f":"Données!$E101*H$4","v":1832.6},{"$f":"Données!$F101*B$4","v":2341.3999999999996},{"$f":"Données!$F101*C$4","v":2239.6000000000004},{"$f":"Données!$F101*D$4","v":2137.8000000000002},{"$f":"Données!$F101*E$4","v":2036},{"$f":"Données!$F101*F$4","v":1934.1999999999998},{"$f":"Données!$F101*G$4","v":1832.4},{"$f":"Données!$F101*H$4","v":1730.6}]
[null,1457,"Walhain","Walhain",2655,2062,{"$f":"Données!$E102*B$4","v":3053.2499999999995},{"$f":"Données!$E102*C$4","v":2920.5000000000005},{"$f":"Données!$E102*D$4","v":2787.75},{"$f":"Données!$E102*E$4","v":2655},{"$f":"Données!$E102*F$4","v":2522.25},{"$f":"Données!$E102*G$4","v":2389.5},{"$f":"Données!$E102*H$4","v":2256.75},{"$f":"Données!$F102*B$4","v":2371.2999999999997},{"$f":"Données!$F102*C$4","v":2268.2000000000003},{"$f":"Données!$F102*D$4","v":2165.1},{"$f":"Données!$F102*E$4","v":2062},{"$f":"Données!$F102*F$4","v":1958.8999999999999},{"$f":"Données!$F102*G$4","v":1855.8},{"$f":"Données!$F102*H$4","v":1752.7}]
[null,1457,"Nil-Saint-Vincent-Saint-Martin","Walhain",2655,2062,{"$f":"Données!$E103*B$4","v":3053.2499999999995},{"$f":"Données!$E103*C$4","v":2920.5000000000005},{"$f":"Données!$E103*D$4","v":2787.75},{"$f":"Données!$E103*E$4","v":2655},{"$f":"Données!$E103*F$4","v":2522.25},{"$f":"Données!$E103*G$4","v":2389.5},{"$f":"Données!$E103*H$4","v":2256.75},{"$f":"Données!$F103*B$4","v":2371.2999999999997},{"$f":"Données!$F103*C$4","v":2268.2000000000003},{"$f":"Données!$F103*D$4","v":2165.1},{"$f":"Données!$F103*E$4","v":2062},{"$f":"Données!$F103*F$4","v":1958.8999999999999},{"$f":"Données!$F103*G$4","v":1855.8},{"$f":"Données!$F103*H$4","v":1752.7}]
[null,1457,"Tourinnes-Saint-Lambert","Walhain",2655,2062,{"$f":"Données!$E104*B$4","v":3053.2499999999995},{"$f":"Données!$E104*C$4","v":2920.5000000000005},{"$f":"Données!$E104*D$4","v":2787.75},{"$f":"Données!$E104*E$4","v":2655},{"$f":"Données!$E104*F$4","v":2522.25},{"$f":"Données!$E104*G$4","v":2389.5},{"$f":"Données!$E104*H$4","v":2256.75},{"$f":"Données!$F104*B$4","v":2371.2999999999997},{"$f":"Données!$F104*C$4","v":2268.2000000000003},{"$f":"Données!$F104*D$4","v":2165.1},{"$f":"Données!$F104*E$4","v":2062},{"$f":"Données!$F104*F$4","v":1958.8999999999999},{"$f":"Données!$F104*G$4","v":1855.8},{"$f":"Données!$F104*H$4","v":1752.7}]
[null,1457,"Walhain-Saint-Paul","Walhain",2655,2062,{"$f":"Données!$E105*B$4","v":3053.2499999999995},{"$f":"Données!$E105*C$4","v":2920.5000000000005},{"$f":"Données!$E105*D$4","v":2787.75},{"$f":"Données!$E105*E$4","v":2655},{"$f":"Données!$E105*F$4","v":2522.25},{"$f":"Données!$E105*G$4","v":2389.5},{"$f":"Données!$E105*H$4","v":2256.75},{"$f":"Données!$F105*B$4","v":2371.2999999999997},{"$f":"Données!$F105*C$4","v":2268.2000000000003},{"$f":"Données!$F105*D$4","v":2165.1},{"$f":"Données!$F105*E$4","v":2062},{"$f":"Données!$F105*F$4","v":1958.8999999999999},{"$f":"Données!$F105*G$4","v":1855.8},{"$f":"Données!$F105*H$4","v":1752.7}]
[null,1460,"Ittre","Ittre",2383,1964,{"$f":"Données!$E106*B$4","v":2740.45},{"$f":"Données!$E106*C$4","v":2621.3000000000002},{"$f":"Données!$E106*D$4","v":2502.15},{"$f":"Données!$E106*E$4","v":2383},{"$f":"Données!$E106*F$4","v":2263.85},{"$f":"Données!$E106*G$4","v":2144.7000000000003},{"$f":"Données!$E106*H$4","v":2025.55},{"$f":"Données!$F106*B$4","v":2258.6},{"$f":"Données!$F106*C$4","v":2160.4},{"$f":"Données!$F106*D$4","v":2062.2000000000003},{"$f":"Données!$F106*E$4","v":1964},{"$f":"Données!$F106*F$4","v":1865.8},{"$f":"Données!$F106*G$4","v":1767.6000000000001},{"$f":"Données!$F106*H$4","v":1669.3999999999999}]
[null,1460,"Virginal-Samme","Ittre",2383,1964,{"$f":"Données!$E107*B$4","v":2740.45},{"$f":"Données!$E107*C$4","v":2621.3000000000002},{"$f":"Données!$E107*D$4","v":2502.15},{"$f":"Données!$E107*E$4","v":2383},{"$f":"Données!$E107*F$4","v":2263.85},{"$f":"Données!$E107*G$4","v":2144.7000000000003},{"$f":"Données!$E107*H$4","v":2025.55},{"$f":"Données!$F107*B$4","v":2258.6},{"$f":"Données!$F107*C$4","v":2160.4},{"$f":"Données!$F107*D$4","v":2062.2000000000003},{"$f":"Données!$F107*E$4","v":1964},{"$f":"Données!$F107*F$4","v":1865.8},{"$f":"Données!$F107*G$4","v":1767.6000000000001},{"$f":"Données!$F107*H$4","v":1669.3999999999999}]
[null,1461,"Haut-Ittre","Ittre",2383,1964,{"$f":"Données!$E108*B$4","v":2740.45},{"$f":"Données!$E108*C$4","v":2621.3000000000002},{"$f":"Données!$E108*D$4","v":2502.15},{"$f":"Données!$E108*E$4","v":2383},{"$f":"Données!$E108*F$4","v":2263.85},{"$f":"Données!$E108*G$4","v":2144.7000000000003},{"$f":"Données!$E108*H$4","v":2025.55},{"$f":"Données!$F108*B$4","v":2258.6},{"$f":"Données!$F108*C$4","v":2160.4},{"$f":"Données!$F108*D$4","v":2062.2000000000003},{"$f":"Données!$F108*E$4","v":1964},{"$f":"Données!$F108*F$4","v":1865.8},{"$f":"Données!$F108*G$4","v":1767.6000000000001},{"$f":"Données!$F108*H$4","v":1669.3999999999999}]
[null,1470,"Baisy-Thy","Genappe",2416,2097,{"$f":"Données!$E109*B$4","v":2778.3999999999996},{"$f":"Données!$E109*C$4","v":2657.6000000000004},{"$f":"Données!$E109*D$4","v":2536.8000000000002},{"$f":"Données!$E109*E$4","v":2416},{"$f":"Données!$E109*F$4","v":2295.1999999999998},{"$f":"Données!$E109*G$4","v":2174.4},{"$f":"Données!$E109*H$4","v":2053.6},{"$f":"Données!$F109*B$4","v":2411.5499999999997},{"$f":"Données!$F109*C$4","v":2306.7000000000003},{"$f":"Données!$F109*D$4","v":2201.85},{"$f":"Données!$F109*E$4","v":2097},{"$f":"Données!$F109*F$4","v":1992.1499999999999},{"$f":"Données!$F109*G$4","v":1887.3},{"$f":"Données!$F109*H$4","v":1782.45}]
[null,1470,"Genappe","Genappe",2416,2097,{"$f":"Données!$E110*B$4","v":2778.3999999999996},{"$f":"Données!$E110*C$4","v":2657.6000000000004},{"$f":"Données!$E110*D$4","v":2536.8000000000002},{"$f":"Données!$E110*E$4","v":2416},{"$f":"Données!$E110*F$4","v":2295.1999999999998},{"$f":"Données!$E110*G$4","v":2174.4},{"$f":"Données!$E110*H$4","v":2053.6},{"$f":"Données!$F110*B$4","v":2411.5499999999997},{"$f":"Données!$F110*C$4","v":2306.7000000000003},{"$f":"Données!$F110*D$4","v":2201.85},{"$f":"Données!$F110*E$4","v":2097},{"$f":"Données!$F110*F$4","v":1992.1499999999999},{"$f":"Données!$F110*G$4","v":1887.3},{"$f":"Données!$F110*H$4","v":1782.45}]
[null,1470,"Bousval","Genappe",2416,2097,{"$f":"Données!$E111*B$4","v":2778.3999999999996},{"$f":"Données!$E111*C$4","v":2657.6000000000004},{"$f":"Données!$E111*D$4","v":2536.8000000000002},{"$f":"Données!$E111*E$4","v":2416},{"$f":"Données!$E111*F$4","v":2295.1999999999998},{"$f":"Données!$E111*G$4","v":2174.4},{"$f":"Données!$E111*H$4","v":2053.6},{"$f":"Données!$F111*B$4","v":2411.5499999999997},{"$f":"Données!$F111*C$4","v":2306.7000000000003},{"$f":"Données!$F111*D$4","v":2201.85},{"$f":"Données!$F111*E$4","v":2097},{"$f":"Données!$F111*F$4","v":1992.1499999999999},{"$f":"Données!$F111*G$4","v":1887.3},{"$f":"Données!$F111*H$4","v":1782.45}]
[null,1471,"Loupoigne","Genappe",2416,2097,{"$f":"Données!$E112*B$4","v":2778.3999999999996},{"$f":"Données!$E112*C$4","v":2657.6000000000004},{"$f":"Données!$E112*D$4","v":2536.8000000000002},{"$f":"Données!$E112*E$4","v":2416},{"$f":"Données!$E112*F$4","v":2295.1999999999998},{"$f":"Données!$E112*G$4","v":2174.4},{"$f":"Données!$E112*H$4","v":2053.6},{"$f":"Données!$F112*B$4","v":2411.5499999999997},{"$f":"Données!$F112*C$4","v":2306.7000000000003},{"$f":"Données!$F112*D$4","v":2201.85},{"$f":"Données!$F112*E$4","v":2097},{"$f":"Données!$F112*F$4","v":1992.1499999999999},{"$f":"Données!$F112*G$4","v":1887.3},{"$f":"Données!$F112*H$4","v":1782.45}]
[null,1472,"Vieux-Genappe","Genappe",2416,2097,{"$f":"Données!$E113*B$4","v":2778.3999999999996},{"$f":"Données!$E113*C$4","v":2657.6000000000004},{"$f":"Données!$E113*D$4","v":2536.8000000000002},{"$f":"Données!$E113*E$4","v":2416},{"$f":"Données!$E113*F$4","v":2295.1999999999998},{"$f":"Données!$E113*G$4","v":2174.4},{"$f":"Données!$E113*H$4","v":2053.6},{"$f":"Données!$F113*B$4","v":2411.5499999999997},{"$f":"Données!$F113*C$4","v":2306.7000000000003},{"$f":"Données!$F113*D$4","v":2201.85},{"$f":"Données!$F113*E$4","v":2097},{"$f":"Données!$F113*F$4","v":1992.1499999999999},{"$f":"Données!$F113*G$4","v":1887.3},{"$f":"Données!$F113*H$4","v":1782.45}]
[null,1473,"Glabais","Genappe",2416,2097,{"$f":"Données!$E114*B$4","v":2778.3999999999996},{"$f":"Données!$E114*C$4","v":2657.6000000000004},{"$f":"Données!$E114*D$4","v":2536.8000000000002},{"$f":"Données!$E114*E$4","v":2416},{"$f":"Données!$E114*F$4","v":2295.1999999999998},{"$f":"Données!$E114*G$4","v":2174.4},{"$f":"Données!$E114*H$4","v":2053.6},{"$f":"Données!$F114*B$4","v":2411.5499999999997},{"$f":"Données!$F114*C$4","v":2306.7000000000003},{"$f":"Données!$F114*D$4","v":2201.85},{"$f":"Données!$F114*E$4","v":2097},{"$f":"Données!$F114*F$4","v":1992.1499999999999},{"$f":"Données!$F114*G$4","v":1887.3},{"$f":"Données!$F114*H$4","v":1782.45}]
[null,1474,"Ways","Genappe",2416,2097,{"$f":"Données!$E115*B$4","v":2778.3999999999996},{"$f":"Données!$E115*C$4","v":2657.6000000000004},{"$f":"Données!$E115*D$4","v":2536.8000000000002},{"$f":"Données!$E115*E$4","v":2416},{"$f":"Données!$E115*F$4","v":2295.1999999999998},{"$f":"Données!$E115*G$4","v":2174.4},{"$f":"Données!$E115*H$4","v":2053.6},{"$f":"Données!$F115*B$4","v":2411.5499999999997},{"$f":"Données!$F115*C$4","v":2306.7000000000003},{"$f":"Données!$F115*D$4","v":2201.85},{"$f":"Données!$F115*E$4","v":2097},{"$f":"Données!$F115*F$4","v":1992.1499999999999},{"$f":"Données!$F115*G$4","v":1887.3},{"$f":"Données!$F115*H$4","v":1782.45}]
[null,1476,"Houtain-Le-Val","Genappe",2416,2097,{"$f":"Données!$E116*B$4","v":2778.3999999999996},{"$f":"Données!$E116*C$4","v":2657.6000000000004},{"$f":"Données!$E116*D$4","v":2536.8000000000002},{"$f":"Données!$E116*E$4","v":2416},{"$f":"Données!$E116*F$4","v":2295.1999999999998},{"$f":"Données!$E116*G$4","v":2174.4},{"$f":"Données!$E116*H$4","v":2053.6},{"$f":"Données!$F116*B$4","v":2411.5499999999997},{"$f":"Données!$F116*C$4","v":2306.7000000000003},{"$f":"Données!$F116*D$4","v":2201.85},{"$f":"Données!$F116*E$4","v":2097},{"$f":"Données!$F116*F$4","v":1992.1499999999999},{"$f":"Données!$F116*G$4","v":1887.3},{"$f":"Données!$F116*H$4","v":1782.45}]
[null,1480,"Oisquercq","Tubize",2252,1946,{"$f":"Données!$E117*B$4","v":2589.7999999999997},{"$f":"Données!$E117*C$4","v":2477.2000000000003},{"$f":"Données!$E117*D$4","v":2364.6},{"$f":"Données!$E117*E$4","v":2252},{"$f":"Données!$E117*F$4","v":2139.4},{"$f":"Données!$E117*G$4","v":2026.8},{"$f":"Données!$E117*H$4","v":1914.2},{"$f":"Données!$F117*B$4","v":2237.8999999999996},{"$f":"Données!$F117*C$4","v":2140.6000000000004},{"$f":"Données!$F117*D$4","v":2043.3000000000002},{"$f":"Données!$F117*E$4","v":1946},{"$f":"Données!$F117*F$4","v":1848.6999999999998},{"$f":"Données!$F117*G$4","v":1751.4},{"$f":"Données!$F117*H$4","v":1654.1}]
[null,1480,"Tubize","Tubize",2252,1946,{"$f":"Données!$E118*B$4","v":2589.7999999999997},{"$f":"Données!$E118*C$4","v":2477.2000000000003},{"$f":"Données!$E118*D$4","v":2364.6},{"$f":"Données!$E118*E$4","v":2252},{"$f":"Données!$E118*F$4","v":2139.4},{"$f":"Données!$E118*G$4","v":2026.8},{"$f":"Données!$E118*H$4","v":1914.2},{"$f":"Données!$F118*B$4","v":2237.8999999999996},{"$f":"Données!$F118*C$4","v":2140.6000000000004},{"$f":"Données!$F118*D$4","v":2043.3000000000002},{"$f":"Données!$F118*E$4","v":1946},{"$f":"Données!$F118*F$4","v":1848.6999999999998},{"$f":"Données!$F118*G$4","v":1751.4},{"$f":"Données!$F118*H$4","v":1654.1}]
[null,1480,"Saintes","Tubize",2252,1946,{"$f":"Données!$E119*B$4","v":2589.7999999999997},{"$f":"Données!$E119*C$4","v":2477.2000000000003},{"$f":"Données!$E119*D$4","v":2364.6},{"$f":"Données!$E119*E$4","v":2252},{"$f":"Données!$E119*F$4","v":2139.4},{"$f":"Données!$E119*G$4","v":2026.8},{"$f":"Données!$E119*H$4","v":1914.2},{"$f":"Données!$F119*B$4","v":2237.8999999999996},{"$f":"Données!$F119*C$4","v":2140.6000000000004},{"$f":"Données!$F119*D$4","v":2043.3000000000002},{"$f":"Données!$F119*E$4","v":1946},{"$f":"Données!$F119*F$4","v":1848.6999999999998},{"$f":"Données!$F119*G$4","v":1751.4},{"$f":"Données!$F119*H$4","v":1654.1}]
[null,1480,"Clabecq","Tubize",2252,1946,{"$f":"Données!$E120*B$4","v":2589.7999999999997},{"$f":"Données!$E120*C$4","v":2477.2000000000003},{"$f":"Données!$E120*D$4","v":2364.6},{"$f":"Données!$E120*E$4","v":2252},{"$f":"Données!$E120*F$4","v":2139.4},{"$f":"Données!$E120*G$4","v":2026.8},{"$f":"Données!$E120*H$4","v":1914.2},{"$f":"Données!$F120*B$4","v":2237.8999999999996},{"$f":"Données!$F120*C$4","v":2140.6000000000004},{"$f":"Données!$F120*D$4","v":2043.3000000000002},{"$f":"Données!$F120*E$4","v":1946},{"$f":"Données!$F120*F$4","v":1848.6999999999998},{"$f":"Données!$F120*G$4","v":1751.4},{"$f":"Données!$F120*H$4","v":1654.1}]
[null,1490,"Court-Saint-Etienne","Court-Saint-Etienne",2912,2082,{"$f":"Données!$E121*B$4","v":3348.7999999999997},{"$f":"Données!$E121*C$4","v":3203.2000000000003},{"$f":"Données!$E121*D$4","v":3057.6},{"$f":"Données!$E121*E$4","v":2912},{"$f":"Données!$E121*F$4","v":2766.4},{"$f":"Données!$E121*G$4","v":2620.8000000000002},{"$f":"Données!$E121*H$4","v":2475.1999999999998},{"$f":"Données!$F121*B$4","v":2394.2999999999997},{"$f":"Données!$F121*C$4","v":2290.2000000000003},{"$f":"Données!$F121*D$4","v":2186.1},{"$f":"Données!$F121*E$4","v":2082},{"$f":"Données!$F121*F$4","v":1977.8999999999999},{"$f":"Données!$F121*G$4","v":1873.8},{"$f":"Données!$F121*H$4","v":1769.7}]
[null,1495,"Marbais","Villers-La-Ville",2016,1922,{"$f":"Données!$E122*B$4","v":2318.3999999999996},{"$f":"Données!$E122*C$4","v":2217.6000000000004},{"$f":"Données!$E122*D$4","v":2116.8000000000002},{"$f":"Données!$E122*E$4","v":2016},{"$f":"Données!$E122*F$4","v":1915.1999999999998},{"$f":"Données!$E122*G$4","v":1814.4},{"$f":"Données!$E122*H$4","v":1713.6},{"$f":"Données!$F122*B$4","v":2210.2999999999997},{"$f":"Données!$F122*C$4","v":2114.2000000000003},{"$f":"Données!$F122*D$4","v":2018.1000000000001},{"$f":"Données!$F122*E$4","v":1922},{"$f":"Données!$F122*F$4","v":1825.8999999999999},{"$f":"Données!$F122*G$4","v":1729.8},{"$f":"Données!$F122*H$4","v":1633.7}]
[null,1495,"Villers-La-Ville","Villers-La-Ville",2016,1922,{"$f":"Données!$E123*B$4","v":2318.3999999999996},{"$f":"Données!$E123*C$4","v":2217.6000000000004},{"$f":"Données!$E123*D$4","v":2116.8000000000002},{"$f":"Données!$E123*E$4","v":2016},{"$f":"Données!$E123*F$4","v":1915.1999999999998},{"$f":"Données!$E123*G$4","v":1814.4},{"$f":"Données!$E123*H$4","v":1713.6},{"$f":"Données!$F123*B$4","v":2210.2999999999997},{"$f":"Données!$F123*C$4","v":2114.2000000000003},{"$f":"Données!$F123*D$4","v":2018.1000000000001},{"$f":"Données!$F123*E$4","v":1922},{"$f":"Données!$F123*F$4","v":1825.8999999999999},{"$f":"Données!$F123*G$4","v":1729.8},{"$f":"Données!$F123*H$4","v":1633.7}]
[null,1495,"Sart-Dames-Avelines","Villers-La-Ville",2016,1922,{"$f":"Données!$E124*B$4","v":2318.3999999999996},{"$f":"Données!$E124*C$4","v":2217.6000000000004},{"$f":"Données!$E124*D$4","v":2116.8000000000002},{"$f":"Données!$E124*E$4","v":2016},{"$f":"Données!$E124*F$4","v":1915.1999999999998},{"$f":"Données!$E124*G$4","v":1814.4},{"$f":"Données!$E124*H$4","v":1713.6},{"$f":"Données!$F124*B$4","v":2210.2999999999997},{"$f":"Données!$F124*C$4","v":2114.2000000000003},{"$f":"Données!$F124*D$4","v":2018.1000000000001},{"$f":"Données!$F124*E$4","v":1922},{"$f":"Données!$F124*F$4","v":1825.8999999999999},{"$f":"Données!$F124*G$4","v":1729.8},{"$f":"Données!$F124*H$4","v":1633.7}]
[null,1495,"Mellery","Villers-La-Ville",2016,1922,{"$f":"Données!$E125*B$4","v":2318.3999999999996},{"$f":"Données!$E125*C$4","v":2217.6000000000004},{"$f":"Données!$E125*D$4","v":2116.8000000000002},{"$f":"Données!$E125*E$4","v":2016},{"$f":"Données!$E125*F$4","v":1915.1999999999998},{"$f":"Données!$E125*G$4","v":1814.4},{"$f":"Données!$E125*H$4","v":1713.6},{"$f":"Données!$F125*B$4","v":2210.2999999999997},{"$f":"Données!$F125*C$4","v":2114.2000000000003},{"$f":"Données!$F125*D$4","v":2018.1000000000001},{"$f":"Données!$F125*E$4","v":1922},{"$f":"Données!$F125*F$4","v":1825.8999999999999},{"$f":"Données!$F125*G$4","v":1729.8},{"$f":"Données!$F125*H$4","v":1633.7}]
[null,1495,"Tilly","Villers-La-Ville",2016,1922,{"$f":"Données!$E126*B$4","v":2318.3999999999996},{"$f":"Données!$E126*C$4","v":2217.6000000000004},{"$f":"Données!$E126*D$4","v":2116.8000000000002},{"$f":"Données!$E126*E$4","v":2016},{"$f":"Données!$E126*F$4","v":1915.1999999999998},{"$f":"Données!$E126*G$4","v":1814.4},{"$f":"Données!$E126*H$4","v":1713.6},{"$f":"Données!$F126*B$4","v":2210.2999999999997},{"$f":"Données!$F126*C$4","v":2114.2000000000003},{"$f":"Données!$F126*D$4","v":2018.1000000000001},{"$f":"Données!$F126*E$4","v":1922},{"$f":"Données!$F126*F$4","v":1825.8999999999999},{"$f":"Données!$F126*G$4","v":1729.8},{"$f":"Données!$F126*H$4","v":1633.7}]
[null,4000,"Glain","Liège",2384,1707,{"$f":"Données!$E127*B$4","v":2741.6},{"$f":"Données!$E127*C$4","v":2622.4},{"$f":"Données!$E127*D$4","v":2503.2000000000003},{"$f":"Données!$E127*E$4","v":2384},{"$f":"Données!$E127*F$4","v":2264.7999999999997},{"$f":"Données!$E127*G$4","v":2145.6},{"$f":"Données!$E127*H$4","v":2026.3999999999999},{"$f":"Données!$F127*B$4","v":1963.05},{"$f":"Données!$F127*C$4","v":1877.7},{"$f":"Données!$F127*D$4","v":1792.3500000000001},{"$f":"Données!$F127*E$4","v":1707},{"$f":"Données!$F127*F$4","v":1621.6499999999999},{"$f":"Données!$F127*G$4","v":1536.3},{"$f":"Données!$F127*H$4","v":1450.95}]
[null,4000,"Rocourt","Liège",2384,1707,{"$f":"Données!$E128*B$4","v":2741.6},{"$f":"Données!$E128*C$4","v":2622.4},{"$f":"Données!$E128*D$4","v":2503.2000000000003},{"$f":"Données!$E128*E$4","v":2384},{"$f":"Données!$E128*F$4","v":2264.7999999999997},{"$f":"Données!$E128*G$4","v":2145.6},{"$f":"Données!$E128*H$4","v":2026.3999999999999},{"$f":"Données!$F128*B$4","v":1963.05},{"$f":"Données!$F128*C$4","v":1877.7},{"$f":"Données!$F128*D$4","v":1792.3500000000001},{"$f":"Données!$F128*E$4","v":1707},{"$f":"Données!$F128*F$4","v":1621.6499999999999},{"$f":"Données!$F128*G$4","v":1536.3},{"$f":"Données!$F128*H$4","v":1450.95}]
[null,4000,"Liège","Liège",2384,1707,{"$f":"Données!$E129*B$4","v":2741.6},{"$f":"Données!$E129*C$4","v":2622.4},{"$f":"Données!$E129*D$4","v":2503.2000000000003},{"$f":"Données!$E129*E$4","v":2384},{"$f":"Données!$E129*F$4","v":2264.7999999999997},{"$f":"Données!$E129*G$4","v":2145.6},{"$f":"Données!$E129*H$4","v":2026.3999999999999},{"$f":"Données!$F129*B$4","v":1963.05},{"$f":"Données!$F129*C$4","v":1877.7},{"$f":"Données!$F129*D$4","v":1792.3500000000001},{"$f":"Données!$F129*E$4","v":1707},{"$f":"Données!$F129*F$4","v":1621.6499999999999},{"$f":"Données!$F129*G$4","v":1536.3},{"$f":"Données!$F129*H$4","v":1450.95}]
[null,4020,"Jupille-Sur-Meuse","Liège",2384,1707,{"$f":"Données!$E130*B$4","v":2741.6},{"$f":"Données!$E130*C$4","v":2622.4},{"$f":"Données!$E130*D$4","v":2503.2000000000003},{"$f":"Données!$E130*E$4","v":2384},{"$f":"Données!$E130*F$4","v":2264.7999999999997},{"$f":"Données!$E130*G$4","v":2145.6},{"$f":"Données!$E130*H$4","v":2026.3999999999999},{"$f":"Données!$F130*B$4","v":1963.05},{"$f":"Données!$F130*C$4","v":1877.7},{"$f":"Données!$F130*D$4","v":1792.3500000000001},{"$f":"Données!$F130*E$4","v":1707},{"$f":"Données!$F130*F$4","v":1621.6499999999999},{"$f":"Données!$F130*G$4","v":1536.3},{"$f":"Données!$F130*H$4","v":1450.95}]
[null,4020,"Wandre","Liège",2384,1707,{"$f":"Données!$E131*B$4","v":2741.6},{"$f":"Données!$E131*C$4","v":2622.4},{"$f":"Données!$E131*D$4","v":2503.2000000000003},{"$f":"Données!$E131*E$4","v":2384},{"$f":"Données!$E131*F$4","v":2264.7999999999997},{"$f":"Données!$E131*G$4","v":2145.6},{"$f":"Données!$E131*H$4","v":2026.3999999999999},{"$f":"Données!$F131*B$4","v":1963.05},{"$f":"Données!$F131*C$4","v":1877.7},{"$f":"Données!$F131*D$4","v":1792.3500000000001},{"$f":"Données!$F131*E$4","v":1707},{"$f":"Données!$F131*F$4","v":1621.6499999999999},{"$f":"Données!$F131*G$4","v":1536.3},{"$f":"Données!$F131*H$4","v":1450.95}]
[null,4020,"Liège","Liège",2384,1707,{"$f":"Données!$E132*B$4","v":2741.6},{"$f":"Données!$E132*C$4","v":2622.4},{"$f":"Données!$E132*D$4","v":2503.2000000000003},{"$f":"Données!$E132*E$4","v":2384},{"$f":"Données!$E132*F$4","v":2264.7999999999997},{"$f":"Données!$E132*G$4","v":2145.6},{"$f":"Données!$E132*H$4","v":2026.3999999999999},{"$f":"Données!$F132*B$4","v":1963.05},{"$f":"Données!$F132*C$4","v":1877.7},{"$f":"Données!$F132*D$4","v":1792.3500000000001},{"$f":"Données!$F132*E$4","v":1707},{"$f":"Données!$F132*F$4","v":1621.6499999999999},{"$f":"Données!$F132*G$4","v":1536.3},{"$f":"Données!$F132*H$4","v":1450.95}]
[null,4020,"Bressoux","Liège",2384,1707,{"$f":"Données!$E133*B$4","v":2741.6},{"$f":"Données!$E133*C$4","v":2622.4},{"$f":"Données!$E133*D$4","v":2503.2000000000003},{"$f":"Données!$E133*E$4","v":2384},{"$f":"Données!$E133*F$4","v":2264.7999999999997},{"$f":"Données!$E133*G$4","v":2145.6},{"$f":"Données!$E133*H$4","v":2026.3999999999999},{"$f":"Données!$F133*B$4","v":1963.05},{"$f":"Données!$F133*C$4","v":1877.7},{"$f":"Données!$F133*D$4","v":1792.3500000000001},{"$f":"Données!$F133*E$4","v":1707},{"$f":"Données!$F133*F$4","v":1621.6499999999999},{"$f":"Données!$F133*G$4","v":1536.3},{"$f":"Données!$F133*H$4","v":1450.95}]
[null,4030,"Grivegnee","Liège",2120,1697,{"$f":"Données!$E134*B$4","v":2438},{"$f":"Données!$E134*C$4","v":2332},{"$f":"Données!$E134*D$4","v":2226},{"$f":"Données!$E134*E$4","v":2120},{"$f":"Données!$E134*F$4","v":2014},{"$f":"Données!$E134*G$4","v":1908},{"$f":"Données!$E134*H$4","v":1802},{"$f":"Données!$F134*B$4","v":1951.55},{"$f":"Données!$F134*C$4","v":1866.7},{"$f":"Données!$F134*D$4","v":1781.8500000000001},{"$f":"Données!$F134*E$4","v":1697},{"$f":"Données!$F134*F$4","v":1612.1499999999999},{"$f":"Données!$F134*G$4","v":1527.3},{"$f":"Données!$F134*H$4","v":1442.45}]
[null,4031,"Angleur","Liège",2377,1730,{"$f":"Données!$E135*B$4","v":2733.5499999999997},{"$f":"Données!$E135*C$4","v":2614.7000000000003},{"$f":"Données!$E135*D$4","v":2495.85},{"$f":"Données!$E135*E$4","v":2377},{"$f":"Données!$E135*F$4","v":2258.15},{"$f":"Données!$E135*G$4","v":2139.3000000000002},{"$f":"Données!$E135*H$4","v":2020.45},{"$f":"Données!$F135*B$4","v":1989.4999999999998},{"$f":"Données!$F135*C$4","v":1903.0000000000002},{"$f":"Données!$F135*D$4","v":1816.5},{"$f":"Données!$F135*E$4","v":1730},{"$f":"Données!$F135*F$4","v":1643.5},{"$f":"Données!$F135*G$4","v":1557},{"$f":"Données!$F135*H$4","v":1470.5}]
[null,4032,"Chênee","Liège",2166,1630,{"$f":"Données!$E136*B$4","v":2490.8999999999996},{"$f":"Données!$E136*C$4","v":2382.6000000000004},{"$f":"Données!$E136*D$4","v":2274.3000000000002},{"$f":"Données!$E136*E$4","v":2166},{"$f":"Données!$E136*F$4","v":2057.6999999999998},{"$f":"Données!$E136*G$4","v":1949.4},{"$f":"Données!$E136*H$4","v":1841.1},{"$f":"Données!$F136*B$4","v":1874.4999999999998},{"$f":"Données!$F136*C$4","v":1793.0000000000002},{"$f":"Données!$F136*D$4","v":1711.5},{"$f":"Données!$F136*E$4","v":1630},{"$f":"Données!$F136*F$4","v":1548.5},{"$f":"Données!$F136*G$4","v":1467},{"$f":"Données!$F136*H$4","v":1385.5}]
[null,4040,"Herstal","Herstal",1919,1607,{"$f":"Données!$E137*B$4","v":2206.85},{"$f":"Données!$E137*C$4","v":2110.9},{"$f":"Données!$E137*D$4","v":2014.95},{"$f":"Données!$E137*E$4","v":1919},{"$f":"Données!$E137*F$4","v":1823.05},{"$f":"Données!$E137*G$4","v":1727.1000000000001},{"$f":"Données!$E137*H$4","v":1631.1499999999999},{"$f":"Données!$F137*B$4","v":1848.05},{"$f":"Données!$F137*C$4","v":1767.7},{"$f":"Données!$F137*D$4","v":1687.3500000000001},{"$f":"Données!$F137*E$4","v":1607},{"$f":"Données!$F137*F$4","v":1526.6499999999999},{"$f":"Données!$F137*G$4","v":1446.3},{"$f":"Données!$F137*H$4","v":1365.95}]
[null,4041,"Milmort","Herstal",1919,1607,{"$f":"Données!$E138*B$4","v":2206.85},{"$f":"Données!$E138*C$4","v":2110.9},{"$f":"Données!$E138*D$4","v":2014.95},{"$f":"Données!$E138*E$4","v":1919},{"$f":"Données!$E138*F$4","v":1823.05},{"$f":"Données!$E138*G$4","v":1727.1000000000001},{"$f":"Données!$E138*H$4","v":1631.1499999999999},{"$f":"Données!$F138*B$4","v":1848.05},{"$f":"Données!$F138*C$4","v":1767.7},{"$f":"Données!$F138*D$4","v":1687.3500000000001},{"$f":"Données!$F138*E$4","v":1607},{"$f":"Données!$F138*F$4","v":1526.6499999999999},{"$f":"Données!$F138*G$4","v":1446.3},{"$f":"Données!$F138*H$4","v":1365.95}]
[null,4041,"Vottem","Herstal",1919,1607,{"$f":"Données!$E139*B$4","v":2206.85},{"$f":"Données!$E139*C$4","v":2110.9},{"$f":"Données!$E139*D$4","v":2014.95},{"$f":"Données!$E139*E$4","v":1919},{"$f":"Données!$E139*F$4","v":1823.05},{"$f":"Données!$E139*G$4","v":1727.1000000000001},{"$f":"Données!$E139*H$4","v":1631.1499999999999},{"$f":"Données!$F139*B$4","v":1848.05},{"$f":"Données!$F139*C$4","v":1767.7},{"$f":"Données!$F139*D$4","v":1687.3500000000001},{"$f":"Données!$F139*E$4","v":1607},{"$f":"Données!$F139*F$4","v":1526.6499999999999},{"$f":"Données!$F139*G$4","v":1446.3},{"$f":"Données!$F139*H$4","v":1365.95}]
[null,4042,"Liers","Herstal",1919,1607,{"$f":"Données!$E140*B$4","v":2206.85},{"$f":"Données!$E140*C$4","v":2110.9},{"$f":"Données!$E140*D$4","v":2014.95},{"$f":"Données!$E140*E$4","v":1919},{"$f":"Données!$E140*F$4","v":1823.05},{"$f":"Données!$E140*G$4","v":1727.1000000000001},{"$f":"Données!$E140*H$4","v":1631.1499999999999},{"$f":"Données!$F140*B$4","v":1848.05},{"$f":"Données!$F140*C$4","v":1767.7},{"$f":"Données!$F140*D$4","v":1687.3500000000001},{"$f":"Données!$F140*E$4","v":1607},{"$f":"Données!$F140*F$4","v":1526.6499999999999},{"$f":"Données!$F140*G$4","v":1446.3},{"$f":"Données!$F140*H$4","v":1365.95}]
[null,4050,"Chaudfontaine","Chaudfontaine",2561,1901,{"$f":"Données!$E141*B$4","v":2945.1499999999996},{"$f":"Données!$E141*C$4","v":2817.1000000000004},{"$f":"Données!$E141*D$4","v":2689.05},{"$f":"Données!$E141*E$4","v":2561},{"$f":"Données!$E141*F$4","v":2432.9499999999998},{"$f":"Données!$E141*G$4","v":2304.9},{"$f":"Données!$E141*H$4","v":2176.85},{"$f":"Données!$F141*B$4","v":2186.1499999999996},{"$f":"Données!$F141*C$4","v":2091.1000000000004},{"$f":"Données!$F141*D$4","v":1996.0500000000002},{"$f":"Données!$F141*E$4","v":1901},{"$f":"Données!$F141*F$4","v":1805.9499999999998},{"$f":"Données!$F141*G$4","v":1710.9},{"$f":"Données!$F141*H$4","v":1615.85}]
[null,4051,"Vaux-Sous-Chèvremont","Chaudfontaine",2561,1901,{"$f":"Données!$E142*B$4","v":2945.1499999999996},{"$f":"Données!$E142*C$4","v":2817.1000000000004},{"$f":"Données!$E142*D$4","v":2689.05},{"$f":"Données!$E142*E$4","v":2561},{"$f":"Données!$E142*F$4","v":2432.9499999999998},{"$f":"Données!$E142*G$4","v":2304.9},{"$f":"Données!$E142*H$4","v":2176.85},{"$f":"Données!$F142*B$4","v":2186.1499999999996},{"$f":"Données!$F142*C$4","v":2091.1000000000004},{"$f":"Données!$F142*D$4","v":1996.0500000000002},{"$f":"Données!$F142*E$4","v":1901},{"$f":"Données!$F142*F$4","v":1805.9499999999998},{"$f":"Données!$F142*G$4","v":1710.9},{"$f":"Données!$F142*H$4","v":1615.85}]
[null,4052,"Beaufays","Chaudfontaine",2561,1901,{"$f":"Données!$E143*B$4","v":2945.1499999999996},{"$f":"Données!$E143*C$4","v":2817.1000000000004},{"$f":"Données!$E143*D$4","v":2689.05},{"$f":"Données!$E143*E$4","v":2561},{"$f":"Données!$E143*F$4","v":2432.9499999999998},{"$f":"Données!$E143*G$4","v":2304.9},{"$f":"Données!$E143*H$4","v":2176.85},{"$f":"Données!$F143*B$4","v":2186.1499999999996},{"$f":"Données!$F143*C$4","v":2091.1000000000004},{"$f":"Données!$F143*D$4","v":1996.0500000000002},{"$f":"Données!$F143*E$4","v":1901},{"$f":"Données!$F143*F$4","v":1805.9499999999998},{"$f":"Données!$F143*G$4","v":1710.9},{"$f":"Données!$F143*H$4","v":1615.85}]
[null,4053,"Embourg","Chaudfontaine",2561,1901,{"$f":"Données!$E144*B$4","v":2945.1499999999996},{"$f":"Données!$E144*C$4","v":2817.1000000000004},{"$f":"Données!$E144*D$4","v":2689.05},{"$f":"Données!$E144*E$4","v":2561},{"$f":"Données!$E144*F$4","v":2432.9499999999998},{"$f":"Données!$E144*G$4","v":2304.9},{"$f":"Données!$E144*H$4","v":2176.85},{"$f":"Données!$F144*B$4","v":2186.1499999999996},{"$f":"Données!$F144*C$4","v":2091.1000000000004},{"$f":"Données!$F144*D$4","v":1996.0500000000002},{"$f":"Données!$F144*E$4","v":1901},{"$f":"Données!$F144*F$4","v":1805.9499999999998},{"$f":"Données!$F144*G$4","v":1710.9},{"$f":"Données!$F144*H$4","v":1615.85}]
[null,4100,"Boncelles","Seraing",2113,1503,{"$f":"Données!$E145*B$4","v":2429.9499999999998},{"$f":"Données!$E145*C$4","v":2324.3000000000002},{"$f":"Données!$E145*D$4","v":2218.65},{"$f":"Données!$E145*E$4","v":2113},{"$f":"Données!$E145*F$4","v":2007.35},{"$f":"Données!$E145*G$4","v":1901.7},{"$f":"Données!$E145*H$4","v":1796.05},{"$f":"Données!$F145*B$4","v":1728.4499999999998},{"$f":"Données!$F145*C$4","v":1653.3000000000002},{"$f":"Données!$F145*D$4","v":1578.15},{"$f":"Données!$F145*E$4","v":1503},{"$f":"Données!$F145*F$4","v":1427.85},{"$f":"Données!$F145*G$4","v":1352.7},{"$f":"Données!$F145*H$4","v":1277.55}]
[null,4100,"Seraing","Seraing",2113,1503,{"$f":"Données!$E146*B$4","v":2429.9499999999998},{"$f":"Données!$E146*C$4","v":2324.3000000000002},{"$f":"Données!$E146*D$4","v":2218.65},{"$f":"Données!$E146*E$4","v":2113},{"$f":"Données!$E146*F$4","v":2007.35},{"$f":"Données!$E146*G$4","v":1901.7},{"$f":"Données!$E146*H$4","v":1796.05},{"$f":"Données!$F146*B$4","v":1728.4499999999998},{"$f":"Données!$F146*C$4","v":1653.3000000000002},{"$f":"Données!$F146*D$4","v":1578.15},{"$f":"Données!$F146*E$4","v":1503},{"$f":"Données!$F146*F$4","v":1427.85},{"$f":"Données!$F146*G$4","v":1352.7},{"$f":"Données!$F146*H$4","v":1277.55}]
[null,4101,"Jemeppe-Sur-Meuse","Seraing",2113,1503,{"$f":"Données!$E147*B$4","v":2429.9499999999998},{"$f":"Données!$E147*C$4","v":2324.3000000000002},{"$f":"Données!$E147*D$4","v":2218.65},{"$f":"Données!$E147*E$4","v":2113},{"$f":"Données!$E147*F$4","v":2007.35},{"$f":"Données!$E147*G$4","v":1901.7},{"$f":"Données!$E147*H$4","v":1796.05},{"$f":"Données!$F147*B$4","v":1728.4499999999998},{"$f":"Données!$F147*C$4","v":1653.3000000000002},{"$f":"Données!$F147*D$4","v":1578.15},{"$f":"Données!$F147*E$4","v":1503},{"$f":"Données!$F147*F$4","v":1427.85},{"$f":"Données!$F147*G$4","v":1352.7},{"$f":"Données!$F147*H$4","v":1277.55}]
[null,4102,"Ougrée","Seraing",2113,1503,{"$f":"Données!$E148*B$4","v":2429.9499999999998},{"$f":"Données!$E148*C$4","v":2324.3000000000002},{"$f":"Données!$E148*D$4","v":2218.65},{"$f":"Données!$E148*E$4","v":2113},{"$f":"Données!$E148*F$4","v":2007.35},{"$f":"Données!$E148*G$4","v":1901.7},{"$f":"Données!$E148*H$4","v":1796.05},{"$f":"Données!$F148*B$4","v":1728.4499999999998},{"$f":"Données!$F148*C$4","v":1653.3000000000002},{"$f":"Données!$F148*D$4","v":1578.15},{"$f":"Données!$F148*E$4","v":1503},{"$f":"Données!$F148*F$4","v":1427.85},{"$f":"Données!$F148*G$4","v":1352.7},{"$f":"Données!$F148*H$4","v":1277.55}]
[null,4120,"Ehein","Neupré",2569,1928,{"$f":"Données!$E149*B$4","v":2954.35},{"$f":"Données!$E149*C$4","v":2825.9},{"$f":"Données!$E149*D$4","v":2697.4500000000003},{"$f":"Données!$E149*E$4","v":2569},{"$f":"Données!$E149*F$4","v":2440.5499999999997},{"$f":"Données!$E149*G$4","v":2312.1},{"$f":"Données!$E149*H$4","v":2183.65},{"$f":"Données!$F149*B$4","v":2217.1999999999998},{"$f":"Données!$F149*C$4","v":2120.8000000000002},{"$f":"Données!$F149*D$4","v":2024.4},{"$f":"Données!$F149*E$4","v":1928},{"$f":"Données!$F149*F$4","v":1831.6},{"$f":"Données!$F149*G$4","v":1735.2},{"$f":"Données!$F149*H$4","v":1638.8}]
[null,4120,"Rotheux-Rimière","Neupré",2569,1928,{"$f":"Données!$E150*B$4","v":2954.35},{"$f":"Données!$E150*C$4","v":2825.9},{"$f":"Données!$E150*D$4","v":2697.4500000000003},{"$f":"Données!$E150*E$4","v":2569},{"$f":"Données!$E150*F$4","v":2440.5499999999997},{"$f":"Données!$E150*G$4","v":2312.1},{"$f":"Données!$E150*H$4","v":2183.65},{"$f":"Données!$F150*B$4","v":2217.1999999999998},{"$f":"Données!$F150*C$4","v":2120.8000000000002},{"$f":"Données!$F150*D$4","v":2024.4},{"$f":"Données!$F150*E$4","v":1928},{"$f":"Données!$F150*F$4","v":1831.6},{"$f":"Données!$F150*G$4","v":1735.2},{"$f":"Données!$F150*H$4","v":1638.8}]
[null,4120,"Neupré","Neupré",2569,1928,{"$f":"Données!$E151*B$4","v":2954.35},{"$f":"Données!$E151*C$4","v":2825.9},{"$f":"Données!$E151*D$4","v":2697.4500000000003},{"$f":"Données!$E151*E$4","v":2569},{"$f":"Données!$E151*F$4","v":2440.5499999999997},{"$f":"Données!$E151*G$4","v":2312.1},{"$f":"Données!$E151*H$4","v":2183.65},{"$f":"Données!$F151*B$4","v":2217.1999999999998},{"$f":"Données!$F151*C$4","v":2120.8000000000002},{"$f":"Données!$F151*D$4","v":2024.4},{"$f":"Données!$F151*E$4","v":1928},{"$f":"Données!$F151*F$4","v":1831.6},{"$f":"Données!$F151*G$4","v":1735.2},{"$f":"Données!$F151*H$4","v":1638.8}]
[null,4121,"Neuville-En-Condroz","Neupré",2569,1928,{"$f":"Données!$E152*B$4","v":2954.35},{"$f":"Données!$E152*C$4","v":2825.9},{"$f":"Données!$E152*D$4","v":2697.4500000000003},{"$f":"Données!$E152*E$4","v":2569},{"$f":"Données!$E152*F$4","v":2440.5499999999997},{"$f":"Données!$E152*G$4","v":2312.1},{"$f":"Données!$E152*H$4","v":2183.65},{"$f":"Données!$F152*B$4","v":2217.1999999999998},{"$f":"Données!$F152*C$4","v":2120.8000000000002},{"$f":"Données!$F152*D$4","v":2024.4},{"$f":"Données!$F152*E$4","v":1928},{"$f":"Données!$F152*F$4","v":1831.6},{"$f":"Données!$F152*G$4","v":1735.2},{"$f":"Données!$F152*H$4","v":1638.8}]
[null,4122,"Plainevaux","Neupré",2569,1928,{"$f":"Données!$E153*B$4","v":2954.35},{"$f":"Données!$E153*C$4","v":2825.9},{"$f":"Données!$E153*D$4","v":2697.4500000000003},{"$f":"Données!$E153*E$4","v":2569},{"$f":"Données!$E153*F$4","v":2440.5499999999997},{"$f":"Données!$E153*G$4","v":2312.1},{"$f":"Données!$E153*H$4","v":2183.65},{"$f":"Données!$F153*B$4","v":2217.1999999999998},{"$f":"Données!$F153*C$4","v":2120.8000000000002},{"$f":"Données!$F153*D$4","v":2024.4},{"$f":"Données!$F153*E$4","v":1928},{"$f":"Données!$F153*F$4","v":1831.6},{"$f":"Données!$F153*G$4","v":1735.2},{"$f":"Données!$F153*H$4","v":1638.8}]
[null,4130,"Esneux","Esneux",2726,1863,{"$f":"Données!$E154*B$4","v":3134.8999999999996},{"$f":"Données!$E154*C$4","v":2998.6000000000004},{"$f":"Données!$E154*D$4","v":2862.3},{"$f":"Données!$E154*E$4","v":2726},{"$f":"Données!$E154*F$4","v":2589.6999999999998},{"$f":"Données!$E154*G$4","v":2453.4},{"$f":"Données!$E154*H$4","v":2317.1},{"$f":"Données!$F154*B$4","v":2142.4499999999998},{"$f":"Données!$F154*C$4","v":2049.3000000000002},{"$f":"Données!$F154*D$4","v":1956.15},{"$f":"Données!$F154*E$4","v":1863},{"$f":"Données!$F154*F$4","v":1769.85},{"$f":"Données!$F154*G$4","v":1676.7},{"$f":"Données!$F154*H$4","v":1583.55}]
[null,4130,"Tilff","Esneux",2726,1863,{"$f":"Données!$E155*B$4","v":3134.8999999999996},{"$f":"Données!$E155*C$4","v":2998.6000000000004},{"$f":"Données!$E155*D$4","v":2862.3},{"$f":"Données!$E155*E$4","v":2726},{"$f":"Données!$E155*F$4","v":2589.6999999999998},{"$f":"Données!$E155*G$4","v":2453.4},{"$f":"Données!$E155*H$4","v":2317.1},{"$f":"Données!$F155*B$4","v":2142.4499999999998},{"$f":"Données!$F155*C$4","v":2049.3000000000002},{"$f":"Données!$F155*D$4","v":1956.15},{"$f":"Données!$F155*E$4","v":1863},{"$f":"Données!$F155*F$4","v":1769.85},{"$f":"Données!$F155*G$4","v":1676.7},{"$f":"Données!$F155*H$4","v":1583.55}]
[null,4140,"Dolembreux","Sprimont",2467,1764,{"$f":"Données!$E156*B$4","v":2837.0499999999997},{"$f":"Données!$E156*C$4","v":2713.7000000000003},{"$f":"Données!$E156*D$4","v":2590.35},{"$f":"Données!$E156*E$4","v":2467},{"$f":"Données!$E156*F$4","v":2343.65},{"$f":"Données!$E156*G$4","v":2220.3000000000002},{"$f":"Données!$E156*H$4","v":2096.9499999999998},{"$f":"Données!$F156*B$4","v":2028.6},{"$f":"Données!$F156*C$4","v":1940.4},{"$f":"Données!$F156*D$4","v":1852.2},{"$f":"Données!$F156*E$4","v":1764},{"$f":"Données!$F156*F$4","v":1675.8},{"$f":"Données!$F156*G$4","v":1587.6000000000001},{"$f":"Données!$F156*H$4","v":1499.3999999999999}]
[null,4140,"Gomzé-Andoumont","Sprimont",2467,1764,{"$f":"Données!$E157*B$4","v":2837.0499999999997},{"$f":"Données!$E157*C$4","v":2713.7000000000003},{"$f":"Données!$E157*D$4","v":2590.35},{"$f":"Données!$E157*E$4","v":2467},{"$f":"Données!$E157*F$4","v":2343.65},{"$f":"Données!$E157*G$4","v":2220.3000000000002},{"$f":"Données!$E157*H$4","v":2096.9499999999998},{"$f":"Données!$F157*B$4","v":2028.6},{"$f":"Données!$F157*C$4","v":1940.4},{"$f":"Données!$F157*D$4","v":1852.2},{"$f":"Données!$F157*E$4","v":1764},{"$f":"Données!$F157*F$4","v":1675.8},{"$f":"Données!$F157*G$4","v":1587.6000000000001},{"$f":"Données!$F157*H$4","v":1499.3999999999999}]
[null,4140,"Sprimont","Sprimont",2467,1764,{"$f":"Données!$E158*B$4","v":2837.0499999999997},{"$f":"Données!$E158*C$4","v":2713.7000000000003},{"$f":"Données!$E158*D$4","v":2590.35},{"$f":"Données!$E158*E$4","v":2467},{"$f":"Données!$E158*F$4","v":2343.65},{"$f":"Données!$E158*G$4","v":2220.3000000000002},{"$f":"Données!$E158*H$4","v":2096.9499999999998},{"$f":"Données!$F158*B$4","v":2028.6},{"$f":"Données!$F158*C$4","v":1940.4},{"$f":"Données!$F158*D$4","v":1852.2},{"$f":"Données!$F158*E$4","v":1764},{"$f":"Données!$F158*F$4","v":1675.8},{"$f":"Données!$F158*G$4","v":1587.6000000000001},{"$f":"Données!$F158*H$4","v":1499.3999999999999}]
[null,4140,"Rouvreux","Sprimont",2467,1764,{"$f":"Données!$E159*B$4","v":2837.0499999999997},{"$f":"Données!$E159*C$4","v":2713.7000000000003},{"$f":"Données!$E159*D$4","v":2590.35},{"$f":"Données!$E159*E$4","v":2467},{"$f":"Données!$E159*F$4","v":2343.65},{"$f":"Données!$E159*G$4","v":2220.3000000000002},{"$f":"Données!$E159*H$4","v":2096.9499999999998},{"$f":"Données!$F159*B$4","v":2028.6},{"$f":"Données!$F159*C$4","v":1940.4},{"$f":"Données!$F159*D$4","v":1852.2},{"$f":"Données!$F159*E$4","v":1764},{"$f":"Données!$F159*F$4","v":1675.8},{"$f":"Données!$F159*G$4","v":1587.6000000000001},{"$f":"Données!$F159*H$4","v":1499.3999999999999}]
[null,4141,"Louveigné","Sprimont",2467,1764,{"$f":"Données!$E160*B$4","v":2837.0499999999997},{"$f":"Données!$E160*C$4","v":2713.7000000000003},{"$f":"Données!$E160*D$4","v":2590.35},{"$f":"Données!$E160*E$4","v":2467},{"$f":"Données!$E160*F$4","v":2343.65},{"$f":"Données!$E160*G$4","v":2220.3000000000002},{"$f":"Données!$E160*H$4","v":2096.9499999999998},{"$f":"Données!$F160*B$4","v":2028.6},{"$f":"Données!$F160*C$4","v":1940.4},{"$f":"Données!$F160*D$4","v":1852.2},{"$f":"Données!$F160*E$4","v":1764},{"$f":"Données!$F160*F$4","v":1675.8},{"$f":"Données!$F160*G$4","v":1587.6000000000001},{"$f":"Données!$F160*H$4","v":1499.3999999999999}]
[null,4160,"Anthisnes","Anthisnes",2404,1686,{"$f":"Données!$E161*B$4","v":2764.6},{"$f":"Données!$E161*C$4","v":2644.4},{"$f":"Données!$E161*D$4","v":2524.2000000000003},{"$f":"Données!$E161*E$4","v":2404},{"$f":"Données!$E161*F$4","v":2283.7999999999997},{"$f":"Données!$E161*G$4","v":2163.6},{"$f":"Données!$E161*H$4","v":2043.3999999999999},{"$f":"Données!$F161*B$4","v":1938.8999999999999},{"$f":"Données!$F161*C$4","v":1854.6000000000001},{"$f":"Données!$F161*D$4","v":1770.3000000000002},{"$f":"Données!$F161*E$4","v":1686},{"$f":"Données!$F161*F$4","v":1601.6999999999998},{"$f":"Données!$F161*G$4","v":1517.4},{"$f":"Données!$F161*H$4","v":1433.1}]
[null,4161,"Villers-Aux-Tours","Anthisnes",2404,1686,{"$f":"Données!$E162*B$4","v":2764.6},{"$f":"Données!$E162*C$4","v":2644.4},{"$f":"Données!$E162*D$4","v":2524.2000000000003},{"$f":"Données!$E162*E$4","v":2404},{"$f":"Données!$E162*F$4","v":2283.7999999999997},{"$f":"Données!$E162*G$4","v":2163.6},{"$f":"Données!$E162*H$4","v":2043.3999999999999},{"$f":"Données!$F162*B$4","v":1938.8999999999999},{"$f":"Données!$F162*C$4","v":1854.6000000000001},{"$f":"Données!$F162*D$4","v":1770.3000000000002},{"$f":"Données!$F162*E$4","v":1686},{"$f":"Données!$F162*F$4","v":1601.6999999999998},{"$f":"Données!$F162*G$4","v":1517.4},{"$f":"Données!$F162*H$4","v":1433.1}]
[null,4162,"Hody","Anthisnes",2404,1686,{"$f":"Données!$E163*B$4","v":2764.6},{"$f":"Données!$E163*C$4","v":2644.4},{"$f":"Données!$E163*D$4","v":2524.2000000000003},{"$f":"Données!$E163*E$4","v":2404},{"$f":"Données!$E163*F$4","v":2283.7999999999997},{"$f":"Données!$E163*G$4","v":2163.6},{"$f":"Données!$E163*H$4","v":2043.3999999999999},{"$f":"Données!$F163*B$4","v":1938.8999999999999},{"$f":"Données!$F163*C$4","v":1854.6000000000001},{"$f":"Données!$F163*D$4","v":1770.3000000000002},{"$f":"Données!$F163*E$4","v":1686},{"$f":"Données!$F163*F$4","v":1601.6999999999998},{"$f":"Données!$F163*G$4","v":1517.4},{"$f":"Données!$F163*H$4","v":1433.1}]
[null,4163,"Tavier","Anthisnes",2404,1686,{"$f":"Données!$E164*B$4","v":2764.6},{"$f":"Données!$E164*C$4","v":2644.4},{"$f":"Données!$E164*D$4","v":2524.2000000000003},{"$f":"Données!$E164*E$4","v":2404},{"$f":"Données!$E164*F$4","v":2283.7999999999997},{"$f":"Données!$E164*G$4","v":2163.6},{"$f":"Données!$E164*H$4","v":2043.3999999999999},{"$f":"Données!$F164*B$4","v":1938.8999999999999},{"$f":"Données!$F164*C$4","v":1854.6000000000001},{"$f":"Données!$F164*D$4","v":1770.3000000000002},{"$f":"Données!$F164*E$4","v":1686},{"$f":"Données!$F164*F$4","v":1601.6999999999998},{"$f":"Données!$F164*G$4","v":1517.4},{"$f":"Données!$F164*H$4","v":1433.1}]
[null,4170,"Comblain-Au-Pont","Comblain-Au-Pont",1750,1550,{"$f":"Données!$E165*B$4","v":2012.4999999999998},{"$f":"Données!$E165*C$4","v":1925.0000000000002},{"$f":"Données!$E165*D$4","v":1837.5},{"$f":"Données!$E165*E$4","v":1750},{"$f":"Données!$E165*F$4","v":1662.5},{"$f":"Données!$E165*G$4","v":1575},{"$f":"Données!$E165*H$4","v":1487.5},{"$f":"Données!$F165*B$4","v":1782.4999999999998},{"$f":"Données!$F165*C$4","v":1705.0000000000002},{"$f":"Données!$F165*D$4","v":1627.5},{"$f":"Données!$F165*E$4","v":1550},{"$f":"Données!$F165*F$4","v":1472.5},{"$f":"Données!$F165*G$4","v":1395},{"$f":"Données!$F165*H$4","v":1317.5}]
[null,4171,"Poulseur","Comblain-Au-Pont",1750,1550,{"$f":"Données!$E166*B$4","v":2012.4999999999998},{"$f":"Données!$E166*C$4","v":1925.0000000000002},{"$f":"Données!$E166*D$4","v":1837.5},{"$f":"Données!$E166*E$4","v":1750},{"$f":"Données!$E166*F$4","v":1662.5},{"$f":"Données!$E166*G$4","v":1575},{"$f":"Données!$E166*H$4","v":1487.5},{"$f":"Données!$F166*B$4","v":1782.4999999999998},{"$f":"Données!$F166*C$4","v":1705.0000000000002},{"$f":"Données!$F166*D$4","v":1627.5},{"$f":"Données!$F166*E$4","v":1550},{"$f":"Données!$F166*F$4","v":1472.5},{"$f":"Données!$F166*G$4","v":1395},{"$f":"Données!$F166*H$4","v":1317.5}]
[null,4180,"Comblain-La-Tour","Hamoir",1900,1543,{"$f":"Données!$E167*B$4","v":2185},{"$f":"Données!$E167*C$4","v":2090},{"$f":"Données!$E167*D$4","v":1995},{"$f":"Données!$E167*E$4","v":1900},{"$f":"Données!$E167*F$4","v":1805},{"$f":"Données!$E167*G$4","v":1710},{"$f":"Données!$E167*H$4","v":1615},{"$f":"Données!$F167*B$4","v":1774.4499999999998},{"$f":"Données!$F167*C$4","v":1697.3000000000002},{"$f":"Données!$F167*D$4","v":1620.15},{"$f":"Données!$F167*E$4","v":1543},{"$f":"Données!$F167*F$4","v":1465.85},{"$f":"Données!$F167*G$4","v":1388.7},{"$f":"Données!$F167*H$4","v":1311.55}]
[null,4180,"Hamoir","Hamoir",1900,1543,{"$f":"Données!$E168*B$4","v":2185},{"$f":"Données!$E168*C$4","v":2090},{"$f":"Données!$E168*D$4","v":1995},{"$f":"Données!$E168*E$4","v":1900},{"$f":"Données!$E168*F$4","v":1805},{"$f":"Données!$E168*G$4","v":1710},{"$f":"Données!$E168*H$4","v":1615},{"$f":"Données!$F168*B$4","v":1774.4499999999998},{"$f":"Données!$F168*C$4","v":1697.3000000000002},{"$f":"Données!$F168*D$4","v":1620.15},{"$f":"Données!$F168*E$4","v":1543},{"$f":"Données!$F168*F$4","v":1465.85},{"$f":"Données!$F168*G$4","v":1388.7},{"$f":"Données!$F168*H$4","v":1311.55}]
[null,4180,"Comblain-Fairon","Hamoir",1900,1543,{"$f":"Données!$E169*B$4","v":2185},{"$f":"Données!$E169*C$4","v":2090},{"$f":"Données!$E169*D$4","v":1995},{"$f":"Données!$E169*E$4","v":1900},{"$f":"Données!$E169*F$4","v":1805},{"$f":"Données!$E169*G$4","v":1710},{"$f":"Données!$E169*H$4","v":1615},{"$f":"Données!$F169*B$4","v":1774.4499999999998},{"$f":"Données!$F169*C$4","v":1697.3000000000002},{"$f":"Données!$F169*D$4","v":1620.15},{"$f":"Données!$F169*E$4","v":1543},{"$f":"Données!$F169*F$4","v":1465.85},{"$f":"Données!$F169*G$4","v":1388.7},{"$f":"Données!$F169*H$4","v":1311.55}]
[null,4181,"Filot","Hamoir",1900,1543,{"$f":"Données!$E170*B$4","v":2185},{"$f":"Données!$E170*C$4","v":2090},{"$f":"Données!$E170*D$4","v":1995},{"$f":"Données!$E170*E$4","v":1900},{"$f":"Données!$E170*F$4","v":1805},{"$f":"Données!$E170*G$4","v":1710},{"$f":"Données!$E170*H$4","v":1615},{"$f":"Données!$F170*B$4","v":1774.4499999999998},{"$f":"Données!$F170*C$4","v":1697.3000000000002},{"$f":"Données!$F170*D$4","v":1620.15},{"$f":"Données!$F170*E$4","v":1543},{"$f":"Données!$F170*F$4","v":1465.85},{"$f":"Données!$F170*G$4","v":1388.7},{"$f":"Données!$F170*H$4","v":1311.55}]
[null,4190,"My","Ferrières",2013,1603,{"$f":"Données!$E171*B$4","v":2314.9499999999998},{"$f":"Données!$E171*C$4","v":2214.3000000000002},{"$f":"Données!$E171*D$4","v":2113.65},{"$f":"Données!$E171*E$4","v":2013},{"$f":"Données!$E171*F$4","v":1912.35},{"$f":"Données!$E171*G$4","v":1811.7},{"$f":"Données!$E171*H$4","v":1711.05},{"$f":"Données!$F171*B$4","v":1843.4499999999998},{"$f":"Données!$F171*C$4","v":1763.3000000000002},{"$f":"Données!$F171*D$4","v":1683.15},{"$f":"Données!$F171*E$4","v":1603},{"$f":"Données!$F171*F$4","v":1522.85},{"$f":"Données!$F171*G$4","v":1442.7},{"$f":"Données!$F171*H$4","v":1362.55}]
[null,4190,"Xhoris","Ferrières",2013,1603,{"$f":"Données!$E172*B$4","v":2314.9499999999998},{"$f":"Données!$E172*C$4","v":2214.3000000000002},{"$f":"Données!$E172*D$4","v":2113.65},{"$f":"Données!$E172*E$4","v":2013},{"$f":"Données!$E172*F$4","v":1912.35},{"$f":"Données!$E172*G$4","v":1811.7},{"$f":"Données!$E172*H$4","v":1711.05},{"$f":"Données!$F172*B$4","v":1843.4499999999998},{"$f":"Données!$F172*C$4","v":1763.3000000000002},{"$f":"Données!$F172*D$4","v":1683.15},{"$f":"Données!$F172*E$4","v":1603},{"$f":"Données!$F172*F$4","v":1522.85},{"$f":"Données!$F172*G$4","v":1442.7},{"$f":"Données!$F172*H$4","v":1362.55}]
[null,4190,"Ferrières","Ferrières",2013,1603,{"$f":"Données!$E173*B$4","v":2314.9499999999998},{"$f":"Données!$E173*C$4","v":2214.3000000000002},{"$f":"Données!$E173*D$4","v":2113.65},{"$f":"Données!$E173*E$4","v":2013},{"$f":"Données!$E173*F$4","v":1912.35},{"$f":"Données!$E173*G$4","v":1811.7},{"$f":"Données!$E173*H$4","v":1711.05},{"$f":"Données!$F173*B$4","v":1843.4499999999998},{"$f":"Données!$F173*C$4","v":1763.3000000000002},{"$f":"Données!$F173*D$4","v":1683.15},{"$f":"Données!$F173*E$4","v":1603},{"$f":"Données!$F173*F$4","v":1522.85},{"$f":"Données!$F173*G$4","v":1442.7},{"$f":"Données!$F173*H$4","v":1362.55}]
[null,4190,"Werbomont","Ferrières",2013,1603,{"$f":"Données!$E174*B$4","v":2314.9499999999998},{"$f":"Données!$E174*C$4","v":2214.3000000000002},{"$f":"Données!$E174*D$4","v":2113.65},{"$f":"Données!$E174*E$4","v":2013},{"$f":"Données!$E174*F$4","v":1912.35},{"$f":"Données!$E174*G$4","v":1811.7},{"$f":"Données!$E174*H$4","v":1711.05},{"$f":"Données!$F174*B$4","v":1843.4499999999998},{"$f":"Données!$F174*C$4","v":1763.3000000000002},{"$f":"Données!$F174*D$4","v":1683.15},{"$f":"Données!$F174*E$4","v":1603},{"$f":"Données!$F174*F$4","v":1522.85},{"$f":"Données!$F174*G$4","v":1442.7},{"$f":"Données!$F174*H$4","v":1362.55}]
[null,4190,"Vieuxville","Ferrières",2013,1603,{"$f":"Données!$E175*B$4","v":2314.9499999999998},{"$f":"Données!$E175*C$4","v":2214.3000000000002},{"$f":"Données!$E175*D$4","v":2113.65},{"$f":"Données!$E175*E$4","v":2013},{"$f":"Données!$E175*F$4","v":1912.35},{"$f":"Données!$E175*G$4","v":1811.7},{"$f":"Données!$E175*H$4","v":1711.05},{"$f":"Données!$F175*B$4","v":1843.4499999999998},{"$f":"Données!$F175*C$4","v":1763.3000000000002},{"$f":"Données!$F175*D$4","v":1683.15},{"$f":"Données!$F175*E$4","v":1603},{"$f":"Données!$F175*F$4","v":1522.85},{"$f":"Données!$F175*G$4","v":1442.7},{"$f":"Données!$F175*H$4","v":1362.55}]
[null,4210,"Marneffe","Burdinne",2104,1616,{"$f":"Données!$E176*B$4","v":2419.6},{"$f":"Données!$E176*C$4","v":2314.4},{"$f":"Données!$E176*D$4","v":2209.2000000000003},{"$f":"Données!$E176*E$4","v":2104},{"$f":"Données!$E176*F$4","v":1998.8},{"$f":"Données!$E176*G$4","v":1893.6000000000001},{"$f":"Données!$E176*H$4","v":1788.3999999999999},{"$f":"Données!$F176*B$4","v":1858.3999999999999},{"$f":"Données!$F176*C$4","v":1777.6000000000001},{"$f":"Données!$F176*D$4","v":1696.8000000000002},{"$f":"Données!$F176*E$4","v":1616},{"$f":"Données!$F176*F$4","v":1535.1999999999998},{"$f":"Données!$F176*G$4","v":1454.4},{"$f":"Données!$F176*H$4","v":1373.6}]
[null,4210,"Burdinne","Burdinne",2104,1616,{"$f":"Données!$E177*B$4","v":2419.6},{"$f":"Données!$E177*C$4","v":2314.4},{"$f":"Données!$E177*D$4","v":2209.2000000000003},{"$f":"Données!$E177*E$4","v":2104},{"$f":"Données!$E177*F$4","v":1998.8},{"$f":"Données!$E177*G$4","v":1893.6000000000001},{"$f":"Données!$E177*H$4","v":1788.3999999999999},{"$f":"Données!$F177*B$4","v":1858.3999999999999},{"$f":"Données!$F177*C$4","v":1777.6000000000001},{"$f":"Données!$F177*D$4","v":1696.8000000000002},{"$f":"Données!$F177*E$4","v":1616},{"$f":"Données!$F177*F$4","v":1535.1999999999998},{"$f":"Données!$F177*G$4","v":1454.4},{"$f":"Données!$F177*H$4","v":1373.6}]
[null,4210,"Lamontzée","Burdinne",2104,1616,{"$f":"Données!$E178*B$4","v":2419.6},{"$f":"Données!$E178*C$4","v":2314.4},{"$f":"Données!$E178*D$4","v":2209.2000000000003},{"$f":"Données!$E178*E$4","v":2104},{"$f":"Données!$E178*F$4","v":1998.8},{"$f":"Données!$E178*G$4","v":1893.6000000000001},{"$f":"Données!$E178*H$4","v":1788.3999999999999},{"$f":"Données!$F178*B$4","v":1858.3999999999999},{"$f":"Données!$F178*C$4","v":1777.6000000000001},{"$f":"Données!$F178*D$4","v":1696.8000000000002},{"$f":"Données!$F178*E$4","v":1616},{"$f":"Données!$F178*F$4","v":1535.1999999999998},{"$f":"Données!$F178*G$4","v":1454.4},{"$f":"Données!$F178*H$4","v":1373.6}]
[null,4210,"Oteppe","Burdinne",2104,1616,{"$f":"Données!$E179*B$4","v":2419.6},{"$f":"Données!$E179*C$4","v":2314.4},{"$f":"Données!$E179*D$4","v":2209.2000000000003},{"$f":"Données!$E179*E$4","v":2104},{"$f":"Données!$E179*F$4","v":1998.8},{"$f":"Données!$E179*G$4","v":1893.6000000000001},{"$f":"Données!$E179*H$4","v":1788.3999999999999},{"$f":"Données!$F179*B$4","v":1858.3999999999999},{"$f":"Données!$F179*C$4","v":1777.6000000000001},{"$f":"Données!$F179*D$4","v":1696.8000000000002},{"$f":"Données!$F179*E$4","v":1616},{"$f":"Données!$F179*F$4","v":1535.1999999999998},{"$f":"Données!$F179*G$4","v":1454.4},{"$f":"Données!$F179*H$4","v":1373.6}]
[null,4210,"Hannêche","Burdinne",2104,1616,{"$f":"Données!$E180*B$4","v":2419.6},{"$f":"Données!$E180*C$4","v":2314.4},{"$f":"Données!$E180*D$4","v":2209.2000000000003},{"$f":"Données!$E180*E$4","v":2104},{"$f":"Données!$E180*F$4","v":1998.8},{"$f":"Données!$E180*G$4","v":1893.6000000000001},{"$f":"Données!$E180*H$4","v":1788.3999999999999},{"$f":"Données!$F180*B$4","v":1858.3999999999999},{"$f":"Données!$F180*C$4","v":1777.6000000000001},{"$f":"Données!$F180*D$4","v":1696.8000000000002},{"$f":"Données!$F180*E$4","v":1616},{"$f":"Données!$F180*F$4","v":1535.1999999999998},{"$f":"Données!$F180*G$4","v":1454.4},{"$f":"Données!$F180*H$4","v":1373.6}]
[null,4217,"Héron","Héron",2121,1636,{"$f":"Données!$E181*B$4","v":2439.1499999999996},{"$f":"Données!$E181*C$4","v":2333.1000000000004},{"$f":"Données!$E181*D$4","v":2227.0500000000002},{"$f":"Données!$E181*E$4","v":2121},{"$f":"Données!$E181*F$4","v":2014.9499999999998},{"$f":"Données!$E181*G$4","v":1908.9},{"$f":"Données!$E181*H$4","v":1802.85},{"$f":"Données!$F181*B$4","v":1881.3999999999999},{"$f":"Données!$F181*C$4","v":1799.6000000000001},{"$f":"Données!$F181*D$4","v":1717.8000000000002},{"$f":"Données!$F181*E$4","v":1636},{"$f":"Données!$F181*F$4","v":1554.1999999999998},{"$f":"Données!$F181*G$4","v":1472.4},{"$f":"Données!$F181*H$4","v":1390.6}]
[null,4217,"Lavoir","Héron",2121,1636,{"$f":"Données!$E182*B$4","v":2439.1499999999996},{"$f":"Données!$E182*C$4","v":2333.1000000000004},{"$f":"Données!$E182*D$4","v":2227.0500000000002},{"$f":"Données!$E182*E$4","v":2121},{"$f":"Données!$E182*F$4","v":2014.9499999999998},{"$f":"Données!$E182*G$4","v":1908.9},{"$f":"Données!$E182*H$4","v":1802.85},{"$f":"Données!$F182*B$4","v":1881.3999999999999},{"$f":"Données!$F182*C$4","v":1799.6000000000001},{"$f":"Données!$F182*D$4","v":1717.8000000000002},{"$f":"Données!$F182*E$4","v":1636},{"$f":"Données!$F182*F$4","v":1554.1999999999998},{"$f":"Données!$F182*G$4","v":1472.4},{"$f":"Données!$F182*H$4","v":1390.6}]
[null,4217,"Waret-L'evêque","Héron",2121,1636,{"$f":"Données!$E183*B$4","v":2439.1499999999996},{"$f":"Données!$E183*C$4","v":2333.1000000000004},{"$f":"Données!$E183*D$4","v":2227.0500000000002},{"$f":"Données!$E183*E$4","v":2121},{"$f":"Données!$E183*F$4","v":2014.9499999999998},{"$f":"Données!$E183*G$4","v":1908.9},{"$f":"Données!$E183*H$4","v":1802.85},{"$f":"Données!$F183*B$4","v":1881.3999999999999},{"$f":"Données!$F183*C$4","v":1799.6000000000001},{"$f":"Données!$F183*D$4","v":1717.8000000000002},{"$f":"Données!$F183*E$4","v":1636},{"$f":"Données!$F183*F$4","v":1554.1999999999998},{"$f":"Données!$F183*G$4","v":1472.4},{"$f":"Données!$F183*H$4","v":1390.6}]
[null,4218,"Couthuin","Héron",2121,1636,{"$f":"Données!$E184*B$4","v":2439.1499999999996},{"$f":"Données!$E184*C$4","v":2333.1000000000004},{"$f":"Données!$E184*D$4","v":2227.0500000000002},{"$f":"Données!$E184*E$4","v":2121},{"$f":"Données!$E184*F$4","v":2014.9499999999998},{"$f":"Données!$E184*G$4","v":1908.9},{"$f":"Données!$E184*H$4","v":1802.85},{"$f":"Données!$F184*B$4","v":1881.3999999999999},{"$f":"Données!$F184*C$4","v":1799.6000000000001},{"$f":"Données!$F184*D$4","v":1717.8000000000002},{"$f":"Données!$F184*E$4","v":1636},{"$f":"Données!$F184*F$4","v":1554.1999999999998},{"$f":"Données!$F184*G$4","v":1472.4},{"$f":"Données!$F184*H$4","v":1390.6}]
[null,4219,"Acosse","Wasseiges",2338,1631,{"$f":"Données!$E185*B$4","v":2688.7},{"$f":"Données!$E185*C$4","v":2571.8000000000002},{"$f":"Données!$E185*D$4","v":2454.9},{"$f":"Données!$E185*E$4","v":2338},{"$f":"Données!$E185*F$4","v":2221.1},{"$f":"Données!$E185*G$4","v":2104.2000000000003},{"$f":"Données!$E185*H$4","v":1987.3},{"$f":"Données!$F185*B$4","v":1875.6499999999999},{"$f":"Données!$F185*C$4","v":1794.1000000000001},{"$f":"Données!$F185*D$4","v":1712.5500000000002},{"$f":"Données!$F185*E$4","v":1631},{"$f":"Données!$F185*F$4","v":1549.4499999999998},{"$f":"Données!$F185*G$4","v":1467.9},{"$f":"Données!$F185*H$4","v":1386.35}]
[null,4219,"Ambresin","Wasseiges",2338,1631,{"$f":"Données!$E186*B$4","v":2688.7},{"$f":"Données!$E186*C$4","v":2571.8000000000002},{"$f":"Données!$E186*D$4","v":2454.9},{"$f":"Données!$E186*E$4","v":2338},{"$f":"Données!$E186*F$4","v":2221.1},{"$f":"Données!$E186*G$4","v":2104.2000000000003},{"$f":"Données!$E186*H$4","v":1987.3},{"$f":"Données!$F186*B$4","v":1875.6499999999999},{"$f":"Données!$F186*C$4","v":1794.1000000000001},{"$f":"Données!$F186*D$4","v":1712.5500000000002},{"$f":"Données!$F186*E$4","v":1631},{"$f":"Données!$F186*F$4","v":1549.4499999999998},{"$f":"Données!$F186*G$4","v":1467.9},{"$f":"Données!$F186*H$4","v":1386.35}]
[null,4219,"Meeffe","Wasseiges",2338,1631,{"$f":"Données!$E187*B$4","v":2688.7},{"$f":"Données!$E187*C$4","v":2571.8000000000002},{"$f":"Données!$E187*D$4","v":2454.9},{"$f":"Données!$E187*E$4","v":2338},{"$f":"Données!$E187*F$4","v":2221.1},{"$f":"Données!$E187*G$4","v":2104.2000000000003},{"$f":"Données!$E187*H$4","v":1987.3},{"$f":"Données!$F187*B$4","v":1875.6499999999999},{"$f":"Données!$F187*C$4","v":1794.1000000000001},{"$f":"Données!$F187*D$4","v":1712.5500000000002},{"$f":"Données!$F187*E$4","v":1631},{"$f":"Données!$F187*F$4","v":1549.4499999999998},{"$f":"Données!$F187*G$4","v":1467.9},{"$f":"Données!$F187*H$4","v":1386.35}]
[null,4219,"Wasseiges","Wasseiges",2338,1631,{"$f":"Données!$E188*B$4","v":2688.7},{"$f":"Données!$E188*C$4","v":2571.8000000000002},{"$f":"Données!$E188*D$4","v":2454.9},{"$f":"Données!$E188*E$4","v":2338},{"$f":"Données!$E188*F$4","v":2221.1},{"$f":"Données!$E188*G$4","v":2104.2000000000003},{"$f":"Données!$E188*H$4","v":1987.3},{"$f":"Données!$F188*B$4","v":1875.6499999999999},{"$f":"Données!$F188*C$4","v":1794.1000000000001},{"$f":"Données!$F188*D$4","v":1712.5500000000002},{"$f":"Données!$F188*E$4","v":1631},{"$f":"Données!$F188*F$4","v":1549.4499999999998},{"$f":"Données!$F188*G$4","v":1467.9},{"$f":"Données!$F188*H$4","v":1386.35}]
[null,4250,"Boëlhe","Geer",2071,1612,{"$f":"Données!$E189*B$4","v":2381.6499999999996},{"$f":"Données!$E189*C$4","v":2278.1000000000004},{"$f":"Données!$E189*D$4","v":2174.5500000000002},{"$f":"Données!$E189*E$4","v":2071},{"$f":"Données!$E189*F$4","v":1967.4499999999998},{"$f":"Données!$E189*G$4","v":1863.9},{"$f":"Données!$E189*H$4","v":1760.35},{"$f":"Données!$F189*B$4","v":1853.8},{"$f":"Données!$F189*C$4","v":1773.2},{"$f":"Données!$F189*D$4","v":1692.6000000000001},{"$f":"Données!$F189*E$4","v":1612},{"$f":"Données!$F189*F$4","v":1531.3999999999999},{"$f":"Données!$F189*G$4","v":1450.8},{"$f":"Données!$F189*H$4","v":1370.2}]
[null,4250,"Geer","Geer",2071,1612,{"$f":"Données!$E190*B$4","v":2381.6499999999996},{"$f":"Données!$E190*C$4","v":2278.1000000000004},{"$f":"Données!$E190*D$4","v":2174.5500000000002},{"$f":"Données!$E190*E$4","v":2071},{"$f":"Données!$E190*F$4","v":1967.4499999999998},{"$f":"Données!$E190*G$4","v":1863.9},{"$f":"Données!$E190*H$4","v":1760.35},{"$f":"Données!$F190*B$4","v":1853.8},{"$f":"Données!$F190*C$4","v":1773.2},{"$f":"Données!$F190*D$4","v":1692.6000000000001},{"$f":"Données!$F190*E$4","v":1612},{"$f":"Données!$F190*F$4","v":1531.3999999999999},{"$f":"Données!$F190*G$4","v":1450.8},{"$f":"Données!$F190*H$4","v":1370.2}]
[null,4250,"Hollogne-Sur-Geer","Geer",2071,1612,{"$f":"Données!$E191*B$4","v":2381.6499999999996},{"$f":"Données!$E191*C$4","v":2278.1000000000004},{"$f":"Données!$E191*D$4","v":2174.5500000000002},{"$f":"Données!$E191*E$4","v":2071},{"$f":"Données!$E191*F$4","v":1967.4499999999998},{"$f":"Données!$E191*G$4","v":1863.9},{"$f":"Données!$E191*H$4","v":1760.35},{"$f":"Données!$F191*B$4","v":1853.8},{"$f":"Données!$F191*C$4","v":1773.2},{"$f":"Données!$F191*D$4","v":1692.6000000000001},{"$f":"Données!$F191*E$4","v":1612},{"$f":"Données!$F191*F$4","v":1531.3999999999999},{"$f":"Données!$F191*G$4","v":1450.8},{"$f":"Données!$F191*H$4","v":1370.2}]
[null,4250,"Lens-Saint-Servais","Geer",2071,1612,{"$f":"Données!$E192*B$4","v":2381.6499999999996},{"$f":"Données!$E192*C$4","v":2278.1000000000004},{"$f":"Données!$E192*D$4","v":2174.5500000000002},{"$f":"Données!$E192*E$4","v":2071},{"$f":"Données!$E192*F$4","v":1967.4499999999998},{"$f":"Données!$E192*G$4","v":1863.9},{"$f":"Données!$E192*H$4","v":1760.35},{"$f":"Données!$F192*B$4","v":1853.8},{"$f":"Données!$F192*C$4","v":1773.2},{"$f":"Données!$F192*D$4","v":1692.6000000000001},{"$f":"Données!$F192*E$4","v":1612},{"$f":"Données!$F192*F$4","v":1531.3999999999999},{"$f":"Données!$F192*G$4","v":1450.8},{"$f":"Données!$F192*H$4","v":1370.2}]
[null,4252,"Omal","Geer",2071,1612,{"$f":"Données!$E193*B$4","v":2381.6499999999996},{"$f":"Données!$E193*C$4","v":2278.1000000000004},{"$f":"Données!$E193*D$4","v":2174.5500000000002},{"$f":"Données!$E193*E$4","v":2071},{"$f":"Données!$E193*F$4","v":1967.4499999999998},{"$f":"Données!$E193*G$4","v":1863.9},{"$f":"Données!$E193*H$4","v":1760.35},{"$f":"Données!$F193*B$4","v":1853.8},{"$f":"Données!$F193*C$4","v":1773.2},{"$f":"Données!$F193*D$4","v":1692.6000000000001},{"$f":"Données!$F193*E$4","v":1612},{"$f":"Données!$F193*F$4","v":1531.3999999999999},{"$f":"Données!$F193*G$4","v":1450.8},{"$f":"Données!$F193*H$4","v":1370.2}]
[null,4253,"Darion","Geer",2071,1612,{"$f":"Données!$E194*B$4","v":2381.6499999999996},{"$f":"Données!$E194*C$4","v":2278.1000000000004},{"$f":"Données!$E194*D$4","v":2174.5500000000002},{"$f":"Données!$E194*E$4","v":2071},{"$f":"Données!$E194*F$4","v":1967.4499999999998},{"$f":"Données!$E194*G$4","v":1863.9},{"$f":"Données!$E194*H$4","v":1760.35},{"$f":"Données!$F194*B$4","v":1853.8},{"$f":"Données!$F194*C$4","v":1773.2},{"$f":"Données!$F194*D$4","v":1692.6000000000001},{"$f":"Données!$F194*E$4","v":1612},{"$f":"Données!$F194*F$4","v":1531.3999999999999},{"$f":"Données!$F194*G$4","v":1450.8},{"$f":"Données!$F194*H$4","v":1370.2}]
[null,4254,"Ligney","Geer",2071,1612,{"$f":"Données!$E195*B$4","v":2381.6499999999996},{"$f":"Données!$E195*C$4","v":2278.1000000000004},{"$f":"Données!$E195*D$4","v":2174.5500000000002},{"$f":"Données!$E195*E$4","v":2071},{"$f":"Données!$E195*F$4","v":1967.4499999999998},{"$f":"Données!$E195*G$4","v":1863.9},{"$f":"Données!$E195*H$4","v":1760.35},{"$f":"Données!$F195*B$4","v":1853.8},{"$f":"Données!$F195*C$4","v":1773.2},{"$f":"Données!$F195*D$4","v":1692.6000000000001},{"$f":"Données!$F195*E$4","v":1612},{"$f":"Données!$F195*F$4","v":1531.3999999999999},{"$f":"Données!$F195*G$4","v":1450.8},{"$f":"Données!$F195*H$4","v":1370.2}]
[null,4257,"Berloz","Berloz",2060,1591,{"$f":"Données!$E196*B$4","v":2369},{"$f":"Données!$E196*C$4","v":2266},{"$f":"Données!$E196*D$4","v":2163},{"$f":"Données!$E196*E$4","v":2060},{"$f":"Données!$E196*F$4","v":1957},{"$f":"Données!$E196*G$4","v":1854},{"$f":"Données!$E196*H$4","v":1751},{"$f":"Données!$F196*B$4","v":1829.6499999999999},{"$f":"Données!$F196*C$4","v":1750.1000000000001},{"$f":"Données!$F196*D$4","v":1670.5500000000002},{"$f":"Données!$F196*E$4","v":1591},{"$f":"Données!$F196*F$4","v":1511.4499999999998},{"$f":"Données!$F196*G$4","v":1431.9},{"$f":"Données!$F196*H$4","v":1352.35}]
[null,4257,"Corswarem","Berloz",2060,1591,{"$f":"Données!$E197*B$4","v":2369},{"$f":"Données!$E197*C$4","v":2266},{"$f":"Données!$E197*D$4","v":2163},{"$f":"Données!$E197*E$4","v":2060},{"$f":"Données!$E197*F$4","v":1957},{"$f":"Données!$E197*G$4","v":1854},{"$f":"Données!$E197*H$4","v":1751},{"$f":"Données!$F197*B$4","v":1829.6499999999999},{"$f":"Données!$F197*C$4","v":1750.1000000000001},{"$f":"Données!$F197*D$4","v":1670.5500000000002},{"$f":"Données!$F197*E$4","v":1591},{"$f":"Données!$F197*F$4","v":1511.4499999999998},{"$f":"Données!$F197*G$4","v":1431.9},{"$f":"Données!$F197*H$4","v":1352.35}]
[null,4260,"Avennes","Braives",2066,1597,{"$f":"Données!$E198*B$4","v":2375.8999999999996},{"$f":"Données!$E198*C$4","v":2272.6000000000004},{"$f":"Données!$E198*D$4","v":2169.3000000000002},{"$f":"Données!$E198*E$4","v":2066},{"$f":"Données!$E198*F$4","v":1962.6999999999998},{"$f":"Données!$E198*G$4","v":1859.4},{"$f":"Données!$E198*H$4","v":1756.1},{"$f":"Données!$F198*B$4","v":1836.55},{"$f":"Données!$F198*C$4","v":1756.7},{"$f":"Données!$F198*D$4","v":1676.8500000000001},{"$f":"Données!$F198*E$4","v":1597},{"$f":"Données!$F198*F$4","v":1517.1499999999999},{"$f":"Données!$F198*G$4","v":1437.3},{"$f":"Données!$F198*H$4","v":1357.45}]
[null,4260,"Braives","Braives",2066,1597,{"$f":"Données!$E199*B$4","v":2375.8999999999996},{"$f":"Données!$E199*C$4","v":2272.6000000000004},{"$f":"Données!$E199*D$4","v":2169.3000000000002},{"$f":"Données!$E199*E$4","v":2066},{"$f":"Données!$E199*F$4","v":1962.6999999999998},{"$f":"Données!$E199*G$4","v":1859.4},{"$f":"Données!$E199*H$4","v":1756.1},{"$f":"Données!$F199*B$4","v":1836.55},{"$f":"Données!$F199*C$4","v":1756.7},{"$f":"Données!$F199*D$4","v":1676.8500000000001},{"$f":"Données!$F199*E$4","v":1597},{"$f":"Données!$F199*F$4","v":1517.1499999999999},{"$f":"Données!$F199*G$4","v":1437.3},{"$f":"Données!$F199*H$4","v":1357.45}]
[null,4260,"Ville-En-Hesbaye","Braives",2066,1597,{"$f":"Données!$E200*B$4","v":2375.8999999999996},{"$f":"Données!$E200*C$4","v":2272.6000000000004},{"$f":"Données!$E200*D$4","v":2169.3000000000002},{"$f":"Données!$E200*E$4","v":2066},{"$f":"Données!$E200*F$4","v":1962.6999999999998},{"$f":"Données!$E200*G$4","v":1859.4},{"$f":"Données!$E200*H$4","v":1756.1},{"$f":"Données!$F200*B$4","v":1836.55},{"$f":"Données!$F200*C$4","v":1756.7},{"$f":"Données!$F200*D$4","v":1676.8500000000001},{"$f":"Données!$F200*E$4","v":1597},{"$f":"Données!$F200*F$4","v":1517.1499999999999},{"$f":"Données!$F200*G$4","v":1437.3},{"$f":"Données!$F200*H$4","v":1357.45}]
[null,4260,"Fallais","Braives",2066,1597,{"$f":"Données!$E201*B$4","v":2375.8999999999996},{"$f":"Données!$E201*C$4","v":2272.6000000000004},{"$f":"Données!$E201*D$4","v":2169.3000000000002},{"$f":"Données!$E201*E$4","v":2066},{"$f":"Données!$E201*F$4","v":1962.6999999999998},{"$f":"Données!$E201*G$4","v":1859.4},{"$f":"Données!$E201*H$4","v":1756.1},{"$f":"Données!$F201*B$4","v":1836.55},{"$f":"Données!$F201*C$4","v":1756.7},{"$f":"Données!$F201*D$4","v":1676.8500000000001},{"$f":"Données!$F201*E$4","v":1597},{"$f":"Données!$F201*F$4","v":1517.1499999999999},{"$f":"Données!$F201*G$4","v":1437.3},{"$f":"Données!$F201*H$4","v":1357.45}]
[null,4260,"Fumal","Braives",2066,1597,{"$f":"Données!$E202*B$4","v":2375.8999999999996},{"$f":"Données!$E202*C$4","v":2272.6000000000004},{"$f":"Données!$E202*D$4","v":2169.3000000000002},{"$f":"Données!$E202*E$4","v":2066},{"$f":"Données!$E202*F$4","v":1962.6999999999998},{"$f":"Données!$E202*G$4","v":1859.4},{"$f":"Données!$E202*H$4","v":1756.1},{"$f":"Données!$F202*B$4","v":1836.55},{"$f":"Données!$F202*C$4","v":1756.7},{"$f":"Données!$F202*D$4","v":1676.8500000000001},{"$f":"Données!$F202*E$4","v":1597},{"$f":"Données!$F202*F$4","v":1517.1499999999999},{"$f":"Données!$F202*G$4","v":1437.3},{"$f":"Données!$F202*H$4","v":1357.45}]
[null,4260,"Ciplet","Braives",2066,1597,{"$f":"Données!$E203*B$4","v":2375.8999999999996},{"$f":"Données!$E203*C$4","v":2272.6000000000004},{"$f":"Données!$E203*D$4","v":2169.3000000000002},{"$f":"Données!$E203*E$4","v":2066},{"$f":"Données!$E203*F$4","v":1962.6999999999998},{"$f":"Données!$E203*G$4","v":1859.4},{"$f":"Données!$E203*H$4","v":1756.1},{"$f":"Données!$F203*B$4","v":1836.55},{"$f":"Données!$F203*C$4","v":1756.7},{"$f":"Données!$F203*D$4","v":1676.8500000000001},{"$f":"Données!$F203*E$4","v":1597},{"$f":"Données!$F203*F$4","v":1517.1499999999999},{"$f":"Données!$F203*G$4","v":1437.3},{"$f":"Données!$F203*H$4","v":1357.45}]
[null,4261,"Latinne","Braives",2066,1597,{"$f":"Données!$E204*B$4","v":2375.8999999999996},{"$f":"Données!$E204*C$4","v":2272.6000000000004},{"$f":"Données!$E204*D$4","v":2169.3000000000002},{"$f":"Données!$E204*E$4","v":2066},{"$f":"Données!$E204*F$4","v":1962.6999999999998},{"$f":"Données!$E204*G$4","v":1859.4},{"$f":"Données!$E204*H$4","v":1756.1},{"$f":"Données!$F204*B$4","v":1836.55},{"$f":"Données!$F204*C$4","v":1756.7},{"$f":"Données!$F204*D$4","v":1676.8500000000001},{"$f":"Données!$F204*E$4","v":1597},{"$f":"Données!$F204*F$4","v":1517.1499999999999},{"$f":"Données!$F204*G$4","v":1437.3},{"$f":"Données!$F204*H$4","v":1357.45}]
[null,4263,"Tourinne","Braives",2066,1597,{"$f":"Données!$E205*B$4","v":2375.8999999999996},{"$f":"Données!$E205*C$4","v":2272.6000000000004},{"$f":"Données!$E205*D$4","v":2169.3000000000002},{"$f":"Données!$E205*E$4","v":2066},{"$f":"Données!$E205*F$4","v":1962.6999999999998},{"$f":"Données!$E205*G$4","v":1859.4},{"$f":"Données!$E205*H$4","v":1756.1},{"$f":"Données!$F205*B$4","v":1836.55},{"$f":"Données!$F205*C$4","v":1756.7},{"$f":"Données!$F205*D$4","v":1676.8500000000001},{"$f":"Données!$F205*E$4","v":1597},{"$f":"Données!$F205*F$4","v":1517.1499999999999},{"$f":"Données!$F205*G$4","v":1437.3},{"$f":"Données!$F205*H$4","v":1357.45}]
[null,4280,"Avin","Hannut",2266,1685,{"$f":"Données!$E206*B$4","v":2605.8999999999996},{"$f":"Données!$E206*C$4","v":2492.6000000000004},{"$f":"Données!$E206*D$4","v":2379.3000000000002},{"$f":"Données!$E206*E$4","v":2266},{"$f":"Données!$E206*F$4","v":2152.6999999999998},{"$f":"Données!$E206*G$4","v":2039.4},{"$f":"Données!$E206*H$4","v":1926.1},{"$f":"Données!$F206*B$4","v":1937.7499999999998},{"$f":"Données!$F206*C$4","v":1853.5000000000002},{"$f":"Données!$F206*D$4","v":1769.25},{"$f":"Données!$F206*E$4","v":1685},{"$f":"Données!$F206*F$4","v":1600.75},{"$f":"Données!$F206*G$4","v":1516.5},{"$f":"Données!$F206*H$4","v":1432.25}]
[null,4280,"Crehen","Hannut",2266,1685,{"$f":"Données!$E207*B$4","v":2605.8999999999996},{"$f":"Données!$E207*C$4","v":2492.6000000000004},{"$f":"Données!$E207*D$4","v":2379.3000000000002},{"$f":"Données!$E207*E$4","v":2266},{"$f":"Données!$E207*F$4","v":2152.6999999999998},{"$f":"Données!$E207*G$4","v":2039.4},{"$f":"Données!$E207*H$4","v":1926.1},{"$f":"Données!$F207*B$4","v":1937.7499999999998},{"$f":"Données!$F207*C$4","v":1853.5000000000002},{"$f":"Données!$F207*D$4","v":1769.25},{"$f":"Données!$F207*E$4","v":1685},{"$f":"Données!$F207*F$4","v":1600.75},{"$f":"Données!$F207*G$4","v":1516.5},{"$f":"Données!$F207*H$4","v":1432.25}]
[null,4280,"Trognée","Hannut",2266,1685,{"$f":"Données!$E208*B$4","v":2605.8999999999996},{"$f":"Données!$E208*C$4","v":2492.6000000000004},{"$f":"Données!$E208*D$4","v":2379.3000000000002},{"$f":"Données!$E208*E$4","v":2266},{"$f":"Données!$E208*F$4","v":2152.6999999999998},{"$f":"Données!$E208*G$4","v":2039.4},{"$f":"Données!$E208*H$4","v":1926.1},{"$f":"Données!$F208*B$4","v":1937.7499999999998},{"$f":"Données!$F208*C$4","v":1853.5000000000002},{"$f":"Données!$F208*D$4","v":1769.25},{"$f":"Données!$F208*E$4","v":1685},{"$f":"Données!$F208*F$4","v":1600.75},{"$f":"Données!$F208*G$4","v":1516.5},{"$f":"Données!$F208*H$4","v":1432.25}]
[null,4280,"Villers-Le-Peuplier","Hannut",2266,1685,{"$f":"Données!$E209*B$4","v":2605.8999999999996},{"$f":"Données!$E209*C$4","v":2492.6000000000004},{"$f":"Données!$E209*D$4","v":2379.3000000000002},{"$f":"Données!$E209*E$4","v":2266},{"$f":"Données!$E209*F$4","v":2152.6999999999998},{"$f":"Données!$E209*G$4","v":2039.4},{"$f":"Données!$E209*H$4","v":1926.1},{"$f":"Données!$F209*B$4","v":1937.7499999999998},{"$f":"Données!$F209*C$4","v":1853.5000000000002},{"$f":"Données!$F209*D$4","v":1769.25},{"$f":"Données!$F209*E$4","v":1685},{"$f":"Données!$F209*F$4","v":1600.75},{"$f":"Données!$F209*G$4","v":1516.5},{"$f":"Données!$F209*H$4","v":1432.25}]
[null,4280,"Bertrée","Hannut",2266,1685,{"$f":"Données!$E210*B$4","v":2605.8999999999996},{"$f":"Données!$E210*C$4","v":2492.6000000000004},{"$f":"Données!$E210*D$4","v":2379.3000000000002},{"$f":"Données!$E210*E$4","v":2266},{"$f":"Données!$E210*F$4","v":2152.6999999999998},{"$f":"Données!$E210*G$4","v":2039.4},{"$f":"Données!$E210*H$4","v":1926.1},{"$f":"Données!$F210*B$4","v":1937.7499999999998},{"$f":"Données!$F210*C$4","v":1853.5000000000002},{"$f":"Données!$F210*D$4","v":1769.25},{"$f":"Données!$F210*E$4","v":1685},{"$f":"Données!$F210*F$4","v":1600.75},{"$f":"Données!$F210*G$4","v":1516.5},{"$f":"Données!$F210*H$4","v":1432.25}]
[null,4280,"Grand-Hallet","Hannut",2266,1685,{"$f":"Données!$E211*B$4","v":2605.8999999999996},{"$f":"Données!$E211*C$4","v":2492.6000000000004},{"$f":"Données!$E211*D$4","v":2379.3000000000002},{"$f":"Données!$E211*E$4","v":2266},{"$f":"Données!$E211*F$4","v":2152.6999999999998},{"$f":"Données!$E211*G$4","v":2039.4},{"$f":"Données!$E211*H$4","v":1926.1},{"$f":"Données!$F211*B$4","v":1937.7499999999998},{"$f":"Données!$F211*C$4","v":1853.5000000000002},{"$f":"Données!$F211*D$4","v":1769.25},{"$f":"Données!$F211*E$4","v":1685},{"$f":"Données!$F211*F$4","v":1600.75},{"$f":"Données!$F211*G$4","v":1516.5},{"$f":"Données!$F211*H$4","v":1432.25}]
[null,4280,"Hannut","Hannut",2266,1685,{"$f":"Données!$E212*B$4","v":2605.8999999999996},{"$f":"Données!$E212*C$4","v":2492.6000000000004},{"$f":"Données!$E212*D$4","v":2379.3000000000002},{"$f":"Données!$E212*E$4","v":2266},{"$f":"Données!$E212*F$4","v":2152.6999999999998},{"$f":"Données!$E212*G$4","v":2039.4},{"$f":"Données!$E212*H$4","v":1926.1},{"$f":"Données!$F212*B$4","v":1937.7499999999998},{"$f":"Données!$F212*C$4","v":1853.5000000000002},{"$f":"Données!$F212*D$4","v":1769.25},{"$f":"Données!$F212*E$4","v":1685},{"$f":"Données!$F212*F$4","v":1600.75},{"$f":"Données!$F212*G$4","v":1516.5},{"$f":"Données!$F212*H$4","v":1432.25}]
[null,4280,"Moxhe","Hannut",2266,1685,{"$f":"Données!$E213*B$4","v":2605.8999999999996},{"$f":"Données!$E213*C$4","v":2492.6000000000004},{"$f":"Données!$E213*D$4","v":2379.3000000000002},{"$f":"Données!$E213*E$4","v":2266},{"$f":"Données!$E213*F$4","v":2152.6999999999998},{"$f":"Données!$E213*G$4","v":2039.4},{"$f":"Données!$E213*H$4","v":1926.1},{"$f":"Données!$F213*B$4","v":1937.7499999999998},{"$f":"Données!$F213*C$4","v":1853.5000000000002},{"$f":"Données!$F213*D$4","v":1769.25},{"$f":"Données!$F213*E$4","v":1685},{"$f":"Données!$F213*F$4","v":1600.75},{"$f":"Données!$F213*G$4","v":1516.5},{"$f":"Données!$F213*H$4","v":1432.25}]
[null,4280,"Petit-Hallet","Hannut",2266,1685,{"$f":"Données!$E214*B$4","v":2605.8999999999996},{"$f":"Données!$E214*C$4","v":2492.6000000000004},{"$f":"Données!$E214*D$4","v":2379.3000000000002},{"$f":"Données!$E214*E$4","v":2266},{"$f":"Données!$E214*F$4","v":2152.6999999999998},{"$f":"Données!$E214*G$4","v":2039.4},{"$f":"Données!$E214*H$4","v":1926.1},{"$f":"Données!$F214*B$4","v":1937.7499999999998},{"$f":"Données!$F214*C$4","v":1853.5000000000002},{"$f":"Données!$F214*D$4","v":1769.25},{"$f":"Données!$F214*E$4","v":1685},{"$f":"Données!$F214*F$4","v":1600.75},{"$f":"Données!$F214*G$4","v":1516.5},{"$f":"Données!$F214*H$4","v":1432.25}]
[null,4280,"Thisnes","Hannut",2266,1685,{"$f":"Données!$E215*B$4","v":2605.8999999999996},{"$f":"Données!$E215*C$4","v":2492.6000000000004},{"$f":"Données!$E215*D$4","v":2379.3000000000002},{"$f":"Données!$E215*E$4","v":2266},{"$f":"Données!$E215*F$4","v":2152.6999999999998},{"$f":"Données!$E215*G$4","v":2039.4},{"$f":"Données!$E215*H$4","v":1926.1},{"$f":"Données!$F215*B$4","v":1937.7499999999998},{"$f":"Données!$F215*C$4","v":1853.5000000000002},{"$f":"Données!$F215*D$4","v":1769.25},{"$f":"Données!$F215*E$4","v":1685},{"$f":"Données!$F215*F$4","v":1600.75},{"$f":"Données!$F215*G$4","v":1516.5},{"$f":"Données!$F215*H$4","v":1432.25}]
[null,4280,"Abolens","Hannut",2266,1685,{"$f":"Données!$E216*B$4","v":2605.8999999999996},{"$f":"Données!$E216*C$4","v":2492.6000000000004},{"$f":"Données!$E216*D$4","v":2379.3000000000002},{"$f":"Données!$E216*E$4","v":2266},{"$f":"Données!$E216*F$4","v":2152.6999999999998},{"$f":"Données!$E216*G$4","v":2039.4},{"$f":"Données!$E216*H$4","v":1926.1},{"$f":"Données!$F216*B$4","v":1937.7499999999998},{"$f":"Données!$F216*C$4","v":1853.5000000000002},{"$f":"Données!$F216*D$4","v":1769.25},{"$f":"Données!$F216*E$4","v":1685},{"$f":"Données!$F216*F$4","v":1600.75},{"$f":"Données!$F216*G$4","v":1516.5},{"$f":"Données!$F216*H$4","v":1432.25}]
[null,4280,"Avernas-Le-Bauduin","Hannut",2266,1685,{"$f":"Données!$E217*B$4","v":2605.8999999999996},{"$f":"Données!$E217*C$4","v":2492.6000000000004},{"$f":"Données!$E217*D$4","v":2379.3000000000002},{"$f":"Données!$E217*E$4","v":2266},{"$f":"Données!$E217*F$4","v":2152.6999999999998},{"$f":"Données!$E217*G$4","v":2039.4},{"$f":"Données!$E217*H$4","v":1926.1},{"$f":"Données!$F217*B$4","v":1937.7499999999998},{"$f":"Données!$F217*C$4","v":1853.5000000000002},{"$f":"Données!$F217*D$4","v":1769.25},{"$f":"Données!$F217*E$4","v":1685},{"$f":"Données!$F217*F$4","v":1600.75},{"$f":"Données!$F217*G$4","v":1516.5},{"$f":"Données!$F217*H$4","v":1432.25}]
[null,4280,"Lens-Saint-Remy","Hannut",2266,1685,{"$f":"Données!$E218*B$4","v":2605.8999999999996},{"$f":"Données!$E218*C$4","v":2492.6000000000004},{"$f":"Données!$E218*D$4","v":2379.3000000000002},{"$f":"Données!$E218*E$4","v":2266},{"$f":"Données!$E218*F$4","v":2152.6999999999998},{"$f":"Données!$E218*G$4","v":2039.4},{"$f":"Données!$E218*H$4","v":1926.1},{"$f":"Données!$F218*B$4","v":1937.7499999999998},{"$f":"Données!$F218*C$4","v":1853.5000000000002},{"$f":"Données!$F218*D$4","v":1769.25},{"$f":"Données!$F218*E$4","v":1685},{"$f":"Données!$F218*F$4","v":1600.75},{"$f":"Données!$F218*G$4","v":1516.5},{"$f":"Données!$F218*H$4","v":1432.25}]
[null,4280,"Merdorp","Hannut",2266,1685,{"$f":"Données!$E219*B$4","v":2605.8999999999996},{"$f":"Données!$E219*C$4","v":2492.6000000000004},{"$f":"Données!$E219*D$4","v":2379.3000000000002},{"$f":"Données!$E219*E$4","v":2266},{"$f":"Données!$E219*F$4","v":2152.6999999999998},{"$f":"Données!$E219*G$4","v":2039.4},{"$f":"Données!$E219*H$4","v":1926.1},{"$f":"Données!$F219*B$4","v":1937.7499999999998},{"$f":"Données!$F219*C$4","v":1853.5000000000002},{"$f":"Données!$F219*D$4","v":1769.25},{"$f":"Données!$F219*E$4","v":1685},{"$f":"Données!$F219*F$4","v":1600.75},{"$f":"Données!$F219*G$4","v":1516.5},{"$f":"Données!$F219*H$4","v":1432.25}]
[null,4280,"Poucet","Hannut",2266,1685,{"$f":"Données!$E220*B$4","v":2605.8999999999996},{"$f":"Données!$E220*C$4","v":2492.6000000000004},{"$f":"Données!$E220*D$4","v":2379.3000000000002},{"$f":"Données!$E220*E$4","v":2266},{"$f":"Données!$E220*F$4","v":2152.6999999999998},{"$f":"Données!$E220*G$4","v":2039.4},{"$f":"Données!$E220*H$4","v":1926.1},{"$f":"Données!$F220*B$4","v":1937.7499999999998},{"$f":"Données!$F220*C$4","v":1853.5000000000002},{"$f":"Données!$F220*D$4","v":1769.25},{"$f":"Données!$F220*E$4","v":1685},{"$f":"Données!$F220*F$4","v":1600.75},{"$f":"Données!$F220*G$4","v":1516.5},{"$f":"Données!$F220*H$4","v":1432.25}]
[null,4280,"Blehen","Hannut",2266,1685,{"$f":"Données!$E221*B$4","v":2605.8999999999996},{"$f":"Données!$E221*C$4","v":2492.6000000000004},{"$f":"Données!$E221*D$4","v":2379.3000000000002},{"$f":"Données!$E221*E$4","v":2266},{"$f":"Données!$E221*F$4","v":2152.6999999999998},{"$f":"Données!$E221*G$4","v":2039.4},{"$f":"Données!$E221*H$4","v":1926.1},{"$f":"Données!$F221*B$4","v":1937.7499999999998},{"$f":"Données!$F221*C$4","v":1853.5000000000002},{"$f":"Données!$F221*D$4","v":1769.25},{"$f":"Données!$F221*E$4","v":1685},{"$f":"Données!$F221*F$4","v":1600.75},{"$f":"Données!$F221*G$4","v":1516.5},{"$f":"Données!$F221*H$4","v":1432.25}]
[null,4280,"Cras-Avernas","Hannut",2266,1685,{"$f":"Données!$E222*B$4","v":2605.8999999999996},{"$f":"Données!$E222*C$4","v":2492.6000000000004},{"$f":"Données!$E222*D$4","v":2379.3000000000002},{"$f":"Données!$E222*E$4","v":2266},{"$f":"Données!$E222*F$4","v":2152.6999999999998},{"$f":"Données!$E222*G$4","v":2039.4},{"$f":"Données!$E222*H$4","v":1926.1},{"$f":"Données!$F222*B$4","v":1937.7499999999998},{"$f":"Données!$F222*C$4","v":1853.5000000000002},{"$f":"Données!$F222*D$4","v":1769.25},{"$f":"Données!$F222*E$4","v":1685},{"$f":"Données!$F222*F$4","v":1600.75},{"$f":"Données!$F222*G$4","v":1516.5},{"$f":"Données!$F222*H$4","v":1432.25}]
[null,4280,"Wansin","Hannut",2266,1685,{"$f":"Données!$E223*B$4","v":2605.8999999999996},{"$f":"Données!$E223*C$4","v":2492.6000000000004},{"$f":"Données!$E223*D$4","v":2379.3000000000002},{"$f":"Données!$E223*E$4","v":2266},{"$f":"Données!$E223*F$4","v":2152.6999999999998},{"$f":"Données!$E223*G$4","v":2039.4},{"$f":"Données!$E223*H$4","v":1926.1},{"$f":"Données!$F223*B$4","v":1937.7499999999998},{"$f":"Données!$F223*C$4","v":1853.5000000000002},{"$f":"Données!$F223*D$4","v":1769.25},{"$f":"Données!$F223*E$4","v":1685},{"$f":"Données!$F223*F$4","v":1600.75},{"$f":"Données!$F223*G$4","v":1516.5},{"$f":"Données!$F223*H$4","v":1432.25}]
[null,4287,"Pellaines","Lincent",2123,1644,{"$f":"Données!$E224*B$4","v":2441.4499999999998},{"$f":"Données!$E224*C$4","v":2335.3000000000002},{"$f":"Données!$E224*D$4","v":2229.15},{"$f":"Données!$E224*E$4","v":2123},{"$f":"Données!$E224*F$4","v":2016.85},{"$f":"Données!$E224*G$4","v":1910.7},{"$f":"Données!$E224*H$4","v":1804.55},{"$f":"Données!$F224*B$4","v":1890.6},{"$f":"Données!$F224*C$4","v":1808.4},{"$f":"Données!$F224*D$4","v":1726.2},{"$f":"Données!$F224*E$4","v":1644},{"$f":"Données!$F224*F$4","v":1561.8},{"$f":"Données!$F224*G$4","v":1479.6000000000001},{"$f":"Données!$F224*H$4","v":1397.3999999999999}]
[null,4287,"Lincent","Lincent",2123,1644,{"$f":"Données!$E225*B$4","v":2441.4499999999998},{"$f":"Données!$E225*C$4","v":2335.3000000000002},{"$f":"Données!$E225*D$4","v":2229.15},{"$f":"Données!$E225*E$4","v":2123},{"$f":"Données!$E225*F$4","v":2016.85},{"$f":"Données!$E225*G$4","v":1910.7},{"$f":"Données!$E225*H$4","v":1804.55},{"$f":"Données!$F225*B$4","v":1890.6},{"$f":"Données!$F225*C$4","v":1808.4},{"$f":"Données!$F225*D$4","v":1726.2},{"$f":"Données!$F225*E$4","v":1644},{"$f":"Données!$F225*F$4","v":1561.8},{"$f":"Données!$F225*G$4","v":1479.6000000000001},{"$f":"Données!$F225*H$4","v":1397.3999999999999}]
[null,4287,"Racour","Lincent",2123,1644,{"$f":"Données!$E226*B$4","v":2441.4499999999998},{"$f":"Données!$E226*C$4","v":2335.3000000000002},{"$f":"Données!$E226*D$4","v":2229.15},{"$f":"Données!$E226*E$4","v":2123},{"$f":"Données!$E226*F$4","v":2016.85},{"$f":"Données!$E226*G$4","v":1910.7},{"$f":"Données!$E226*H$4","v":1804.55},{"$f":"Données!$F226*B$4","v":1890.6},{"$f":"Données!$F226*C$4","v":1808.4},{"$f":"Données!$F226*D$4","v":1726.2},{"$f":"Données!$F226*E$4","v":1644},{"$f":"Données!$F226*F$4","v":1561.8},{"$f":"Données!$F226*G$4","v":1479.6000000000001},{"$f":"Données!$F226*H$4","v":1397.3999999999999}]
[null,4300,"Lantremange","Waremme",2158,1705,{"$f":"Données!$E227*B$4","v":2481.6999999999998},{"$f":"Données!$E227*C$4","v":2373.8000000000002},{"$f":"Données!$E227*D$4","v":2265.9},{"$f":"Données!$E227*E$4","v":2158},{"$f":"Données!$E227*F$4","v":2050.1},{"$f":"Données!$E227*G$4","v":1942.2},{"$f":"Données!$E227*H$4","v":1834.3},{"$f":"Données!$F227*B$4","v":1960.7499999999998},{"$f":"Données!$F227*C$4","v":1875.5000000000002},{"$f":"Données!$F227*D$4","v":1790.25},{"$f":"Données!$F227*E$4","v":1705},{"$f":"Données!$F227*F$4","v":1619.75},{"$f":"Données!$F227*G$4","v":1534.5},{"$f":"Données!$F227*H$4","v":1449.25}]
[null,4300,"Bovenistier","Waremme",2158,1705,{"$f":"Données!$E228*B$4","v":2481.6999999999998},{"$f":"Données!$E228*C$4","v":2373.8000000000002},{"$f":"Données!$E228*D$4","v":2265.9},{"$f":"Données!$E228*E$4","v":2158},{"$f":"Données!$E228*F$4","v":2050.1},{"$f":"Données!$E228*G$4","v":1942.2},{"$f":"Données!$E228*H$4","v":1834.3},{"$f":"Données!$F228*B$4","v":1960.7499999999998},{"$f":"Données!$F228*C$4","v":1875.5000000000002},{"$f":"Données!$F228*D$4","v":1790.25},{"$f":"Données!$F228*E$4","v":1705},{"$f":"Données!$F228*F$4","v":1619.75},{"$f":"Données!$F228*G$4","v":1534.5},{"$f":"Données!$F228*H$4","v":1449.25}]
[null,4300,"Grand-Axhe","Waremme",2158,1705,{"$f":"Données!$E229*B$4","v":2481.6999999999998},{"$f":"Données!$E229*C$4","v":2373.8000000000002},{"$f":"Données!$E229*D$4","v":2265.9},{"$f":"Données!$E229*E$4","v":2158},{"$f":"Données!$E229*F$4","v":2050.1},{"$f":"Données!$E229*G$4","v":1942.2},{"$f":"Données!$E229*H$4","v":1834.3},{"$f":"Données!$F229*B$4","v":1960.7499999999998},{"$f":"Données!$F229*C$4","v":1875.5000000000002},{"$f":"Données!$F229*D$4","v":1790.25},{"$f":"Données!$F229*E$4","v":1705},{"$f":"Données!$F229*F$4","v":1619.75},{"$f":"Données!$F229*G$4","v":1534.5},{"$f":"Données!$F229*H$4","v":1449.25}]
[null,4300,"Oleye","Waremme",2158,1705,{"$f":"Données!$E230*B$4","v":2481.6999999999998},{"$f":"Données!$E230*C$4","v":2373.8000000000002},{"$f":"Données!$E230*D$4","v":2265.9},{"$f":"Données!$E230*E$4","v":2158},{"$f":"Données!$E230*F$4","v":2050.1},{"$f":"Données!$E230*G$4","v":1942.2},{"$f":"Données!$E230*H$4","v":1834.3},{"$f":"Données!$F230*B$4","v":1960.7499999999998},{"$f":"Données!$F230*C$4","v":1875.5000000000002},{"$f":"Données!$F230*D$4","v":1790.25},{"$f":"Données!$F230*E$4","v":1705},{"$f":"Données!$F230*F$4","v":1619.75},{"$f":"Données!$F230*G$4","v":1534.5},{"$f":"Données!$F230*H$4","v":1449.25}]
[null,4300,"Bettincourt","Waremme",2158,1705,{"$f":"Données!$E231*B$4","v":2481.6999999999998},{"$f":"Données!$E231*C$4","v":2373.8000000000002},{"$f":"Données!$E231*D$4","v":2265.9},{"$f":"Données!$E231*E$4","v":2158},{"$f":"Données!$E231*F$4","v":2050.1},{"$f":"Données!$E231*G$4","v":1942.2},{"$f":"Données!$E231*H$4","v":1834.3},{"$f":"Données!$F231*B$4","v":1960.7499999999998},{"$f":"Données!$F231*C$4","v":1875.5000000000002},{"$f":"Données!$F231*D$4","v":1790.25},{"$f":"Données!$F231*E$4","v":1705},{"$f":"Données!$F231*F$4","v":1619.75},{"$f":"Données!$F231*G$4","v":1534.5},{"$f":"Données!$F231*H$4","v":1449.25}]
[null,4300,"Bleret","Waremme",2158,1705,{"$f":"Données!$E232*B$4","v":2481.6999999999998},{"$f":"Données!$E232*C$4","v":2373.8000000000002},{"$f":"Données!$E232*D$4","v":2265.9},{"$f":"Données!$E232*E$4","v":2158},{"$f":"Données!$E232*F$4","v":2050.1},{"$f":"Données!$E232*G$4","v":1942.2},{"$f":"Données!$E232*H$4","v":1834.3},{"$f":"Données!$F232*B$4","v":1960.7499999999998},{"$f":"Données!$F232*C$4","v":1875.5000000000002},{"$f":"Données!$F232*D$4","v":1790.25},{"$f":"Données!$F232*E$4","v":1705},{"$f":"Données!$F232*F$4","v":1619.75},{"$f":"Données!$F232*G$4","v":1534.5},{"$f":"Données!$F232*H$4","v":1449.25}]
[null,4300,"Waremme","Waremme",2158,1705,{"$f":"Données!$E233*B$4","v":2481.6999999999998},{"$f":"Données!$E233*C$4","v":2373.8000000000002},{"$f":"Données!$E233*D$4","v":2265.9},{"$f":"Données!$E233*E$4","v":2158},{"$f":"Données!$E233*F$4","v":2050.1},{"$f":"Données!$E233*G$4","v":1942.2},{"$f":"Données!$E233*H$4","v":1834.3},{"$f":"Données!$F233*B$4","v":1960.7499999999998},{"$f":"Données!$F233*C$4","v":1875.5000000000002},{"$f":"Données!$F233*D$4","v":1790.25},{"$f":"Données!$F233*E$4","v":1705},{"$f":"Données!$F233*F$4","v":1619.75},{"$f":"Données!$F233*G$4","v":1534.5},{"$f":"Données!$F233*H$4","v":1449.25}]
[null,4317,"Aineffe","Celles",1992,1599,{"$f":"Données!$E234*B$4","v":2290.7999999999997},{"$f":"Données!$E234*C$4","v":2191.2000000000003},{"$f":"Données!$E234*D$4","v":2091.6},{"$f":"Données!$E234*E$4","v":1992},{"$f":"Données!$E234*F$4","v":1892.3999999999999},{"$f":"Données!$E234*G$4","v":1792.8},{"$f":"Données!$E234*H$4","v":1693.2},{"$f":"Données!$F234*B$4","v":1838.85},{"$f":"Données!$F234*C$4","v":1758.9},{"$f":"Données!$F234*D$4","v":1678.95},{"$f":"Données!$F234*E$4","v":1599},{"$f":"Données!$F234*F$4","v":1519.05},{"$f":"Données!$F234*G$4","v":1439.1000000000001},{"$f":"Données!$F234*H$4","v":1359.1499999999999}]
[null,4317,"Borlez","Celles",1992,1599,{"$f":"Données!$E235*B$4","v":2290.7999999999997},{"$f":"Données!$E235*C$4","v":2191.2000000000003},{"$f":"Données!$E235*D$4","v":2091.6},{"$f":"Données!$E235*E$4","v":1992},{"$f":"Données!$E235*F$4","v":1892.3999999999999},{"$f":"Données!$E235*G$4","v":1792.8},{"$f":"Données!$E235*H$4","v":1693.2},{"$f":"Données!$F235*B$4","v":1838.85},{"$f":"Données!$F235*C$4","v":1758.9},{"$f":"Données!$F235*D$4","v":1678.95},{"$f":"Données!$F235*E$4","v":1599},{"$f":"Données!$F235*F$4","v":1519.05},{"$f":"Données!$F235*G$4","v":1439.1000000000001},{"$f":"Données!$F235*H$4","v":1359.1499999999999}]
[null,4317,"Celles","Celles",1992,1599,{"$f":"Données!$E236*B$4","v":2290.7999999999997},{"$f":"Données!$E236*C$4","v":2191.2000000000003},{"$f":"Données!$E236*D$4","v":2091.6},{"$f":"Données!$E236*E$4","v":1992},{"$f":"Données!$E236*F$4","v":1892.3999999999999},{"$f":"Données!$E236*G$4","v":1792.8},{"$f":"Données!$E236*H$4","v":1693.2},{"$f":"Données!$F236*B$4","v":1838.85},{"$f":"Données!$F236*C$4","v":1758.9},{"$f":"Données!$F236*D$4","v":1678.95},{"$f":"Données!$F236*E$4","v":1599},{"$f":"Données!$F236*F$4","v":1519.05},{"$f":"Données!$F236*G$4","v":1439.1000000000001},{"$f":"Données!$F236*H$4","v":1359.1499999999999}]
[null,4317,"Faimes","Faimes",1899,1611,{"$f":"Données!$E237*B$4","v":2183.85},{"$f":"Données!$E237*C$4","v":2088.9},{"$f":"Données!$E237*D$4","v":1993.95},{"$f":"Données!$E237*E$4","v":1899},{"$f":"Données!$E237*F$4","v":1804.05},{"$f":"Données!$E237*G$4","v":1709.1000000000001},{"$f":"Données!$E237*H$4","v":1614.1499999999999},{"$f":"Données!$F237*B$4","v":1852.6499999999999},{"$f":"Données!$F237*C$4","v":1772.1000000000001},{"$f":"Données!$F237*D$4","v":1691.5500000000002},{"$f":"Données!$F237*E$4","v":1611},{"$f":"Données!$F237*F$4","v":1530.4499999999998},{"$f":"Données!$F237*G$4","v":1449.9},{"$f":"Données!$F237*H$4","v":1369.35}]
[null,4317,"LesWaleffes","Faimes",1899,1611,{"$f":"Données!$E238*B$4","v":2183.85},{"$f":"Données!$E238*C$4","v":2088.9},{"$f":"Données!$E238*D$4","v":1993.95},{"$f":"Données!$E238*E$4","v":1899},{"$f":"Données!$E238*F$4","v":1804.05},{"$f":"Données!$E238*G$4","v":1709.1000000000001},{"$f":"Données!$E238*H$4","v":1614.1499999999999},{"$f":"Données!$F238*B$4","v":1852.6499999999999},{"$f":"Données!$F238*C$4","v":1772.1000000000001},{"$f":"Données!$F238*D$4","v":1691.5500000000002},{"$f":"Données!$F238*E$4","v":1611},{"$f":"Données!$F238*F$4","v":1530.4499999999998},{"$f":"Données!$F238*G$4","v":1449.9},{"$f":"Données!$F238*H$4","v":1369.35}]
[null,4317,"Viemme","Faimes",1899,1611,{"$f":"Données!$E239*B$4","v":2183.85},{"$f":"Données!$E239*C$4","v":2088.9},{"$f":"Données!$E239*D$4","v":1993.95},{"$f":"Données!$E239*E$4","v":1899},{"$f":"Données!$E239*F$4","v":1804.05},{"$f":"Données!$E239*G$4","v":1709.1000000000001},{"$f":"Données!$E239*H$4","v":1614.1499999999999},{"$f":"Données!$F239*B$4","v":1852.6499999999999},{"$f":"Données!$F239*C$4","v":1772.1000000000001},{"$f":"Données!$F239*D$4","v":1691.5500000000002},{"$f":"Données!$F239*E$4","v":1611},{"$f":"Données!$F239*F$4","v":1530.4499999999998},{"$f":"Données!$F239*G$4","v":1449.9},{"$f":"Données!$F239*H$4","v":1369.35}]
[null,4340,"Villers-L'evêque","Awans",2331,1742,{"$f":"Données!$E240*B$4","v":2680.6499999999996},{"$f":"Données!$E240*C$4","v":2564.1000000000004},{"$f":"Données!$E240*D$4","v":2447.5500000000002},{"$f":"Données!$E240*E$4","v":2331},{"$f":"Données!$E240*F$4","v":2214.4499999999998},{"$f":"Données!$E240*G$4","v":2097.9},{"$f":"Données!$E240*H$4","v":1981.35},{"$f":"Données!$F240*B$4","v":2003.3},{"$f":"Données!$F240*C$4","v":1916.2},{"$f":"Données!$F240*D$4","v":1829.1000000000001},{"$f":"Données!$F240*E$4","v":1742},{"$f":"Données!$F240*F$4","v":1654.8999999999999},{"$f":"Données!$F240*G$4","v":1567.8},{"$f":"Données!$F240*H$4","v":1480.7}]
[null,4340,"Awans","Awans",2331,1742,{"$f":"Données!$E241*B$4","v":2680.6499999999996},{"$f":"Données!$E241*C$4","v":2564.1000000000004},{"$f":"Données!$E241*D$4","v":2447.5500000000002},{"$f":"Données!$E241*E$4","v":2331},{"$f":"Données!$E241*F$4","v":2214.4499999999998},{"$f":"Données!$E241*G$4","v":2097.9},{"$f":"Données!$E241*H$4","v":1981.35},{"$f":"Données!$F241*B$4","v":2003.3},{"$f":"Données!$F241*C$4","v":1916.2},{"$f":"Données!$F241*D$4","v":1829.1000000000001},{"$f":"Données!$F241*E$4","v":1742},{"$f":"Données!$F241*F$4","v":1654.8999999999999},{"$f":"Données!$F241*G$4","v":1567.8},{"$f":"Données!$F241*H$4","v":1480.7}]
[null,4340,"Fooz","Awans",2331,1742,{"$f":"Données!$E242*B$4","v":2680.6499999999996},{"$f":"Données!$E242*C$4","v":2564.1000000000004},{"$f":"Données!$E242*D$4","v":2447.5500000000002},{"$f":"Données!$E242*E$4","v":2331},{"$f":"Données!$E242*F$4","v":2214.4499999999998},{"$f":"Données!$E242*G$4","v":2097.9},{"$f":"Données!$E242*H$4","v":1981.35},{"$f":"Données!$F242*B$4","v":2003.3},{"$f":"Données!$F242*C$4","v":1916.2},{"$f":"Données!$F242*D$4","v":1829.1000000000001},{"$f":"Données!$F242*E$4","v":1742},{"$f":"Données!$F242*F$4","v":1654.8999999999999},{"$f":"Données!$F242*G$4","v":1567.8},{"$f":"Données!$F242*H$4","v":1480.7}]
[null,4340,"Othée","Awans",2331,1742,{"$f":"Données!$E243*B$4","v":2680.6499999999996},{"$f":"Données!$E243*C$4","v":2564.1000000000004},{"$f":"Données!$E243*D$4","v":2447.5500000000002},{"$f":"Données!$E243*E$4","v":2331},{"$f":"Données!$E243*F$4","v":2214.4499999999998},{"$f":"Données!$E243*G$4","v":2097.9},{"$f":"Données!$E243*H$4","v":1981.35},{"$f":"Données!$F243*B$4","v":2003.3},{"$f":"Données!$F243*C$4","v":1916.2},{"$f":"Données!$F243*D$4","v":1829.1000000000001},{"$f":"Données!$F243*E$4","v":1742},{"$f":"Données!$F243*F$4","v":1654.8999999999999},{"$f":"Données!$F243*G$4","v":1567.8},{"$f":"Données!$F243*H$4","v":1480.7}]
[null,4342,"Hognoul","Awans",2331,1742,{"$f":"Données!$E244*B$4","v":2680.6499999999996},{"$f":"Données!$E244*C$4","v":2564.1000000000004},{"$f":"Données!$E244*D$4","v":2447.5500000000002},{"$f":"Données!$E244*E$4","v":2331},{"$f":"Données!$E244*F$4","v":2214.4499999999998},{"$f":"Données!$E244*G$4","v":2097.9},{"$f":"Données!$E244*H$4","v":1981.35},{"$f":"Données!$F244*B$4","v":2003.3},{"$f":"Données!$F244*C$4","v":1916.2},{"$f":"Données!$F244*D$4","v":1829.1000000000001},{"$f":"Données!$F244*E$4","v":1742},{"$f":"Données!$F244*F$4","v":1654.8999999999999},{"$f":"Données!$F244*G$4","v":1567.8},{"$f":"Données!$F244*H$4","v":1480.7}]
[null,4347,"Freloux","Fexhe-Le-Haut-Clocher",2176,1703,{"$f":"Données!$E245*B$4","v":2502.3999999999996},{"$f":"Données!$E245*C$4","v":2393.6000000000004},{"$f":"Données!$E245*D$4","v":2284.8000000000002},{"$f":"Données!$E245*E$4","v":2176},{"$f":"Données!$E245*F$4","v":2067.1999999999998},{"$f":"Données!$E245*G$4","v":1958.4},{"$f":"Données!$E245*H$4","v":1849.6},{"$f":"Données!$F245*B$4","v":1958.4499999999998},{"$f":"Données!$F245*C$4","v":1873.3000000000002},{"$f":"Données!$F245*D$4","v":1788.15},{"$f":"Données!$F245*E$4","v":1703},{"$f":"Données!$F245*F$4","v":1617.85},{"$f":"Données!$F245*G$4","v":1532.7},{"$f":"Données!$F245*H$4","v":1447.55}]
[null,4347,"Noville","Fexhe-Le-Haut-Clocher",2176,1703,{"$f":"Données!$E246*B$4","v":2502.3999999999996},{"$f":"Données!$E246*C$4","v":2393.6000000000004},{"$f":"Données!$E246*D$4","v":2284.8000000000002},{"$f":"Données!$E246*E$4","v":2176},{"$f":"Données!$E246*F$4","v":2067.1999999999998},{"$f":"Données!$E246*G$4","v":1958.4},{"$f":"Données!$E246*H$4","v":1849.6},{"$f":"Données!$F246*B$4","v":1958.4499999999998},{"$f":"Données!$F246*C$4","v":1873.3000000000002},{"$f":"Données!$F246*D$4","v":1788.15},{"$f":"Données!$F246*E$4","v":1703},{"$f":"Données!$F246*F$4","v":1617.85},{"$f":"Données!$F246*G$4","v":1532.7},{"$f":"Données!$F246*H$4","v":1447.55}]
[null,4347,"Roloux","Fexhe-Le-Haut-Clocher",2176,1703,{"$f":"Données!$E247*B$4","v":2502.3999999999996},{"$f":"Données!$E247*C$4","v":2393.6000000000004},{"$f":"Données!$E247*D$4","v":2284.8000000000002},{"$f":"Données!$E247*E$4","v":2176},{"$f":"Données!$E247*F$4","v":2067.1999999999998},{"$f":"Données!$E247*G$4","v":1958.4},{"$f":"Données!$E247*H$4","v":1849.6},{"$f":"Données!$F247*B$4","v":1958.4499999999998},{"$f":"Données!$F247*C$4","v":1873.3000000000002},{"$f":"Données!$F247*D$4","v":1788.15},{"$f":"Données!$F247*E$4","v":1703},{"$f":"Données!$F247*F$4","v":1617.85},{"$f":"Données!$F247*G$4","v":1532.7},{"$f":"Données!$F247*H$4","v":1447.55}]
[null,4347,"Voroux-Goreux","Fexhe-Le-Haut-Clocher",2176,1703,{"$f":"Données!$E248*B$4","v":2502.3999999999996},{"$f":"Données!$E248*C$4","v":2393.6000000000004},{"$f":"Données!$E248*D$4","v":2284.8000000000002},{"$f":"Données!$E248*E$4","v":2176},{"$f":"Données!$E248*F$4","v":2067.1999999999998},{"$f":"Données!$E248*G$4","v":1958.4},{"$f":"Données!$E248*H$4","v":1849.6},{"$f":"Données!$F248*B$4","v":1958.4499999999998},{"$f":"Données!$F248*C$4","v":1873.3000000000002},{"$f":"Données!$F248*D$4","v":1788.15},{"$f":"Données!$F248*E$4","v":1703},{"$f":"Données!$F248*F$4","v":1617.85},{"$f":"Données!$F248*G$4","v":1532.7},{"$f":"Données!$F248*H$4","v":1447.55}]
[null,4347,"Fexhe-Le-Haut-Clocher","Fexhe-Le-Haut-Clocher",2176,1703,{"$f":"Données!$E249*B$4","v":2502.3999999999996},{"$f":"Données!$E249*C$4","v":2393.6000000000004},{"$f":"Données!$E249*D$4","v":2284.8000000000002},{"$f":"Données!$E249*E$4","v":2176},{"$f":"Données!$E249*F$4","v":2067.1999999999998},{"$f":"Données!$E249*G$4","v":1958.4},{"$f":"Données!$E249*H$4","v":1849.6},{"$f":"Données!$F249*B$4","v":1958.4499999999998},{"$f":"Données!$F249*C$4","v":1873.3000000000002},{"$f":"Données!$F249*D$4","v":1788.15},{"$f":"Données!$F249*E$4","v":1703},{"$f":"Données!$F249*F$4","v":1617.85},{"$f":"Données!$F249*G$4","v":1532.7},{"$f":"Données!$F249*H$4","v":1447.55}]
[null,4350,"Pousset","Remicourt",2143,1606,{"$f":"Données!$E250*B$4","v":2464.4499999999998},{"$f":"Données!$E250*C$4","v":2357.3000000000002},{"$f":"Données!$E250*D$4","v":2250.15},{"$f":"Données!$E250*E$4","v":2143},{"$f":"Données!$E250*F$4","v":2035.85},{"$f":"Données!$E250*G$4","v":1928.7},{"$f":"Données!$E250*H$4","v":1821.55},{"$f":"Données!$F250*B$4","v":1846.8999999999999},{"$f":"Données!$F250*C$4","v":1766.6000000000001},{"$f":"Données!$F250*D$4","v":1686.3000000000002},{"$f":"Données!$F250*E$4","v":1606},{"$f":"Données!$F250*F$4","v":1525.6999999999998},{"$f":"Données!$F250*G$4","v":1445.4},{"$f":"Données!$F250*H$4","v":1365.1}]
[null,4350,"Lamine","Remicourt",2143,1606,{"$f":"Données!$E251*B$4","v":2464.4499999999998},{"$f":"Données!$E251*C$4","v":2357.3000000000002},{"$f":"Données!$E251*D$4","v":2250.15},{"$f":"Données!$E251*E$4","v":2143},{"$f":"Données!$E251*F$4","v":2035.85},{"$f":"Données!$E251*G$4","v":1928.7},{"$f":"Données!$E251*H$4","v":1821.55},{"$f":"Données!$F251*B$4","v":1846.8999999999999},{"$f":"Données!$F251*C$4","v":1766.6000000000001},{"$f":"Données!$F251*D$4","v":1686.3000000000002},{"$f":"Données!$F251*E$4","v":1606},{"$f":"Données!$F251*F$4","v":1525.6999999999998},{"$f":"Données!$F251*G$4","v":1445.4},{"$f":"Données!$F251*H$4","v":1365.1}]
[null,4350,"Momalle","Remicourt",2143,1606,{"$f":"Données!$E252*B$4","v":2464.4499999999998},{"$f":"Données!$E252*C$4","v":2357.3000000000002},{"$f":"Données!$E252*D$4","v":2250.15},{"$f":"Données!$E252*E$4","v":2143},{"$f":"Données!$E252*F$4","v":2035.85},{"$f":"Données!$E252*G$4","v":1928.7},{"$f":"Données!$E252*H$4","v":1821.55},{"$f":"Données!$F252*B$4","v":1846.8999999999999},{"$f":"Données!$F252*C$4","v":1766.6000000000001},{"$f":"Données!$F252*D$4","v":1686.3000000000002},{"$f":"Données!$F252*E$4","v":1606},{"$f":"Données!$F252*F$4","v":1525.6999999999998},{"$f":"Données!$F252*G$4","v":1445.4},{"$f":"Données!$F252*H$4","v":1365.1}]
[null,4350,"Remicourt","Remicourt",2143,1606,{"$f":"Données!$E253*B$4","v":2464.4499999999998},{"$f":"Données!$E253*C$4","v":2357.3000000000002},{"$f":"Données!$E253*D$4","v":2250.15},{"$f":"Données!$E253*E$4","v":2143},{"$f":"Données!$E253*F$4","v":2035.85},{"$f":"Données!$E253*G$4","v":1928.7},{"$f":"Données!$E253*H$4","v":1821.55},{"$f":"Données!$F253*B$4","v":1846.8999999999999},{"$f":"Données!$F253*C$4","v":1766.6000000000001},{"$f":"Données!$F253*D$4","v":1686.3000000000002},{"$f":"Données!$F253*E$4","v":1606},{"$f":"Données!$F253*F$4","v":1525.6999999999998},{"$f":"Données!$F253*G$4","v":1445.4},{"$f":"Données!$F253*H$4","v":1365.1}]
[null,4351,"Hodeige","Remicourt",2143,1606,{"$f":"Données!$E254*B$4","v":2464.4499999999998},{"$f":"Données!$E254*C$4","v":2357.3000000000002},{"$f":"Données!$E254*D$4","v":2250.15},{"$f":"Données!$E254*E$4","v":2143},{"$f":"Données!$E254*F$4","v":2035.85},{"$f":"Données!$E254*G$4","v":1928.7},{"$f":"Données!$E254*H$4","v":1821.55},{"$f":"Données!$F254*B$4","v":1846.8999999999999},{"$f":"Données!$F254*C$4","v":1766.6000000000001},{"$f":"Données!$F254*D$4","v":1686.3000000000002},{"$f":"Données!$F254*E$4","v":1606},{"$f":"Données!$F254*F$4","v":1525.6999999999998},{"$f":"Données!$F254*G$4","v":1445.4},{"$f":"Données!$F254*H$4","v":1365.1}]
[null,4357,"Limont","Donceel",1976,1623,{"$f":"Données!$E255*B$4","v":2272.3999999999996},{"$f":"Données!$E255*C$4","v":2173.6000000000004},{"$f":"Données!$E255*D$4","v":2074.8000000000002},{"$f":"Données!$E255*E$4","v":1976},{"$f":"Données!$E255*F$4","v":1877.1999999999998},{"$f":"Données!$E255*G$4","v":1778.4},{"$f":"Données!$E255*H$4","v":1679.6},{"$f":"Données!$F255*B$4","v":1866.4499999999998},{"$f":"Données!$F255*C$4","v":1785.3000000000002},{"$f":"Données!$F255*D$4","v":1704.15},{"$f":"Données!$F255*E$4","v":1623},{"$f":"Données!$F255*F$4","v":1541.85},{"$f":"Données!$F255*G$4","v":1460.7},{"$f":"Données!$F255*H$4","v":1379.55}]
[null,4357,"Donceel","Donceel",1976,1623,{"$f":"Données!$E256*B$4","v":2272.3999999999996},{"$f":"Données!$E256*C$4","v":2173.6000000000004},{"$f":"Données!$E256*D$4","v":2074.8000000000002},{"$f":"Données!$E256*E$4","v":1976},{"$f":"Données!$E256*F$4","v":1877.1999999999998},{"$f":"Données!$E256*G$4","v":1778.4},{"$f":"Données!$E256*H$4","v":1679.6},{"$f":"Données!$F256*B$4","v":1866.4499999999998},{"$f":"Données!$F256*C$4","v":1785.3000000000002},{"$f":"Données!$F256*D$4","v":1704.15},{"$f":"Données!$F256*E$4","v":1623},{"$f":"Données!$F256*F$4","v":1541.85},{"$f":"Données!$F256*G$4","v":1460.7},{"$f":"Données!$F256*H$4","v":1379.55}]
[null,4357,"Jeneffe","Donceel",1976,1623,{"$f":"Données!$E257*B$4","v":2272.3999999999996},{"$f":"Données!$E257*C$4","v":2173.6000000000004},{"$f":"Données!$E257*D$4","v":2074.8000000000002},{"$f":"Données!$E257*E$4","v":1976},{"$f":"Données!$E257*F$4","v":1877.1999999999998},{"$f":"Données!$E257*G$4","v":1778.4},{"$f":"Données!$E257*H$4","v":1679.6},{"$f":"Données!$F257*B$4","v":1866.4499999999998},{"$f":"Données!$F257*C$4","v":1785.3000000000002},{"$f":"Données!$F257*D$4","v":1704.15},{"$f":"Données!$F257*E$4","v":1623},{"$f":"Données!$F257*F$4","v":1541.85},{"$f":"Données!$F257*G$4","v":1460.7},{"$f":"Données!$F257*H$4","v":1379.55}]
[null,4357,"Haneffe","Donceel",1976,1623,{"$f":"Données!$E258*B$4","v":2272.3999999999996},{"$f":"Données!$E258*C$4","v":2173.6000000000004},{"$f":"Données!$E258*D$4","v":2074.8000000000002},{"$f":"Données!$E258*E$4","v":1976},{"$f":"Données!$E258*F$4","v":1877.1999999999998},{"$f":"Données!$E258*G$4","v":1778.4},{"$f":"Données!$E258*H$4","v":1679.6},{"$f":"Données!$F258*B$4","v":1866.4499999999998},{"$f":"Données!$F258*C$4","v":1785.3000000000002},{"$f":"Données!$F258*D$4","v":1704.15},{"$f":"Données!$F258*E$4","v":1623},{"$f":"Données!$F258*F$4","v":1541.85},{"$f":"Données!$F258*G$4","v":1460.7},{"$f":"Données!$F258*H$4","v":1379.55}]
[null,4360,"Lens-Sur-Geer","Oreye",2106,1590,{"$f":"Données!$E259*B$4","v":2421.8999999999996},{"$f":"Données!$E259*C$4","v":2316.6000000000004},{"$f":"Données!$E259*D$4","v":2211.3000000000002},{"$f":"Données!$E259*E$4","v":2106},{"$f":"Données!$E259*F$4","v":2000.6999999999998},{"$f":"Données!$E259*G$4","v":1895.4},{"$f":"Données!$E259*H$4","v":1790.1},{"$f":"Données!$F259*B$4","v":1828.4999999999998},{"$f":"Données!$F259*C$4","v":1749.0000000000002},{"$f":"Données!$F259*D$4","v":1669.5},{"$f":"Données!$F259*E$4","v":1590},{"$f":"Données!$F259*F$4","v":1510.5},{"$f":"Données!$F259*G$4","v":1431},{"$f":"Données!$F259*H$4","v":1351.5}]
[null,4360,"Otrange","Oreye",2106,1590,{"$f":"Données!$E260*B$4","v":2421.8999999999996},{"$f":"Données!$E260*C$4","v":2316.6000000000004},{"$f":"Données!$E260*D$4","v":2211.3000000000002},{"$f":"Données!$E260*E$4","v":2106},{"$f":"Données!$E260*F$4","v":2000.6999999999998},{"$f":"Données!$E260*G$4","v":1895.4},{"$f":"Données!$E260*H$4","v":1790.1},{"$f":"Données!$F260*B$4","v":1828.4999999999998},{"$f":"Données!$F260*C$4","v":1749.0000000000002},{"$f":"Données!$F260*D$4","v":1669.5},{"$f":"Données!$F260*E$4","v":1590},{"$f":"Données!$F260*F$4","v":1510.5},{"$f":"Données!$F260*G$4","v":1431},{"$f":"Données!$F260*H$4","v":1351.5}]
[null,4360,"Bergilers","Oreye",2106,1590,{"$f":"Données!$E261*B$4","v":2421.8999999999996},{"$f":"Données!$E261*C$4","v":2316.6000000000004},{"$f":"Données!$E261*D$4","v":2211.3000000000002},{"$f":"Données!$E261*E$4","v":2106},{"$f":"Données!$E261*F$4","v":2000.6999999999998},{"$f":"Données!$E261*G$4","v":1895.4},{"$f":"Données!$E261*H$4","v":1790.1},{"$f":"Données!$F261*B$4","v":1828.4999999999998},{"$f":"Données!$F261*C$4","v":1749.0000000000002},{"$f":"Données!$F261*D$4","v":1669.5},{"$f":"Données!$F261*E$4","v":1590},{"$f":"Données!$F261*F$4","v":1510.5},{"$f":"Données!$F261*G$4","v":1431},{"$f":"Données!$F261*H$4","v":1351.5}]
[null,4360,"Grandville","Oreye",2106,1590,{"$f":"Données!$E262*B$4","v":2421.8999999999996},{"$f":"Données!$E262*C$4","v":2316.6000000000004},{"$f":"Données!$E262*D$4","v":2211.3000000000002},{"$f":"Données!$E262*E$4","v":2106},{"$f":"Données!$E262*F$4","v":2000.6999999999998},{"$f":"Données!$E262*G$4","v":1895.4},{"$f":"Données!$E262*H$4","v":1790.1},{"$f":"Données!$F262*B$4","v":1828.4999999999998},{"$f":"Données!$F262*C$4","v":1749.0000000000002},{"$f":"Données!$F262*D$4","v":1669.5},{"$f":"Données!$F262*E$4","v":1590},{"$f":"Données!$F262*F$4","v":1510.5},{"$f":"Données!$F262*G$4","v":1431},{"$f":"Données!$F262*H$4","v":1351.5}]
[null,4360,"Oreye","Oreye",2106,1590,{"$f":"Données!$E263*B$4","v":2421.8999999999996},{"$f":"Données!$E263*C$4","v":2316.6000000000004},{"$f":"Données!$E263*D$4","v":2211.3000000000002},{"$f":"Données!$E263*E$4","v":2106},{"$f":"Données!$E263*F$4","v":2000.6999999999998},{"$f":"Données!$E263*G$4","v":1895.4},{"$f":"Données!$E263*H$4","v":1790.1},{"$f":"Données!$F263*B$4","v":1828.4999999999998},{"$f":"Données!$F263*C$4","v":1749.0000000000002},{"$f":"Données!$F263*D$4","v":1669.5},{"$f":"Données!$F263*E$4","v":1590},{"$f":"Données!$F263*F$4","v":1510.5},{"$f":"Données!$F263*G$4","v":1431},{"$f":"Données!$F263*H$4","v":1351.5}]
[null,4367,"Crisnée","Crisnée",2263,1790,{"$f":"Données!$E264*B$4","v":2602.4499999999998},{"$f":"Données!$E264*C$4","v":2489.3000000000002},{"$f":"Données!$E264*D$4","v":2376.15},{"$f":"Données!$E264*E$4","v":2263},{"$f":"Données!$E264*F$4","v":2149.85},{"$f":"Données!$E264*G$4","v":2036.7},{"$f":"Données!$E264*H$4","v":1923.55},{"$f":"Données!$F264*B$4","v":2058.5},{"$f":"Données!$F264*C$4","v":1969.0000000000002},{"$f":"Données!$F264*D$4","v":1879.5},{"$f":"Données!$F264*E$4","v":1790},{"$f":"Données!$F264*F$4","v":1700.5},{"$f":"Données!$F264*G$4","v":1611},{"$f":"Données!$F264*H$4","v":1521.5}]
[null,4367,"Kemexhe","Crisnée",2263,1790,{"$f":"Données!$E265*B$4","v":2602.4499999999998},{"$f":"Données!$E265*C$4","v":2489.3000000000002},{"$f":"Données!$E265*D$4","v":2376.15},{"$f":"Données!$E265*E$4","v":2263},{"$f":"Données!$E265*F$4","v":2149.85},{"$f":"Données!$E265*G$4","v":2036.7},{"$f":"Données!$E265*H$4","v":1923.55},{"$f":"Données!$F265*B$4","v":2058.5},{"$f":"Données!$F265*C$4","v":1969.0000000000002},{"$f":"Données!$F265*D$4","v":1879.5},{"$f":"Données!$F265*E$4","v":1790},{"$f":"Données!$F265*F$4","v":1700.5},{"$f":"Données!$F265*G$4","v":1611},{"$f":"Données!$F265*H$4","v":1521.5}]
[null,4367,"Odeur","Crisnée",2263,1790,{"$f":"Données!$E266*B$4","v":2602.4499999999998},{"$f":"Données!$E266*C$4","v":2489.3000000000002},{"$f":"Données!$E266*D$4","v":2376.15},{"$f":"Données!$E266*E$4","v":2263},{"$f":"Données!$E266*F$4","v":2149.85},{"$f":"Données!$E266*G$4","v":2036.7},{"$f":"Données!$E266*H$4","v":1923.55},{"$f":"Données!$F266*B$4","v":2058.5},{"$f":"Données!$F266*C$4","v":1969.0000000000002},{"$f":"Données!$F266*D$4","v":1879.5},{"$f":"Données!$F266*E$4","v":1790},{"$f":"Données!$F266*F$4","v":1700.5},{"$f":"Données!$F266*G$4","v":1611},{"$f":"Données!$F266*H$4","v":1521.5}]
[null,4367,"Thys","Crisnée",2263,1790,{"$f":"Données!$E267*B$4","v":2602.4499999999998},{"$f":"Données!$E267*C$4","v":2489.3000000000002},{"$f":"Données!$E267*D$4","v":2376.15},{"$f":"Données!$E267*E$4","v":2263},{"$f":"Données!$E267*F$4","v":2149.85},{"$f":"Données!$E267*G$4","v":2036.7},{"$f":"Données!$E267*H$4","v":1923.55},{"$f":"Données!$F267*B$4","v":2058.5},{"$f":"Données!$F267*C$4","v":1969.0000000000002},{"$f":"Données!$F267*D$4","v":1879.5},{"$f":"Données!$F267*E$4","v":1790},{"$f":"Données!$F267*F$4","v":1700.5},{"$f":"Données!$F267*G$4","v":1611},{"$f":"Données!$F267*H$4","v":1521.5}]
[null,4367,"Fize-Le-Marsal","Crisnée",2263,1790,{"$f":"Données!$E268*B$4","v":2602.4499999999998},{"$f":"Données!$E268*C$4","v":2489.3000000000002},{"$f":"Données!$E268*D$4","v":2376.15},{"$f":"Données!$E268*E$4","v":2263},{"$f":"Données!$E268*F$4","v":2149.85},{"$f":"Données!$E268*G$4","v":2036.7},{"$f":"Données!$E268*H$4","v":1923.55},{"$f":"Données!$F268*B$4","v":2058.5},{"$f":"Données!$F268*C$4","v":1969.0000000000002},{"$f":"Données!$F268*D$4","v":1879.5},{"$f":"Données!$F268*E$4","v":1790},{"$f":"Données!$F268*F$4","v":1700.5},{"$f":"Données!$F268*G$4","v":1611},{"$f":"Données!$F268*H$4","v":1521.5}]
[null,4400,"Flémalle-Grande","Flémalle",1973,1557,{"$f":"Données!$E269*B$4","v":2268.9499999999998},{"$f":"Données!$E269*C$4","v":2170.3000000000002},{"$f":"Données!$E269*D$4","v":2071.65},{"$f":"Données!$E269*E$4","v":1973},{"$f":"Données!$E269*F$4","v":1874.35},{"$f":"Données!$E269*G$4","v":1775.7},{"$f":"Données!$E269*H$4","v":1677.05},{"$f":"Données!$F269*B$4","v":1790.55},{"$f":"Données!$F269*C$4","v":1712.7},{"$f":"Données!$F269*D$4","v":1634.8500000000001},{"$f":"Données!$F269*E$4","v":1557},{"$f":"Données!$F269*F$4","v":1479.1499999999999},{"$f":"Données!$F269*G$4","v":1401.3},{"$f":"Données!$F269*H$4","v":1323.45}]
[null,4400,"Awirs","Flémalle",1973,1557,{"$f":"Données!$E270*B$4","v":2268.9499999999998},{"$f":"Données!$E270*C$4","v":2170.3000000000002},{"$f":"Données!$E270*D$4","v":2071.65},{"$f":"Données!$E270*E$4","v":1973},{"$f":"Données!$E270*F$4","v":1874.35},{"$f":"Données!$E270*G$4","v":1775.7},{"$f":"Données!$E270*H$4","v":1677.05},{"$f":"Données!$F270*B$4","v":1790.55},{"$f":"Données!$F270*C$4","v":1712.7},{"$f":"Données!$F270*D$4","v":1634.8500000000001},{"$f":"Données!$F270*E$4","v":1557},{"$f":"Données!$F270*F$4","v":1479.1499999999999},{"$f":"Données!$F270*G$4","v":1401.3},{"$f":"Données!$F270*H$4","v":1323.45}]
[null,4400,"Chokier","Flémalle",1973,1557,{"$f":"Données!$E271*B$4","v":2268.9499999999998},{"$f":"Données!$E271*C$4","v":2170.3000000000002},{"$f":"Données!$E271*D$4","v":2071.65},{"$f":"Données!$E271*E$4","v":1973},{"$f":"Données!$E271*F$4","v":1874.35},{"$f":"Données!$E271*G$4","v":1775.7},{"$f":"Données!$E271*H$4","v":1677.05},{"$f":"Données!$F271*B$4","v":1790.55},{"$f":"Données!$F271*C$4","v":1712.7},{"$f":"Données!$F271*D$4","v":1634.8500000000001},{"$f":"Données!$F271*E$4","v":1557},{"$f":"Données!$F271*F$4","v":1479.1499999999999},{"$f":"Données!$F271*G$4","v":1401.3},{"$f":"Données!$F271*H$4","v":1323.45}]
[null,4400,"Flémalle","Flémalle",1973,1557,{"$f":"Données!$E272*B$4","v":2268.9499999999998},{"$f":"Données!$E272*C$4","v":2170.3000000000002},{"$f":"Données!$E272*D$4","v":2071.65},{"$f":"Données!$E272*E$4","v":1973},{"$f":"Données!$E272*F$4","v":1874.35},{"$f":"Données!$E272*G$4","v":1775.7},{"$f":"Données!$E272*H$4","v":1677.05},{"$f":"Données!$F272*B$4","v":1790.55},{"$f":"Données!$F272*C$4","v":1712.7},{"$f":"Données!$F272*D$4","v":1634.8500000000001},{"$f":"Données!$F272*E$4","v":1557},{"$f":"Données!$F272*F$4","v":1479.1499999999999},{"$f":"Données!$F272*G$4","v":1401.3},{"$f":"Données!$F272*H$4","v":1323.45}]
[null,4400,"Ivoz-Ramet","Flémalle",1973,1557,{"$f":"Données!$E273*B$4","v":2268.9499999999998},{"$f":"Données!$E273*C$4","v":2170.3000000000002},{"$f":"Données!$E273*D$4","v":2071.65},{"$f":"Données!$E273*E$4","v":1973},{"$f":"Données!$E273*F$4","v":1874.35},{"$f":"Données!$E273*G$4","v":1775.7},{"$f":"Données!$E273*H$4","v":1677.05},{"$f":"Données!$F273*B$4","v":1790.55},{"$f":"Données!$F273*C$4","v":1712.7},{"$f":"Données!$F273*D$4","v":1634.8500000000001},{"$f":"Données!$F273*E$4","v":1557},{"$f":"Données!$F273*F$4","v":1479.1499999999999},{"$f":"Données!$F273*G$4","v":1401.3},{"$f":"Données!$F273*H$4","v":1323.45}]
[null,4400,"Flémalle-Haute","Flémalle",1973,1557,{"$f":"Données!$E274*B$4","v":2268.9499999999998},{"$f":"Données!$E274*C$4","v":2170.3000000000002},{"$f":"Données!$E274*D$4","v":2071.65},{"$f":"Données!$E274*E$4","v":1973},{"$f":"Données!$E274*F$4","v":1874.35},{"$f":"Données!$E274*G$4","v":1775.7},{"$f":"Données!$E274*H$4","v":1677.05},{"$f":"Données!$F274*B$4","v":1790.55},{"$f":"Données!$F274*C$4","v":1712.7},{"$f":"Données!$F274*D$4","v":1634.8500000000001},{"$f":"Données!$F274*E$4","v":1557},{"$f":"Données!$F274*F$4","v":1479.1499999999999},{"$f":"Données!$F274*G$4","v":1401.3},{"$f":"Données!$F274*H$4","v":1323.45}]
[null,4400,"Mons-Lez-Liège","Flémalle",1973,1557,{"$f":"Données!$E275*B$4","v":2268.9499999999998},{"$f":"Données!$E275*C$4","v":2170.3000000000002},{"$f":"Données!$E275*D$4","v":2071.65},{"$f":"Données!$E275*E$4","v":1973},{"$f":"Données!$E275*F$4","v":1874.35},{"$f":"Données!$E275*G$4","v":1775.7},{"$f":"Données!$E275*H$4","v":1677.05},{"$f":"Données!$F275*B$4","v":1790.55},{"$f":"Données!$F275*C$4","v":1712.7},{"$f":"Données!$F275*D$4","v":1634.8500000000001},{"$f":"Données!$F275*E$4","v":1557},{"$f":"Données!$F275*F$4","v":1479.1499999999999},{"$f":"Données!$F275*G$4","v":1401.3},{"$f":"Données!$F275*H$4","v":1323.45}]
[null,4420,"Montegnée","Saint-Nicolas",2069,1529,{"$f":"Données!$E276*B$4","v":2379.35},{"$f":"Données!$E276*C$4","v":2275.9},{"$f":"Données!$E276*D$4","v":2172.4500000000003},{"$f":"Données!$E276*E$4","v":2069},{"$f":"Données!$E276*F$4","v":1965.55},{"$f":"Données!$E276*G$4","v":1862.1000000000001},{"$f":"Données!$E276*H$4","v":1758.6499999999999},{"$f":"Données!$F276*B$4","v":1758.35},{"$f":"Données!$F276*C$4","v":1681.9},{"$f":"Données!$F276*D$4","v":1605.45},{"$f":"Données!$F276*E$4","v":1529},{"$f":"Données!$F276*F$4","v":1452.55},{"$f":"Données!$F276*G$4","v":1376.1000000000001},{"$f":"Données!$F276*H$4","v":1299.6499999999999}]
[null,4420,"Tilleur","Saint-Nicolas",2069,1529,{"$f":"Données!$E277*B$4","v":2379.35},{"$f":"Données!$E277*C$4","v":2275.9},{"$f":"Données!$E277*D$4","v":2172.4500000000003},{"$f":"Données!$E277*E$4","v":2069},{"$f":"Données!$E277*F$4","v":1965.55},{"$f":"Données!$E277*G$4","v":1862.1000000000001},{"$f":"Données!$E277*H$4","v":1758.6499999999999},{"$f":"Données!$F277*B$4","v":1758.35},{"$f":"Données!$F277*C$4","v":1681.9},{"$f":"Données!$F277*D$4","v":1605.45},{"$f":"Données!$F277*E$4","v":1529},{"$f":"Données!$F277*F$4","v":1452.55},{"$f":"Données!$F277*G$4","v":1376.1000000000001},{"$f":"Données!$F277*H$4","v":1299.6499999999999}]
[null,4420,"Saint-Nicolas","Saint-Nicolas",2069,1529,{"$f":"Données!$E278*B$4","v":2379.35},{"$f":"Données!$E278*C$4","v":2275.9},{"$f":"Données!$E278*D$4","v":2172.4500000000003},{"$f":"Données!$E278*E$4","v":2069},{"$f":"Données!$E278*F$4","v":1965.55},{"$f":"Données!$E278*G$4","v":1862.1000000000001},{"$f":"Données!$E278*H$4","v":1758.6499999999999},{"$f":"Données!$F278*B$4","v":1758.35},{"$f":"Données!$F278*C$4","v":1681.9},{"$f":"Données!$F278*D$4","v":1605.45},{"$f":"Données!$F278*E$4","v":1529},{"$f":"Données!$F278*F$4","v":1452.55},{"$f":"Données!$F278*G$4","v":1376.1000000000001},{"$f":"Données!$F278*H$4","v":1299.6499999999999}]
[null,4430,"Ans","Ans",2206,1705,{"$f":"Données!$E279*B$4","v":2536.8999999999996},{"$f":"Données!$E279*C$4","v":2426.6000000000004},{"$f":"Données!$E279*D$4","v":2316.3000000000002},{"$f":"Données!$E279*E$4","v":2206},{"$f":"Données!$E279*F$4","v":2095.6999999999998},{"$f":"Données!$E279*G$4","v":1985.4},{"$f":"Données!$E279*H$4","v":1875.1},{"$f":"Données!$F279*B$4","v":1960.7499999999998},{"$f":"Données!$F279*C$4","v":1875.5000000000002},{"$f":"Données!$F279*D$4","v":1790.25},{"$f":"Données!$F279*E$4","v":1705},{"$f":"Données!$F279*F$4","v":1619.75},{"$f":"Données!$F279*G$4","v":1534.5},{"$f":"Données!$F279*H$4","v":1449.25}]
[null,4431,"Loncin","Ans",2206,1705,{"$f":"Données!$E280*B$4","v":2536.8999999999996},{"$f":"Données!$E280*C$4","v":2426.6000000000004},{"$f":"Données!$E280*D$4","v":2316.3000000000002},{"$f":"Données!$E280*E$4","v":2206},{"$f":"Données!$E280*F$4","v":2095.6999999999998},{"$f":"Données!$E280*G$4","v":1985.4},{"$f":"Données!$E280*H$4","v":1875.1},{"$f":"Données!$F280*B$4","v":1960.7499999999998},{"$f":"Données!$F280*C$4","v":1875.5000000000002},{"$f":"Données!$F280*D$4","v":1790.25},{"$f":"Données!$F280*E$4","v":1705},{"$f":"Données!$F280*F$4","v":1619.75},{"$f":"Données!$F280*G$4","v":1534.5},{"$f":"Données!$F280*H$4","v":1449.25}]
[null,4432,"Xhendremael","Ans",2206,1705,{"$f":"Données!$E281*B$4","v":2536.8999999999996},{"$f":"Données!$E281*C$4","v":2426.6000000000004},{"$f":"Données!$E281*D$4","v":2316.3000000000002},{"$f":"Données!$E281*E$4","v":2206},{"$f":"Données!$E281*F$4","v":2095.6999999999998},{"$f":"Données!$E281*G$4","v":1985.4},{"$f":"Données!$E281*H$4","v":1875.1},{"$f":"Données!$F281*B$4","v":1960.7499999999998},{"$f":"Données!$F281*C$4","v":1875.5000000000002},{"$f":"Données!$F281*D$4","v":1790.25},{"$f":"Données!$F281*E$4","v":1705},{"$f":"Données!$F281*F$4","v":1619.75},{"$f":"Données!$F281*G$4","v":1534.5},{"$f":"Données!$F281*H$4","v":1449.25}]
[null,4432,"Alleur","Ans",2206,1705,{"$f":"Données!$E282*B$4","v":2536.8999999999996},{"$f":"Données!$E282*C$4","v":2426.6000000000004},{"$f":"Données!$E282*D$4","v":2316.3000000000002},{"$f":"Données!$E282*E$4","v":2206},{"$f":"Données!$E282*F$4","v":2095.6999999999998},{"$f":"Données!$E282*G$4","v":1985.4},{"$f":"Données!$E282*H$4","v":1875.1},{"$f":"Données!$F282*B$4","v":1960.7499999999998},{"$f":"Données!$F282*C$4","v":1875.5000000000002},{"$f":"Données!$F282*D$4","v":1790.25},{"$f":"Données!$F282*E$4","v":1705},{"$f":"Données!$F282*F$4","v":1619.75},{"$f":"Données!$F282*G$4","v":1534.5},{"$f":"Données!$F282*H$4","v":1449.25}]
[null,4450,"Lantin","Juprelle",2153,1743,{"$f":"Données!$E283*B$4","v":2475.9499999999998},{"$f":"Données!$E283*C$4","v":2368.3000000000002},{"$f":"Données!$E283*D$4","v":2260.65},{"$f":"Données!$E283*E$4","v":2153},{"$f":"Données!$E283*F$4","v":2045.35},{"$f":"Données!$E283*G$4","v":1937.7},{"$f":"Données!$E283*H$4","v":1830.05},{"$f":"Données!$F283*B$4","v":2004.4499999999998},{"$f":"Données!$F283*C$4","v":1917.3000000000002},{"$f":"Données!$F283*D$4","v":1830.15},{"$f":"Données!$F283*E$4","v":1743},{"$f":"Données!$F283*F$4","v":1655.85},{"$f":"Données!$F283*G$4","v":1568.7},{"$f":"Données!$F283*H$4","v":1481.55}]
[null,4450,"Slins","Juprelle",2153,1743,{"$f":"Données!$E284*B$4","v":2475.9499999999998},{"$f":"Données!$E284*C$4","v":2368.3000000000002},{"$f":"Données!$E284*D$4","v":2260.65},{"$f":"Données!$E284*E$4","v":2153},{"$f":"Données!$E284*F$4","v":2045.35},{"$f":"Données!$E284*G$4","v":1937.7},{"$f":"Données!$E284*H$4","v":1830.05},{"$f":"Données!$F284*B$4","v":2004.4499999999998},{"$f":"Données!$F284*C$4","v":1917.3000000000002},{"$f":"Données!$F284*D$4","v":1830.15},{"$f":"Données!$F284*E$4","v":1743},{"$f":"Données!$F284*F$4","v":1655.85},{"$f":"Données!$F284*G$4","v":1568.7},{"$f":"Données!$F284*H$4","v":1481.55}]
[null,4450,"Juprelle","Juprelle",2153,1743,{"$f":"Données!$E285*B$4","v":2475.9499999999998},{"$f":"Données!$E285*C$4","v":2368.3000000000002},{"$f":"Données!$E285*D$4","v":2260.65},{"$f":"Données!$E285*E$4","v":2153},{"$f":"Données!$E285*F$4","v":2045.35},{"$f":"Données!$E285*G$4","v":1937.7},{"$f":"Données!$E285*H$4","v":1830.05},{"$f":"Données!$F285*B$4","v":2004.4499999999998},{"$f":"Données!$F285*C$4","v":1917.3000000000002},{"$f":"Données!$F285*D$4","v":1830.15},{"$f":"Données!$F285*E$4","v":1743},{"$f":"Données!$F285*F$4","v":1655.85},{"$f":"Données!$F285*G$4","v":1568.7},{"$f":"Données!$F285*H$4","v":1481.55}]
[null,4451,"Voroux-Lez-Liers","Juprelle",2153,1743,{"$f":"Données!$E286*B$4","v":2475.9499999999998},{"$f":"Données!$E286*C$4","v":2368.3000000000002},{"$f":"Données!$E286*D$4","v":2260.65},{"$f":"Données!$E286*E$4","v":2153},{"$f":"Données!$E286*F$4","v":2045.35},{"$f":"Données!$E286*G$4","v":1937.7},{"$f":"Données!$E286*H$4","v":1830.05},{"$f":"Données!$F286*B$4","v":2004.4499999999998},{"$f":"Données!$F286*C$4","v":1917.3000000000002},{"$f":"Données!$F286*D$4","v":1830.15},{"$f":"Données!$F286*E$4","v":1743},{"$f":"Données!$F286*F$4","v":1655.85},{"$f":"Données!$F286*G$4","v":1568.7},{"$f":"Données!$F286*H$4","v":1481.55}]
[null,4452,"Paifve","Juprelle",2153,1743,{"$f":"Données!$E287*B$4","v":2475.9499999999998},{"$f":"Données!$E287*C$4","v":2368.3000000000002},{"$f":"Données!$E287*D$4","v":2260.65},{"$f":"Données!$E287*E$4","v":2153},{"$f":"Données!$E287*F$4","v":2045.35},{"$f":"Données!$E287*G$4","v":1937.7},{"$f":"Données!$E287*H$4","v":1830.05},{"$f":"Données!$F287*B$4","v":2004.4499999999998},{"$f":"Données!$F287*C$4","v":1917.3000000000002},{"$f":"Données!$F287*D$4","v":1830.15},{"$f":"Données!$F287*E$4","v":1743},{"$f":"Données!$F287*F$4","v":1655.85},{"$f":"Données!$F287*G$4","v":1568.7},{"$f":"Données!$F287*H$4","v":1481.55}]
[null,4452,"Wihogne","Juprelle",2153,1743,{"$f":"Données!$E288*B$4","v":2475.9499999999998},{"$f":"Données!$E288*C$4","v":2368.3000000000002},{"$f":"Données!$E288*D$4","v":2260.65},{"$f":"Données!$E288*E$4","v":2153},{"$f":"Données!$E288*F$4","v":2045.35},{"$f":"Données!$E288*G$4","v":1937.7},{"$f":"Données!$E288*H$4","v":1830.05},{"$f":"Données!$F288*B$4","v":2004.4499999999998},{"$f":"Données!$F288*C$4","v":1917.3000000000002},{"$f":"Données!$F288*D$4","v":1830.15},{"$f":"Données!$F288*E$4","v":1743},{"$f":"Données!$F288*F$4","v":1655.85},{"$f":"Données!$F288*G$4","v":1568.7},{"$f":"Données!$F288*H$4","v":1481.55}]
[null,4453,"Villers-Saint-Siméon","Juprelle",2153,1743,{"$f":"Données!$E289*B$4","v":2475.9499999999998},{"$f":"Données!$E289*C$4","v":2368.3000000000002},{"$f":"Données!$E289*D$4","v":2260.65},{"$f":"Données!$E289*E$4","v":2153},{"$f":"Données!$E289*F$4","v":2045.35},{"$f":"Données!$E289*G$4","v":1937.7},{"$f":"Données!$E289*H$4","v":1830.05},{"$f":"Données!$F289*B$4","v":2004.4499999999998},{"$f":"Données!$F289*C$4","v":1917.3000000000002},{"$f":"Données!$F289*D$4","v":1830.15},{"$f":"Données!$F289*E$4","v":1743},{"$f":"Données!$F289*F$4","v":1655.85},{"$f":"Données!$F289*G$4","v":1568.7},{"$f":"Données!$F289*H$4","v":1481.55}]
[null,4458,"Fexhe-Slins","Juprelle",2153,1743,{"$f":"Données!$E290*B$4","v":2475.9499999999998},{"$f":"Données!$E290*C$4","v":2368.3000000000002},{"$f":"Données!$E290*D$4","v":2260.65},{"$f":"Données!$E290*E$4","v":2153},{"$f":"Données!$E290*F$4","v":2045.35},{"$f":"Données!$E290*G$4","v":1937.7},{"$f":"Données!$E290*H$4","v":1830.05},{"$f":"Données!$F290*B$4","v":2004.4499999999998},{"$f":"Données!$F290*C$4","v":1917.3000000000002},{"$f":"Données!$F290*D$4","v":1830.15},{"$f":"Données!$F290*E$4","v":1743},{"$f":"Données!$F290*F$4","v":1655.85},{"$f":"Données!$F290*G$4","v":1568.7},{"$f":"Données!$F290*H$4","v":1481.55}]
[null,4460,"Velroux","Grâce-Hollogne",1965,1548,{"$f":"Données!$E291*B$4","v":2259.75},{"$f":"Données!$E291*C$4","v":2161.5},{"$f":"Données!$E291*D$4","v":2063.25},{"$f":"Données!$E291*E$4","v":1965},{"$f":"Données!$E291*F$4","v":1866.75},{"$f":"Données!$E291*G$4","v":1768.5},{"$f":"Données!$E291*H$4","v":1670.25},{"$f":"Données!$F291*B$4","v":1780.1999999999998},{"$f":"Données!$F291*C$4","v":1702.8000000000002},{"$f":"Données!$F291*D$4","v":1625.4},{"$f":"Données!$F291*E$4","v":1548},{"$f":"Données!$F291*F$4","v":1470.6},{"$f":"Données!$F291*G$4","v":1393.2},{"$f":"Données!$F291*H$4","v":1315.8}]
[null,4460,"Bierset","Grâce-Hollogne",1965,1548,{"$f":"Données!$E292*B$4","v":2259.75},{"$f":"Données!$E292*C$4","v":2161.5},{"$f":"Données!$E292*D$4","v":2063.25},{"$f":"Données!$E292*E$4","v":1965},{"$f":"Données!$E292*F$4","v":1866.75},{"$f":"Données!$E292*G$4","v":1768.5},{"$f":"Données!$E292*H$4","v":1670.25},{"$f":"Données!$F292*B$4","v":1780.1999999999998},{"$f":"Données!$F292*C$4","v":1702.8000000000002},{"$f":"Données!$F292*D$4","v":1625.4},{"$f":"Données!$F292*E$4","v":1548},{"$f":"Données!$F292*F$4","v":1470.6},{"$f":"Données!$F292*G$4","v":1393.2},{"$f":"Données!$F292*H$4","v":1315.8}]
[null,4460,"Hollogne-Aux-Pierres","Grâce-Hollogne",1965,1548,{"$f":"Données!$E293*B$4","v":2259.75},{"$f":"Données!$E293*C$4","v":2161.5},{"$f":"Données!$E293*D$4","v":2063.25},{"$f":"Données!$E293*E$4","v":1965},{"$f":"Données!$E293*F$4","v":1866.75},{"$f":"Données!$E293*G$4","v":1768.5},{"$f":"Données!$E293*H$4","v":1670.25},{"$f":"Données!$F293*B$4","v":1780.1999999999998},{"$f":"Données!$F293*C$4","v":1702.8000000000002},{"$f":"Données!$F293*D$4","v":1625.4},{"$f":"Données!$F293*E$4","v":1548},{"$f":"Données!$F293*F$4","v":1470.6},{"$f":"Données!$F293*G$4","v":1393.2},{"$f":"Données!$F293*H$4","v":1315.8}]
[null,4460,"Grâce-Hollogne","Grâce-Hollogne",1965,1548,{"$f":"Données!$E294*B$4","v":2259.75},{"$f":"Données!$E294*C$4","v":2161.5},{"$f":"Données!$E294*D$4","v":2063.25},{"$f":"Données!$E294*E$4","v":1965},{"$f":"Données!$E294*F$4","v":1866.75},{"$f":"Données!$E294*G$4","v":1768.5},{"$f":"Données!$E294*H$4","v":1670.25},{"$f":"Données!$F294*B$4","v":1780.1999999999998},{"$f":"Données!$F294*C$4","v":1702.8000000000002},{"$f":"Données!$F294*D$4","v":1625.4},{"$f":"Données!$F294*E$4","v":1548},{"$f":"Données!$F294*F$4","v":1470.6},{"$f":"Données!$F294*G$4","v":1393.2},{"$f":"Données!$F294*H$4","v":1315.8}]
[null,4460,"Horion-Hozémont","Grâce-Hollogne",1965,1548,{"$f":"Données!$E295*B$4","v":2259.75},{"$f":"Données!$E295*C$4","v":2161.5},{"$f":"Données!$E295*D$4","v":2063.25},{"$f":"Données!$E295*E$4","v":1965},{"$f":"Données!$E295*F$4","v":1866.75},{"$f":"Données!$E295*G$4","v":1768.5},{"$f":"Données!$E295*H$4","v":1670.25},{"$f":"Données!$F295*B$4","v":1780.1999999999998},{"$f":"Données!$F295*C$4","v":1702.8000000000002},{"$f":"Données!$F295*D$4","v":1625.4},{"$f":"Données!$F295*E$4","v":1548},{"$f":"Données!$F295*F$4","v":1470.6},{"$f":"Données!$F295*G$4","v":1393.2},{"$f":"Données!$F295*H$4","v":1315.8}]
[null,4460,"Grâce-Berleur","Grâce-Hollogne",1965,1548,{"$f":"Données!$E296*B$4","v":2259.75},{"$f":"Données!$E296*C$4","v":2161.5},{"$f":"Données!$E296*D$4","v":2063.25},{"$f":"Données!$E296*E$4","v":1965},{"$f":"Données!$E296*F$4","v":1866.75},{"$f":"Données!$E296*G$4","v":1768.5},{"$f":"Données!$E296*H$4","v":1670.25},{"$f":"Données!$F296*B$4","v":1780.1999999999998},{"$f":"Données!$F296*C$4","v":1702.8000000000002},{"$f":"Données!$F296*D$4","v":1625.4},{"$f":"Données!$F296*E$4","v":1548},{"$f":"Données!$F296*F$4","v":1470.6},{"$f":"Données!$F296*G$4","v":1393.2},{"$f":"Données!$F296*H$4","v":1315.8}]
[null,4470,"Saint-Georges-Sur-Meuse","Waremme",2028,1540,{"$f":"Données!$E297*B$4","v":2332.1999999999998},{"$f":"Données!$E297*C$4","v":2230.8000000000002},{"$f":"Données!$E297*D$4","v":2129.4},{"$f":"Données!$E297*E$4","v":2028},{"$f":"Données!$E297*F$4","v":1926.6},{"$f":"Données!$E297*G$4","v":1825.2},{"$f":"Données!$E297*H$4","v":1723.8},{"$f":"Données!$F297*B$4","v":1770.9999999999998},{"$f":"Données!$F297*C$4","v":1694.0000000000002},{"$f":"Données!$F297*D$4","v":1617},{"$f":"Données!$F297*E$4","v":1540},{"$f":"Données!$F297*F$4","v":1463},{"$f":"Données!$F297*G$4","v":1386},{"$f":"Données!$F297*H$4","v":1309}]
[null,4480,"Clermont-Sous-Huy","Engis",1718,1492,{"$f":"Données!$E298*B$4","v":1975.6999999999998},{"$f":"Données!$E298*C$4","v":1889.8000000000002},{"$f":"Données!$E298*D$4","v":1803.9},{"$f":"Données!$E298*E$4","v":1718},{"$f":"Données!$E298*F$4","v":1632.1},{"$f":"Données!$E298*G$4","v":1546.2},{"$f":"Données!$E298*H$4","v":1460.3},{"$f":"Données!$F298*B$4","v":1715.8},{"$f":"Données!$F298*C$4","v":1641.2},{"$f":"Données!$F298*D$4","v":1566.6000000000001},{"$f":"Données!$F298*E$4","v":1492},{"$f":"Données!$F298*F$4","v":1417.3999999999999},{"$f":"Données!$F298*G$4","v":1342.8},{"$f":"Données!$F298*H$4","v":1268.2}]
[null,4480,"Engis","Engis",1718,1492,{"$f":"Données!$E299*B$4","v":1975.6999999999998},{"$f":"Données!$E299*C$4","v":1889.8000000000002},{"$f":"Données!$E299*D$4","v":1803.9},{"$f":"Données!$E299*E$4","v":1718},{"$f":"Données!$E299*F$4","v":1632.1},{"$f":"Données!$E299*G$4","v":1546.2},{"$f":"Données!$E299*H$4","v":1460.3},{"$f":"Données!$F299*B$4","v":1715.8},{"$f":"Données!$F299*C$4","v":1641.2},{"$f":"Données!$F299*D$4","v":1566.6000000000001},{"$f":"Données!$F299*E$4","v":1492},{"$f":"Données!$F299*F$4","v":1417.3999999999999},{"$f":"Données!$F299*G$4","v":1342.8},{"$f":"Données!$F299*H$4","v":1268.2}]
[null,4480,"Hermalle-Sous-Huy","Engis",1718,1492,{"$f":"Données!$E300*B$4","v":1975.6999999999998},{"$f":"Données!$E300*C$4","v":1889.8000000000002},{"$f":"Données!$E300*D$4","v":1803.9},{"$f":"Données!$E300*E$4","v":1718},{"$f":"Données!$E300*F$4","v":1632.1},{"$f":"Données!$E300*G$4","v":1546.2},{"$f":"Données!$E300*H$4","v":1460.3},{"$f":"Données!$F300*B$4","v":1715.8},{"$f":"Données!$F300*C$4","v":1641.2},{"$f":"Données!$F300*D$4","v":1566.6000000000001},{"$f":"Données!$F300*E$4","v":1492},{"$f":"Données!$F300*F$4","v":1417.3999999999999},{"$f":"Données!$F300*G$4","v":1342.8},{"$f":"Données!$F300*H$4","v":1268.2}]
[null,4480,"Ehein","Engis",1718,1492,{"$f":"Données!$E301*B$4","v":1975.6999999999998},{"$f":"Données!$E301*C$4","v":1889.8000000000002},{"$f":"Données!$E301*D$4","v":1803.9},{"$f":"Données!$E301*E$4","v":1718},{"$f":"Données!$E301*F$4","v":1632.1},{"$f":"Données!$E301*G$4","v":1546.2},{"$f":"Données!$E301*H$4","v":1460.3},{"$f":"Données!$F301*B$4","v":1715.8},{"$f":"Données!$F301*C$4","v":1641.2},{"$f":"Données!$F301*D$4","v":1566.6000000000001},{"$f":"Données!$F301*E$4","v":1492},{"$f":"Données!$F301*F$4","v":1417.3999999999999},{"$f":"Données!$F301*G$4","v":1342.8},{"$f":"Données!$F301*H$4","v":1268.2}]
[null,4500,"Tihange","Huy",2082,1547,{"$f":"Données!$E302*B$4","v":2394.2999999999997},{"$f":"Données!$E302*C$4","v":2290.2000000000003},{"$f":"Données!$E302*D$4","v":2186.1},{"$f":"Données!$E302*E$4","v":2082},{"$f":"Données!$E302*F$4","v":1977.8999999999999},{"$f":"Données!$E302*G$4","v":1873.8},{"$f":"Données!$E302*H$4","v":1769.7},{"$f":"Données!$F302*B$4","v":1779.05},{"$f":"Données!$F302*C$4","v":1701.7},{"$f":"Données!$F302*D$4","v":1624.3500000000001},{"$f":"Données!$F302*E$4","v":1547},{"$f":"Données!$F302*F$4","v":1469.6499999999999},{"$f":"Données!$F302*G$4","v":1392.3},{"$f":"Données!$F302*H$4","v":1314.95}]
[null,4500,"Ben-Ahin","Huy",2082,1547,{"$f":"Données!$E303*B$4","v":2394.2999999999997},{"$f":"Données!$E303*C$4","v":2290.2000000000003},{"$f":"Données!$E303*D$4","v":2186.1},{"$f":"Données!$E303*E$4","v":2082},{"$f":"Données!$E303*F$4","v":1977.8999999999999},{"$f":"Données!$E303*G$4","v":1873.8},{"$f":"Données!$E303*H$4","v":1769.7},{"$f":"Données!$F303*B$4","v":1779.05},{"$f":"Données!$F303*C$4","v":1701.7},{"$f":"Données!$F303*D$4","v":1624.3500000000001},{"$f":"Données!$F303*E$4","v":1547},{"$f":"Données!$F303*F$4","v":1469.6499999999999},{"$f":"Données!$F303*G$4","v":1392.3},{"$f":"Données!$F303*H$4","v":1314.95}]
[null,4500,"Huy","Huy",2082,1547,{"$f":"Données!$E304*B$4","v":2394.2999999999997},{"$f":"Données!$E304*C$4","v":2290.2000000000003},{"$f":"Données!$E304*D$4","v":2186.1},{"$f":"Données!$E304*E$4","v":2082},{"$f":"Données!$E304*F$4","v":1977.8999999999999},{"$f":"Données!$E304*G$4","v":1873.8},{"$f":"Données!$E304*H$4","v":1769.7},{"$f":"Données!$F304*B$4","v":1779.05},{"$f":"Données!$F304*C$4","v":1701.7},{"$f":"Données!$F304*D$4","v":1624.3500000000001},{"$f":"Données!$F304*E$4","v":1547},{"$f":"Données!$F304*F$4","v":1469.6499999999999},{"$f":"Données!$F304*G$4","v":1392.3},{"$f":"Données!$F304*H$4","v":1314.95}]
[null,4520,"Bas-Oha","Wanze",2082,1595,{"$f":"Données!$E305*B$4","v":2394.2999999999997},{"$f":"Données!$E305*C$4","v":2290.2000000000003},{"$f":"Données!$E305*D$4","v":2186.1},{"$f":"Données!$E305*E$4","v":2082},{"$f":"Données!$E305*F$4","v":1977.8999999999999},{"$f":"Données!$E305*G$4","v":1873.8},{"$f":"Données!$E305*H$4","v":1769.7},{"$f":"Données!$F305*B$4","v":1834.2499999999998},{"$f":"Données!$F305*C$4","v":1754.5000000000002},{"$f":"Données!$F305*D$4","v":1674.75},{"$f":"Données!$F305*E$4","v":1595},{"$f":"Données!$F305*F$4","v":1515.25},{"$f":"Données!$F305*G$4","v":1435.5},{"$f":"Données!$F305*H$4","v":1355.75}]
[null,4520,"Huccorgne","Wanze",2082,1595,{"$f":"Données!$E306*B$4","v":2394.2999999999997},{"$f":"Données!$E306*C$4","v":2290.2000000000003},{"$f":"Données!$E306*D$4","v":2186.1},{"$f":"Données!$E306*E$4","v":2082},{"$f":"Données!$E306*F$4","v":1977.8999999999999},{"$f":"Données!$E306*G$4","v":1873.8},{"$f":"Données!$E306*H$4","v":1769.7},{"$f":"Données!$F306*B$4","v":1834.2499999999998},{"$f":"Données!$F306*C$4","v":1754.5000000000002},{"$f":"Données!$F306*D$4","v":1674.75},{"$f":"Données!$F306*E$4","v":1595},{"$f":"Données!$F306*F$4","v":1515.25},{"$f":"Données!$F306*G$4","v":1435.5},{"$f":"Données!$F306*H$4","v":1355.75}]
[null,4520,"Vinalmont","Wanze",2082,1595,{"$f":"Données!$E307*B$4","v":2394.2999999999997},{"$f":"Données!$E307*C$4","v":2290.2000000000003},{"$f":"Données!$E307*D$4","v":2186.1},{"$f":"Données!$E307*E$4","v":2082},{"$f":"Données!$E307*F$4","v":1977.8999999999999},{"$f":"Données!$E307*G$4","v":1873.8},{"$f":"Données!$E307*H$4","v":1769.7},{"$f":"Données!$F307*B$4","v":1834.2499999999998},{"$f":"Données!$F307*C$4","v":1754.5000000000002},{"$f":"Données!$F307*D$4","v":1674.75},{"$f":"Données!$F307*E$4","v":1595},{"$f":"Données!$F307*F$4","v":1515.25},{"$f":"Données!$F307*G$4","v":1435.5},{"$f":"Données!$F307*H$4","v":1355.75}]
[null,4520,"Antheit","Wanze",2082,1595,{"$f":"Données!$E308*B$4","v":2394.2999999999997},{"$f":"Données!$E308*C$4","v":2290.2000000000003},{"$f":"Données!$E308*D$4","v":2186.1},{"$f":"Données!$E308*E$4","v":2082},{"$f":"Données!$E308*F$4","v":1977.8999999999999},{"$f":"Données!$E308*G$4","v":1873.8},{"$f":"Données!$E308*H$4","v":1769.7},{"$f":"Données!$F308*B$4","v":1834.2499999999998},{"$f":"Données!$F308*C$4","v":1754.5000000000002},{"$f":"Données!$F308*D$4","v":1674.75},{"$f":"Données!$F308*E$4","v":1595},{"$f":"Données!$F308*F$4","v":1515.25},{"$f":"Données!$F308*G$4","v":1435.5},{"$f":"Données!$F308*H$4","v":1355.75}]
[null,4520,"Moha","Wanze",2082,1595,{"$f":"Données!$E309*B$4","v":2394.2999999999997},{"$f":"Données!$E309*C$4","v":2290.2000000000003},{"$f":"Données!$E309*D$4","v":2186.1},{"$f":"Données!$E309*E$4","v":2082},{"$f":"Données!$E309*F$4","v":1977.8999999999999},{"$f":"Données!$E309*G$4","v":1873.8},{"$f":"Données!$E309*H$4","v":1769.7},{"$f":"Données!$F309*B$4","v":1834.2499999999998},{"$f":"Données!$F309*C$4","v":1754.5000000000002},{"$f":"Données!$F309*D$4","v":1674.75},{"$f":"Données!$F309*E$4","v":1595},{"$f":"Données!$F309*F$4","v":1515.25},{"$f":"Données!$F309*G$4","v":1435.5},{"$f":"Données!$F309*H$4","v":1355.75}]
[null,4520,"Wanze","Wanze",2082,1595,{"$f":"Données!$E310*B$4","v":2394.2999999999997},{"$f":"Données!$E310*C$4","v":2290.2000000000003},{"$f":"Données!$E310*D$4","v":2186.1},{"$f":"Données!$E310*E$4","v":2082},{"$f":"Données!$E310*F$4","v":1977.8999999999999},{"$f":"Données!$E310*G$4","v":1873.8},{"$f":"Données!$E310*H$4","v":1769.7},{"$f":"Données!$F310*B$4","v":1834.2499999999998},{"$f":"Données!$F310*C$4","v":1754.5000000000002},{"$f":"Données!$F310*D$4","v":1674.75},{"$f":"Données!$F310*E$4","v":1595},{"$f":"Données!$F310*F$4","v":1515.25},{"$f":"Données!$F310*G$4","v":1435.5},{"$f":"Données!$F310*H$4","v":1355.75}]
[null,4530,"Warnant-Dreye","Villers-Le-Bouillet",2044,1550,{"$f":"Données!$E311*B$4","v":2350.6},{"$f":"Données!$E311*C$4","v":2248.4},{"$f":"Données!$E311*D$4","v":2146.2000000000003},{"$f":"Données!$E311*E$4","v":2044},{"$f":"Données!$E311*F$4","v":1941.8},{"$f":"Données!$E311*G$4","v":1839.6000000000001},{"$f":"Données!$E311*H$4","v":1737.3999999999999},{"$f":"Données!$F311*B$4","v":1782.4999999999998},{"$f":"Données!$F311*C$4","v":1705.0000000000002},{"$f":"Données!$F311*D$4","v":1627.5},{"$f":"Données!$F311*E$4","v":1550},{"$f":"Données!$F311*F$4","v":1472.5},{"$f":"Données!$F311*G$4","v":1395},{"$f":"Données!$F311*H$4","v":1317.5}]
[null,4530,"Fize-Fontaine","Villers-Le-Bouillet",2044,1550,{"$f":"Données!$E312*B$4","v":2350.6},{"$f":"Données!$E312*C$4","v":2248.4},{"$f":"Données!$E312*D$4","v":2146.2000000000003},{"$f":"Données!$E312*E$4","v":2044},{"$f":"Données!$E312*F$4","v":1941.8},{"$f":"Données!$E312*G$4","v":1839.6000000000001},{"$f":"Données!$E312*H$4","v":1737.3999999999999},{"$f":"Données!$F312*B$4","v":1782.4999999999998},{"$f":"Données!$F312*C$4","v":1705.0000000000002},{"$f":"Données!$F312*D$4","v":1627.5},{"$f":"Données!$F312*E$4","v":1550},{"$f":"Données!$F312*F$4","v":1472.5},{"$f":"Données!$F312*G$4","v":1395},{"$f":"Données!$F312*H$4","v":1317.5}]
[null,4530,"Vieux-Waleffe","Villers-Le-Bouillet",2044,1550,{"$f":"Données!$E313*B$4","v":2350.6},{"$f":"Données!$E313*C$4","v":2248.4},{"$f":"Données!$E313*D$4","v":2146.2000000000003},{"$f":"Données!$E313*E$4","v":2044},{"$f":"Données!$E313*F$4","v":1941.8},{"$f":"Données!$E313*G$4","v":1839.6000000000001},{"$f":"Données!$E313*H$4","v":1737.3999999999999},{"$f":"Données!$F313*B$4","v":1782.4999999999998},{"$f":"Données!$F313*C$4","v":1705.0000000000002},{"$f":"Données!$F313*D$4","v":1627.5},{"$f":"Données!$F313*E$4","v":1550},{"$f":"Données!$F313*F$4","v":1472.5},{"$f":"Données!$F313*G$4","v":1395},{"$f":"Données!$F313*H$4","v":1317.5}]
[null,4530,"Vaux-Et-Borset","Villers-Le-Bouillet",2044,1550,{"$f":"Données!$E314*B$4","v":2350.6},{"$f":"Données!$E314*C$4","v":2248.4},{"$f":"Données!$E314*D$4","v":2146.2000000000003},{"$f":"Données!$E314*E$4","v":2044},{"$f":"Données!$E314*F$4","v":1941.8},{"$f":"Données!$E314*G$4","v":1839.6000000000001},{"$f":"Données!$E314*H$4","v":1737.3999999999999},{"$f":"Données!$F314*B$4","v":1782.4999999999998},{"$f":"Données!$F314*C$4","v":1705.0000000000002},{"$f":"Données!$F314*D$4","v":1627.5},{"$f":"Données!$F314*E$4","v":1550},{"$f":"Données!$F314*F$4","v":1472.5},{"$f":"Données!$F314*G$4","v":1395},{"$f":"Données!$F314*H$4","v":1317.5}]
[null,4530,"Villers-Le-Bouillet","Villers-Le-Bouillet",2044,1550,{"$f":"Données!$E315*B$4","v":2350.6},{"$f":"Données!$E315*C$4","v":2248.4},{"$f":"Données!$E315*D$4","v":2146.2000000000003},{"$f":"Données!$E315*E$4","v":2044},{"$f":"Données!$E315*F$4","v":1941.8},{"$f":"Données!$E315*G$4","v":1839.6000000000001},{"$f":"Données!$E315*H$4","v":1737.3999999999999},{"$f":"Données!$F315*B$4","v":1782.4999999999998},{"$f":"Données!$F315*C$4","v":1705.0000000000002},{"$f":"Données!$F315*D$4","v":1627.5},{"$f":"Données!$F315*E$4","v":1550},{"$f":"Données!$F315*F$4","v":1472.5},{"$f":"Données!$F315*G$4","v":1395},{"$f":"Données!$F315*H$4","v":1317.5}]
[null,4537,"Verlaine","Verlaine",2156,1639,{"$f":"Données!$E316*B$4","v":2479.3999999999996},{"$f":"Données!$E316*C$4","v":2371.6000000000004},{"$f":"Données!$E316*D$4","v":2263.8000000000002},{"$f":"Données!$E316*E$4","v":2156},{"$f":"Données!$E316*F$4","v":2048.1999999999998},{"$f":"Données!$E316*G$4","v":1940.4},{"$f":"Données!$E316*H$4","v":1832.6},{"$f":"Données!$F316*B$4","v":1884.85},{"$f":"Données!$F316*C$4","v":1802.9},{"$f":"Données!$F316*D$4","v":1720.95},{"$f":"Données!$F316*E$4","v":1639},{"$f":"Données!$F316*F$4","v":1557.05},{"$f":"Données!$F316*G$4","v":1475.1000000000001},{"$f":"Données!$F316*H$4","v":1393.1499999999999}]
[null,4537,"Bodegnée","Verlaine",2156,1639,{"$f":"Données!$E317*B$4","v":2479.3999999999996},{"$f":"Données!$E317*C$4","v":2371.6000000000004},{"$f":"Données!$E317*D$4","v":2263.8000000000002},{"$f":"Données!$E317*E$4","v":2156},{"$f":"Données!$E317*F$4","v":2048.1999999999998},{"$f":"Données!$E317*G$4","v":1940.4},{"$f":"Données!$E317*H$4","v":1832.6},{"$f":"Données!$F317*B$4","v":1884.85},{"$f":"Données!$F317*C$4","v":1802.9},{"$f":"Données!$F317*D$4","v":1720.95},{"$f":"Données!$F317*E$4","v":1639},{"$f":"Données!$F317*F$4","v":1557.05},{"$f":"Données!$F317*G$4","v":1475.1000000000001},{"$f":"Données!$F317*H$4","v":1393.1499999999999}]
[null,4537,"Chapon-Seraing","Verlaine",2156,1639,{"$f":"Données!$E318*B$4","v":2479.3999999999996},{"$f":"Données!$E318*C$4","v":2371.6000000000004},{"$f":"Données!$E318*D$4","v":2263.8000000000002},{"$f":"Données!$E318*E$4","v":2156},{"$f":"Données!$E318*F$4","v":2048.1999999999998},{"$f":"Données!$E318*G$4","v":1940.4},{"$f":"Données!$E318*H$4","v":1832.6},{"$f":"Données!$F318*B$4","v":1884.85},{"$f":"Données!$F318*C$4","v":1802.9},{"$f":"Données!$F318*D$4","v":1720.95},{"$f":"Données!$F318*E$4","v":1639},{"$f":"Données!$F318*F$4","v":1557.05},{"$f":"Données!$F318*G$4","v":1475.1000000000001},{"$f":"Données!$F318*H$4","v":1393.1499999999999}]
[null,4537,"Seraing-Le-Château","Verlaine",2156,1639,{"$f":"Données!$E319*B$4","v":2479.3999999999996},{"$f":"Données!$E319*C$4","v":2371.6000000000004},{"$f":"Données!$E319*D$4","v":2263.8000000000002},{"$f":"Données!$E319*E$4","v":2156},{"$f":"Données!$E319*F$4","v":2048.1999999999998},{"$f":"Données!$E319*G$4","v":1940.4},{"$f":"Données!$E319*H$4","v":1832.6},{"$f":"Données!$F319*B$4","v":1884.85},{"$f":"Données!$F319*C$4","v":1802.9},{"$f":"Données!$F319*D$4","v":1720.95},{"$f":"Données!$F319*E$4","v":1639},{"$f":"Données!$F319*F$4","v":1557.05},{"$f":"Données!$F319*G$4","v":1475.1000000000001},{"$f":"Données!$F319*H$4","v":1393.1499999999999}]
[null,4540,"Amay","Amay",1868,1447,{"$f":"Données!$E320*B$4","v":2148.1999999999998},{"$f":"Données!$E320*C$4","v":2054.8000000000002},{"$f":"Données!$E320*D$4","v":1961.4},{"$f":"Données!$E320*E$4","v":1868},{"$f":"Données!$E320*F$4","v":1774.6},{"$f":"Données!$E320*G$4","v":1681.2},{"$f":"Données!$E320*H$4","v":1587.8},{"$f":"Données!$F320*B$4","v":1664.05},{"$f":"Données!$F320*C$4","v":1591.7},{"$f":"Données!$F320*D$4","v":1519.3500000000001},{"$f":"Données!$F320*E$4","v":1447},{"$f":"Données!$F320*F$4","v":1374.6499999999999},{"$f":"Données!$F320*G$4","v":1302.3},{"$f":"Données!$F320*H$4","v":1229.95}]
[null,4540,"Ombret","Amay",1868,1447,{"$f":"Données!$E321*B$4","v":2148.1999999999998},{"$f":"Données!$E321*C$4","v":2054.8000000000002},{"$f":"Données!$E321*D$4","v":1961.4},{"$f":"Données!$E321*E$4","v":1868},{"$f":"Données!$E321*F$4","v":1774.6},{"$f":"Données!$E321*G$4","v":1681.2},{"$f":"Données!$E321*H$4","v":1587.8},{"$f":"Données!$F321*B$4","v":1664.05},{"$f":"Données!$F321*C$4","v":1591.7},{"$f":"Données!$F321*D$4","v":1519.3500000000001},{"$f":"Données!$F321*E$4","v":1447},{"$f":"Données!$F321*F$4","v":1374.6499999999999},{"$f":"Données!$F321*G$4","v":1302.3},{"$f":"Données!$F321*H$4","v":1229.95}]
[null,4540,"Ampsin","Amay",1868,1447,{"$f":"Données!$E322*B$4","v":2148.1999999999998},{"$f":"Données!$E322*C$4","v":2054.8000000000002},{"$f":"Données!$E322*D$4","v":1961.4},{"$f":"Données!$E322*E$4","v":1868},{"$f":"Données!$E322*F$4","v":1774.6},{"$f":"Données!$E322*G$4","v":1681.2},{"$f":"Données!$E322*H$4","v":1587.8},{"$f":"Données!$F322*B$4","v":1664.05},{"$f":"Données!$F322*C$4","v":1591.7},{"$f":"Données!$F322*D$4","v":1519.3500000000001},{"$f":"Données!$F322*E$4","v":1447},{"$f":"Données!$F322*F$4","v":1374.6499999999999},{"$f":"Données!$F322*G$4","v":1302.3},{"$f":"Données!$F322*H$4","v":1229.95}]
[null,4540,"Flône","Amay",1868,1447,{"$f":"Données!$E323*B$4","v":2148.1999999999998},{"$f":"Données!$E323*C$4","v":2054.8000000000002},{"$f":"Données!$E323*D$4","v":1961.4},{"$f":"Données!$E323*E$4","v":1868},{"$f":"Données!$E323*F$4","v":1774.6},{"$f":"Données!$E323*G$4","v":1681.2},{"$f":"Données!$E323*H$4","v":1587.8},{"$f":"Données!$F323*B$4","v":1664.05},{"$f":"Données!$F323*C$4","v":1591.7},{"$f":"Données!$F323*D$4","v":1519.3500000000001},{"$f":"Données!$F323*E$4","v":1447},{"$f":"Données!$F323*F$4","v":1374.6499999999999},{"$f":"Données!$F323*G$4","v":1302.3},{"$f":"Données!$F323*H$4","v":1229.95}]
[null,4540,"Jehay","Amay",1868,1447,{"$f":"Données!$E324*B$4","v":2148.1999999999998},{"$f":"Données!$E324*C$4","v":2054.8000000000002},{"$f":"Données!$E324*D$4","v":1961.4},{"$f":"Données!$E324*E$4","v":1868},{"$f":"Données!$E324*F$4","v":1774.6},{"$f":"Données!$E324*G$4","v":1681.2},{"$f":"Données!$E324*H$4","v":1587.8},{"$f":"Données!$F324*B$4","v":1664.05},{"$f":"Données!$F324*C$4","v":1591.7},{"$f":"Données!$F324*D$4","v":1519.3500000000001},{"$f":"Données!$F324*E$4","v":1447},{"$f":"Données!$F324*F$4","v":1374.6499999999999},{"$f":"Données!$F324*G$4","v":1302.3},{"$f":"Données!$F324*H$4","v":1229.95}]
[null,4550,"Saint-Séverin","Nandrin",2482,1781,{"$f":"Données!$E325*B$4","v":2854.2999999999997},{"$f":"Données!$E325*C$4","v":2730.2000000000003},{"$f":"Données!$E325*D$4","v":2606.1},{"$f":"Données!$E325*E$4","v":2482},{"$f":"Données!$E325*F$4","v":2357.9},{"$f":"Données!$E325*G$4","v":2233.8000000000002},{"$f":"Données!$E325*H$4","v":2109.6999999999998},{"$f":"Données!$F325*B$4","v":2048.1499999999996},{"$f":"Données!$F325*C$4","v":1959.1000000000001},{"$f":"Données!$F325*D$4","v":1870.0500000000002},{"$f":"Données!$F325*E$4","v":1781},{"$f":"Données!$F325*F$4","v":1691.9499999999998},{"$f":"Données!$F325*G$4","v":1602.9},{"$f":"Données!$F325*H$4","v":1513.85}]
[null,4550,"Nandrin","Nandrin",2482,1781,{"$f":"Données!$E326*B$4","v":2854.2999999999997},{"$f":"Données!$E326*C$4","v":2730.2000000000003},{"$f":"Données!$E326*D$4","v":2606.1},{"$f":"Données!$E326*E$4","v":2482},{"$f":"Données!$E326*F$4","v":2357.9},{"$f":"Données!$E326*G$4","v":2233.8000000000002},{"$f":"Données!$E326*H$4","v":2109.6999999999998},{"$f":"Données!$F326*B$4","v":2048.1499999999996},{"$f":"Données!$F326*C$4","v":1959.1000000000001},{"$f":"Données!$F326*D$4","v":1870.0500000000002},{"$f":"Données!$F326*E$4","v":1781},{"$f":"Données!$F326*F$4","v":1691.9499999999998},{"$f":"Données!$F326*G$4","v":1602.9},{"$f":"Données!$F326*H$4","v":1513.85}]
[null,4550,"Villers-Le-Temple","Nandrin",2482,1781,{"$f":"Données!$E327*B$4","v":2854.2999999999997},{"$f":"Données!$E327*C$4","v":2730.2000000000003},{"$f":"Données!$E327*D$4","v":2606.1},{"$f":"Données!$E327*E$4","v":2482},{"$f":"Données!$E327*F$4","v":2357.9},{"$f":"Données!$E327*G$4","v":2233.8000000000002},{"$f":"Données!$E327*H$4","v":2109.6999999999998},{"$f":"Données!$F327*B$4","v":2048.1499999999996},{"$f":"Données!$F327*C$4","v":1959.1000000000001},{"$f":"Données!$F327*D$4","v":1870.0500000000002},{"$f":"Données!$F327*E$4","v":1781},{"$f":"Données!$F327*F$4","v":1691.9499999999998},{"$f":"Données!$F327*G$4","v":1602.9},{"$f":"Données!$F327*H$4","v":1513.85}]
[null,4550,"Yernée-Fraineux","Nandrin",2482,1781,{"$f":"Données!$E328*B$4","v":2854.2999999999997},{"$f":"Données!$E328*C$4","v":2730.2000000000003},{"$f":"Données!$E328*D$4","v":2606.1},{"$f":"Données!$E328*E$4","v":2482},{"$f":"Données!$E328*F$4","v":2357.9},{"$f":"Données!$E328*G$4","v":2233.8000000000002},{"$f":"Données!$E328*H$4","v":2109.6999999999998},{"$f":"Données!$F328*B$4","v":2048.1499999999996},{"$f":"Données!$F328*C$4","v":1959.1000000000001},{"$f":"Données!$F328*D$4","v":1870.0500000000002},{"$f":"Données!$F328*E$4","v":1781},{"$f":"Données!$F328*F$4","v":1691.9499999999998},{"$f":"Données!$F328*G$4","v":1602.9},{"$f":"Données!$F328*H$4","v":1513.85}]
[null,4557,"Tinlot","Tinlot",1993,1622,{"$f":"Données!$E329*B$4","v":2291.9499999999998},{"$f":"Données!$E329*C$4","v":2192.3000000000002},{"$f":"Données!$E329*D$4","v":2092.65},{"$f":"Données!$E329*E$4","v":1993},{"$f":"Données!$E329*F$4","v":1893.35},{"$f":"Données!$E329*G$4","v":1793.7},{"$f":"Données!$E329*H$4","v":1694.05},{"$f":"Données!$F329*B$4","v":1865.3},{"$f":"Données!$F329*C$4","v":1784.2},{"$f":"Données!$F329*D$4","v":1703.1000000000001},{"$f":"Données!$F329*E$4","v":1622},{"$f":"Données!$F329*F$4","v":1540.8999999999999},{"$f":"Données!$F329*G$4","v":1459.8},{"$f":"Données!$F329*H$4","v":1378.7}]
[null,4557,"Fraiture","Tinlot",1993,1622,{"$f":"Données!$E330*B$4","v":2291.9499999999998},{"$f":"Données!$E330*C$4","v":2192.3000000000002},{"$f":"Données!$E330*D$4","v":2092.65},{"$f":"Données!$E330*E$4","v":1993},{"$f":"Données!$E330*F$4","v":1893.35},{"$f":"Données!$E330*G$4","v":1793.7},{"$f":"Données!$E330*H$4","v":1694.05},{"$f":"Données!$F330*B$4","v":1865.3},{"$f":"Données!$F330*C$4","v":1784.2},{"$f":"Données!$F330*D$4","v":1703.1000000000001},{"$f":"Données!$F330*E$4","v":1622},{"$f":"Données!$F330*F$4","v":1540.8999999999999},{"$f":"Données!$F330*G$4","v":1459.8},{"$f":"Données!$F330*H$4","v":1378.7}]
[null,4557,"Soheit-Tinlot","Tinlot",1993,1622,{"$f":"Données!$E331*B$4","v":2291.9499999999998},{"$f":"Données!$E331*C$4","v":2192.3000000000002},{"$f":"Données!$E331*D$4","v":2092.65},{"$f":"Données!$E331*E$4","v":1993},{"$f":"Données!$E331*F$4","v":1893.35},{"$f":"Données!$E331*G$4","v":1793.7},{"$f":"Données!$E331*H$4","v":1694.05},{"$f":"Données!$F331*B$4","v":1865.3},{"$f":"Données!$F331*C$4","v":1784.2},{"$f":"Données!$F331*D$4","v":1703.1000000000001},{"$f":"Données!$F331*E$4","v":1622},{"$f":"Données!$F331*F$4","v":1540.8999999999999},{"$f":"Données!$F331*G$4","v":1459.8},{"$f":"Données!$F331*H$4","v":1378.7}]
[null,4557,"Seny","Tinlot",1993,1622,{"$f":"Données!$E332*B$4","v":2291.9499999999998},{"$f":"Données!$E332*C$4","v":2192.3000000000002},{"$f":"Données!$E332*D$4","v":2092.65},{"$f":"Données!$E332*E$4","v":1993},{"$f":"Données!$E332*F$4","v":1893.35},{"$f":"Données!$E332*G$4","v":1793.7},{"$f":"Données!$E332*H$4","v":1694.05},{"$f":"Données!$F332*B$4","v":1865.3},{"$f":"Données!$F332*C$4","v":1784.2},{"$f":"Données!$F332*D$4","v":1703.1000000000001},{"$f":"Données!$F332*E$4","v":1622},{"$f":"Données!$F332*F$4","v":1540.8999999999999},{"$f":"Données!$F332*G$4","v":1459.8},{"$f":"Données!$F332*H$4","v":1378.7}]
[null,4557,"Abée","Tinlot",1993,1622,{"$f":"Données!$E333*B$4","v":2291.9499999999998},{"$f":"Données!$E333*C$4","v":2192.3000000000002},{"$f":"Données!$E333*D$4","v":2092.65},{"$f":"Données!$E333*E$4","v":1993},{"$f":"Données!$E333*F$4","v":1893.35},{"$f":"Données!$E333*G$4","v":1793.7},{"$f":"Données!$E333*H$4","v":1694.05},{"$f":"Données!$F333*B$4","v":1865.3},{"$f":"Données!$F333*C$4","v":1784.2},{"$f":"Données!$F333*D$4","v":1703.1000000000001},{"$f":"Données!$F333*E$4","v":1622},{"$f":"Données!$F333*F$4","v":1540.8999999999999},{"$f":"Données!$F333*G$4","v":1459.8},{"$f":"Données!$F333*H$4","v":1378.7}]
[null,4557,"Ramelot","Tinlot",1993,1622,{"$f":"Données!$E334*B$4","v":2291.9499999999998},{"$f":"Données!$E334*C$4","v":2192.3000000000002},{"$f":"Données!$E334*D$4","v":2092.65},{"$f":"Données!$E334*E$4","v":1993},{"$f":"Données!$E334*F$4","v":1893.35},{"$f":"Données!$E334*G$4","v":1793.7},{"$f":"Données!$E334*H$4","v":1694.05},{"$f":"Données!$F334*B$4","v":1865.3},{"$f":"Données!$F334*C$4","v":1784.2},{"$f":"Données!$F334*D$4","v":1703.1000000000001},{"$f":"Données!$F334*E$4","v":1622},{"$f":"Données!$F334*F$4","v":1540.8999999999999},{"$f":"Données!$F334*G$4","v":1459.8},{"$f":"Données!$F334*H$4","v":1378.7}]
[null,4560,"LesAvins","Clavier",1691,1603,{"$f":"Données!$E335*B$4","v":1944.6499999999999},{"$f":"Données!$E335*C$4","v":1860.1000000000001},{"$f":"Données!$E335*D$4","v":1775.5500000000002},{"$f":"Données!$E335*E$4","v":1691},{"$f":"Données!$E335*F$4","v":1606.4499999999998},{"$f":"Données!$E335*G$4","v":1521.9},{"$f":"Données!$E335*H$4","v":1437.35},{"$f":"Données!$F335*B$4","v":1843.4499999999998},{"$f":"Données!$F335*C$4","v":1763.3000000000002},{"$f":"Données!$F335*D$4","v":1683.15},{"$f":"Données!$F335*E$4","v":1603},{"$f":"Données!$F335*F$4","v":1522.85},{"$f":"Données!$F335*G$4","v":1442.7},{"$f":"Données!$F335*H$4","v":1362.55}]
[null,4560,"Ocquier","Clavier",1691,1603,{"$f":"Données!$E336*B$4","v":1944.6499999999999},{"$f":"Données!$E336*C$4","v":1860.1000000000001},{"$f":"Données!$E336*D$4","v":1775.5500000000002},{"$f":"Données!$E336*E$4","v":1691},{"$f":"Données!$E336*F$4","v":1606.4499999999998},{"$f":"Données!$E336*G$4","v":1521.9},{"$f":"Données!$E336*H$4","v":1437.35},{"$f":"Données!$F336*B$4","v":1843.4499999999998},{"$f":"Données!$F336*C$4","v":1763.3000000000002},{"$f":"Données!$F336*D$4","v":1683.15},{"$f":"Données!$F336*E$4","v":1603},{"$f":"Données!$F336*F$4","v":1522.85},{"$f":"Données!$F336*G$4","v":1442.7},{"$f":"Données!$F336*H$4","v":1362.55}]
[null,4560,"Clavier","Clavier",1691,1603,{"$f":"Données!$E337*B$4","v":1944.6499999999999},{"$f":"Données!$E337*C$4","v":1860.1000000000001},{"$f":"Données!$E337*D$4","v":1775.5500000000002},{"$f":"Données!$E337*E$4","v":1691},{"$f":"Données!$E337*F$4","v":1606.4499999999998},{"$f":"Données!$E337*G$4","v":1521.9},{"$f":"Données!$E337*H$4","v":1437.35},{"$f":"Données!$F337*B$4","v":1843.4499999999998},{"$f":"Données!$F337*C$4","v":1763.3000000000002},{"$f":"Données!$F337*D$4","v":1683.15},{"$f":"Données!$F337*E$4","v":1603},{"$f":"Données!$F337*F$4","v":1522.85},{"$f":"Données!$F337*G$4","v":1442.7},{"$f":"Données!$F337*H$4","v":1362.55}]
[null,4560,"Terwagne","Clavier",1691,1603,{"$f":"Données!$E338*B$4","v":1944.6499999999999},{"$f":"Données!$E338*C$4","v":1860.1000000000001},{"$f":"Données!$E338*D$4","v":1775.5500000000002},{"$f":"Données!$E338*E$4","v":1691},{"$f":"Données!$E338*F$4","v":1606.4499999999998},{"$f":"Données!$E338*G$4","v":1521.9},{"$f":"Données!$E338*H$4","v":1437.35},{"$f":"Données!$F338*B$4","v":1843.4499999999998},{"$f":"Données!$F338*C$4","v":1763.3000000000002},{"$f":"Données!$F338*D$4","v":1683.15},{"$f":"Données!$F338*E$4","v":1603},{"$f":"Données!$F338*F$4","v":1522.85},{"$f":"Données!$F338*G$4","v":1442.7},{"$f":"Données!$F338*H$4","v":1362.55}]
[null,4560,"Bois-Et-Borsu","Clavier",1691,1603,{"$f":"Données!$E339*B$4","v":1944.6499999999999},{"$f":"Données!$E339*C$4","v":1860.1000000000001},{"$f":"Données!$E339*D$4","v":1775.5500000000002},{"$f":"Données!$E339*E$4","v":1691},{"$f":"Données!$E339*F$4","v":1606.4499999999998},{"$f":"Données!$E339*G$4","v":1521.9},{"$f":"Données!$E339*H$4","v":1437.35},{"$f":"Données!$F339*B$4","v":1843.4499999999998},{"$f":"Données!$F339*C$4","v":1763.3000000000002},{"$f":"Données!$F339*D$4","v":1683.15},{"$f":"Données!$F339*E$4","v":1603},{"$f":"Données!$F339*F$4","v":1522.85},{"$f":"Données!$F339*G$4","v":1442.7},{"$f":"Données!$F339*H$4","v":1362.55}]
[null,4560,"Pailhe","Clavier",1691,1603,{"$f":"Données!$E340*B$4","v":1944.6499999999999},{"$f":"Données!$E340*C$4","v":1860.1000000000001},{"$f":"Données!$E340*D$4","v":1775.5500000000002},{"$f":"Données!$E340*E$4","v":1691},{"$f":"Données!$E340*F$4","v":1606.4499999999998},{"$f":"Données!$E340*G$4","v":1521.9},{"$f":"Données!$E340*H$4","v":1437.35},{"$f":"Données!$F340*B$4","v":1843.4499999999998},{"$f":"Données!$F340*C$4","v":1763.3000000000002},{"$f":"Données!$F340*D$4","v":1683.15},{"$f":"Données!$F340*E$4","v":1603},{"$f":"Données!$F340*F$4","v":1522.85},{"$f":"Données!$F340*G$4","v":1442.7},{"$f":"Données!$F340*H$4","v":1362.55}]
[null,4570,"Marchin","Marchin",1997,1496,{"$f":"Données!$E341*B$4","v":2296.5499999999997},{"$f":"Données!$E341*C$4","v":2196.7000000000003},{"$f":"Données!$E341*D$4","v":2096.85},{"$f":"Données!$E341*E$4","v":1997},{"$f":"Données!$E341*F$4","v":1897.1499999999999},{"$f":"Données!$E341*G$4","v":1797.3},{"$f":"Données!$E341*H$4","v":1697.45},{"$f":"Données!$F341*B$4","v":1720.3999999999999},{"$f":"Données!$F341*C$4","v":1645.6000000000001},{"$f":"Données!$F341*D$4","v":1570.8},{"$f":"Données!$F341*E$4","v":1496},{"$f":"Données!$F341*F$4","v":1421.2},{"$f":"Données!$F341*G$4","v":1346.4},{"$f":"Données!$F341*H$4","v":1271.5999999999999}]
[null,4570,"Vyle-Et-Tharoul","Marchin",1997,1496,{"$f":"Données!$E342*B$4","v":2296.5499999999997},{"$f":"Données!$E342*C$4","v":2196.7000000000003},{"$f":"Données!$E342*D$4","v":2096.85},{"$f":"Données!$E342*E$4","v":1997},{"$f":"Données!$E342*F$4","v":1897.1499999999999},{"$f":"Données!$E342*G$4","v":1797.3},{"$f":"Données!$E342*H$4","v":1697.45},{"$f":"Données!$F342*B$4","v":1720.3999999999999},{"$f":"Données!$F342*C$4","v":1645.6000000000001},{"$f":"Données!$F342*D$4","v":1570.8},{"$f":"Données!$F342*E$4","v":1496},{"$f":"Données!$F342*F$4","v":1421.2},{"$f":"Données!$F342*G$4","v":1346.4},{"$f":"Données!$F342*H$4","v":1271.5999999999999}]
[null,4577,"Modave","Modave",1965,1590,{"$f":"Données!$E343*B$4","v":2259.75},{"$f":"Données!$E343*C$4","v":2161.5},{"$f":"Données!$E343*D$4","v":2063.25},{"$f":"Données!$E343*E$4","v":1965},{"$f":"Données!$E343*F$4","v":1866.75},{"$f":"Données!$E343*G$4","v":1768.5},{"$f":"Données!$E343*H$4","v":1670.25},{"$f":"Données!$F343*B$4","v":1828.4999999999998},{"$f":"Données!$F343*C$4","v":1749.0000000000002},{"$f":"Données!$F343*D$4","v":1669.5},{"$f":"Données!$F343*E$4","v":1590},{"$f":"Données!$F343*F$4","v":1510.5},{"$f":"Données!$F343*G$4","v":1431},{"$f":"Données!$F343*H$4","v":1351.5}]
[null,4577,"Outrelouxhe","Modave",1965,1590,{"$f":"Données!$E344*B$4","v":2259.75},{"$f":"Données!$E344*C$4","v":2161.5},{"$f":"Données!$E344*D$4","v":2063.25},{"$f":"Données!$E344*E$4","v":1965},{"$f":"Données!$E344*F$4","v":1866.75},{"$f":"Données!$E344*G$4","v":1768.5},{"$f":"Données!$E344*H$4","v":1670.25},{"$f":"Données!$F344*B$4","v":1828.4999999999998},{"$f":"Données!$F344*C$4","v":1749.0000000000002},{"$f":"Données!$F344*D$4","v":1669.5},{"$f":"Données!$F344*E$4","v":1590},{"$f":"Données!$F344*F$4","v":1510.5},{"$f":"Données!$F344*G$4","v":1431},{"$f":"Données!$F344*H$4","v":1351.5}]
[null,4577,"Strée-Lez-Huy","Modave",1965,1590,{"$f":"Données!$E345*B$4","v":2259.75},{"$f":"Données!$E345*C$4","v":2161.5},{"$f":"Données!$E345*D$4","v":2063.25},{"$f":"Données!$E345*E$4","v":1965},{"$f":"Données!$E345*F$4","v":1866.75},{"$f":"Données!$E345*G$4","v":1768.5},{"$f":"Données!$E345*H$4","v":1670.25},{"$f":"Données!$F345*B$4","v":1828.4999999999998},{"$f":"Données!$F345*C$4","v":1749.0000000000002},{"$f":"Données!$F345*D$4","v":1669.5},{"$f":"Données!$F345*E$4","v":1590},{"$f":"Données!$F345*F$4","v":1510.5},{"$f":"Données!$F345*G$4","v":1431},{"$f":"Données!$F345*H$4","v":1351.5}]
[null,4577,"Vierset-Barse","Modave",1965,1590,{"$f":"Données!$E346*B$4","v":2259.75},{"$f":"Données!$E346*C$4","v":2161.5},{"$f":"Données!$E346*D$4","v":2063.25},{"$f":"Données!$E346*E$4","v":1965},{"$f":"Données!$E346*F$4","v":1866.75},{"$f":"Données!$E346*G$4","v":1768.5},{"$f":"Données!$E346*H$4","v":1670.25},{"$f":"Données!$F346*B$4","v":1828.4999999999998},{"$f":"Données!$F346*C$4","v":1749.0000000000002},{"$f":"Données!$F346*D$4","v":1669.5},{"$f":"Données!$F346*E$4","v":1590},{"$f":"Données!$F346*F$4","v":1510.5},{"$f":"Données!$F346*G$4","v":1431},{"$f":"Données!$F346*H$4","v":1351.5}]
[null,4590,"Ellemelle","Ouffet",1954,1539,{"$f":"Données!$E347*B$4","v":2247.1},{"$f":"Données!$E347*C$4","v":2149.4},{"$f":"Données!$E347*D$4","v":2051.7000000000003},{"$f":"Données!$E347*E$4","v":1954},{"$f":"Données!$E347*F$4","v":1856.3},{"$f":"Données!$E347*G$4","v":1758.6000000000001},{"$f":"Données!$E347*H$4","v":1660.8999999999999},{"$f":"Données!$F347*B$4","v":1769.85},{"$f":"Données!$F347*C$4","v":1692.9},{"$f":"Données!$F347*D$4","v":1615.95},{"$f":"Données!$F347*E$4","v":1539},{"$f":"Données!$F347*F$4","v":1462.05},{"$f":"Données!$F347*G$4","v":1385.1000000000001},{"$f":"Données!$F347*H$4","v":1308.1499999999999}]
[null,4590,"Warzée","Ouffet",1954,1539,{"$f":"Données!$E348*B$4","v":2247.1},{"$f":"Données!$E348*C$4","v":2149.4},{"$f":"Données!$E348*D$4","v":2051.7000000000003},{"$f":"Données!$E348*E$4","v":1954},{"$f":"Données!$E348*F$4","v":1856.3},{"$f":"Données!$E348*G$4","v":1758.6000000000001},{"$f":"Données!$E348*H$4","v":1660.8999999999999},{"$f":"Données!$F348*B$4","v":1769.85},{"$f":"Données!$F348*C$4","v":1692.9},{"$f":"Données!$F348*D$4","v":1615.95},{"$f":"Données!$F348*E$4","v":1539},{"$f":"Données!$F348*F$4","v":1462.05},{"$f":"Données!$F348*G$4","v":1385.1000000000001},{"$f":"Données!$F348*H$4","v":1308.1499999999999}]
[null,4590,"Ouffet","Ouffet",1954,1539,{"$f":"Données!$E349*B$4","v":2247.1},{"$f":"Données!$E349*C$4","v":2149.4},{"$f":"Données!$E349*D$4","v":2051.7000000000003},{"$f":"Données!$E349*E$4","v":1954},{"$f":"Données!$E349*F$4","v":1856.3},{"$f":"Données!$E349*G$4","v":1758.6000000000001},{"$f":"Données!$E349*H$4","v":1660.8999999999999},{"$f":"Données!$F349*B$4","v":1769.85},{"$f":"Données!$F349*C$4","v":1692.9},{"$f":"Données!$F349*D$4","v":1615.95},{"$f":"Données!$F349*E$4","v":1539},{"$f":"Données!$F349*F$4","v":1462.05},{"$f":"Données!$F349*G$4","v":1385.1000000000001},{"$f":"Données!$F349*H$4","v":1308.1499999999999}]
[null,4600,"Richelle","Visé",2536,1694,{"$f":"Données!$E350*B$4","v":2916.3999999999996},{"$f":"Données!$E350*C$4","v":2789.6000000000004},{"$f":"Données!$E350*D$4","v":2662.8},{"$f":"Données!$E350*E$4","v":2536},{"$f":"Données!$E350*F$4","v":2409.1999999999998},{"$f":"Données!$E350*G$4","v":2282.4},{"$f":"Données!$E350*H$4","v":2155.6},{"$f":"Données!$F350*B$4","v":1948.1},{"$f":"Données!$F350*C$4","v":1863.4},{"$f":"Données!$F350*D$4","v":1778.7},{"$f":"Données!$F350*E$4","v":1694},{"$f":"Données!$F350*F$4","v":1609.3},{"$f":"Données!$F350*G$4","v":1524.6000000000001},{"$f":"Données!$F350*H$4","v":1439.8999999999999}]
[null,4600,"Lanaye","Visé",2536,1694,{"$f":"Données!$E351*B$4","v":2916.3999999999996},{"$f":"Données!$E351*C$4","v":2789.6000000000004},{"$f":"Données!$E351*D$4","v":2662.8},{"$f":"Données!$E351*E$4","v":2536},{"$f":"Données!$E351*F$4","v":2409.1999999999998},{"$f":"Données!$E351*G$4","v":2282.4},{"$f":"Données!$E351*H$4","v":2155.6},{"$f":"Données!$F351*B$4","v":1948.1},{"$f":"Données!$F351*C$4","v":1863.4},{"$f":"Données!$F351*D$4","v":1778.7},{"$f":"Données!$F351*E$4","v":1694},{"$f":"Données!$F351*F$4","v":1609.3},{"$f":"Données!$F351*G$4","v":1524.6000000000001},{"$f":"Données!$F351*H$4","v":1439.8999999999999}]
[null,4600,"Lixhe","Visé",2536,1694,{"$f":"Données!$E352*B$4","v":2916.3999999999996},{"$f":"Données!$E352*C$4","v":2789.6000000000004},{"$f":"Données!$E352*D$4","v":2662.8},{"$f":"Données!$E352*E$4","v":2536},{"$f":"Données!$E352*F$4","v":2409.1999999999998},{"$f":"Données!$E352*G$4","v":2282.4},{"$f":"Données!$E352*H$4","v":2155.6},{"$f":"Données!$F352*B$4","v":1948.1},{"$f":"Données!$F352*C$4","v":1863.4},{"$f":"Données!$F352*D$4","v":1778.7},{"$f":"Données!$F352*E$4","v":1694},{"$f":"Données!$F352*F$4","v":1609.3},{"$f":"Données!$F352*G$4","v":1524.6000000000001},{"$f":"Données!$F352*H$4","v":1439.8999999999999}]
[null,4600,"Visé","Visé",2536,1694,{"$f":"Données!$E353*B$4","v":2916.3999999999996},{"$f":"Données!$E353*C$4","v":2789.6000000000004},{"$f":"Données!$E353*D$4","v":2662.8},{"$f":"Données!$E353*E$4","v":2536},{"$f":"Données!$E353*F$4","v":2409.1999999999998},{"$f":"Données!$E353*G$4","v":2282.4},{"$f":"Données!$E353*H$4","v":2155.6},{"$f":"Données!$F353*B$4","v":1948.1},{"$f":"Données!$F353*C$4","v":1863.4},{"$f":"Données!$F353*D$4","v":1778.7},{"$f":"Données!$F353*E$4","v":1694},{"$f":"Données!$F353*F$4","v":1609.3},{"$f":"Données!$F353*G$4","v":1524.6000000000001},{"$f":"Données!$F353*H$4","v":1439.8999999999999}]
[null,4601,"Argenteau","Visé",2536,1694,{"$f":"Données!$E354*B$4","v":2916.3999999999996},{"$f":"Données!$E354*C$4","v":2789.6000000000004},{"$f":"Données!$E354*D$4","v":2662.8},{"$f":"Données!$E354*E$4","v":2536},{"$f":"Données!$E354*F$4","v":2409.1999999999998},{"$f":"Données!$E354*G$4","v":2282.4},{"$f":"Données!$E354*H$4","v":2155.6},{"$f":"Données!$F354*B$4","v":1948.1},{"$f":"Données!$F354*C$4","v":1863.4},{"$f":"Données!$F354*D$4","v":1778.7},{"$f":"Données!$F354*E$4","v":1694},{"$f":"Données!$F354*F$4","v":1609.3},{"$f":"Données!$F354*G$4","v":1524.6000000000001},{"$f":"Données!$F354*H$4","v":1439.8999999999999}]
[null,4602,"Cheratte","Visé",2536,1694,{"$f":"Données!$E355*B$4","v":2916.3999999999996},{"$f":"Données!$E355*C$4","v":2789.6000000000004},{"$f":"Données!$E355*D$4","v":2662.8},{"$f":"Données!$E355*E$4","v":2536},{"$f":"Données!$E355*F$4","v":2409.1999999999998},{"$f":"Données!$E355*G$4","v":2282.4},{"$f":"Données!$E355*H$4","v":2155.6},{"$f":"Données!$F355*B$4","v":1948.1},{"$f":"Données!$F355*C$4","v":1863.4},{"$f":"Données!$F355*D$4","v":1778.7},{"$f":"Données!$F355*E$4","v":1694},{"$f":"Données!$F355*F$4","v":1609.3},{"$f":"Données!$F355*G$4","v":1524.6000000000001},{"$f":"Données!$F355*H$4","v":1439.8999999999999}]
[null,4606,"Saint-André","Dalhem",2468,1823,{"$f":"Données!$E356*B$4","v":2838.2},{"$f":"Données!$E356*C$4","v":2714.8},{"$f":"Données!$E356*D$4","v":2591.4},{"$f":"Données!$E356*E$4","v":2468},{"$f":"Données!$E356*F$4","v":2344.6},{"$f":"Données!$E356*G$4","v":2221.2000000000003},{"$f":"Données!$E356*H$4","v":2097.7999999999997},{"$f":"Données!$F356*B$4","v":2096.4499999999998},{"$f":"Données!$F356*C$4","v":2005.3000000000002},{"$f":"Données!$F356*D$4","v":1914.15},{"$f":"Données!$F356*E$4","v":1823},{"$f":"Données!$F356*F$4","v":1731.85},{"$f":"Données!$F356*G$4","v":1640.7},{"$f":"Données!$F356*H$4","v":1549.55}]
[null,4607,"Feneur","Dalhem",2468,1823,{"$f":"Données!$E357*B$4","v":2838.2},{"$f":"Données!$E357*C$4","v":2714.8},{"$f":"Données!$E357*D$4","v":2591.4},{"$f":"Données!$E357*E$4","v":2468},{"$f":"Données!$E357*F$4","v":2344.6},{"$f":"Données!$E357*G$4","v":2221.2000000000003},{"$f":"Données!$E357*H$4","v":2097.7999999999997},{"$f":"Données!$F357*B$4","v":2096.4499999999998},{"$f":"Données!$F357*C$4","v":2005.3000000000002},{"$f":"Données!$F357*D$4","v":1914.15},{"$f":"Données!$F357*E$4","v":1823},{"$f":"Données!$F357*F$4","v":1731.85},{"$f":"Données!$F357*G$4","v":1640.7},{"$f":"Données!$F357*H$4","v":1549.55}]
[null,4607,"Mortroux","Dalhem",2468,1823,{"$f":"Données!$E358*B$4","v":2838.2},{"$f":"Données!$E358*C$4","v":2714.8},{"$f":"Données!$E358*D$4","v":2591.4},{"$f":"Données!$E358*E$4","v":2468},{"$f":"Données!$E358*F$4","v":2344.6},{"$f":"Données!$E358*G$4","v":2221.2000000000003},{"$f":"Données!$E358*H$4","v":2097.7999999999997},{"$f":"Données!$F358*B$4","v":2096.4499999999998},{"$f":"Données!$F358*C$4","v":2005.3000000000002},{"$f":"Données!$F358*D$4","v":1914.15},{"$f":"Données!$F358*E$4","v":1823},{"$f":"Données!$F358*F$4","v":1731.85},{"$f":"Données!$F358*G$4","v":1640.7},{"$f":"Données!$F358*H$4","v":1549.55}]
[null,4607,"Berneau","Dalhem",2468,1823,{"$f":"Données!$E359*B$4","v":2838.2},{"$f":"Données!$E359*C$4","v":2714.8},{"$f":"Données!$E359*D$4","v":2591.4},{"$f":"Données!$E359*E$4","v":2468},{"$f":"Données!$E359*F$4","v":2344.6},{"$f":"Données!$E359*G$4","v":2221.2000000000003},{"$f":"Données!$E359*H$4","v":2097.7999999999997},{"$f":"Données!$F359*B$4","v":2096.4499999999998},{"$f":"Données!$F359*C$4","v":2005.3000000000002},{"$f":"Données!$F359*D$4","v":1914.15},{"$f":"Données!$F359*E$4","v":1823},{"$f":"Données!$F359*F$4","v":1731.85},{"$f":"Données!$F359*G$4","v":1640.7},{"$f":"Données!$F359*H$4","v":1549.55}]
[null,4607,"Dalhem","Dalhem",2468,1823,{"$f":"Données!$E360*B$4","v":2838.2},{"$f":"Données!$E360*C$4","v":2714.8},{"$f":"Données!$E360*D$4","v":2591.4},{"$f":"Données!$E360*E$4","v":2468},{"$f":"Données!$E360*F$4","v":2344.6},{"$f":"Données!$E360*G$4","v":2221.2000000000003},{"$f":"Données!$E360*H$4","v":2097.7999999999997},{"$f":"Données!$F360*B$4","v":2096.4499999999998},{"$f":"Données!$F360*C$4","v":2005.3000000000002},{"$f":"Données!$F360*D$4","v":1914.15},{"$f":"Données!$F360*E$4","v":1823},{"$f":"Données!$F360*F$4","v":1731.85},{"$f":"Données!$F360*G$4","v":1640.7},{"$f":"Données!$F360*H$4","v":1549.55}]
[null,4607,"Bombaye","Dalhem",2468,1823,{"$f":"Données!$E361*B$4","v":2838.2},{"$f":"Données!$E361*C$4","v":2714.8},{"$f":"Données!$E361*D$4","v":2591.4},{"$f":"Données!$E361*E$4","v":2468},{"$f":"Données!$E361*F$4","v":2344.6},{"$f":"Données!$E361*G$4","v":2221.2000000000003},{"$f":"Données!$E361*H$4","v":2097.7999999999997},{"$f":"Données!$F361*B$4","v":2096.4499999999998},{"$f":"Données!$F361*C$4","v":2005.3000000000002},{"$f":"Données!$F361*D$4","v":1914.15},{"$f":"Données!$F361*E$4","v":1823},{"$f":"Données!$F361*F$4","v":1731.85},{"$f":"Données!$F361*G$4","v":1640.7},{"$f":"Données!$F361*H$4","v":1549.55}]
[null,4608,"Neufchâteau","Neufchâteau",1980,1346,{"$f":"Données!$E362*B$4","v":2277},{"$f":"Données!$E362*C$4","v":2178},{"$f":"Données!$E362*D$4","v":2079},{"$f":"Données!$E362*E$4","v":1980},{"$f":"Données!$E362*F$4","v":1881},{"$f":"Données!$E362*G$4","v":1782},{"$f":"Données!$E362*H$4","v":1683},{"$f":"Données!$F362*B$4","v":1547.8999999999999},{"$f":"Données!$F362*C$4","v":1480.6000000000001},{"$f":"Données!$F362*D$4","v":1413.3},{"$f":"Données!$F362*E$4","v":1346},{"$f":"Données!$F362*F$4","v":1278.7},{"$f":"Données!$F362*G$4","v":1211.4000000000001},{"$f":"Données!$F362*H$4","v":1144.0999999999999}]
[null,4608,"Warsage","Neufchâteau",1980,1346,{"$f":"Données!$E363*B$4","v":2277},{"$f":"Données!$E363*C$4","v":2178},{"$f":"Données!$E363*D$4","v":2079},{"$f":"Données!$E363*E$4","v":1980},{"$f":"Données!$E363*F$4","v":1881},{"$f":"Données!$E363*G$4","v":1782},{"$f":"Données!$E363*H$4","v":1683},{"$f":"Données!$F363*B$4","v":1547.8999999999999},{"$f":"Données!$F363*C$4","v":1480.6000000000001},{"$f":"Données!$F363*D$4","v":1413.3},{"$f":"Données!$F363*E$4","v":1346},{"$f":"Données!$F363*F$4","v":1278.7},{"$f":"Données!$F363*G$4","v":1211.4000000000001},{"$f":"Données!$F363*H$4","v":1144.0999999999999}]
[null,4610,"Bellaire","Beyne-Heusay",2071,1652,{"$f":"Données!$E364*B$4","v":2381.6499999999996},{"$f":"Données!$E364*C$4","v":2278.1000000000004},{"$f":"Données!$E364*D$4","v":2174.5500000000002},{"$f":"Données!$E364*E$4","v":2071},{"$f":"Données!$E364*F$4","v":1967.4499999999998},{"$f":"Données!$E364*G$4","v":1863.9},{"$f":"Données!$E364*H$4","v":1760.35},{"$f":"Données!$F364*B$4","v":1899.8},{"$f":"Données!$F364*C$4","v":1817.2},{"$f":"Données!$F364*D$4","v":1734.6000000000001},{"$f":"Données!$F364*E$4","v":1652},{"$f":"Données!$F364*F$4","v":1569.3999999999999},{"$f":"Données!$F364*G$4","v":1486.8},{"$f":"Données!$F364*H$4","v":1404.2}]
[null,4610,"Beyne-Heusay","Beyne-Heusay",2071,1652,{"$f":"Données!$E365*B$4","v":2381.6499999999996},{"$f":"Données!$E365*C$4","v":2278.1000000000004},{"$f":"Données!$E365*D$4","v":2174.5500000000002},{"$f":"Données!$E365*E$4","v":2071},{"$f":"Données!$E365*F$4","v":1967.4499999999998},{"$f":"Données!$E365*G$4","v":1863.9},{"$f":"Données!$E365*H$4","v":1760.35},{"$f":"Données!$F365*B$4","v":1899.8},{"$f":"Données!$F365*C$4","v":1817.2},{"$f":"Données!$F365*D$4","v":1734.6000000000001},{"$f":"Données!$F365*E$4","v":1652},{"$f":"Données!$F365*F$4","v":1569.3999999999999},{"$f":"Données!$F365*G$4","v":1486.8},{"$f":"Données!$F365*H$4","v":1404.2}]
[null,4610,"Queue-Du-Bois","Beyne-Heusay",2071,1652,{"$f":"Données!$E366*B$4","v":2381.6499999999996},{"$f":"Données!$E366*C$4","v":2278.1000000000004},{"$f":"Données!$E366*D$4","v":2174.5500000000002},{"$f":"Données!$E366*E$4","v":2071},{"$f":"Données!$E366*F$4","v":1967.4499999999998},{"$f":"Données!$E366*G$4","v":1863.9},{"$f":"Données!$E366*H$4","v":1760.35},{"$f":"Données!$F366*B$4","v":1899.8},{"$f":"Données!$F366*C$4","v":1817.2},{"$f":"Données!$F366*D$4","v":1734.6000000000001},{"$f":"Données!$F366*E$4","v":1652},{"$f":"Données!$F366*F$4","v":1569.3999999999999},{"$f":"Données!$F366*G$4","v":1486.8},{"$f":"Données!$F366*H$4","v":1404.2}]
[null,4620,"Fléron","Fléron",2254,1777,{"$f":"Données!$E367*B$4","v":2592.1},{"$f":"Données!$E367*C$4","v":2479.4},{"$f":"Données!$E367*D$4","v":2366.7000000000003},{"$f":"Données!$E367*E$4","v":2254},{"$f":"Données!$E367*F$4","v":2141.2999999999997},{"$f":"Données!$E367*G$4","v":2028.6000000000001},{"$f":"Données!$E367*H$4","v":1915.8999999999999},{"$f":"Données!$F367*B$4","v":2043.55},{"$f":"Données!$F367*C$4","v":1954.7},{"$f":"Données!$F367*D$4","v":1865.8500000000001},{"$f":"Données!$F367*E$4","v":1777},{"$f":"Données!$F367*F$4","v":1688.1499999999999},{"$f":"Données!$F367*G$4","v":1599.3},{"$f":"Données!$F367*H$4","v":1510.45}]
[null,4621,"Retinne","Fléron",2254,1777,{"$f":"Données!$E368*B$4","v":2592.1},{"$f":"Données!$E368*C$4","v":2479.4},{"$f":"Données!$E368*D$4","v":2366.7000000000003},{"$f":"Données!$E368*E$4","v":2254},{"$f":"Données!$E368*F$4","v":2141.2999999999997},{"$f":"Données!$E368*G$4","v":2028.6000000000001},{"$f":"Données!$E368*H$4","v":1915.8999999999999},{"$f":"Données!$F368*B$4","v":2043.55},{"$f":"Données!$F368*C$4","v":1954.7},{"$f":"Données!$F368*D$4","v":1865.8500000000001},{"$f":"Données!$F368*E$4","v":1777},{"$f":"Données!$F368*F$4","v":1688.1499999999999},{"$f":"Données!$F368*G$4","v":1599.3},{"$f":"Données!$F368*H$4","v":1510.45}]
[null,4623,"Magnée","Fléron",2254,1777,{"$f":"Données!$E369*B$4","v":2592.1},{"$f":"Données!$E369*C$4","v":2479.4},{"$f":"Données!$E369*D$4","v":2366.7000000000003},{"$f":"Données!$E369*E$4","v":2254},{"$f":"Données!$E369*F$4","v":2141.2999999999997},{"$f":"Données!$E369*G$4","v":2028.6000000000001},{"$f":"Données!$E369*H$4","v":1915.8999999999999},{"$f":"Données!$F369*B$4","v":2043.55},{"$f":"Données!$F369*C$4","v":1954.7},{"$f":"Données!$F369*D$4","v":1865.8500000000001},{"$f":"Données!$F369*E$4","v":1777},{"$f":"Données!$F369*F$4","v":1688.1499999999999},{"$f":"Données!$F369*G$4","v":1599.3},{"$f":"Données!$F369*H$4","v":1510.45}]
[null,4624,"Romsée","Fléron",2254,1777,{"$f":"Données!$E370*B$4","v":2592.1},{"$f":"Données!$E370*C$4","v":2479.4},{"$f":"Données!$E370*D$4","v":2366.7000000000003},{"$f":"Données!$E370*E$4","v":2254},{"$f":"Données!$E370*F$4","v":2141.2999999999997},{"$f":"Données!$E370*G$4","v":2028.6000000000001},{"$f":"Données!$E370*H$4","v":1915.8999999999999},{"$f":"Données!$F370*B$4","v":2043.55},{"$f":"Données!$F370*C$4","v":1954.7},{"$f":"Données!$F370*D$4","v":1865.8500000000001},{"$f":"Données!$F370*E$4","v":1777},{"$f":"Données!$F370*F$4","v":1688.1499999999999},{"$f":"Données!$F370*G$4","v":1599.3},{"$f":"Données!$F370*H$4","v":1510.45}]
[null,4630,"Soumagne","Soumagne",2296,1743,{"$f":"Données!$E371*B$4","v":2640.3999999999996},{"$f":"Données!$E371*C$4","v":2525.6000000000004},{"$f":"Données!$E371*D$4","v":2410.8000000000002},{"$f":"Données!$E371*E$4","v":2296},{"$f":"Données!$E371*F$4","v":2181.1999999999998},{"$f":"Données!$E371*G$4","v":2066.4},{"$f":"Données!$E371*H$4","v":1951.6},{"$f":"Données!$F371*B$4","v":2004.4499999999998},{"$f":"Données!$F371*C$4","v":1917.3000000000002},{"$f":"Données!$F371*D$4","v":1830.15},{"$f":"Données!$F371*E$4","v":1743},{"$f":"Données!$F371*F$4","v":1655.85},{"$f":"Données!$F371*G$4","v":1568.7},{"$f":"Données!$F371*H$4","v":1481.55}]
[null,4630,"Tignée","Soumagne",2296,1743,{"$f":"Données!$E372*B$4","v":2640.3999999999996},{"$f":"Données!$E372*C$4","v":2525.6000000000004},{"$f":"Données!$E372*D$4","v":2410.8000000000002},{"$f":"Données!$E372*E$4","v":2296},{"$f":"Données!$E372*F$4","v":2181.1999999999998},{"$f":"Données!$E372*G$4","v":2066.4},{"$f":"Données!$E372*H$4","v":1951.6},{"$f":"Données!$F372*B$4","v":2004.4499999999998},{"$f":"Données!$F372*C$4","v":1917.3000000000002},{"$f":"Données!$F372*D$4","v":1830.15},{"$f":"Données!$F372*E$4","v":1743},{"$f":"Données!$F372*F$4","v":1655.85},{"$f":"Données!$F372*G$4","v":1568.7},{"$f":"Données!$F372*H$4","v":1481.55}]
[null,4630,"Micheroux","Soumagne",2296,1743,{"$f":"Données!$E373*B$4","v":2640.3999999999996},{"$f":"Données!$E373*C$4","v":2525.6000000000004},{"$f":"Données!$E373*D$4","v":2410.8000000000002},{"$f":"Données!$E373*E$4","v":2296},{"$f":"Données!$E373*F$4","v":2181.1999999999998},{"$f":"Données!$E373*G$4","v":2066.4},{"$f":"Données!$E373*H$4","v":1951.6},{"$f":"Données!$F373*B$4","v":2004.4499999999998},{"$f":"Données!$F373*C$4","v":1917.3000000000002},{"$f":"Données!$F373*D$4","v":1830.15},{"$f":"Données!$F373*E$4","v":1743},{"$f":"Données!$F373*F$4","v":1655.85},{"$f":"Données!$F373*G$4","v":1568.7},{"$f":"Données!$F373*H$4","v":1481.55}]
[null,4630,"Ayeneux","Soumagne",2296,1743,{"$f":"Données!$E374*B$4","v":2640.3999999999996},{"$f":"Données!$E374*C$4","v":2525.6000000000004},{"$f":"Données!$E374*D$4","v":2410.8000000000002},{"$f":"Données!$E374*E$4","v":2296},{"$f":"Données!$E374*F$4","v":2181.1999999999998},{"$f":"Données!$E374*G$4","v":2066.4},{"$f":"Données!$E374*H$4","v":1951.6},{"$f":"Données!$F374*B$4","v":2004.4499999999998},{"$f":"Données!$F374*C$4","v":1917.3000000000002},{"$f":"Données!$F374*D$4","v":1830.15},{"$f":"Données!$F374*E$4","v":1743},{"$f":"Données!$F374*F$4","v":1655.85},{"$f":"Données!$F374*G$4","v":1568.7},{"$f":"Données!$F374*H$4","v":1481.55}]
[null,4631,"Evegnée","Soumagne",2296,1743,{"$f":"Données!$E375*B$4","v":2640.3999999999996},{"$f":"Données!$E375*C$4","v":2525.6000000000004},{"$f":"Données!$E375*D$4","v":2410.8000000000002},{"$f":"Données!$E375*E$4","v":2296},{"$f":"Données!$E375*F$4","v":2181.1999999999998},{"$f":"Données!$E375*G$4","v":2066.4},{"$f":"Données!$E375*H$4","v":1951.6},{"$f":"Données!$F375*B$4","v":2004.4499999999998},{"$f":"Données!$F375*C$4","v":1917.3000000000002},{"$f":"Données!$F375*D$4","v":1830.15},{"$f":"Données!$F375*E$4","v":1743},{"$f":"Données!$F375*F$4","v":1655.85},{"$f":"Données!$F375*G$4","v":1568.7},{"$f":"Données!$F375*H$4","v":1481.55}]
[null,4632,"Cérexhe-Heuseux","Soumagne",2296,1743,{"$f":"Données!$E376*B$4","v":2640.3999999999996},{"$f":"Données!$E376*C$4","v":2525.6000000000004},{"$f":"Données!$E376*D$4","v":2410.8000000000002},{"$f":"Données!$E376*E$4","v":2296},{"$f":"Données!$E376*F$4","v":2181.1999999999998},{"$f":"Données!$E376*G$4","v":2066.4},{"$f":"Données!$E376*H$4","v":1951.6},{"$f":"Données!$F376*B$4","v":2004.4499999999998},{"$f":"Données!$F376*C$4","v":1917.3000000000002},{"$f":"Données!$F376*D$4","v":1830.15},{"$f":"Données!$F376*E$4","v":1743},{"$f":"Données!$F376*F$4","v":1655.85},{"$f":"Données!$F376*G$4","v":1568.7},{"$f":"Données!$F376*H$4","v":1481.55}]
[null,4633,"Melen","Soumagne",2296,1743,{"$f":"Données!$E377*B$4","v":2640.3999999999996},{"$f":"Données!$E377*C$4","v":2525.6000000000004},{"$f":"Données!$E377*D$4","v":2410.8000000000002},{"$f":"Données!$E377*E$4","v":2296},{"$f":"Données!$E377*F$4","v":2181.1999999999998},{"$f":"Données!$E377*G$4","v":2066.4},{"$f":"Données!$E377*H$4","v":1951.6},{"$f":"Données!$F377*B$4","v":2004.4499999999998},{"$f":"Données!$F377*C$4","v":1917.3000000000002},{"$f":"Données!$F377*D$4","v":1830.15},{"$f":"Données!$F377*E$4","v":1743},{"$f":"Données!$F377*F$4","v":1655.85},{"$f":"Données!$F377*G$4","v":1568.7},{"$f":"Données!$F377*H$4","v":1481.55}]
[null,4650,"Herve","Herve",2384,1815,{"$f":"Données!$E378*B$4","v":2741.6},{"$f":"Données!$E378*C$4","v":2622.4},{"$f":"Données!$E378*D$4","v":2503.2000000000003},{"$f":"Données!$E378*E$4","v":2384},{"$f":"Données!$E378*F$4","v":2264.7999999999997},{"$f":"Données!$E378*G$4","v":2145.6},{"$f":"Données!$E378*H$4","v":2026.3999999999999},{"$f":"Données!$F378*B$4","v":2087.25},{"$f":"Données!$F378*C$4","v":1996.5000000000002},{"$f":"Données!$F378*D$4","v":1905.75},{"$f":"Données!$F378*E$4","v":1815},{"$f":"Données!$F378*F$4","v":1724.25},{"$f":"Données!$F378*G$4","v":1633.5},{"$f":"Données!$F378*H$4","v":1542.75}]
[null,4650,"Chaineux","Herve",2384,1815,{"$f":"Données!$E379*B$4","v":2741.6},{"$f":"Données!$E379*C$4","v":2622.4},{"$f":"Données!$E379*D$4","v":2503.2000000000003},{"$f":"Données!$E379*E$4","v":2384},{"$f":"Données!$E379*F$4","v":2264.7999999999997},{"$f":"Données!$E379*G$4","v":2145.6},{"$f":"Données!$E379*H$4","v":2026.3999999999999},{"$f":"Données!$F379*B$4","v":2087.25},{"$f":"Données!$F379*C$4","v":1996.5000000000002},{"$f":"Données!$F379*D$4","v":1905.75},{"$f":"Données!$F379*E$4","v":1815},{"$f":"Données!$F379*F$4","v":1724.25},{"$f":"Données!$F379*G$4","v":1633.5},{"$f":"Données!$F379*H$4","v":1542.75}]
[null,4650,"Julémont","Herve",2384,1815,{"$f":"Données!$E380*B$4","v":2741.6},{"$f":"Données!$E380*C$4","v":2622.4},{"$f":"Données!$E380*D$4","v":2503.2000000000003},{"$f":"Données!$E380*E$4","v":2384},{"$f":"Données!$E380*F$4","v":2264.7999999999997},{"$f":"Données!$E380*G$4","v":2145.6},{"$f":"Données!$E380*H$4","v":2026.3999999999999},{"$f":"Données!$F380*B$4","v":2087.25},{"$f":"Données!$F380*C$4","v":1996.5000000000002},{"$f":"Données!$F380*D$4","v":1905.75},{"$f":"Données!$F380*E$4","v":1815},{"$f":"Données!$F380*F$4","v":1724.25},{"$f":"Données!$F380*G$4","v":1633.5},{"$f":"Données!$F380*H$4","v":1542.75}]
[null,4650,"Grand-Rechain","Herve",2384,1815,{"$f":"Données!$E381*B$4","v":2741.6},{"$f":"Données!$E381*C$4","v":2622.4},{"$f":"Données!$E381*D$4","v":2503.2000000000003},{"$f":"Données!$E381*E$4","v":2384},{"$f":"Données!$E381*F$4","v":2264.7999999999997},{"$f":"Données!$E381*G$4","v":2145.6},{"$f":"Données!$E381*H$4","v":2026.3999999999999},{"$f":"Données!$F381*B$4","v":2087.25},{"$f":"Données!$F381*C$4","v":1996.5000000000002},{"$f":"Données!$F381*D$4","v":1905.75},{"$f":"Données!$F381*E$4","v":1815},{"$f":"Données!$F381*F$4","v":1724.25},{"$f":"Données!$F381*G$4","v":1633.5},{"$f":"Données!$F381*H$4","v":1542.75}]
[null,4651,"Battice","Herve",2384,1815,{"$f":"Données!$E382*B$4","v":2741.6},{"$f":"Données!$E382*C$4","v":2622.4},{"$f":"Données!$E382*D$4","v":2503.2000000000003},{"$f":"Données!$E382*E$4","v":2384},{"$f":"Données!$E382*F$4","v":2264.7999999999997},{"$f":"Données!$E382*G$4","v":2145.6},{"$f":"Données!$E382*H$4","v":2026.3999999999999},{"$f":"Données!$F382*B$4","v":2087.25},{"$f":"Données!$F382*C$4","v":1996.5000000000002},{"$f":"Données!$F382*D$4","v":1905.75},{"$f":"Données!$F382*E$4","v":1815},{"$f":"Données!$F382*F$4","v":1724.25},{"$f":"Données!$F382*G$4","v":1633.5},{"$f":"Données!$F382*H$4","v":1542.75}]
[null,4652,"Xhendelesse","Herve",2384,1815,{"$f":"Données!$E383*B$4","v":2741.6},{"$f":"Données!$E383*C$4","v":2622.4},{"$f":"Données!$E383*D$4","v":2503.2000000000003},{"$f":"Données!$E383*E$4","v":2384},{"$f":"Données!$E383*F$4","v":2264.7999999999997},{"$f":"Données!$E383*G$4","v":2145.6},{"$f":"Données!$E383*H$4","v":2026.3999999999999},{"$f":"Données!$F383*B$4","v":2087.25},{"$f":"Données!$F383*C$4","v":1996.5000000000002},{"$f":"Données!$F383*D$4","v":1905.75},{"$f":"Données!$F383*E$4","v":1815},{"$f":"Données!$F383*F$4","v":1724.25},{"$f":"Données!$F383*G$4","v":1633.5},{"$f":"Données!$F383*H$4","v":1542.75}]
[null,4653,"Bolland","Herve",2384,1815,{"$f":"Données!$E384*B$4","v":2741.6},{"$f":"Données!$E384*C$4","v":2622.4},{"$f":"Données!$E384*D$4","v":2503.2000000000003},{"$f":"Données!$E384*E$4","v":2384},{"$f":"Données!$E384*F$4","v":2264.7999999999997},{"$f":"Données!$E384*G$4","v":2145.6},{"$f":"Données!$E384*H$4","v":2026.3999999999999},{"$f":"Données!$F384*B$4","v":2087.25},{"$f":"Données!$F384*C$4","v":1996.5000000000002},{"$f":"Données!$F384*D$4","v":1905.75},{"$f":"Données!$F384*E$4","v":1815},{"$f":"Données!$F384*F$4","v":1724.25},{"$f":"Données!$F384*G$4","v":1633.5},{"$f":"Données!$F384*H$4","v":1542.75}]
[null,4654,"Charneux","Herve",2384,1815,{"$f":"Données!$E385*B$4","v":2741.6},{"$f":"Données!$E385*C$4","v":2622.4},{"$f":"Données!$E385*D$4","v":2503.2000000000003},{"$f":"Données!$E385*E$4","v":2384},{"$f":"Données!$E385*F$4","v":2264.7999999999997},{"$f":"Données!$E385*G$4","v":2145.6},{"$f":"Données!$E385*H$4","v":2026.3999999999999},{"$f":"Données!$F385*B$4","v":2087.25},{"$f":"Données!$F385*C$4","v":1996.5000000000002},{"$f":"Données!$F385*D$4","v":1905.75},{"$f":"Données!$F385*E$4","v":1815},{"$f":"Données!$F385*F$4","v":1724.25},{"$f":"Données!$F385*G$4","v":1633.5},{"$f":"Données!$F385*H$4","v":1542.75}]
[null,4670,"Trembleur","Blégny",2379,1785,{"$f":"Données!$E386*B$4","v":2735.85},{"$f":"Données!$E386*C$4","v":2616.9},{"$f":"Données!$E386*D$4","v":2497.9500000000003},{"$f":"Données!$E386*E$4","v":2379},{"$f":"Données!$E386*F$4","v":2260.0499999999997},{"$f":"Données!$E386*G$4","v":2141.1},{"$f":"Données!$E386*H$4","v":2022.1499999999999},{"$f":"Données!$F386*B$4","v":2052.75},{"$f":"Données!$F386*C$4","v":1963.5000000000002},{"$f":"Données!$F386*D$4","v":1874.25},{"$f":"Données!$F386*E$4","v":1785},{"$f":"Données!$F386*F$4","v":1695.75},{"$f":"Données!$F386*G$4","v":1606.5},{"$f":"Données!$F386*H$4","v":1517.25}]
[null,4670,"Mortier","Blégny",2379,1785,{"$f":"Données!$E387*B$4","v":2735.85},{"$f":"Données!$E387*C$4","v":2616.9},{"$f":"Données!$E387*D$4","v":2497.9500000000003},{"$f":"Données!$E387*E$4","v":2379},{"$f":"Données!$E387*F$4","v":2260.0499999999997},{"$f":"Données!$E387*G$4","v":2141.1},{"$f":"Données!$E387*H$4","v":2022.1499999999999},{"$f":"Données!$F387*B$4","v":2052.75},{"$f":"Données!$F387*C$4","v":1963.5000000000002},{"$f":"Données!$F387*D$4","v":1874.25},{"$f":"Données!$F387*E$4","v":1785},{"$f":"Données!$F387*F$4","v":1695.75},{"$f":"Données!$F387*G$4","v":1606.5},{"$f":"Données!$F387*H$4","v":1517.25}]
[null,4670,"Blégny","Blégny",2379,1785,{"$f":"Données!$E388*B$4","v":2735.85},{"$f":"Données!$E388*C$4","v":2616.9},{"$f":"Données!$E388*D$4","v":2497.9500000000003},{"$f":"Données!$E388*E$4","v":2379},{"$f":"Données!$E388*F$4","v":2260.0499999999997},{"$f":"Données!$E388*G$4","v":2141.1},{"$f":"Données!$E388*H$4","v":2022.1499999999999},{"$f":"Données!$F388*B$4","v":2052.75},{"$f":"Données!$F388*C$4","v":1963.5000000000002},{"$f":"Données!$F388*D$4","v":1874.25},{"$f":"Données!$F388*E$4","v":1785},{"$f":"Données!$F388*F$4","v":1695.75},{"$f":"Données!$F388*G$4","v":1606.5},{"$f":"Données!$F388*H$4","v":1517.25}]
[null,4671,"Barchon","Blégny",2379,1785,{"$f":"Données!$E389*B$4","v":2735.85},{"$f":"Données!$E389*C$4","v":2616.9},{"$f":"Données!$E389*D$4","v":2497.9500000000003},{"$f":"Données!$E389*E$4","v":2379},{"$f":"Données!$E389*F$4","v":2260.0499999999997},{"$f":"Données!$E389*G$4","v":2141.1},{"$f":"Données!$E389*H$4","v":2022.1499999999999},{"$f":"Données!$F389*B$4","v":2052.75},{"$f":"Données!$F389*C$4","v":1963.5000000000002},{"$f":"Données!$F389*D$4","v":1874.25},{"$f":"Données!$F389*E$4","v":1785},{"$f":"Données!$F389*F$4","v":1695.75},{"$f":"Données!$F389*G$4","v":1606.5},{"$f":"Données!$F389*H$4","v":1517.25}]
[null,4671,"Housse","Blégny",2379,1785,{"$f":"Données!$E390*B$4","v":2735.85},{"$f":"Données!$E390*C$4","v":2616.9},{"$f":"Données!$E390*D$4","v":2497.9500000000003},{"$f":"Données!$E390*E$4","v":2379},{"$f":"Données!$E390*F$4","v":2260.0499999999997},{"$f":"Données!$E390*G$4","v":2141.1},{"$f":"Données!$E390*H$4","v":2022.1499999999999},{"$f":"Données!$F390*B$4","v":2052.75},{"$f":"Données!$F390*C$4","v":1963.5000000000002},{"$f":"Données!$F390*D$4","v":1874.25},{"$f":"Données!$F390*E$4","v":1785},{"$f":"Données!$F390*F$4","v":1695.75},{"$f":"Données!$F390*G$4","v":1606.5},{"$f":"Données!$F390*H$4","v":1517.25}]
[null,4671,"Saive","Blégny",2379,1785,{"$f":"Données!$E391*B$4","v":2735.85},{"$f":"Données!$E391*C$4","v":2616.9},{"$f":"Données!$E391*D$4","v":2497.9500000000003},{"$f":"Données!$E391*E$4","v":2379},{"$f":"Données!$E391*F$4","v":2260.0499999999997},{"$f":"Données!$E391*G$4","v":2141.1},{"$f":"Données!$E391*H$4","v":2022.1499999999999},{"$f":"Données!$F391*B$4","v":2052.75},{"$f":"Données!$F391*C$4","v":1963.5000000000002},{"$f":"Données!$F391*D$4","v":1874.25},{"$f":"Données!$F391*E$4","v":1785},{"$f":"Données!$F391*F$4","v":1695.75},{"$f":"Données!$F391*G$4","v":1606.5},{"$f":"Données!$F391*H$4","v":1517.25}]
[null,4672,"Saint-Remy","Blégny",2379,1785,{"$f":"Données!$E392*B$4","v":2735.85},{"$f":"Données!$E392*C$4","v":2616.9},{"$f":"Données!$E392*D$4","v":2497.9500000000003},{"$f":"Données!$E392*E$4","v":2379},{"$f":"Données!$E392*F$4","v":2260.0499999999997},{"$f":"Données!$E392*G$4","v":2141.1},{"$f":"Données!$E392*H$4","v":2022.1499999999999},{"$f":"Données!$F392*B$4","v":2052.75},{"$f":"Données!$F392*C$4","v":1963.5000000000002},{"$f":"Données!$F392*D$4","v":1874.25},{"$f":"Données!$F392*E$4","v":1785},{"$f":"Données!$F392*F$4","v":1695.75},{"$f":"Données!$F392*G$4","v":1606.5},{"$f":"Données!$F392*H$4","v":1517.25}]
[null,4680,"Hermée","Oupeye",2305,1678,{"$f":"Données!$E393*B$4","v":2650.75},{"$f":"Données!$E393*C$4","v":2535.5},{"$f":"Données!$E393*D$4","v":2420.25},{"$f":"Données!$E393*E$4","v":2305},{"$f":"Données!$E393*F$4","v":2189.75},{"$f":"Données!$E393*G$4","v":2074.5},{"$f":"Données!$E393*H$4","v":1959.25},{"$f":"Données!$F393*B$4","v":1929.6999999999998},{"$f":"Données!$F393*C$4","v":1845.8000000000002},{"$f":"Données!$F393*D$4","v":1761.9},{"$f":"Données!$F393*E$4","v":1678},{"$f":"Données!$F393*F$4","v":1594.1},{"$f":"Données!$F393*G$4","v":1510.2},{"$f":"Données!$F393*H$4","v":1426.3}]
[null,4680,"Oupeye","Oupeye",2305,1678,{"$f":"Données!$E394*B$4","v":2650.75},{"$f":"Données!$E394*C$4","v":2535.5},{"$f":"Données!$E394*D$4","v":2420.25},{"$f":"Données!$E394*E$4","v":2305},{"$f":"Données!$E394*F$4","v":2189.75},{"$f":"Données!$E394*G$4","v":2074.5},{"$f":"Données!$E394*H$4","v":1959.25},{"$f":"Données!$F394*B$4","v":1929.6999999999998},{"$f":"Données!$F394*C$4","v":1845.8000000000002},{"$f":"Données!$F394*D$4","v":1761.9},{"$f":"Données!$F394*E$4","v":1678},{"$f":"Données!$F394*F$4","v":1594.1},{"$f":"Données!$F394*G$4","v":1510.2},{"$f":"Données!$F394*H$4","v":1426.3}]
[null,4681,"Hermalle-Sous-Argenteau","Oupeye",2305,1678,{"$f":"Données!$E395*B$4","v":2650.75},{"$f":"Données!$E395*C$4","v":2535.5},{"$f":"Données!$E395*D$4","v":2420.25},{"$f":"Données!$E395*E$4","v":2305},{"$f":"Données!$E395*F$4","v":2189.75},{"$f":"Données!$E395*G$4","v":2074.5},{"$f":"Données!$E395*H$4","v":1959.25},{"$f":"Données!$F395*B$4","v":1929.6999999999998},{"$f":"Données!$F395*C$4","v":1845.8000000000002},{"$f":"Données!$F395*D$4","v":1761.9},{"$f":"Données!$F395*E$4","v":1678},{"$f":"Données!$F395*F$4","v":1594.1},{"$f":"Données!$F395*G$4","v":1510.2},{"$f":"Données!$F395*H$4","v":1426.3}]
[null,4682,"Houtain-Saint-Siméon","Oupeye",2305,1678,{"$f":"Données!$E396*B$4","v":2650.75},{"$f":"Données!$E396*C$4","v":2535.5},{"$f":"Données!$E396*D$4","v":2420.25},{"$f":"Données!$E396*E$4","v":2305},{"$f":"Données!$E396*F$4","v":2189.75},{"$f":"Données!$E396*G$4","v":2074.5},{"$f":"Données!$E396*H$4","v":1959.25},{"$f":"Données!$F396*B$4","v":1929.6999999999998},{"$f":"Données!$F396*C$4","v":1845.8000000000002},{"$f":"Données!$F396*D$4","v":1761.9},{"$f":"Données!$F396*E$4","v":1678},{"$f":"Données!$F396*F$4","v":1594.1},{"$f":"Données!$F396*G$4","v":1510.2},{"$f":"Données!$F396*H$4","v":1426.3}]
[null,4682,"Heure-Le-Romain","Oupeye",2305,1678,{"$f":"Données!$E397*B$4","v":2650.75},{"$f":"Données!$E397*C$4","v":2535.5},{"$f":"Données!$E397*D$4","v":2420.25},{"$f":"Données!$E397*E$4","v":2305},{"$f":"Données!$E397*F$4","v":2189.75},{"$f":"Données!$E397*G$4","v":2074.5},{"$f":"Données!$E397*H$4","v":1959.25},{"$f":"Données!$F397*B$4","v":1929.6999999999998},{"$f":"Données!$F397*C$4","v":1845.8000000000002},{"$f":"Données!$F397*D$4","v":1761.9},{"$f":"Données!$F397*E$4","v":1678},{"$f":"Données!$F397*F$4","v":1594.1},{"$f":"Données!$F397*G$4","v":1510.2},{"$f":"Données!$F397*H$4","v":1426.3}]
[null,4683,"Vivegnis","Oupeye",2305,1678,{"$f":"Données!$E398*B$4","v":2650.75},{"$f":"Données!$E398*C$4","v":2535.5},{"$f":"Données!$E398*D$4","v":2420.25},{"$f":"Données!$E398*E$4","v":2305},{"$f":"Données!$E398*F$4","v":2189.75},{"$f":"Données!$E398*G$4","v":2074.5},{"$f":"Données!$E398*H$4","v":1959.25},{"$f":"Données!$F398*B$4","v":1929.6999999999998},{"$f":"Données!$F398*C$4","v":1845.8000000000002},{"$f":"Données!$F398*D$4","v":1761.9},{"$f":"Données!$F398*E$4","v":1678},{"$f":"Données!$F398*F$4","v":1594.1},{"$f":"Données!$F398*G$4","v":1510.2},{"$f":"Données!$F398*H$4","v":1426.3}]
[null,4684,"Haccourt","Oupeye",2305,1678,{"$f":"Données!$E399*B$4","v":2650.75},{"$f":"Données!$E399*C$4","v":2535.5},{"$f":"Données!$E399*D$4","v":2420.25},{"$f":"Données!$E399*E$4","v":2305},{"$f":"Données!$E399*F$4","v":2189.75},{"$f":"Données!$E399*G$4","v":2074.5},{"$f":"Données!$E399*H$4","v":1959.25},{"$f":"Données!$F399*B$4","v":1929.6999999999998},{"$f":"Données!$F399*C$4","v":1845.8000000000002},{"$f":"Données!$F399*D$4","v":1761.9},{"$f":"Données!$F399*E$4","v":1678},{"$f":"Données!$F399*F$4","v":1594.1},{"$f":"Données!$F399*G$4","v":1510.2},{"$f":"Données!$F399*H$4","v":1426.3}]
[null,4690,"Glons","Bassenge",1944,1620,{"$f":"Données!$E400*B$4","v":2235.6},{"$f":"Données!$E400*C$4","v":2138.4},{"$f":"Données!$E400*D$4","v":2041.2},{"$f":"Données!$E400*E$4","v":1944},{"$f":"Données!$E400*F$4","v":1846.8},{"$f":"Données!$E400*G$4","v":1749.6000000000001},{"$f":"Données!$E400*H$4","v":1652.3999999999999},{"$f":"Données!$F400*B$4","v":1862.9999999999998},{"$f":"Données!$F400*C$4","v":1782.0000000000002},{"$f":"Données!$F400*D$4","v":1701},{"$f":"Données!$F400*E$4","v":1620},{"$f":"Données!$F400*F$4","v":1539},{"$f":"Données!$F400*G$4","v":1458},{"$f":"Données!$F400*H$4","v":1377}]
[null,4690,"Roclenge-Sur-Geer","Bassenge",1944,1620,{"$f":"Données!$E401*B$4","v":2235.6},{"$f":"Données!$E401*C$4","v":2138.4},{"$f":"Données!$E401*D$4","v":2041.2},{"$f":"Données!$E401*E$4","v":1944},{"$f":"Données!$E401*F$4","v":1846.8},{"$f":"Données!$E401*G$4","v":1749.6000000000001},{"$f":"Données!$E401*H$4","v":1652.3999999999999},{"$f":"Données!$F401*B$4","v":1862.9999999999998},{"$f":"Données!$F401*C$4","v":1782.0000000000002},{"$f":"Données!$F401*D$4","v":1701},{"$f":"Données!$F401*E$4","v":1620},{"$f":"Données!$F401*F$4","v":1539},{"$f":"Données!$F401*G$4","v":1458},{"$f":"Données!$F401*H$4","v":1377}]
[null,4690,"Bassenge","Bassenge",1944,1620,{"$f":"Données!$E402*B$4","v":2235.6},{"$f":"Données!$E402*C$4","v":2138.4},{"$f":"Données!$E402*D$4","v":2041.2},{"$f":"Données!$E402*E$4","v":1944},{"$f":"Données!$E402*F$4","v":1846.8},{"$f":"Données!$E402*G$4","v":1749.6000000000001},{"$f":"Données!$E402*H$4","v":1652.3999999999999},{"$f":"Données!$F402*B$4","v":1862.9999999999998},{"$f":"Données!$F402*C$4","v":1782.0000000000002},{"$f":"Données!$F402*D$4","v":1701},{"$f":"Données!$F402*E$4","v":1620},{"$f":"Données!$F402*F$4","v":1539},{"$f":"Données!$F402*G$4","v":1458},{"$f":"Données!$F402*H$4","v":1377}]
[null,4690,"Boirs","Bassenge",1944,1620,{"$f":"Données!$E403*B$4","v":2235.6},{"$f":"Données!$E403*C$4","v":2138.4},{"$f":"Données!$E403*D$4","v":2041.2},{"$f":"Données!$E403*E$4","v":1944},{"$f":"Données!$E403*F$4","v":1846.8},{"$f":"Données!$E403*G$4","v":1749.6000000000001},{"$f":"Données!$E403*H$4","v":1652.3999999999999},{"$f":"Données!$F403*B$4","v":1862.9999999999998},{"$f":"Données!$F403*C$4","v":1782.0000000000002},{"$f":"Données!$F403*D$4","v":1701},{"$f":"Données!$F403*E$4","v":1620},{"$f":"Données!$F403*F$4","v":1539},{"$f":"Données!$F403*G$4","v":1458},{"$f":"Données!$F403*H$4","v":1377}]
[null,4690,"Wonck","Bassenge",1944,1620,{"$f":"Données!$E404*B$4","v":2235.6},{"$f":"Données!$E404*C$4","v":2138.4},{"$f":"Données!$E404*D$4","v":2041.2},{"$f":"Données!$E404*E$4","v":1944},{"$f":"Données!$E404*F$4","v":1846.8},{"$f":"Données!$E404*G$4","v":1749.6000000000001},{"$f":"Données!$E404*H$4","v":1652.3999999999999},{"$f":"Données!$F404*B$4","v":1862.9999999999998},{"$f":"Données!$F404*C$4","v":1782.0000000000002},{"$f":"Données!$F404*D$4","v":1701},{"$f":"Données!$F404*E$4","v":1620},{"$f":"Données!$F404*F$4","v":1539},{"$f":"Données!$F404*G$4","v":1458},{"$f":"Données!$F404*H$4","v":1377}]
[null,4690,"Eben-Emael","Bassenge",1944,1620,{"$f":"Données!$E405*B$4","v":2235.6},{"$f":"Données!$E405*C$4","v":2138.4},{"$f":"Données!$E405*D$4","v":2041.2},{"$f":"Données!$E405*E$4","v":1944},{"$f":"Données!$E405*F$4","v":1846.8},{"$f":"Données!$E405*G$4","v":1749.6000000000001},{"$f":"Données!$E405*H$4","v":1652.3999999999999},{"$f":"Données!$F405*B$4","v":1862.9999999999998},{"$f":"Données!$F405*C$4","v":1782.0000000000002},{"$f":"Données!$F405*D$4","v":1701},{"$f":"Données!$F405*E$4","v":1620},{"$f":"Données!$F405*F$4","v":1539},{"$f":"Données!$F405*G$4","v":1458},{"$f":"Données!$F405*H$4","v":1377}]
[null,4700,"Eupen","Eupen",2278,1913,{"$f":"Données!$E406*B$4","v":2619.6999999999998},{"$f":"Données!$E406*C$4","v":2505.8000000000002},{"$f":"Données!$E406*D$4","v":2391.9},{"$f":"Données!$E406*E$4","v":2278},{"$f":"Données!$E406*F$4","v":2164.1},{"$f":"Données!$E406*G$4","v":2050.2000000000003},{"$f":"Données!$E406*H$4","v":1936.3},{"$f":"Données!$F406*B$4","v":2199.9499999999998},{"$f":"Données!$F406*C$4","v":2104.3000000000002},{"$f":"Données!$F406*D$4","v":2008.65},{"$f":"Données!$F406*E$4","v":1913},{"$f":"Données!$F406*F$4","v":1817.35},{"$f":"Données!$F406*G$4","v":1721.7},{"$f":"Données!$F406*H$4","v":1626.05}]
[null,4701,"Kettenis","Eupen",2278,1913,{"$f":"Données!$E407*B$4","v":2619.6999999999998},{"$f":"Données!$E407*C$4","v":2505.8000000000002},{"$f":"Données!$E407*D$4","v":2391.9},{"$f":"Données!$E407*E$4","v":2278},{"$f":"Données!$E407*F$4","v":2164.1},{"$f":"Données!$E407*G$4","v":2050.2000000000003},{"$f":"Données!$E407*H$4","v":1936.3},{"$f":"Données!$F407*B$4","v":2199.9499999999998},{"$f":"Données!$F407*C$4","v":2104.3000000000002},{"$f":"Données!$F407*D$4","v":2008.65},{"$f":"Données!$F407*E$4","v":1913},{"$f":"Données!$F407*F$4","v":1817.35},{"$f":"Données!$F407*G$4","v":1721.7},{"$f":"Données!$F407*H$4","v":1626.05}]
[null,4710,"Lontzen","Lontzen",2253,1824,{"$f":"Données!$E408*B$4","v":2590.9499999999998},{"$f":"Données!$E408*C$4","v":2478.3000000000002},{"$f":"Données!$E408*D$4","v":2365.65},{"$f":"Données!$E408*E$4","v":2253},{"$f":"Données!$E408*F$4","v":2140.35},{"$f":"Données!$E408*G$4","v":2027.7},{"$f":"Données!$E408*H$4","v":1915.05},{"$f":"Données!$F408*B$4","v":2097.6},{"$f":"Données!$F408*C$4","v":2006.4},{"$f":"Données!$F408*D$4","v":1915.2},{"$f":"Données!$F408*E$4","v":1824},{"$f":"Données!$F408*F$4","v":1732.8},{"$f":"Données!$F408*G$4","v":1641.6000000000001},{"$f":"Données!$F408*H$4","v":1550.3999999999999}]
[null,4711,"Walhorn","Lontzen",2253,1824,{"$f":"Données!$E409*B$4","v":2590.9499999999998},{"$f":"Données!$E409*C$4","v":2478.3000000000002},{"$f":"Données!$E409*D$4","v":2365.65},{"$f":"Données!$E409*E$4","v":2253},{"$f":"Données!$E409*F$4","v":2140.35},{"$f":"Données!$E409*G$4","v":2027.7},{"$f":"Données!$E409*H$4","v":1915.05},{"$f":"Données!$F409*B$4","v":2097.6},{"$f":"Données!$F409*C$4","v":2006.4},{"$f":"Données!$F409*D$4","v":1915.2},{"$f":"Données!$F409*E$4","v":1824},{"$f":"Données!$F409*F$4","v":1732.8},{"$f":"Données!$F409*G$4","v":1641.6000000000001},{"$f":"Données!$F409*H$4","v":1550.3999999999999}]
[null,4720,"La Calamine","La Calamine",2068,1829,{"$f":"Données!$E410*B$4","v":2378.1999999999998},{"$f":"Données!$E410*C$4","v":2274.8000000000002},{"$f":"Données!$E410*D$4","v":2171.4},{"$f":"Données!$E410*E$4","v":2068},{"$f":"Données!$E410*F$4","v":1964.6},{"$f":"Données!$E410*G$4","v":1861.2},{"$f":"Données!$E410*H$4","v":1757.8},{"$f":"Données!$F410*B$4","v":2103.35},{"$f":"Données!$F410*C$4","v":2011.9},{"$f":"Données!$F410*D$4","v":1920.45},{"$f":"Données!$F410*E$4","v":1829},{"$f":"Données!$F410*F$4","v":1737.55},{"$f":"Données!$F410*G$4","v":1646.1000000000001},{"$f":"Données!$F410*H$4","v":1554.6499999999999}]
[null,4721,"Neu-Moresnet","La Calamine",2068,1829,{"$f":"Données!$E411*B$4","v":2378.1999999999998},{"$f":"Données!$E411*C$4","v":2274.8000000000002},{"$f":"Données!$E411*D$4","v":2171.4},{"$f":"Données!$E411*E$4","v":2068},{"$f":"Données!$E411*F$4","v":1964.6},{"$f":"Données!$E411*G$4","v":1861.2},{"$f":"Données!$E411*H$4","v":1757.8},{"$f":"Données!$F411*B$4","v":2103.35},{"$f":"Données!$F411*C$4","v":2011.9},{"$f":"Données!$F411*D$4","v":1920.45},{"$f":"Données!$F411*E$4","v":1829},{"$f":"Données!$F411*F$4","v":1737.55},{"$f":"Données!$F411*G$4","v":1646.1000000000001},{"$f":"Données!$F411*H$4","v":1554.6499999999999}]
[null,4728,"Hergenrath","La Calamine",2068,1829,{"$f":"Données!$E412*B$4","v":2378.1999999999998},{"$f":"Données!$E412*C$4","v":2274.8000000000002},{"$f":"Données!$E412*D$4","v":2171.4},{"$f":"Données!$E412*E$4","v":2068},{"$f":"Données!$E412*F$4","v":1964.6},{"$f":"Données!$E412*G$4","v":1861.2},{"$f":"Données!$E412*H$4","v":1757.8},{"$f":"Données!$F412*B$4","v":2103.35},{"$f":"Données!$F412*C$4","v":2011.9},{"$f":"Données!$F412*D$4","v":1920.45},{"$f":"Données!$F412*E$4","v":1829},{"$f":"Données!$F412*F$4","v":1737.55},{"$f":"Données!$F412*G$4","v":1646.1000000000001},{"$f":"Données!$F412*H$4","v":1554.6499999999999}]
[null,4730,"Hauset","Raeren",2086,1891,{"$f":"Données!$E413*B$4","v":2398.8999999999996},{"$f":"Données!$E413*C$4","v":2294.6000000000004},{"$f":"Données!$E413*D$4","v":2190.3000000000002},{"$f":"Données!$E413*E$4","v":2086},{"$f":"Données!$E413*F$4","v":1981.6999999999998},{"$f":"Données!$E413*G$4","v":1877.4},{"$f":"Données!$E413*H$4","v":1773.1},{"$f":"Données!$F413*B$4","v":2174.6499999999996},{"$f":"Données!$F413*C$4","v":2080.1000000000004},{"$f":"Données!$F413*D$4","v":1985.5500000000002},{"$f":"Données!$F413*E$4","v":1891},{"$f":"Données!$F413*F$4","v":1796.4499999999998},{"$f":"Données!$F413*G$4","v":1701.9},{"$f":"Données!$F413*H$4","v":1607.35}]
[null,4730,"Raeren","Raeren",2086,1891,{"$f":"Données!$E414*B$4","v":2398.8999999999996},{"$f":"Données!$E414*C$4","v":2294.6000000000004},{"$f":"Données!$E414*D$4","v":2190.3000000000002},{"$f":"Données!$E414*E$4","v":2086},{"$f":"Données!$E414*F$4","v":1981.6999999999998},{"$f":"Données!$E414*G$4","v":1877.4},{"$f":"Données!$E414*H$4","v":1773.1},{"$f":"Données!$F414*B$4","v":2174.6499999999996},{"$f":"Données!$F414*C$4","v":2080.1000000000004},{"$f":"Données!$F414*D$4","v":1985.5500000000002},{"$f":"Données!$F414*E$4","v":1891},{"$f":"Données!$F414*F$4","v":1796.4499999999998},{"$f":"Données!$F414*G$4","v":1701.9},{"$f":"Données!$F414*H$4","v":1607.35}]
[null,4731,"Eynatten","Raeren",2086,1891,{"$f":"Données!$E415*B$4","v":2398.8999999999996},{"$f":"Données!$E415*C$4","v":2294.6000000000004},{"$f":"Données!$E415*D$4","v":2190.3000000000002},{"$f":"Données!$E415*E$4","v":2086},{"$f":"Données!$E415*F$4","v":1981.6999999999998},{"$f":"Données!$E415*G$4","v":1877.4},{"$f":"Données!$E415*H$4","v":1773.1},{"$f":"Données!$F415*B$4","v":2174.6499999999996},{"$f":"Données!$F415*C$4","v":2080.1000000000004},{"$f":"Données!$F415*D$4","v":1985.5500000000002},{"$f":"Données!$F415*E$4","v":1891},{"$f":"Données!$F415*F$4","v":1796.4499999999998},{"$f":"Données!$F415*G$4","v":1701.9},{"$f":"Données!$F415*H$4","v":1607.35}]
[null,4750,"Butgenbach","Butgenbach",1943,1571,{"$f":"Données!$E416*B$4","v":2234.4499999999998},{"$f":"Données!$E416*C$4","v":2137.3000000000002},{"$f":"Données!$E416*D$4","v":2040.15},{"$f":"Données!$E416*E$4","v":1943},{"$f":"Données!$E416*F$4","v":1845.85},{"$f":"Données!$E416*G$4","v":1748.7},{"$f":"Données!$E416*H$4","v":1651.55},{"$f":"Données!$F416*B$4","v":1806.6499999999999},{"$f":"Données!$F416*C$4","v":1728.1000000000001},{"$f":"Données!$F416*D$4","v":1649.5500000000002},{"$f":"Données!$F416*E$4","v":1571},{"$f":"Données!$F416*F$4","v":1492.4499999999998},{"$f":"Données!$F416*G$4","v":1413.9},{"$f":"Données!$F416*H$4","v":1335.35}]
[null,4750,"Elsenborn","Butgenbach",1943,1571,{"$f":"Données!$E417*B$4","v":2234.4499999999998},{"$f":"Données!$E417*C$4","v":2137.3000000000002},{"$f":"Données!$E417*D$4","v":2040.15},{"$f":"Données!$E417*E$4","v":1943},{"$f":"Données!$E417*F$4","v":1845.85},{"$f":"Données!$E417*G$4","v":1748.7},{"$f":"Données!$E417*H$4","v":1651.55},{"$f":"Données!$F417*B$4","v":1806.6499999999999},{"$f":"Données!$F417*C$4","v":1728.1000000000001},{"$f":"Données!$F417*D$4","v":1649.5500000000002},{"$f":"Données!$F417*E$4","v":1571},{"$f":"Données!$F417*F$4","v":1492.4499999999998},{"$f":"Données!$F417*G$4","v":1413.9},{"$f":"Données!$F417*H$4","v":1335.35}]
[null,4760,"Bullange","Bullange",2451,1420,{"$f":"Données!$E418*B$4","v":2818.6499999999996},{"$f":"Données!$E418*C$4","v":2696.1000000000004},{"$f":"Données!$E418*D$4","v":2573.5500000000002},{"$f":"Données!$E418*E$4","v":2451},{"$f":"Données!$E418*F$4","v":2328.4499999999998},{"$f":"Données!$E418*G$4","v":2205.9},{"$f":"Données!$E418*H$4","v":2083.35},{"$f":"Données!$F418*B$4","v":1632.9999999999998},{"$f":"Données!$F418*C$4","v":1562.0000000000002},{"$f":"Données!$F418*D$4","v":1491},{"$f":"Données!$F418*E$4","v":1420},{"$f":"Données!$F418*F$4","v":1349},{"$f":"Données!$F418*G$4","v":1278},{"$f":"Données!$F418*H$4","v":1207}]
[null,4760,"Manderfeld","Bullange",2451,1420,{"$f":"Données!$E419*B$4","v":2818.6499999999996},{"$f":"Données!$E419*C$4","v":2696.1000000000004},{"$f":"Données!$E419*D$4","v":2573.5500000000002},{"$f":"Données!$E419*E$4","v":2451},{"$f":"Données!$E419*F$4","v":2328.4499999999998},{"$f":"Données!$E419*G$4","v":2205.9},{"$f":"Données!$E419*H$4","v":2083.35},{"$f":"Données!$F419*B$4","v":1632.9999999999998},{"$f":"Données!$F419*C$4","v":1562.0000000000002},{"$f":"Données!$F419*D$4","v":1491},{"$f":"Données!$F419*E$4","v":1420},{"$f":"Données!$F419*F$4","v":1349},{"$f":"Données!$F419*G$4","v":1278},{"$f":"Données!$F419*H$4","v":1207}]
[null,4761,"Rocherath","Bullange",2451,1420,{"$f":"Données!$E420*B$4","v":2818.6499999999996},{"$f":"Données!$E420*C$4","v":2696.1000000000004},{"$f":"Données!$E420*D$4","v":2573.5500000000002},{"$f":"Données!$E420*E$4","v":2451},{"$f":"Données!$E420*F$4","v":2328.4499999999998},{"$f":"Données!$E420*G$4","v":2205.9},{"$f":"Données!$E420*H$4","v":2083.35},{"$f":"Données!$F420*B$4","v":1632.9999999999998},{"$f":"Données!$F420*C$4","v":1562.0000000000002},{"$f":"Données!$F420*D$4","v":1491},{"$f":"Données!$F420*E$4","v":1420},{"$f":"Données!$F420*F$4","v":1349},{"$f":"Données!$F420*G$4","v":1278},{"$f":"Données!$F420*H$4","v":1207}]
[null,4770,"Amblève","Amblève",2536,1581,{"$f":"Données!$E421*B$4","v":2916.3999999999996},{"$f":"Données!$E421*C$4","v":2789.6000000000004},{"$f":"Données!$E421*D$4","v":2662.8},{"$f":"Données!$E421*E$4","v":2536},{"$f":"Données!$E421*F$4","v":2409.1999999999998},{"$f":"Données!$E421*G$4","v":2282.4},{"$f":"Données!$E421*H$4","v":2155.6},{"$f":"Données!$F421*B$4","v":1818.1499999999999},{"$f":"Données!$F421*C$4","v":1739.1000000000001},{"$f":"Données!$F421*D$4","v":1660.0500000000002},{"$f":"Données!$F421*E$4","v":1581},{"$f":"Données!$F421*F$4","v":1501.9499999999998},{"$f":"Données!$F421*G$4","v":1422.9},{"$f":"Données!$F421*H$4","v":1343.85}]
[null,4770,"Meyerode","Amblève",2536,1581,{"$f":"Données!$E422*B$4","v":2916.3999999999996},{"$f":"Données!$E422*C$4","v":2789.6000000000004},{"$f":"Données!$E422*D$4","v":2662.8},{"$f":"Données!$E422*E$4","v":2536},{"$f":"Données!$E422*F$4","v":2409.1999999999998},{"$f":"Données!$E422*G$4","v":2282.4},{"$f":"Données!$E422*H$4","v":2155.6},{"$f":"Données!$F422*B$4","v":1818.1499999999999},{"$f":"Données!$F422*C$4","v":1739.1000000000001},{"$f":"Données!$F422*D$4","v":1660.0500000000002},{"$f":"Données!$F422*E$4","v":1581},{"$f":"Données!$F422*F$4","v":1501.9499999999998},{"$f":"Données!$F422*G$4","v":1422.9},{"$f":"Données!$F422*H$4","v":1343.85}]
[null,4771,"Heppenbach","Amblève",2536,1581,{"$f":"Données!$E423*B$4","v":2916.3999999999996},{"$f":"Données!$E423*C$4","v":2789.6000000000004},{"$f":"Données!$E423*D$4","v":2662.8},{"$f":"Données!$E423*E$4","v":2536},{"$f":"Données!$E423*F$4","v":2409.1999999999998},{"$f":"Données!$E423*G$4","v":2282.4},{"$f":"Données!$E423*H$4","v":2155.6},{"$f":"Données!$F423*B$4","v":1818.1499999999999},{"$f":"Données!$F423*C$4","v":1739.1000000000001},{"$f":"Données!$F423*D$4","v":1660.0500000000002},{"$f":"Données!$F423*E$4","v":1581},{"$f":"Données!$F423*F$4","v":1501.9499999999998},{"$f":"Données!$F423*G$4","v":1422.9},{"$f":"Données!$F423*H$4","v":1343.85}]
[null,4780,"Saint-Vith","Saint-Vith",2745,1619,{"$f":"Données!$E424*B$4","v":3156.7499999999995},{"$f":"Données!$E424*C$4","v":3019.5000000000005},{"$f":"Données!$E424*D$4","v":2882.25},{"$f":"Données!$E424*E$4","v":2745},{"$f":"Données!$E424*F$4","v":2607.75},{"$f":"Données!$E424*G$4","v":2470.5},{"$f":"Données!$E424*H$4","v":2333.25},{"$f":"Données!$F424*B$4","v":1861.85},{"$f":"Données!$F424*C$4","v":1780.9},{"$f":"Données!$F424*D$4","v":1699.95},{"$f":"Données!$F424*E$4","v":1619},{"$f":"Données!$F424*F$4","v":1538.05},{"$f":"Données!$F424*G$4","v":1457.1000000000001},{"$f":"Données!$F424*H$4","v":1376.1499999999999}]
[null,4780,"Recht","Saint-Vith",2745,1619,{"$f":"Données!$E425*B$4","v":3156.7499999999995},{"$f":"Données!$E425*C$4","v":3019.5000000000005},{"$f":"Données!$E425*D$4","v":2882.25},{"$f":"Données!$E425*E$4","v":2745},{"$f":"Données!$E425*F$4","v":2607.75},{"$f":"Données!$E425*G$4","v":2470.5},{"$f":"Données!$E425*H$4","v":2333.25},{"$f":"Données!$F425*B$4","v":1861.85},{"$f":"Données!$F425*C$4","v":1780.9},{"$f":"Données!$F425*D$4","v":1699.95},{"$f":"Données!$F425*E$4","v":1619},{"$f":"Données!$F425*F$4","v":1538.05},{"$f":"Données!$F425*G$4","v":1457.1000000000001},{"$f":"Données!$F425*H$4","v":1376.1499999999999}]
[null,4782,"Schoenberg","Saint-Vith",2745,1619,{"$f":"Données!$E426*B$4","v":3156.7499999999995},{"$f":"Données!$E426*C$4","v":3019.5000000000005},{"$f":"Données!$E426*D$4","v":2882.25},{"$f":"Données!$E426*E$4","v":2745},{"$f":"Données!$E426*F$4","v":2607.75},{"$f":"Données!$E426*G$4","v":2470.5},{"$f":"Données!$E426*H$4","v":2333.25},{"$f":"Données!$F426*B$4","v":1861.85},{"$f":"Données!$F426*C$4","v":1780.9},{"$f":"Données!$F426*D$4","v":1699.95},{"$f":"Données!$F426*E$4","v":1619},{"$f":"Données!$F426*F$4","v":1538.05},{"$f":"Données!$F426*G$4","v":1457.1000000000001},{"$f":"Données!$F426*H$4","v":1376.1499999999999}]
[null,4783,"Lommersweiler","Saint-Vith",2745,1619,{"$f":"Données!$E427*B$4","v":3156.7499999999995},{"$f":"Données!$E427*C$4","v":3019.5000000000005},{"$f":"Données!$E427*D$4","v":2882.25},{"$f":"Données!$E427*E$4","v":2745},{"$f":"Données!$E427*F$4","v":2607.75},{"$f":"Données!$E427*G$4","v":2470.5},{"$f":"Données!$E427*H$4","v":2333.25},{"$f":"Données!$F427*B$4","v":1861.85},{"$f":"Données!$F427*C$4","v":1780.9},{"$f":"Données!$F427*D$4","v":1699.95},{"$f":"Données!$F427*E$4","v":1619},{"$f":"Données!$F427*F$4","v":1538.05},{"$f":"Données!$F427*G$4","v":1457.1000000000001},{"$f":"Données!$F427*H$4","v":1376.1499999999999}]
[null,4784,"Crombach","Saint-Vith",2745,1619,{"$f":"Données!$E428*B$4","v":3156.7499999999995},{"$f":"Données!$E428*C$4","v":3019.5000000000005},{"$f":"Données!$E428*D$4","v":2882.25},{"$f":"Données!$E428*E$4","v":2745},{"$f":"Données!$E428*F$4","v":2607.75},{"$f":"Données!$E428*G$4","v":2470.5},{"$f":"Données!$E428*H$4","v":2333.25},{"$f":"Données!$F428*B$4","v":1861.85},{"$f":"Données!$F428*C$4","v":1780.9},{"$f":"Données!$F428*D$4","v":1699.95},{"$f":"Données!$F428*E$4","v":1619},{"$f":"Données!$F428*F$4","v":1538.05},{"$f":"Données!$F428*G$4","v":1457.1000000000001},{"$f":"Données!$F428*H$4","v":1376.1499999999999}]
[null,4790,"Reuland","Burg-Reuland",2536,1581,{"$f":"Données!$E429*B$4","v":2916.3999999999996},{"$f":"Données!$E429*C$4","v":2789.6000000000004},{"$f":"Données!$E429*D$4","v":2662.8},{"$f":"Données!$E429*E$4","v":2536},{"$f":"Données!$E429*F$4","v":2409.1999999999998},{"$f":"Données!$E429*G$4","v":2282.4},{"$f":"Données!$E429*H$4","v":2155.6},{"$f":"Données!$F429*B$4","v":1818.1499999999999},{"$f":"Données!$F429*C$4","v":1739.1000000000001},{"$f":"Données!$F429*D$4","v":1660.0500000000002},{"$f":"Données!$F429*E$4","v":1581},{"$f":"Données!$F429*F$4","v":1501.9499999999998},{"$f":"Données!$F429*G$4","v":1422.9},{"$f":"Données!$F429*H$4","v":1343.85}]
[null,4790,"Burg-Reuland","Burg-Reuland",2536,1581,{"$f":"Données!$E430*B$4","v":2916.3999999999996},{"$f":"Données!$E430*C$4","v":2789.6000000000004},{"$f":"Données!$E430*D$4","v":2662.8},{"$f":"Données!$E430*E$4","v":2536},{"$f":"Données!$E430*F$4","v":2409.1999999999998},{"$f":"Données!$E430*G$4","v":2282.4},{"$f":"Données!$E430*H$4","v":2155.6},{"$f":"Données!$F430*B$4","v":1818.1499999999999},{"$f":"Données!$F430*C$4","v":1739.1000000000001},{"$f":"Données!$F430*D$4","v":1660.0500000000002},{"$f":"Données!$F430*E$4","v":1581},{"$f":"Données!$F430*F$4","v":1501.9499999999998},{"$f":"Données!$F430*G$4","v":1422.9},{"$f":"Données!$F430*H$4","v":1343.85}]
[null,4791,"Thommen","Burg-Reuland",2536,1581,{"$f":"Données!$E431*B$4","v":2916.3999999999996},{"$f":"Données!$E431*C$4","v":2789.6000000000004},{"$f":"Données!$E431*D$4","v":2662.8},{"$f":"Données!$E431*E$4","v":2536},{"$f":"Données!$E431*F$4","v":2409.1999999999998},{"$f":"Données!$E431*G$4","v":2282.4},{"$f":"Données!$E431*H$4","v":2155.6},{"$f":"Données!$F431*B$4","v":1818.1499999999999},{"$f":"Données!$F431*C$4","v":1739.1000000000001},{"$f":"Données!$F431*D$4","v":1660.0500000000002},{"$f":"Données!$F431*E$4","v":1581},{"$f":"Données!$F431*F$4","v":1501.9499999999998},{"$f":"Données!$F431*G$4","v":1422.9},{"$f":"Données!$F431*H$4","v":1343.85}]
[null,4800,"Lambermont","Verviers",1952,1556,{"$f":"Données!$E432*B$4","v":2244.7999999999997},{"$f":"Données!$E432*C$4","v":2147.2000000000003},{"$f":"Données!$E432*D$4","v":2049.6},{"$f":"Données!$E432*E$4","v":1952},{"$f":"Données!$E432*F$4","v":1854.3999999999999},{"$f":"Données!$E432*G$4","v":1756.8},{"$f":"Données!$E432*H$4","v":1659.2},{"$f":"Données!$F432*B$4","v":1789.3999999999999},{"$f":"Données!$F432*C$4","v":1711.6000000000001},{"$f":"Données!$F432*D$4","v":1633.8000000000002},{"$f":"Données!$F432*E$4","v":1556},{"$f":"Données!$F432*F$4","v":1478.1999999999998},{"$f":"Données!$F432*G$4","v":1400.4},{"$f":"Données!$F432*H$4","v":1322.6}]
[null,4800,"Ensival","Verviers",1952,1556,{"$f":"Données!$E433*B$4","v":2244.7999999999997},{"$f":"Données!$E433*C$4","v":2147.2000000000003},{"$f":"Données!$E433*D$4","v":2049.6},{"$f":"Données!$E433*E$4","v":1952},{"$f":"Données!$E433*F$4","v":1854.3999999999999},{"$f":"Données!$E433*G$4","v":1756.8},{"$f":"Données!$E433*H$4","v":1659.2},{"$f":"Données!$F433*B$4","v":1789.3999999999999},{"$f":"Données!$F433*C$4","v":1711.6000000000001},{"$f":"Données!$F433*D$4","v":1633.8000000000002},{"$f":"Données!$F433*E$4","v":1556},{"$f":"Données!$F433*F$4","v":1478.1999999999998},{"$f":"Données!$F433*G$4","v":1400.4},{"$f":"Données!$F433*H$4","v":1322.6}]
[null,4800,"Polleur","Verviers",1952,1556,{"$f":"Données!$E434*B$4","v":2244.7999999999997},{"$f":"Données!$E434*C$4","v":2147.2000000000003},{"$f":"Données!$E434*D$4","v":2049.6},{"$f":"Données!$E434*E$4","v":1952},{"$f":"Données!$E434*F$4","v":1854.3999999999999},{"$f":"Données!$E434*G$4","v":1756.8},{"$f":"Données!$E434*H$4","v":1659.2},{"$f":"Données!$F434*B$4","v":1789.3999999999999},{"$f":"Données!$F434*C$4","v":1711.6000000000001},{"$f":"Données!$F434*D$4","v":1633.8000000000002},{"$f":"Données!$F434*E$4","v":1556},{"$f":"Données!$F434*F$4","v":1478.1999999999998},{"$f":"Données!$F434*G$4","v":1400.4},{"$f":"Données!$F434*H$4","v":1322.6}]
[null,4800,"Verviers","Verviers",1952,1556,{"$f":"Données!$E435*B$4","v":2244.7999999999997},{"$f":"Données!$E435*C$4","v":2147.2000000000003},{"$f":"Données!$E435*D$4","v":2049.6},{"$f":"Données!$E435*E$4","v":1952},{"$f":"Données!$E435*F$4","v":1854.3999999999999},{"$f":"Données!$E435*G$4","v":1756.8},{"$f":"Données!$E435*H$4","v":1659.2},{"$f":"Données!$F435*B$4","v":1789.3999999999999},{"$f":"Données!$F435*C$4","v":1711.6000000000001},{"$f":"Données!$F435*D$4","v":1633.8000000000002},{"$f":"Données!$F435*E$4","v":1556},{"$f":"Données!$F435*F$4","v":1478.1999999999998},{"$f":"Données!$F435*G$4","v":1400.4},{"$f":"Données!$F435*H$4","v":1322.6}]
[null,4800,"Petit-Rechain","Verviers",1952,1556,{"$f":"Données!$E436*B$4","v":2244.7999999999997},{"$f":"Données!$E436*C$4","v":2147.2000000000003},{"$f":"Données!$E436*D$4","v":2049.6},{"$f":"Données!$E436*E$4","v":1952},{"$f":"Données!$E436*F$4","v":1854.3999999999999},{"$f":"Données!$E436*G$4","v":1756.8},{"$f":"Données!$E436*H$4","v":1659.2},{"$f":"Données!$F436*B$4","v":1789.3999999999999},{"$f":"Données!$F436*C$4","v":1711.6000000000001},{"$f":"Données!$F436*D$4","v":1633.8000000000002},{"$f":"Données!$F436*E$4","v":1556},{"$f":"Données!$F436*F$4","v":1478.1999999999998},{"$f":"Données!$F436*G$4","v":1400.4},{"$f":"Données!$F436*H$4","v":1322.6}]
[null,4801,"Stembert","Verviers",1952,1556,{"$f":"Données!$E437*B$4","v":2244.7999999999997},{"$f":"Données!$E437*C$4","v":2147.2000000000003},{"$f":"Données!$E437*D$4","v":2049.6},{"$f":"Données!$E437*E$4","v":1952},{"$f":"Données!$E437*F$4","v":1854.3999999999999},{"$f":"Données!$E437*G$4","v":1756.8},{"$f":"Données!$E437*H$4","v":1659.2},{"$f":"Données!$F437*B$4","v":1789.3999999999999},{"$f":"Données!$F437*C$4","v":1711.6000000000001},{"$f":"Données!$F437*D$4","v":1633.8000000000002},{"$f":"Données!$F437*E$4","v":1556},{"$f":"Données!$F437*F$4","v":1478.1999999999998},{"$f":"Données!$F437*G$4","v":1400.4},{"$f":"Données!$F437*H$4","v":1322.6}]
[null,4802,"Heusy","Verviers",1952,1556,{"$f":"Données!$E438*B$4","v":2244.7999999999997},{"$f":"Données!$E438*C$4","v":2147.2000000000003},{"$f":"Données!$E438*D$4","v":2049.6},{"$f":"Données!$E438*E$4","v":1952},{"$f":"Données!$E438*F$4","v":1854.3999999999999},{"$f":"Données!$E438*G$4","v":1756.8},{"$f":"Données!$E438*H$4","v":1659.2},{"$f":"Données!$F438*B$4","v":1789.3999999999999},{"$f":"Données!$F438*C$4","v":1711.6000000000001},{"$f":"Données!$F438*D$4","v":1633.8000000000002},{"$f":"Données!$F438*E$4","v":1556},{"$f":"Données!$F438*F$4","v":1478.1999999999998},{"$f":"Données!$F438*G$4","v":1400.4},{"$f":"Données!$F438*H$4","v":1322.6}]
[null,4820,"Dison","Dison",1383,1469,{"$f":"Données!$E439*B$4","v":1590.4499999999998},{"$f":"Données!$E439*C$4","v":1521.3000000000002},{"$f":"Données!$E439*D$4","v":1452.15},{"$f":"Données!$E439*E$4","v":1383},{"$f":"Données!$E439*F$4","v":1313.85},{"$f":"Données!$E439*G$4","v":1244.7},{"$f":"Données!$E439*H$4","v":1175.55},{"$f":"Données!$F439*B$4","v":1689.35},{"$f":"Données!$F439*C$4","v":1615.9},{"$f":"Données!$F439*D$4","v":1542.45},{"$f":"Données!$F439*E$4","v":1469},{"$f":"Données!$F439*F$4","v":1395.55},{"$f":"Données!$F439*G$4","v":1322.1000000000001},{"$f":"Données!$F439*H$4","v":1248.6499999999999}]
[null,4821,"Andrimont","Dison",1383,1469,{"$f":"Données!$E440*B$4","v":1590.4499999999998},{"$f":"Données!$E440*C$4","v":1521.3000000000002},{"$f":"Données!$E440*D$4","v":1452.15},{"$f":"Données!$E440*E$4","v":1383},{"$f":"Données!$E440*F$4","v":1313.85},{"$f":"Données!$E440*G$4","v":1244.7},{"$f":"Données!$E440*H$4","v":1175.55},{"$f":"Données!$F440*B$4","v":1689.35},{"$f":"Données!$F440*C$4","v":1615.9},{"$f":"Données!$F440*D$4","v":1542.45},{"$f":"Données!$F440*E$4","v":1469},{"$f":"Données!$F440*F$4","v":1395.55},{"$f":"Données!$F440*G$4","v":1322.1000000000001},{"$f":"Données!$F440*H$4","v":1248.6499999999999}]
[null,4830,"Limbourg","Limbourg",1636,1531,{"$f":"Données!$E441*B$4","v":1881.3999999999999},{"$f":"Données!$E441*C$4","v":1799.6000000000001},{"$f":"Données!$E441*D$4","v":1717.8000000000002},{"$f":"Données!$E441*E$4","v":1636},{"$f":"Données!$E441*F$4","v":1554.1999999999998},{"$f":"Données!$E441*G$4","v":1472.4},{"$f":"Données!$E441*H$4","v":1390.6},{"$f":"Données!$F441*B$4","v":1760.6499999999999},{"$f":"Données!$F441*C$4","v":1684.1000000000001},{"$f":"Données!$F441*D$4","v":1607.55},{"$f":"Données!$F441*E$4","v":1531},{"$f":"Données!$F441*F$4","v":1454.45},{"$f":"Données!$F441*G$4","v":1377.9},{"$f":"Données!$F441*H$4","v":1301.3499999999999}]
[null,4831,"Bilstain","Limbourg",1636,1531,{"$f":"Données!$E442*B$4","v":1881.3999999999999},{"$f":"Données!$E442*C$4","v":1799.6000000000001},{"$f":"Données!$E442*D$4","v":1717.8000000000002},{"$f":"Données!$E442*E$4","v":1636},{"$f":"Données!$E442*F$4","v":1554.1999999999998},{"$f":"Données!$E442*G$4","v":1472.4},{"$f":"Données!$E442*H$4","v":1390.6},{"$f":"Données!$F442*B$4","v":1760.6499999999999},{"$f":"Données!$F442*C$4","v":1684.1000000000001},{"$f":"Données!$F442*D$4","v":1607.55},{"$f":"Données!$F442*E$4","v":1531},{"$f":"Données!$F442*F$4","v":1454.45},{"$f":"Données!$F442*G$4","v":1377.9},{"$f":"Données!$F442*H$4","v":1301.3499999999999}]
[null,4834,"Goé","Limbourg",1636,1531,{"$f":"Données!$E443*B$4","v":1881.3999999999999},{"$f":"Données!$E443*C$4","v":1799.6000000000001},{"$f":"Données!$E443*D$4","v":1717.8000000000002},{"$f":"Données!$E443*E$4","v":1636},{"$f":"Données!$E443*F$4","v":1554.1999999999998},{"$f":"Données!$E443*G$4","v":1472.4},{"$f":"Données!$E443*H$4","v":1390.6},{"$f":"Données!$F443*B$4","v":1760.6499999999999},{"$f":"Données!$F443*C$4","v":1684.1000000000001},{"$f":"Données!$F443*D$4","v":1607.55},{"$f":"Données!$F443*E$4","v":1531},{"$f":"Données!$F443*F$4","v":1454.45},{"$f":"Données!$F443*G$4","v":1377.9},{"$f":"Données!$F443*H$4","v":1301.3499999999999}]
[null,4837,"Baelen","Baelen",2001,1777,{"$f":"Données!$E444*B$4","v":2301.1499999999996},{"$f":"Données!$E444*C$4","v":2201.1000000000004},{"$f":"Données!$E444*D$4","v":2101.0500000000002},{"$f":"Données!$E444*E$4","v":2001},{"$f":"Données!$E444*F$4","v":1900.9499999999998},{"$f":"Données!$E444*G$4","v":1800.9},{"$f":"Données!$E444*H$4","v":1700.85},{"$f":"Données!$F444*B$4","v":2043.55},{"$f":"Données!$F444*C$4","v":1954.7},{"$f":"Données!$F444*D$4","v":1865.8500000000001},{"$f":"Données!$F444*E$4","v":1777},{"$f":"Données!$F444*F$4","v":1688.1499999999999},{"$f":"Données!$F444*G$4","v":1599.3},{"$f":"Données!$F444*H$4","v":1510.45}]
[null,4837,"Membach","Baelen",2001,1777,{"$f":"Données!$E445*B$4","v":2301.1499999999996},{"$f":"Données!$E445*C$4","v":2201.1000000000004},{"$f":"Données!$E445*D$4","v":2101.0500000000002},{"$f":"Données!$E445*E$4","v":2001},{"$f":"Données!$E445*F$4","v":1900.9499999999998},{"$f":"Données!$E445*G$4","v":1800.9},{"$f":"Données!$E445*H$4","v":1700.85},{"$f":"Données!$F445*B$4","v":2043.55},{"$f":"Données!$F445*C$4","v":1954.7},{"$f":"Données!$F445*D$4","v":1865.8500000000001},{"$f":"Données!$F445*E$4","v":1777},{"$f":"Données!$F445*F$4","v":1688.1499999999999},{"$f":"Données!$F445*G$4","v":1599.3},{"$f":"Données!$F445*H$4","v":1510.45}]
[null,4840,"Welkenraedt","Welkenraedt",2408,1755,{"$f":"Données!$E446*B$4","v":2769.2},{"$f":"Données!$E446*C$4","v":2648.8},{"$f":"Données!$E446*D$4","v":2528.4},{"$f":"Données!$E446*E$4","v":2408},{"$f":"Données!$E446*F$4","v":2287.6},{"$f":"Données!$E446*G$4","v":2167.2000000000003},{"$f":"Données!$E446*H$4","v":2046.8},{"$f":"Données!$F446*B$4","v":2018.2499999999998},{"$f":"Données!$F446*C$4","v":1930.5000000000002},{"$f":"Données!$F446*D$4","v":1842.75},{"$f":"Données!$F446*E$4","v":1755},{"$f":"Données!$F446*F$4","v":1667.25},{"$f":"Données!$F446*G$4","v":1579.5},{"$f":"Données!$F446*H$4","v":1491.75}]
[null,4841,"Henri-Chapelle","Welkenraedt",2408,1755,{"$f":"Données!$E447*B$4","v":2769.2},{"$f":"Données!$E447*C$4","v":2648.8},{"$f":"Données!$E447*D$4","v":2528.4},{"$f":"Données!$E447*E$4","v":2408},{"$f":"Données!$E447*F$4","v":2287.6},{"$f":"Données!$E447*G$4","v":2167.2000000000003},{"$f":"Données!$E447*H$4","v":2046.8},{"$f":"Données!$F447*B$4","v":2018.2499999999998},{"$f":"Données!$F447*C$4","v":1930.5000000000002},{"$f":"Données!$F447*D$4","v":1842.75},{"$f":"Données!$F447*E$4","v":1755},{"$f":"Données!$F447*F$4","v":1667.25},{"$f":"Données!$F447*G$4","v":1579.5},{"$f":"Données!$F447*H$4","v":1491.75}]
[null,4845,"Sart-Lez-Spa","Jalhay",2498,1778,{"$f":"Données!$E448*B$4","v":2872.7},{"$f":"Données!$E448*C$4","v":2747.8},{"$f":"Données!$E448*D$4","v":2622.9},{"$f":"Données!$E448*E$4","v":2498},{"$f":"Données!$E448*F$4","v":2373.1},{"$f":"Données!$E448*G$4","v":2248.2000000000003},{"$f":"Données!$E448*H$4","v":2123.2999999999997},{"$f":"Données!$F448*B$4","v":2044.6999999999998},{"$f":"Données!$F448*C$4","v":1955.8000000000002},{"$f":"Données!$F448*D$4","v":1866.9},{"$f":"Données!$F448*E$4","v":1778},{"$f":"Données!$F448*F$4","v":1689.1},{"$f":"Données!$F448*G$4","v":1600.2},{"$f":"Données!$F448*H$4","v":1511.3}]
[null,4845,"Jalhay","Jalhay",2498,1778,{"$f":"Données!$E449*B$4","v":2872.7},{"$f":"Données!$E449*C$4","v":2747.8},{"$f":"Données!$E449*D$4","v":2622.9},{"$f":"Données!$E449*E$4","v":2498},{"$f":"Données!$E449*F$4","v":2373.1},{"$f":"Données!$E449*G$4","v":2248.2000000000003},{"$f":"Données!$E449*H$4","v":2123.2999999999997},{"$f":"Données!$F449*B$4","v":2044.6999999999998},{"$f":"Données!$F449*C$4","v":1955.8000000000002},{"$f":"Données!$F449*D$4","v":1866.9},{"$f":"Données!$F449*E$4","v":1778},{"$f":"Données!$F449*F$4","v":1689.1},{"$f":"Données!$F449*G$4","v":1600.2},{"$f":"Données!$F449*H$4","v":1511.3}]
[null,4850,"Plombières","Plombières",2276,1686,{"$f":"Données!$E450*B$4","v":2617.3999999999996},{"$f":"Données!$E450*C$4","v":2503.6000000000004},{"$f":"Données!$E450*D$4","v":2389.8000000000002},{"$f":"Données!$E450*E$4","v":2276},{"$f":"Données!$E450*F$4","v":2162.1999999999998},{"$f":"Données!$E450*G$4","v":2048.4},{"$f":"Données!$E450*H$4","v":1934.6},{"$f":"Données!$F450*B$4","v":1938.8999999999999},{"$f":"Données!$F450*C$4","v":1854.6000000000001},{"$f":"Données!$F450*D$4","v":1770.3000000000002},{"$f":"Données!$F450*E$4","v":1686},{"$f":"Données!$F450*F$4","v":1601.6999999999998},{"$f":"Données!$F450*G$4","v":1517.4},{"$f":"Données!$F450*H$4","v":1433.1}]
[null,4850,"Montzen","Plombières",2276,1686,{"$f":"Données!$E451*B$4","v":2617.3999999999996},{"$f":"Données!$E451*C$4","v":2503.6000000000004},{"$f":"Données!$E451*D$4","v":2389.8000000000002},{"$f":"Données!$E451*E$4","v":2276},{"$f":"Données!$E451*F$4","v":2162.1999999999998},{"$f":"Données!$E451*G$4","v":2048.4},{"$f":"Données!$E451*H$4","v":1934.6},{"$f":"Données!$F451*B$4","v":1938.8999999999999},{"$f":"Données!$F451*C$4","v":1854.6000000000001},{"$f":"Données!$F451*D$4","v":1770.3000000000002},{"$f":"Données!$F451*E$4","v":1686},{"$f":"Données!$F451*F$4","v":1601.6999999999998},{"$f":"Données!$F451*G$4","v":1517.4},{"$f":"Données!$F451*H$4","v":1433.1}]
[null,4850,"Moresnet","Plombières",2276,1686,{"$f":"Données!$E452*B$4","v":2617.3999999999996},{"$f":"Données!$E452*C$4","v":2503.6000000000004},{"$f":"Données!$E452*D$4","v":2389.8000000000002},{"$f":"Données!$E452*E$4","v":2276},{"$f":"Données!$E452*F$4","v":2162.1999999999998},{"$f":"Données!$E452*G$4","v":2048.4},{"$f":"Données!$E452*H$4","v":1934.6},{"$f":"Données!$F452*B$4","v":1938.8999999999999},{"$f":"Données!$F452*C$4","v":1854.6000000000001},{"$f":"Données!$F452*D$4","v":1770.3000000000002},{"$f":"Données!$F452*E$4","v":1686},{"$f":"Données!$F452*F$4","v":1601.6999999999998},{"$f":"Données!$F452*G$4","v":1517.4},{"$f":"Données!$F452*H$4","v":1433.1}]
[null,4851,"Sippenaeken","Plombières",2276,1686,{"$f":"Données!$E453*B$4","v":2617.3999999999996},{"$f":"Données!$E453*C$4","v":2503.6000000000004},{"$f":"Données!$E453*D$4","v":2389.8000000000002},{"$f":"Données!$E453*E$4","v":2276},{"$f":"Données!$E453*F$4","v":2162.1999999999998},{"$f":"Données!$E453*G$4","v":2048.4},{"$f":"Données!$E453*H$4","v":1934.6},{"$f":"Données!$F453*B$4","v":1938.8999999999999},{"$f":"Données!$F453*C$4","v":1854.6000000000001},{"$f":"Données!$F453*D$4","v":1770.3000000000002},{"$f":"Données!$F453*E$4","v":1686},{"$f":"Données!$F453*F$4","v":1601.6999999999998},{"$f":"Données!$F453*G$4","v":1517.4},{"$f":"Données!$F453*H$4","v":1433.1}]
[null,4851,"Gemmenich","Plombières",2276,1686,{"$f":"Données!$E454*B$4","v":2617.3999999999996},{"$f":"Données!$E454*C$4","v":2503.6000000000004},{"$f":"Données!$E454*D$4","v":2389.8000000000002},{"$f":"Données!$E454*E$4","v":2276},{"$f":"Données!$E454*F$4","v":2162.1999999999998},{"$f":"Données!$E454*G$4","v":2048.4},{"$f":"Données!$E454*H$4","v":1934.6},{"$f":"Données!$F454*B$4","v":1938.8999999999999},{"$f":"Données!$F454*C$4","v":1854.6000000000001},{"$f":"Données!$F454*D$4","v":1770.3000000000002},{"$f":"Données!$F454*E$4","v":1686},{"$f":"Données!$F454*F$4","v":1601.6999999999998},{"$f":"Données!$F454*G$4","v":1517.4},{"$f":"Données!$F454*H$4","v":1433.1}]
[null,4852,"Hombourg","Plombières",2276,1686,{"$f":"Données!$E455*B$4","v":2617.3999999999996},{"$f":"Données!$E455*C$4","v":2503.6000000000004},{"$f":"Données!$E455*D$4","v":2389.8000000000002},{"$f":"Données!$E455*E$4","v":2276},{"$f":"Données!$E455*F$4","v":2162.1999999999998},{"$f":"Données!$E455*G$4","v":2048.4},{"$f":"Données!$E455*H$4","v":1934.6},{"$f":"Données!$F455*B$4","v":1938.8999999999999},{"$f":"Données!$F455*C$4","v":1854.6000000000001},{"$f":"Données!$F455*D$4","v":1770.3000000000002},{"$f":"Données!$F455*E$4","v":1686},{"$f":"Données!$F455*F$4","v":1601.6999999999998},{"$f":"Données!$F455*G$4","v":1517.4},{"$f":"Données!$F455*H$4","v":1433.1}]
[null,4860,"Cornesse","Pepinster",2016,1581,{"$f":"Données!$E456*B$4","v":2318.3999999999996},{"$f":"Données!$E456*C$4","v":2217.6000000000004},{"$f":"Données!$E456*D$4","v":2116.8000000000002},{"$f":"Données!$E456*E$4","v":2016},{"$f":"Données!$E456*F$4","v":1915.1999999999998},{"$f":"Données!$E456*G$4","v":1814.4},{"$f":"Données!$E456*H$4","v":1713.6},{"$f":"Données!$F456*B$4","v":1818.1499999999999},{"$f":"Données!$F456*C$4","v":1739.1000000000001},{"$f":"Données!$F456*D$4","v":1660.0500000000002},{"$f":"Données!$F456*E$4","v":1581},{"$f":"Données!$F456*F$4","v":1501.9499999999998},{"$f":"Données!$F456*G$4","v":1422.9},{"$f":"Données!$F456*H$4","v":1343.85}]
[null,4860,"Pepinster","Pepinster",2016,1581,{"$f":"Données!$E457*B$4","v":2318.3999999999996},{"$f":"Données!$E457*C$4","v":2217.6000000000004},{"$f":"Données!$E457*D$4","v":2116.8000000000002},{"$f":"Données!$E457*E$4","v":2016},{"$f":"Données!$E457*F$4","v":1915.1999999999998},{"$f":"Données!$E457*G$4","v":1814.4},{"$f":"Données!$E457*H$4","v":1713.6},{"$f":"Données!$F457*B$4","v":1818.1499999999999},{"$f":"Données!$F457*C$4","v":1739.1000000000001},{"$f":"Données!$F457*D$4","v":1660.0500000000002},{"$f":"Données!$F457*E$4","v":1581},{"$f":"Données!$F457*F$4","v":1501.9499999999998},{"$f":"Données!$F457*G$4","v":1422.9},{"$f":"Données!$F457*H$4","v":1343.85}]
[null,4860,"Wegnez","Pepinster",2016,1581,{"$f":"Données!$E458*B$4","v":2318.3999999999996},{"$f":"Données!$E458*C$4","v":2217.6000000000004},{"$f":"Données!$E458*D$4","v":2116.8000000000002},{"$f":"Données!$E458*E$4","v":2016},{"$f":"Données!$E458*F$4","v":1915.1999999999998},{"$f":"Données!$E458*G$4","v":1814.4},{"$f":"Données!$E458*H$4","v":1713.6},{"$f":"Données!$F458*B$4","v":1818.1499999999999},{"$f":"Données!$F458*C$4","v":1739.1000000000001},{"$f":"Données!$F458*D$4","v":1660.0500000000002},{"$f":"Données!$F458*E$4","v":1581},{"$f":"Données!$F458*F$4","v":1501.9499999999998},{"$f":"Données!$F458*G$4","v":1422.9},{"$f":"Données!$F458*H$4","v":1343.85}]
[null,4861,"Soiron","Pepinster",2016,1581,{"$f":"Données!$E459*B$4","v":2318.3999999999996},{"$f":"Données!$E459*C$4","v":2217.6000000000004},{"$f":"Données!$E459*D$4","v":2116.8000000000002},{"$f":"Données!$E459*E$4","v":2016},{"$f":"Données!$E459*F$4","v":1915.1999999999998},{"$f":"Données!$E459*G$4","v":1814.4},{"$f":"Données!$E459*H$4","v":1713.6},{"$f":"Données!$F459*B$4","v":1818.1499999999999},{"$f":"Données!$F459*C$4","v":1739.1000000000001},{"$f":"Données!$F459*D$4","v":1660.0500000000002},{"$f":"Données!$F459*E$4","v":1581},{"$f":"Données!$F459*F$4","v":1501.9499999999998},{"$f":"Données!$F459*G$4","v":1422.9},{"$f":"Données!$F459*H$4","v":1343.85}]
[null,4870,"Forêt","Trooz",2002,1530,{"$f":"Données!$E460*B$4","v":2302.2999999999997},{"$f":"Données!$E460*C$4","v":2202.2000000000003},{"$f":"Données!$E460*D$4","v":2102.1},{"$f":"Données!$E460*E$4","v":2002},{"$f":"Données!$E460*F$4","v":1901.8999999999999},{"$f":"Données!$E460*G$4","v":1801.8},{"$f":"Données!$E460*H$4","v":1701.7},{"$f":"Données!$F460*B$4","v":1759.4999999999998},{"$f":"Données!$F460*C$4","v":1683.0000000000002},{"$f":"Données!$F460*D$4","v":1606.5},{"$f":"Données!$F460*E$4","v":1530},{"$f":"Données!$F460*F$4","v":1453.5},{"$f":"Données!$F460*G$4","v":1377},{"$f":"Données!$F460*H$4","v":1300.5}]
[null,4870,"Fraipont","Trooz",2002,1530,{"$f":"Données!$E461*B$4","v":2302.2999999999997},{"$f":"Données!$E461*C$4","v":2202.2000000000003},{"$f":"Données!$E461*D$4","v":2102.1},{"$f":"Données!$E461*E$4","v":2002},{"$f":"Données!$E461*F$4","v":1901.8999999999999},{"$f":"Données!$E461*G$4","v":1801.8},{"$f":"Données!$E461*H$4","v":1701.7},{"$f":"Données!$F461*B$4","v":1759.4999999999998},{"$f":"Données!$F461*C$4","v":1683.0000000000002},{"$f":"Données!$F461*D$4","v":1606.5},{"$f":"Données!$F461*E$4","v":1530},{"$f":"Données!$F461*F$4","v":1453.5},{"$f":"Données!$F461*G$4","v":1377},{"$f":"Données!$F461*H$4","v":1300.5}]
[null,4870,"Trooz","Trooz",2002,1530,{"$f":"Données!$E462*B$4","v":2302.2999999999997},{"$f":"Données!$E462*C$4","v":2202.2000000000003},{"$f":"Données!$E462*D$4","v":2102.1},{"$f":"Données!$E462*E$4","v":2002},{"$f":"Données!$E462*F$4","v":1901.8999999999999},{"$f":"Données!$E462*G$4","v":1801.8},{"$f":"Données!$E462*H$4","v":1701.7},{"$f":"Données!$F462*B$4","v":1759.4999999999998},{"$f":"Données!$F462*C$4","v":1683.0000000000002},{"$f":"Données!$F462*D$4","v":1606.5},{"$f":"Données!$F462*E$4","v":1530},{"$f":"Données!$F462*F$4","v":1453.5},{"$f":"Données!$F462*G$4","v":1377},{"$f":"Données!$F462*H$4","v":1300.5}]
[null,4870,"Nessonvaux","Trooz",2002,1530,{"$f":"Données!$E463*B$4","v":2302.2999999999997},{"$f":"Données!$E463*C$4","v":2202.2000000000003},{"$f":"Données!$E463*D$4","v":2102.1},{"$f":"Données!$E463*E$4","v":2002},{"$f":"Données!$E463*F$4","v":1901.8999999999999},{"$f":"Données!$E463*G$4","v":1801.8},{"$f":"Données!$E463*H$4","v":1701.7},{"$f":"Données!$F463*B$4","v":1759.4999999999998},{"$f":"Données!$F463*C$4","v":1683.0000000000002},{"$f":"Données!$F463*D$4","v":1606.5},{"$f":"Données!$F463*E$4","v":1530},{"$f":"Données!$F463*F$4","v":1453.5},{"$f":"Données!$F463*G$4","v":1377},{"$f":"Données!$F463*H$4","v":1300.5}]
[null,4877,"Olne","Olne",2139,1712,{"$f":"Données!$E464*B$4","v":2459.85},{"$f":"Données!$E464*C$4","v":2352.9},{"$f":"Données!$E464*D$4","v":2245.9500000000003},{"$f":"Données!$E464*E$4","v":2139},{"$f":"Données!$E464*F$4","v":2032.05},{"$f":"Données!$E464*G$4","v":1925.1000000000001},{"$f":"Données!$E464*H$4","v":1818.1499999999999},{"$f":"Données!$F464*B$4","v":1968.8},{"$f":"Données!$F464*C$4","v":1883.2},{"$f":"Données!$F464*D$4","v":1797.6000000000001},{"$f":"Données!$F464*E$4","v":1712},{"$f":"Données!$F464*F$4","v":1626.3999999999999},{"$f":"Données!$F464*G$4","v":1540.8},{"$f":"Données!$F464*H$4","v":1455.2}]
[null,4880,"Aubel","Aubel",2611,2088,{"$f":"Données!$E465*B$4","v":3002.6499999999996},{"$f":"Données!$E465*C$4","v":2872.1000000000004},{"$f":"Données!$E465*D$4","v":2741.55},{"$f":"Données!$E465*E$4","v":2611},{"$f":"Données!$E465*F$4","v":2480.4499999999998},{"$f":"Données!$E465*G$4","v":2349.9},{"$f":"Données!$E465*H$4","v":2219.35},{"$f":"Données!$F465*B$4","v":2401.1999999999998},{"$f":"Données!$F465*C$4","v":2296.8000000000002},{"$f":"Données!$F465*D$4","v":2192.4},{"$f":"Données!$F465*E$4","v":2088},{"$f":"Données!$F465*F$4","v":1983.6},{"$f":"Données!$F465*G$4","v":1879.2},{"$f":"Données!$F465*H$4","v":1774.8}]
[null,4890,"Clermont","Thimister-Clermont",2424,1829,{"$f":"Données!$E466*B$4","v":2787.6},{"$f":"Données!$E466*C$4","v":2666.4},{"$f":"Données!$E466*D$4","v":2545.2000000000003},{"$f":"Données!$E466*E$4","v":2424},{"$f":"Données!$E466*F$4","v":2302.7999999999997},{"$f":"Données!$E466*G$4","v":2181.6},{"$f":"Données!$E466*H$4","v":2060.4},{"$f":"Données!$F466*B$4","v":2103.35},{"$f":"Données!$F466*C$4","v":2011.9},{"$f":"Données!$F466*D$4","v":1920.45},{"$f":"Données!$F466*E$4","v":1829},{"$f":"Données!$F466*F$4","v":1737.55},{"$f":"Données!$F466*G$4","v":1646.1000000000001},{"$f":"Données!$F466*H$4","v":1554.6499999999999}]
[null,4890,"Thimister","Thimister-Clermont",2424,1829,{"$f":"Données!$E467*B$4","v":2787.6},{"$f":"Données!$E467*C$4","v":2666.4},{"$f":"Données!$E467*D$4","v":2545.2000000000003},{"$f":"Données!$E467*E$4","v":2424},{"$f":"Données!$E467*F$4","v":2302.7999999999997},{"$f":"Données!$E467*G$4","v":2181.6},{"$f":"Données!$E467*H$4","v":2060.4},{"$f":"Données!$F467*B$4","v":2103.35},{"$f":"Données!$F467*C$4","v":2011.9},{"$f":"Données!$F467*D$4","v":1920.45},{"$f":"Données!$F467*E$4","v":1829},{"$f":"Données!$F467*F$4","v":1737.55},{"$f":"Données!$F467*G$4","v":1646.1000000000001},{"$f":"Données!$F467*H$4","v":1554.6499999999999}]
[null,4890,"Thimister-Clermont","Thimister-Clermont",2424,1829,{"$f":"Données!$E468*B$4","v":2787.6},{"$f":"Données!$E468*C$4","v":2666.4},{"$f":"Données!$E468*D$4","v":2545.2000000000003},{"$f":"Données!$E468*E$4","v":2424},{"$f":"Données!$E468*F$4","v":2302.7999999999997},{"$f":"Données!$E468*G$4","v":2181.6},{"$f":"Données!$E468*H$4","v":2060.4},{"$f":"Données!$F468*B$4","v":2103.35},{"$f":"Données!$F468*C$4","v":2011.9},{"$f":"Données!$F468*D$4","v":1920.45},{"$f":"Données!$F468*E$4","v":1829},{"$f":"Données!$F468*F$4","v":1737.55},{"$f":"Données!$F468*G$4","v":1646.1000000000001},{"$f":"Données!$F468*H$4","v":1554.6499999999999}]
[null,4900,"Spa","Spa",2511,1860,{"$f":"Données!$E469*B$4","v":2887.6499999999996},{"$f":"Données!$E469*C$4","v":2762.1000000000004},{"$f":"Données!$E469*D$4","v":2636.55},{"$f":"Données!$E469*E$4","v":2511},{"$f":"Données!$E469*F$4","v":2385.4499999999998},{"$f":"Données!$E469*G$4","v":2259.9},{"$f":"Données!$E469*H$4","v":2134.35},{"$f":"Données!$F469*B$4","v":2139},{"$f":"Données!$F469*C$4","v":2046.0000000000002},{"$f":"Données!$F469*D$4","v":1953},{"$f":"Données!$F469*E$4","v":1860},{"$f":"Données!$F469*F$4","v":1767},{"$f":"Données!$F469*G$4","v":1674},{"$f":"Données!$F469*H$4","v":1581}]
[null,4910,"LaReid","Theux",2163,1800,{"$f":"Données!$E470*B$4","v":2487.4499999999998},{"$f":"Données!$E470*C$4","v":2379.3000000000002},{"$f":"Données!$E470*D$4","v":2271.15},{"$f":"Données!$E470*E$4","v":2163},{"$f":"Données!$E470*F$4","v":2054.85},{"$f":"Données!$E470*G$4","v":1946.7},{"$f":"Données!$E470*H$4","v":1838.55},{"$f":"Données!$F470*B$4","v":2070},{"$f":"Données!$F470*C$4","v":1980.0000000000002},{"$f":"Données!$F470*D$4","v":1890},{"$f":"Données!$F470*E$4","v":1800},{"$f":"Données!$F470*F$4","v":1710},{"$f":"Données!$F470*G$4","v":1620},{"$f":"Données!$F470*H$4","v":1530}]
[null,4910,"Polleur","Theux",2163,1800,{"$f":"Données!$E471*B$4","v":2487.4499999999998},{"$f":"Données!$E471*C$4","v":2379.3000000000002},{"$f":"Données!$E471*D$4","v":2271.15},{"$f":"Données!$E471*E$4","v":2163},{"$f":"Données!$E471*F$4","v":2054.85},{"$f":"Données!$E471*G$4","v":1946.7},{"$f":"Données!$E471*H$4","v":1838.55},{"$f":"Données!$F471*B$4","v":2070},{"$f":"Données!$F471*C$4","v":1980.0000000000002},{"$f":"Données!$F471*D$4","v":1890},{"$f":"Données!$F471*E$4","v":1800},{"$f":"Données!$F471*F$4","v":1710},{"$f":"Données!$F471*G$4","v":1620},{"$f":"Données!$F471*H$4","v":1530}]
[null,4910,"Theux","Theux",2163,1800,{"$f":"Données!$E472*B$4","v":2487.4499999999998},{"$f":"Données!$E472*C$4","v":2379.3000000000002},{"$f":"Données!$E472*D$4","v":2271.15},{"$f":"Données!$E472*E$4","v":2163},{"$f":"Données!$E472*F$4","v":2054.85},{"$f":"Données!$E472*G$4","v":1946.7},{"$f":"Données!$E472*H$4","v":1838.55},{"$f":"Données!$F472*B$4","v":2070},{"$f":"Données!$F472*C$4","v":1980.0000000000002},{"$f":"Données!$F472*D$4","v":1890},{"$f":"Données!$F472*E$4","v":1800},{"$f":"Données!$F472*F$4","v":1710},{"$f":"Données!$F472*G$4","v":1620},{"$f":"Données!$F472*H$4","v":1530}]
[null,4920,"Harzé","Aywaille",2172,1616,{"$f":"Données!$E473*B$4","v":2497.7999999999997},{"$f":"Données!$E473*C$4","v":2389.2000000000003},{"$f":"Données!$E473*D$4","v":2280.6},{"$f":"Données!$E473*E$4","v":2172},{"$f":"Données!$E473*F$4","v":2063.4},{"$f":"Données!$E473*G$4","v":1954.8},{"$f":"Données!$E473*H$4","v":1846.2},{"$f":"Données!$F473*B$4","v":1858.3999999999999},{"$f":"Données!$F473*C$4","v":1777.6000000000001},{"$f":"Données!$F473*D$4","v":1696.8000000000002},{"$f":"Données!$F473*E$4","v":1616},{"$f":"Données!$F473*F$4","v":1535.1999999999998},{"$f":"Données!$F473*G$4","v":1454.4},{"$f":"Données!$F473*H$4","v":1373.6}]
[null,4920,"Louveigné","Aywaille",2172,1616,{"$f":"Données!$E474*B$4","v":2497.7999999999997},{"$f":"Données!$E474*C$4","v":2389.2000000000003},{"$f":"Données!$E474*D$4","v":2280.6},{"$f":"Données!$E474*E$4","v":2172},{"$f":"Données!$E474*F$4","v":2063.4},{"$f":"Données!$E474*G$4","v":1954.8},{"$f":"Données!$E474*H$4","v":1846.2},{"$f":"Données!$F474*B$4","v":1858.3999999999999},{"$f":"Données!$F474*C$4","v":1777.6000000000001},{"$f":"Données!$F474*D$4","v":1696.8000000000002},{"$f":"Données!$F474*E$4","v":1616},{"$f":"Données!$F474*F$4","v":1535.1999999999998},{"$f":"Données!$F474*G$4","v":1454.4},{"$f":"Données!$F474*H$4","v":1373.6}]
[null,4920,"Aywaille","Aywaille",2172,1616,{"$f":"Données!$E475*B$4","v":2497.7999999999997},{"$f":"Données!$E475*C$4","v":2389.2000000000003},{"$f":"Données!$E475*D$4","v":2280.6},{"$f":"Données!$E475*E$4","v":2172},{"$f":"Données!$E475*F$4","v":2063.4},{"$f":"Données!$E475*G$4","v":1954.8},{"$f":"Données!$E475*H$4","v":1846.2},{"$f":"Données!$F475*B$4","v":1858.3999999999999},{"$f":"Données!$F475*C$4","v":1777.6000000000001},{"$f":"Données!$F475*D$4","v":1696.8000000000002},{"$f":"Données!$F475*E$4","v":1616},{"$f":"Données!$F475*F$4","v":1535.1999999999998},{"$f":"Données!$F475*G$4","v":1454.4},{"$f":"Données!$F475*H$4","v":1373.6}]
[null,4920,"Ernonheid","Aywaille",2172,1616,{"$f":"Données!$E476*B$4","v":2497.7999999999997},{"$f":"Données!$E476*C$4","v":2389.2000000000003},{"$f":"Données!$E476*D$4","v":2280.6},{"$f":"Données!$E476*E$4","v":2172},{"$f":"Données!$E476*F$4","v":2063.4},{"$f":"Données!$E476*G$4","v":1954.8},{"$f":"Données!$E476*H$4","v":1846.2},{"$f":"Données!$F476*B$4","v":1858.3999999999999},{"$f":"Données!$F476*C$4","v":1777.6000000000001},{"$f":"Données!$F476*D$4","v":1696.8000000000002},{"$f":"Données!$F476*E$4","v":1616},{"$f":"Données!$F476*F$4","v":1535.1999999999998},{"$f":"Données!$F476*G$4","v":1454.4},{"$f":"Données!$F476*H$4","v":1373.6}]
[null,4950,"Faymonville","Waimes",1929,1648,{"$f":"Données!$E477*B$4","v":2218.35},{"$f":"Données!$E477*C$4","v":2121.9},{"$f":"Données!$E477*D$4","v":2025.45},{"$f":"Données!$E477*E$4","v":1929},{"$f":"Données!$E477*F$4","v":1832.55},{"$f":"Données!$E477*G$4","v":1736.1000000000001},{"$f":"Données!$E477*H$4","v":1639.6499999999999},{"$f":"Données!$F477*B$4","v":1895.1999999999998},{"$f":"Données!$F477*C$4","v":1812.8000000000002},{"$f":"Données!$F477*D$4","v":1730.4},{"$f":"Données!$F477*E$4","v":1648},{"$f":"Données!$F477*F$4","v":1565.6},{"$f":"Données!$F477*G$4","v":1483.2},{"$f":"Données!$F477*H$4","v":1400.8}]
[null,4950,"Robertville","Waimes",1929,1648,{"$f":"Données!$E478*B$4","v":2218.35},{"$f":"Données!$E478*C$4","v":2121.9},{"$f":"Données!$E478*D$4","v":2025.45},{"$f":"Données!$E478*E$4","v":1929},{"$f":"Données!$E478*F$4","v":1832.55},{"$f":"Données!$E478*G$4","v":1736.1000000000001},{"$f":"Données!$E478*H$4","v":1639.6499999999999},{"$f":"Données!$F478*B$4","v":1895.1999999999998},{"$f":"Données!$F478*C$4","v":1812.8000000000002},{"$f":"Données!$F478*D$4","v":1730.4},{"$f":"Données!$F478*E$4","v":1648},{"$f":"Données!$F478*F$4","v":1565.6},{"$f":"Données!$F478*G$4","v":1483.2},{"$f":"Données!$F478*H$4","v":1400.8}]
[null,4950,"Sourbrodt","Waimes",1929,1648,{"$f":"Données!$E479*B$4","v":2218.35},{"$f":"Données!$E479*C$4","v":2121.9},{"$f":"Données!$E479*D$4","v":2025.45},{"$f":"Données!$E479*E$4","v":1929},{"$f":"Données!$E479*F$4","v":1832.55},{"$f":"Données!$E479*G$4","v":1736.1000000000001},{"$f":"Données!$E479*H$4","v":1639.6499999999999},{"$f":"Données!$F479*B$4","v":1895.1999999999998},{"$f":"Données!$F479*C$4","v":1812.8000000000002},{"$f":"Données!$F479*D$4","v":1730.4},{"$f":"Données!$F479*E$4","v":1648},{"$f":"Données!$F479*F$4","v":1565.6},{"$f":"Données!$F479*G$4","v":1483.2},{"$f":"Données!$F479*H$4","v":1400.8}]
[null,4950,"Waimes","Waimes",1929,1648,{"$f":"Données!$E480*B$4","v":2218.35},{"$f":"Données!$E480*C$4","v":2121.9},{"$f":"Données!$E480*D$4","v":2025.45},{"$f":"Données!$E480*E$4","v":1929},{"$f":"Données!$E480*F$4","v":1832.55},{"$f":"Données!$E480*G$4","v":1736.1000000000001},{"$f":"Données!$E480*H$4","v":1639.6499999999999},{"$f":"Données!$F480*B$4","v":1895.1999999999998},{"$f":"Données!$F480*C$4","v":1812.8000000000002},{"$f":"Données!$F480*D$4","v":1730.4},{"$f":"Données!$F480*E$4","v":1648},{"$f":"Données!$F480*F$4","v":1565.6},{"$f":"Données!$F480*G$4","v":1483.2},{"$f":"Données!$F480*H$4","v":1400.8}]
[null,4960,"Malmedy","Malmedy",2152,1766,{"$f":"Données!$E481*B$4","v":2474.7999999999997},{"$f":"Données!$E481*C$4","v":2367.2000000000003},{"$f":"Données!$E481*D$4","v":2259.6},{"$f":"Données!$E481*E$4","v":2152},{"$f":"Données!$E481*F$4","v":2044.3999999999999},{"$f":"Données!$E481*G$4","v":1936.8},{"$f":"Données!$E481*H$4","v":1829.2},{"$f":"Données!$F481*B$4","v":2030.8999999999999},{"$f":"Données!$F481*C$4","v":1942.6000000000001},{"$f":"Données!$F481*D$4","v":1854.3000000000002},{"$f":"Données!$F481*E$4","v":1766},{"$f":"Données!$F481*F$4","v":1677.6999999999998},{"$f":"Données!$F481*G$4","v":1589.4},{"$f":"Données!$F481*H$4","v":1501.1}]
[null,4960,"Bevercé","Malmedy",2152,1766,{"$f":"Données!$E482*B$4","v":2474.7999999999997},{"$f":"Données!$E482*C$4","v":2367.2000000000003},{"$f":"Données!$E482*D$4","v":2259.6},{"$f":"Données!$E482*E$4","v":2152},{"$f":"Données!$E482*F$4","v":2044.3999999999999},{"$f":"Données!$E482*G$4","v":1936.8},{"$f":"Données!$E482*H$4","v":1829.2},{"$f":"Données!$F482*B$4","v":2030.8999999999999},{"$f":"Données!$F482*C$4","v":1942.6000000000001},{"$f":"Données!$F482*D$4","v":1854.3000000000002},{"$f":"Données!$F482*E$4","v":1766},{"$f":"Données!$F482*F$4","v":1677.6999999999998},{"$f":"Données!$F482*G$4","v":1589.4},{"$f":"Données!$F482*H$4","v":1501.1}]
[null,4970,"Francorchamps","Stavelot",2010,1581,{"$f":"Données!$E483*B$4","v":2311.5},{"$f":"Données!$E483*C$4","v":2211},{"$f":"Données!$E483*D$4","v":2110.5},{"$f":"Données!$E483*E$4","v":2010},{"$f":"Données!$E483*F$4","v":1909.5},{"$f":"Données!$E483*G$4","v":1809},{"$f":"Données!$E483*H$4","v":1708.5},{"$f":"Données!$F483*B$4","v":1818.1499999999999},{"$f":"Données!$F483*C$4","v":1739.1000000000001},{"$f":"Données!$F483*D$4","v":1660.0500000000002},{"$f":"Données!$F483*E$4","v":1581},{"$f":"Données!$F483*F$4","v":1501.9499999999998},{"$f":"Données!$F483*G$4","v":1422.9},{"$f":"Données!$F483*H$4","v":1343.85}]
[null,4970,"Stavelot","Stavelot",2010,1581,{"$f":"Données!$E484*B$4","v":2311.5},{"$f":"Données!$E484*C$4","v":2211},{"$f":"Données!$E484*D$4","v":2110.5},{"$f":"Données!$E484*E$4","v":2010},{"$f":"Données!$E484*F$4","v":1909.5},{"$f":"Données!$E484*G$4","v":1809},{"$f":"Données!$E484*H$4","v":1708.5},{"$f":"Données!$F484*B$4","v":1818.1499999999999},{"$f":"Données!$F484*C$4","v":1739.1000000000001},{"$f":"Données!$F484*D$4","v":1660.0500000000002},{"$f":"Données!$F484*E$4","v":1581},{"$f":"Données!$F484*F$4","v":1501.9499999999998},{"$f":"Données!$F484*G$4","v":1422.9},{"$f":"Données!$F484*H$4","v":1343.85}]
[null,4980,"Fosse","Trois-Ponts",1940,1653,{"$f":"Données!$E485*B$4","v":2231},{"$f":"Données!$E485*C$4","v":2134},{"$f":"Données!$E485*D$4","v":2037},{"$f":"Données!$E485*E$4","v":1940},{"$f":"Données!$E485*F$4","v":1843},{"$f":"Données!$E485*G$4","v":1746},{"$f":"Données!$E485*H$4","v":1649},{"$f":"Données!$F485*B$4","v":1900.9499999999998},{"$f":"Données!$F485*C$4","v":1818.3000000000002},{"$f":"Données!$F485*D$4","v":1735.65},{"$f":"Données!$F485*E$4","v":1653},{"$f":"Données!$F485*F$4","v":1570.35},{"$f":"Données!$F485*G$4","v":1487.7},{"$f":"Données!$F485*H$4","v":1405.05}]
[null,4980,"Trois-Ponts","Trois-Ponts",1940,1653,{"$f":"Données!$E486*B$4","v":2231},{"$f":"Données!$E486*C$4","v":2134},{"$f":"Données!$E486*D$4","v":2037},{"$f":"Données!$E486*E$4","v":1940},{"$f":"Données!$E486*F$4","v":1843},{"$f":"Données!$E486*G$4","v":1746},{"$f":"Données!$E486*H$4","v":1649},{"$f":"Données!$F486*B$4","v":1900.9499999999998},{"$f":"Données!$F486*C$4","v":1818.3000000000002},{"$f":"Données!$F486*D$4","v":1735.65},{"$f":"Données!$F486*E$4","v":1653},{"$f":"Données!$F486*F$4","v":1570.35},{"$f":"Données!$F486*G$4","v":1487.7},{"$f":"Données!$F486*H$4","v":1405.05}]
[null,4980,"Wanne","Trois-Ponts",1940,1653,{"$f":"Données!$E487*B$4","v":2231},{"$f":"Données!$E487*C$4","v":2134},{"$f":"Données!$E487*D$4","v":2037},{"$f":"Données!$E487*E$4","v":1940},{"$f":"Données!$E487*F$4","v":1843},{"$f":"Données!$E487*G$4","v":1746},{"$f":"Données!$E487*H$4","v":1649},{"$f":"Données!$F487*B$4","v":1900.9499999999998},{"$f":"Données!$F487*C$4","v":1818.3000000000002},{"$f":"Données!$F487*D$4","v":1735.65},{"$f":"Données!$F487*E$4","v":1653},{"$f":"Données!$F487*F$4","v":1570.35},{"$f":"Données!$F487*G$4","v":1487.7},{"$f":"Données!$F487*H$4","v":1405.05}]
[null,4983,"Basse-Bodeux","Trois-Ponts",1940,1653,{"$f":"Données!$E488*B$4","v":2231},{"$f":"Données!$E488*C$4","v":2134},{"$f":"Données!$E488*D$4","v":2037},{"$f":"Données!$E488*E$4","v":1940},{"$f":"Données!$E488*F$4","v":1843},{"$f":"Données!$E488*G$4","v":1746},{"$f":"Données!$E488*H$4","v":1649},{"$f":"Données!$F488*B$4","v":1900.9499999999998},{"$f":"Données!$F488*C$4","v":1818.3000000000002},{"$f":"Données!$F488*D$4","v":1735.65},{"$f":"Données!$F488*E$4","v":1653},{"$f":"Données!$F488*F$4","v":1570.35},{"$f":"Données!$F488*G$4","v":1487.7},{"$f":"Données!$F488*H$4","v":1405.05}]
[null,4987,"Lorcé","Stoumont",1940,1653,{"$f":"Données!$E489*B$4","v":2231},{"$f":"Données!$E489*C$4","v":2134},{"$f":"Données!$E489*D$4","v":2037},{"$f":"Données!$E489*E$4","v":1940},{"$f":"Données!$E489*F$4","v":1843},{"$f":"Données!$E489*G$4","v":1746},{"$f":"Données!$E489*H$4","v":1649},{"$f":"Données!$F489*B$4","v":1900.9499999999998},{"$f":"Données!$F489*C$4","v":1818.3000000000002},{"$f":"Données!$F489*D$4","v":1735.65},{"$f":"Données!$F489*E$4","v":1653},{"$f":"Données!$F489*F$4","v":1570.35},{"$f":"Données!$F489*G$4","v":1487.7},{"$f":"Données!$F489*H$4","v":1405.05}]
[null,4987,"La Gleize","Stoumont",1940,1653,{"$f":"Données!$E490*B$4","v":2231},{"$f":"Données!$E490*C$4","v":2134},{"$f":"Données!$E490*D$4","v":2037},{"$f":"Données!$E490*E$4","v":1940},{"$f":"Données!$E490*F$4","v":1843},{"$f":"Données!$E490*G$4","v":1746},{"$f":"Données!$E490*H$4","v":1649},{"$f":"Données!$F490*B$4","v":1900.9499999999998},{"$f":"Données!$F490*C$4","v":1818.3000000000002},{"$f":"Données!$F490*D$4","v":1735.65},{"$f":"Données!$F490*E$4","v":1653},{"$f":"Données!$F490*F$4","v":1570.35},{"$f":"Données!$F490*G$4","v":1487.7},{"$f":"Données!$F490*H$4","v":1405.05}]
[null,4987,"Rahier","Stoumont",1940,1653,{"$f":"Données!$E491*B$4","v":2231},{"$f":"Données!$E491*C$4","v":2134},{"$f":"Données!$E491*D$4","v":2037},{"$f":"Données!$E491*E$4","v":1940},{"$f":"Données!$E491*F$4","v":1843},{"$f":"Données!$E491*G$4","v":1746},{"$f":"Données!$E491*H$4","v":1649},{"$f":"Données!$F491*B$4","v":1900.9499999999998},{"$f":"Données!$F491*C$4","v":1818.3000000000002},{"$f":"Données!$F491*D$4","v":1735.65},{"$f":"Données!$F491*E$4","v":1653},{"$f":"Données!$F491*F$4","v":1570.35},{"$f":"Données!$F491*G$4","v":1487.7},{"$f":"Données!$F491*H$4","v":1405.05}]
[null,4987,"Chevron","Stoumont",1940,1653,{"$f":"Données!$E492*B$4","v":2231},{"$f":"Données!$E492*C$4","v":2134},{"$f":"Données!$E492*D$4","v":2037},{"$f":"Données!$E492*E$4","v":1940},{"$f":"Données!$E492*F$4","v":1843},{"$f":"Données!$E492*G$4","v":1746},{"$f":"Données!$E492*H$4","v":1649},{"$f":"Données!$F492*B$4","v":1900.9499999999998},{"$f":"Données!$F492*C$4","v":1818.3000000000002},{"$f":"Données!$F492*D$4","v":1735.65},{"$f":"Données!$F492*E$4","v":1653},{"$f":"Données!$F492*F$4","v":1570.35},{"$f":"Données!$F492*G$4","v":1487.7},{"$f":"Données!$F492*H$4","v":1405.05}]
[null,4987,"Stoumont","Stoumont",1940,1653,{"$f":"Données!$E493*B$4","v":2231},{"$f":"Données!$E493*C$4","v":2134},{"$f":"Données!$E493*D$4","v":2037},{"$f":"Données!$E493*E$4","v":1940},{"$f":"Données!$E493*F$4","v":1843},{"$f":"Données!$E493*G$4","v":1746},{"$f":"Données!$E493*H$4","v":1649},{"$f":"Données!$F493*B$4","v":1900.9499999999998},{"$f":"Données!$F493*C$4","v":1818.3000000000002},{"$f":"Données!$F493*D$4","v":1735.65},{"$f":"Données!$F493*E$4","v":1653},{"$f":"Données!$F493*F$4","v":1570.35},{"$f":"Données!$F493*G$4","v":1487.7},{"$f":"Données!$F493*H$4","v":1405.05}]
[null,4990,"Bra","Lierneux",1940,1653,{"$f":"Données!$E494*B$4","v":2231},{"$f":"Données!$E494*C$4","v":2134},{"$f":"Données!$E494*D$4","v":2037},{"$f":"Données!$E494*E$4","v":1940},{"$f":"Données!$E494*F$4","v":1843},{"$f":"Données!$E494*G$4","v":1746},{"$f":"Données!$E494*H$4","v":1649},{"$f":"Données!$F494*B$4","v":1900.9499999999998},{"$f":"Données!$F494*C$4","v":1818.3000000000002},{"$f":"Données!$F494*D$4","v":1735.65},{"$f":"Données!$F494*E$4","v":1653},{"$f":"Données!$F494*F$4","v":1570.35},{"$f":"Données!$F494*G$4","v":1487.7},{"$f":"Données!$F494*H$4","v":1405.05}]
[null,4990,"Arbrefontaine","Lierneux",1940,1653,{"$f":"Données!$E495*B$4","v":2231},{"$f":"Données!$E495*C$4","v":2134},{"$f":"Données!$E495*D$4","v":2037},{"$f":"Données!$E495*E$4","v":1940},{"$f":"Données!$E495*F$4","v":1843},{"$f":"Données!$E495*G$4","v":1746},{"$f":"Données!$E495*H$4","v":1649},{"$f":"Données!$F495*B$4","v":1900.9499999999998},{"$f":"Données!$F495*C$4","v":1818.3000000000002},{"$f":"Données!$F495*D$4","v":1735.65},{"$f":"Données!$F495*E$4","v":1653},{"$f":"Données!$F495*F$4","v":1570.35},{"$f":"Données!$F495*G$4","v":1487.7},{"$f":"Données!$F495*H$4","v":1405.05}]
[null,4990,"Lierneux","Lierneux",1940,1653,{"$f":"Données!$E496*B$4","v":2231},{"$f":"Données!$E496*C$4","v":2134},{"$f":"Données!$E496*D$4","v":2037},{"$f":"Données!$E496*E$4","v":1940},{"$f":"Données!$E496*F$4","v":1843},{"$f":"Données!$E496*G$4","v":1746},{"$f":"Données!$E496*H$4","v":1649},{"$f":"Données!$F496*B$4","v":1900.9499999999998},{"$f":"Données!$F496*C$4","v":1818.3000000000002},{"$f":"Données!$F496*D$4","v":1735.65},{"$f":"Données!$F496*E$4","v":1653},{"$f":"Données!$F496*F$4","v":1570.35},{"$f":"Données!$F496*G$4","v":1487.7},{"$f":"Données!$F496*H$4","v":1405.05}]
[null,5000,"Namur","Namur",2653,1915,{"$f":"Données!$E497*B$4","v":3050.95},{"$f":"Données!$E497*C$4","v":2918.3},{"$f":"Données!$E497*D$4","v":2785.65},{"$f":"Données!$E497*E$4","v":2653},{"$f":"Données!$E497*F$4","v":2520.35},{"$f":"Données!$E497*G$4","v":2387.7000000000003},{"$f":"Données!$E497*H$4","v":2255.0499999999997},{"$f":"Données!$F497*B$4","v":2202.25},{"$f":"Données!$F497*C$4","v":2106.5},{"$f":"Données!$F497*D$4","v":2010.75},{"$f":"Données!$F497*E$4","v":1915},{"$f":"Données!$F497*F$4","v":1819.25},{"$f":"Données!$F497*G$4","v":1723.5},{"$f":"Données!$F497*H$4","v":1627.75}]
[null,5000,"Beez","Namur",2653,1915,{"$f":"Données!$E498*B$4","v":3050.95},{"$f":"Données!$E498*C$4","v":2918.3},{"$f":"Données!$E498*D$4","v":2785.65},{"$f":"Données!$E498*E$4","v":2653},{"$f":"Données!$E498*F$4","v":2520.35},{"$f":"Données!$E498*G$4","v":2387.7000000000003},{"$f":"Données!$E498*H$4","v":2255.0499999999997},{"$f":"Données!$F498*B$4","v":2202.25},{"$f":"Données!$F498*C$4","v":2106.5},{"$f":"Données!$F498*D$4","v":2010.75},{"$f":"Données!$F498*E$4","v":1915},{"$f":"Données!$F498*F$4","v":1819.25},{"$f":"Données!$F498*G$4","v":1723.5},{"$f":"Données!$F498*H$4","v":1627.75}]
[null,5001,"Belgrade","Namur",2653,1915,{"$f":"Données!$E499*B$4","v":3050.95},{"$f":"Données!$E499*C$4","v":2918.3},{"$f":"Données!$E499*D$4","v":2785.65},{"$f":"Données!$E499*E$4","v":2653},{"$f":"Données!$E499*F$4","v":2520.35},{"$f":"Données!$E499*G$4","v":2387.7000000000003},{"$f":"Données!$E499*H$4","v":2255.0499999999997},{"$f":"Données!$F499*B$4","v":2202.25},{"$f":"Données!$F499*C$4","v":2106.5},{"$f":"Données!$F499*D$4","v":2010.75},{"$f":"Données!$F499*E$4","v":1915},{"$f":"Données!$F499*F$4","v":1819.25},{"$f":"Données!$F499*G$4","v":1723.5},{"$f":"Données!$F499*H$4","v":1627.75}]
[null,5002,"Saint-Servais","Namur",2653,1915,{"$f":"Données!$E500*B$4","v":3050.95},{"$f":"Données!$E500*C$4","v":2918.3},{"$f":"Données!$E500*D$4","v":2785.65},{"$f":"Données!$E500*E$4","v":2653},{"$f":"Données!$E500*F$4","v":2520.35},{"$f":"Données!$E500*G$4","v":2387.7000000000003},{"$f":"Données!$E500*H$4","v":2255.0499999999997},{"$f":"Données!$F500*B$4","v":2202.25},{"$f":"Données!$F500*C$4","v":2106.5},{"$f":"Données!$F500*D$4","v":2010.75},{"$f":"Données!$F500*E$4","v":1915},{"$f":"Données!$F500*F$4","v":1819.25},{"$f":"Données!$F500*G$4","v":1723.5},{"$f":"Données!$F500*H$4","v":1627.75}]
[null,5003,"Saint-Marc","Namur",2653,1915,{"$f":"Données!$E501*B$4","v":3050.95},{"$f":"Données!$E501*C$4","v":2918.3},{"$f":"Données!$E501*D$4","v":2785.65},{"$f":"Données!$E501*E$4","v":2653},{"$f":"Données!$E501*F$4","v":2520.35},{"$f":"Données!$E501*G$4","v":2387.7000000000003},{"$f":"Données!$E501*H$4","v":2255.0499999999997},{"$f":"Données!$F501*B$4","v":2202.25},{"$f":"Données!$F501*C$4","v":2106.5},{"$f":"Données!$F501*D$4","v":2010.75},{"$f":"Données!$F501*E$4","v":1915},{"$f":"Données!$F501*F$4","v":1819.25},{"$f":"Données!$F501*G$4","v":1723.5},{"$f":"Données!$F501*H$4","v":1627.75}]
[null,5004,"Bouge","Namur",2653,1915,{"$f":"Données!$E502*B$4","v":3050.95},{"$f":"Données!$E502*C$4","v":2918.3},{"$f":"Données!$E502*D$4","v":2785.65},{"$f":"Données!$E502*E$4","v":2653},{"$f":"Données!$E502*F$4","v":2520.35},{"$f":"Données!$E502*G$4","v":2387.7000000000003},{"$f":"Données!$E502*H$4","v":2255.0499999999997},{"$f":"Données!$F502*B$4","v":2202.25},{"$f":"Données!$F502*C$4","v":2106.5},{"$f":"Données!$F502*D$4","v":2010.75},{"$f":"Données!$F502*E$4","v":1915},{"$f":"Données!$F502*F$4","v":1819.25},{"$f":"Données!$F502*G$4","v":1723.5},{"$f":"Données!$F502*H$4","v":1627.75}]
[null,5020,"Daussoulx","Namur",2653,1915,{"$f":"Données!$E503*B$4","v":3050.95},{"$f":"Données!$E503*C$4","v":2918.3},{"$f":"Données!$E503*D$4","v":2785.65},{"$f":"Données!$E503*E$4","v":2653},{"$f":"Données!$E503*F$4","v":2520.35},{"$f":"Données!$E503*G$4","v":2387.7000000000003},{"$f":"Données!$E503*H$4","v":2255.0499999999997},{"$f":"Données!$F503*B$4","v":2202.25},{"$f":"Données!$F503*C$4","v":2106.5},{"$f":"Données!$F503*D$4","v":2010.75},{"$f":"Données!$F503*E$4","v":1915},{"$f":"Données!$F503*F$4","v":1819.25},{"$f":"Données!$F503*G$4","v":1723.5},{"$f":"Données!$F503*H$4","v":1627.75}]
[null,5020,"Vedrin","Namur",2653,1915,{"$f":"Données!$E504*B$4","v":3050.95},{"$f":"Données!$E504*C$4","v":2918.3},{"$f":"Données!$E504*D$4","v":2785.65},{"$f":"Données!$E504*E$4","v":2653},{"$f":"Données!$E504*F$4","v":2520.35},{"$f":"Données!$E504*G$4","v":2387.7000000000003},{"$f":"Données!$E504*H$4","v":2255.0499999999997},{"$f":"Données!$F504*B$4","v":2202.25},{"$f":"Données!$F504*C$4","v":2106.5},{"$f":"Données!$F504*D$4","v":2010.75},{"$f":"Données!$F504*E$4","v":1915},{"$f":"Données!$F504*F$4","v":1819.25},{"$f":"Données!$F504*G$4","v":1723.5},{"$f":"Données!$F504*H$4","v":1627.75}]
[null,5020,"Champion","Namur",2653,1915,{"$f":"Données!$E505*B$4","v":3050.95},{"$f":"Données!$E505*C$4","v":2918.3},{"$f":"Données!$E505*D$4","v":2785.65},{"$f":"Données!$E505*E$4","v":2653},{"$f":"Données!$E505*F$4","v":2520.35},{"$f":"Données!$E505*G$4","v":2387.7000000000003},{"$f":"Données!$E505*H$4","v":2255.0499999999997},{"$f":"Données!$F505*B$4","v":2202.25},{"$f":"Données!$F505*C$4","v":2106.5},{"$f":"Données!$F505*D$4","v":2010.75},{"$f":"Données!$F505*E$4","v":1915},{"$f":"Données!$F505*F$4","v":1819.25},{"$f":"Données!$F505*G$4","v":1723.5},{"$f":"Données!$F505*H$4","v":1627.75}]
[null,5020,"Suarlée","Namur",2653,1915,{"$f":"Données!$E506*B$4","v":3050.95},{"$f":"Données!$E506*C$4","v":2918.3},{"$f":"Données!$E506*D$4","v":2785.65},{"$f":"Données!$E506*E$4","v":2653},{"$f":"Données!$E506*F$4","v":2520.35},{"$f":"Données!$E506*G$4","v":2387.7000000000003},{"$f":"Données!$E506*H$4","v":2255.0499999999997},{"$f":"Données!$F506*B$4","v":2202.25},{"$f":"Données!$F506*C$4","v":2106.5},{"$f":"Données!$F506*D$4","v":2010.75},{"$f":"Données!$F506*E$4","v":1915},{"$f":"Données!$F506*F$4","v":1819.25},{"$f":"Données!$F506*G$4","v":1723.5},{"$f":"Données!$F506*H$4","v":1627.75}]
[null,5020,"Temploux","Namur",2653,1915,{"$f":"Données!$E507*B$4","v":3050.95},{"$f":"Données!$E507*C$4","v":2918.3},{"$f":"Données!$E507*D$4","v":2785.65},{"$f":"Données!$E507*E$4","v":2653},{"$f":"Données!$E507*F$4","v":2520.35},{"$f":"Données!$E507*G$4","v":2387.7000000000003},{"$f":"Données!$E507*H$4","v":2255.0499999999997},{"$f":"Données!$F507*B$4","v":2202.25},{"$f":"Données!$F507*C$4","v":2106.5},{"$f":"Données!$F507*D$4","v":2010.75},{"$f":"Données!$F507*E$4","v":1915},{"$f":"Données!$F507*F$4","v":1819.25},{"$f":"Données!$F507*G$4","v":1723.5},{"$f":"Données!$F507*H$4","v":1627.75}]
[null,5020,"Flawinne","Namur",2653,1915,{"$f":"Données!$E508*B$4","v":3050.95},{"$f":"Données!$E508*C$4","v":2918.3},{"$f":"Données!$E508*D$4","v":2785.65},{"$f":"Données!$E508*E$4","v":2653},{"$f":"Données!$E508*F$4","v":2520.35},{"$f":"Données!$E508*G$4","v":2387.7000000000003},{"$f":"Données!$E508*H$4","v":2255.0499999999997},{"$f":"Données!$F508*B$4","v":2202.25},{"$f":"Données!$F508*C$4","v":2106.5},{"$f":"Données!$F508*D$4","v":2010.75},{"$f":"Données!$F508*E$4","v":1915},{"$f":"Données!$F508*F$4","v":1819.25},{"$f":"Données!$F508*G$4","v":1723.5},{"$f":"Données!$F508*H$4","v":1627.75}]
[null,5020,"Malonne","Namur",2653,1915,{"$f":"Données!$E509*B$4","v":3050.95},{"$f":"Données!$E509*C$4","v":2918.3},{"$f":"Données!$E509*D$4","v":2785.65},{"$f":"Données!$E509*E$4","v":2653},{"$f":"Données!$E509*F$4","v":2520.35},{"$f":"Données!$E509*G$4","v":2387.7000000000003},{"$f":"Données!$E509*H$4","v":2255.0499999999997},{"$f":"Données!$F509*B$4","v":2202.25},{"$f":"Données!$F509*C$4","v":2106.5},{"$f":"Données!$F509*D$4","v":2010.75},{"$f":"Données!$F509*E$4","v":1915},{"$f":"Données!$F509*F$4","v":1819.25},{"$f":"Données!$F509*G$4","v":1723.5},{"$f":"Données!$F509*H$4","v":1627.75}]
[null,5021,"Boninne","Namur",2653,1915,{"$f":"Données!$E510*B$4","v":3050.95},{"$f":"Données!$E510*C$4","v":2918.3},{"$f":"Données!$E510*D$4","v":2785.65},{"$f":"Données!$E510*E$4","v":2653},{"$f":"Données!$E510*F$4","v":2520.35},{"$f":"Données!$E510*G$4","v":2387.7000000000003},{"$f":"Données!$E510*H$4","v":2255.0499999999997},{"$f":"Données!$F510*B$4","v":2202.25},{"$f":"Données!$F510*C$4","v":2106.5},{"$f":"Données!$F510*D$4","v":2010.75},{"$f":"Données!$F510*E$4","v":1915},{"$f":"Données!$F510*F$4","v":1819.25},{"$f":"Données!$F510*G$4","v":1723.5},{"$f":"Données!$F510*H$4","v":1627.75}]
[null,5022,"Cognelée","Namur",2653,1915,{"$f":"Données!$E511*B$4","v":3050.95},{"$f":"Données!$E511*C$4","v":2918.3},{"$f":"Données!$E511*D$4","v":2785.65},{"$f":"Données!$E511*E$4","v":2653},{"$f":"Données!$E511*F$4","v":2520.35},{"$f":"Données!$E511*G$4","v":2387.7000000000003},{"$f":"Données!$E511*H$4","v":2255.0499999999997},{"$f":"Données!$F511*B$4","v":2202.25},{"$f":"Données!$F511*C$4","v":2106.5},{"$f":"Données!$F511*D$4","v":2010.75},{"$f":"Données!$F511*E$4","v":1915},{"$f":"Données!$F511*F$4","v":1819.25},{"$f":"Données!$F511*G$4","v":1723.5},{"$f":"Données!$F511*H$4","v":1627.75}]
[null,5024,"Marche-Les-Dames","Namur",2653,1915,{"$f":"Données!$E512*B$4","v":3050.95},{"$f":"Données!$E512*C$4","v":2918.3},{"$f":"Données!$E512*D$4","v":2785.65},{"$f":"Données!$E512*E$4","v":2653},{"$f":"Données!$E512*F$4","v":2520.35},{"$f":"Données!$E512*G$4","v":2387.7000000000003},{"$f":"Données!$E512*H$4","v":2255.0499999999997},{"$f":"Données!$F512*B$4","v":2202.25},{"$f":"Données!$F512*C$4","v":2106.5},{"$f":"Données!$F512*D$4","v":2010.75},{"$f":"Données!$F512*E$4","v":1915},{"$f":"Données!$F512*F$4","v":1819.25},{"$f":"Données!$F512*G$4","v":1723.5},{"$f":"Données!$F512*H$4","v":1627.75}]
[null,5024,"Gelbressée","Namur",2653,1915,{"$f":"Données!$E513*B$4","v":3050.95},{"$f":"Données!$E513*C$4","v":2918.3},{"$f":"Données!$E513*D$4","v":2785.65},{"$f":"Données!$E513*E$4","v":2653},{"$f":"Données!$E513*F$4","v":2520.35},{"$f":"Données!$E513*G$4","v":2387.7000000000003},{"$f":"Données!$E513*H$4","v":2255.0499999999997},{"$f":"Données!$F513*B$4","v":2202.25},{"$f":"Données!$F513*C$4","v":2106.5},{"$f":"Données!$F513*D$4","v":2010.75},{"$f":"Données!$F513*E$4","v":1915},{"$f":"Données!$F513*F$4","v":1819.25},{"$f":"Données!$F513*G$4","v":1723.5},{"$f":"Données!$F513*H$4","v":1627.75}]
[null,5030,"Ernage","Gembloux",2521,1878,{"$f":"Données!$E514*B$4","v":2899.1499999999996},{"$f":"Données!$E514*C$4","v":2773.1000000000004},{"$f":"Données!$E514*D$4","v":2647.05},{"$f":"Données!$E514*E$4","v":2521},{"$f":"Données!$E514*F$4","v":2394.9499999999998},{"$f":"Données!$E514*G$4","v":2268.9},{"$f":"Données!$E514*H$4","v":2142.85},{"$f":"Données!$F514*B$4","v":2159.6999999999998},{"$f":"Données!$F514*C$4","v":2065.8000000000002},{"$f":"Données!$F514*D$4","v":1971.9},{"$f":"Données!$F514*E$4","v":1878},{"$f":"Données!$F514*F$4","v":1784.1},{"$f":"Données!$F514*G$4","v":1690.2},{"$f":"Données!$F514*H$4","v":1596.3}]
[null,5030,"Sauvenière","Gembloux",2521,1878,{"$f":"Données!$E515*B$4","v":2899.1499999999996},{"$f":"Données!$E515*C$4","v":2773.1000000000004},{"$f":"Données!$E515*D$4","v":2647.05},{"$f":"Données!$E515*E$4","v":2521},{"$f":"Données!$E515*F$4","v":2394.9499999999998},{"$f":"Données!$E515*G$4","v":2268.9},{"$f":"Données!$E515*H$4","v":2142.85},{"$f":"Données!$F515*B$4","v":2159.6999999999998},{"$f":"Données!$F515*C$4","v":2065.8000000000002},{"$f":"Données!$F515*D$4","v":1971.9},{"$f":"Données!$F515*E$4","v":1878},{"$f":"Données!$F515*F$4","v":1784.1},{"$f":"Données!$F515*G$4","v":1690.2},{"$f":"Données!$F515*H$4","v":1596.3}]
[null,5030,"Gembloux","Gembloux",2521,1878,{"$f":"Données!$E516*B$4","v":2899.1499999999996},{"$f":"Données!$E516*C$4","v":2773.1000000000004},{"$f":"Données!$E516*D$4","v":2647.05},{"$f":"Données!$E516*E$4","v":2521},{"$f":"Données!$E516*F$4","v":2394.9499999999998},{"$f":"Données!$E516*G$4","v":2268.9},{"$f":"Données!$E516*H$4","v":2142.85},{"$f":"Données!$F516*B$4","v":2159.6999999999998},{"$f":"Données!$F516*C$4","v":2065.8000000000002},{"$f":"Données!$F516*D$4","v":1971.9},{"$f":"Données!$F516*E$4","v":1878},{"$f":"Données!$F516*F$4","v":1784.1},{"$f":"Données!$F516*G$4","v":1690.2},{"$f":"Données!$F516*H$4","v":1596.3}]
[null,5030,"Beuzet","Gembloux",2521,1878,{"$f":"Données!$E517*B$4","v":2899.1499999999996},{"$f":"Données!$E517*C$4","v":2773.1000000000004},{"$f":"Données!$E517*D$4","v":2647.05},{"$f":"Données!$E517*E$4","v":2521},{"$f":"Données!$E517*F$4","v":2394.9499999999998},{"$f":"Données!$E517*G$4","v":2268.9},{"$f":"Données!$E517*H$4","v":2142.85},{"$f":"Données!$F517*B$4","v":2159.6999999999998},{"$f":"Données!$F517*C$4","v":2065.8000000000002},{"$f":"Données!$F517*D$4","v":1971.9},{"$f":"Données!$F517*E$4","v":1878},{"$f":"Données!$F517*F$4","v":1784.1},{"$f":"Données!$F517*G$4","v":1690.2},{"$f":"Données!$F517*H$4","v":1596.3}]
[null,5030,"Grand-Manil","Gembloux",2521,1878,{"$f":"Données!$E518*B$4","v":2899.1499999999996},{"$f":"Données!$E518*C$4","v":2773.1000000000004},{"$f":"Données!$E518*D$4","v":2647.05},{"$f":"Données!$E518*E$4","v":2521},{"$f":"Données!$E518*F$4","v":2394.9499999999998},{"$f":"Données!$E518*G$4","v":2268.9},{"$f":"Données!$E518*H$4","v":2142.85},{"$f":"Données!$F518*B$4","v":2159.6999999999998},{"$f":"Données!$F518*C$4","v":2065.8000000000002},{"$f":"Données!$F518*D$4","v":1971.9},{"$f":"Données!$F518*E$4","v":1878},{"$f":"Données!$F518*F$4","v":1784.1},{"$f":"Données!$F518*G$4","v":1690.2},{"$f":"Données!$F518*H$4","v":1596.3}]
[null,5030,"Lonzée","Gembloux",2521,1878,{"$f":"Données!$E519*B$4","v":2899.1499999999996},{"$f":"Données!$E519*C$4","v":2773.1000000000004},{"$f":"Données!$E519*D$4","v":2647.05},{"$f":"Données!$E519*E$4","v":2521},{"$f":"Données!$E519*F$4","v":2394.9499999999998},{"$f":"Données!$E519*G$4","v":2268.9},{"$f":"Données!$E519*H$4","v":2142.85},{"$f":"Données!$F519*B$4","v":2159.6999999999998},{"$f":"Données!$F519*C$4","v":2065.8000000000002},{"$f":"Données!$F519*D$4","v":1971.9},{"$f":"Données!$F519*E$4","v":1878},{"$f":"Données!$F519*F$4","v":1784.1},{"$f":"Données!$F519*G$4","v":1690.2},{"$f":"Données!$F519*H$4","v":1596.3}]
[null,5031,"Grand-Leez","Gembloux",2521,1878,{"$f":"Données!$E520*B$4","v":2899.1499999999996},{"$f":"Données!$E520*C$4","v":2773.1000000000004},{"$f":"Données!$E520*D$4","v":2647.05},{"$f":"Données!$E520*E$4","v":2521},{"$f":"Données!$E520*F$4","v":2394.9499999999998},{"$f":"Données!$E520*G$4","v":2268.9},{"$f":"Données!$E520*H$4","v":2142.85},{"$f":"Données!$F520*B$4","v":2159.6999999999998},{"$f":"Données!$F520*C$4","v":2065.8000000000002},{"$f":"Données!$F520*D$4","v":1971.9},{"$f":"Données!$F520*E$4","v":1878},{"$f":"Données!$F520*F$4","v":1784.1},{"$f":"Données!$F520*G$4","v":1690.2},{"$f":"Données!$F520*H$4","v":1596.3}]
[null,5032,"Bossière","Gembloux",2521,1878,{"$f":"Données!$E521*B$4","v":2899.1499999999996},{"$f":"Données!$E521*C$4","v":2773.1000000000004},{"$f":"Données!$E521*D$4","v":2647.05},{"$f":"Données!$E521*E$4","v":2521},{"$f":"Données!$E521*F$4","v":2394.9499999999998},{"$f":"Données!$E521*G$4","v":2268.9},{"$f":"Données!$E521*H$4","v":2142.85},{"$f":"Données!$F521*B$4","v":2159.6999999999998},{"$f":"Données!$F521*C$4","v":2065.8000000000002},{"$f":"Données!$F521*D$4","v":1971.9},{"$f":"Données!$F521*E$4","v":1878},{"$f":"Données!$F521*F$4","v":1784.1},{"$f":"Données!$F521*G$4","v":1690.2},{"$f":"Données!$F521*H$4","v":1596.3}]
[null,5032,"Bothey","Gembloux",2521,1878,{"$f":"Données!$E522*B$4","v":2899.1499999999996},{"$f":"Données!$E522*C$4","v":2773.1000000000004},{"$f":"Données!$E522*D$4","v":2647.05},{"$f":"Données!$E522*E$4","v":2521},{"$f":"Données!$E522*F$4","v":2394.9499999999998},{"$f":"Données!$E522*G$4","v":2268.9},{"$f":"Données!$E522*H$4","v":2142.85},{"$f":"Données!$F522*B$4","v":2159.6999999999998},{"$f":"Données!$F522*C$4","v":2065.8000000000002},{"$f":"Données!$F522*D$4","v":1971.9},{"$f":"Données!$F522*E$4","v":1878},{"$f":"Données!$F522*F$4","v":1784.1},{"$f":"Données!$F522*G$4","v":1690.2},{"$f":"Données!$F522*H$4","v":1596.3}]
[null,5032,"Corroy-Le-Château","Gembloux",2521,1878,{"$f":"Données!$E523*B$4","v":2899.1499999999996},{"$f":"Données!$E523*C$4","v":2773.1000000000004},{"$f":"Données!$E523*D$4","v":2647.05},{"$f":"Données!$E523*E$4","v":2521},{"$f":"Données!$E523*F$4","v":2394.9499999999998},{"$f":"Données!$E523*G$4","v":2268.9},{"$f":"Données!$E523*H$4","v":2142.85},{"$f":"Données!$F523*B$4","v":2159.6999999999998},{"$f":"Données!$F523*C$4","v":2065.8000000000002},{"$f":"Données!$F523*D$4","v":1971.9},{"$f":"Données!$F523*E$4","v":1878},{"$f":"Données!$F523*F$4","v":1784.1},{"$f":"Données!$F523*G$4","v":1690.2},{"$f":"Données!$F523*H$4","v":1596.3}]
[null,5032,"Isnes","Gembloux",2521,1878,{"$f":"Données!$E524*B$4","v":2899.1499999999996},{"$f":"Données!$E524*C$4","v":2773.1000000000004},{"$f":"Données!$E524*D$4","v":2647.05},{"$f":"Données!$E524*E$4","v":2521},{"$f":"Données!$E524*F$4","v":2394.9499999999998},{"$f":"Données!$E524*G$4","v":2268.9},{"$f":"Données!$E524*H$4","v":2142.85},{"$f":"Données!$F524*B$4","v":2159.6999999999998},{"$f":"Données!$F524*C$4","v":2065.8000000000002},{"$f":"Données!$F524*D$4","v":1971.9},{"$f":"Données!$F524*E$4","v":1878},{"$f":"Données!$F524*F$4","v":1784.1},{"$f":"Données!$F524*G$4","v":1690.2},{"$f":"Données!$F524*H$4","v":1596.3}]
[null,5032,"Mazy","Gembloux",2521,1878,{"$f":"Données!$E525*B$4","v":2899.1499999999996},{"$f":"Données!$E525*C$4","v":2773.1000000000004},{"$f":"Données!$E525*D$4","v":2647.05},{"$f":"Données!$E525*E$4","v":2521},{"$f":"Données!$E525*F$4","v":2394.9499999999998},{"$f":"Données!$E525*G$4","v":2268.9},{"$f":"Données!$E525*H$4","v":2142.85},{"$f":"Données!$F525*B$4","v":2159.6999999999998},{"$f":"Données!$F525*C$4","v":2065.8000000000002},{"$f":"Données!$F525*D$4","v":1971.9},{"$f":"Données!$F525*E$4","v":1878},{"$f":"Données!$F525*F$4","v":1784.1},{"$f":"Données!$F525*G$4","v":1690.2},{"$f":"Données!$F525*H$4","v":1596.3}]
[null,5060,"Tamines","Sambreville",1907,1477,{"$f":"Données!$E526*B$4","v":2193.0499999999997},{"$f":"Données!$E526*C$4","v":2097.7000000000003},{"$f":"Données!$E526*D$4","v":2002.3500000000001},{"$f":"Données!$E526*E$4","v":1907},{"$f":"Données!$E526*F$4","v":1811.6499999999999},{"$f":"Données!$E526*G$4","v":1716.3},{"$f":"Données!$E526*H$4","v":1620.95},{"$f":"Données!$F526*B$4","v":1698.55},{"$f":"Données!$F526*C$4","v":1624.7},{"$f":"Données!$F526*D$4","v":1550.8500000000001},{"$f":"Données!$F526*E$4","v":1477},{"$f":"Données!$F526*F$4","v":1403.1499999999999},{"$f":"Données!$F526*G$4","v":1329.3},{"$f":"Données!$F526*H$4","v":1255.45}]
[null,5060,"Moignelée","Sambreville",1907,1477,{"$f":"Données!$E527*B$4","v":2193.0499999999997},{"$f":"Données!$E527*C$4","v":2097.7000000000003},{"$f":"Données!$E527*D$4","v":2002.3500000000001},{"$f":"Données!$E527*E$4","v":1907},{"$f":"Données!$E527*F$4","v":1811.6499999999999},{"$f":"Données!$E527*G$4","v":1716.3},{"$f":"Données!$E527*H$4","v":1620.95},{"$f":"Données!$F527*B$4","v":1698.55},{"$f":"Données!$F527*C$4","v":1624.7},{"$f":"Données!$F527*D$4","v":1550.8500000000001},{"$f":"Données!$F527*E$4","v":1477},{"$f":"Données!$F527*F$4","v":1403.1499999999999},{"$f":"Données!$F527*G$4","v":1329.3},{"$f":"Données!$F527*H$4","v":1255.45}]
[null,5060,"Auvelais","Sambreville",1907,1477,{"$f":"Données!$E528*B$4","v":2193.0499999999997},{"$f":"Données!$E528*C$4","v":2097.7000000000003},{"$f":"Données!$E528*D$4","v":2002.3500000000001},{"$f":"Données!$E528*E$4","v":1907},{"$f":"Données!$E528*F$4","v":1811.6499999999999},{"$f":"Données!$E528*G$4","v":1716.3},{"$f":"Données!$E528*H$4","v":1620.95},{"$f":"Données!$F528*B$4","v":1698.55},{"$f":"Données!$F528*C$4","v":1624.7},{"$f":"Données!$F528*D$4","v":1550.8500000000001},{"$f":"Données!$F528*E$4","v":1477},{"$f":"Données!$F528*F$4","v":1403.1499999999999},{"$f":"Données!$F528*G$4","v":1329.3},{"$f":"Données!$F528*H$4","v":1255.45}]
[null,5060,"Velaine-Sur-Sambre","Sambreville",1907,1477,{"$f":"Données!$E529*B$4","v":2193.0499999999997},{"$f":"Données!$E529*C$4","v":2097.7000000000003},{"$f":"Données!$E529*D$4","v":2002.3500000000001},{"$f":"Données!$E529*E$4","v":1907},{"$f":"Données!$E529*F$4","v":1811.6499999999999},{"$f":"Données!$E529*G$4","v":1716.3},{"$f":"Données!$E529*H$4","v":1620.95},{"$f":"Données!$F529*B$4","v":1698.55},{"$f":"Données!$F529*C$4","v":1624.7},{"$f":"Données!$F529*D$4","v":1550.8500000000001},{"$f":"Données!$F529*E$4","v":1477},{"$f":"Données!$F529*F$4","v":1403.1499999999999},{"$f":"Données!$F529*G$4","v":1329.3},{"$f":"Données!$F529*H$4","v":1255.45}]
[null,5060,"Falisolle","Sambreville",1907,1477,{"$f":"Données!$E530*B$4","v":2193.0499999999997},{"$f":"Données!$E530*C$4","v":2097.7000000000003},{"$f":"Données!$E530*D$4","v":2002.3500000000001},{"$f":"Données!$E530*E$4","v":1907},{"$f":"Données!$E530*F$4","v":1811.6499999999999},{"$f":"Données!$E530*G$4","v":1716.3},{"$f":"Données!$E530*H$4","v":1620.95},{"$f":"Données!$F530*B$4","v":1698.55},{"$f":"Données!$F530*C$4","v":1624.7},{"$f":"Données!$F530*D$4","v":1550.8500000000001},{"$f":"Données!$F530*E$4","v":1477},{"$f":"Données!$F530*F$4","v":1403.1499999999999},{"$f":"Données!$F530*G$4","v":1329.3},{"$f":"Données!$F530*H$4","v":1255.45}]
[null,5060,"Keumiée","Sambreville",1907,1477,{"$f":"Données!$E531*B$4","v":2193.0499999999997},{"$f":"Données!$E531*C$4","v":2097.7000000000003},{"$f":"Données!$E531*D$4","v":2002.3500000000001},{"$f":"Données!$E531*E$4","v":1907},{"$f":"Données!$E531*F$4","v":1811.6499999999999},{"$f":"Données!$E531*G$4","v":1716.3},{"$f":"Données!$E531*H$4","v":1620.95},{"$f":"Données!$F531*B$4","v":1698.55},{"$f":"Données!$F531*C$4","v":1624.7},{"$f":"Données!$F531*D$4","v":1550.8500000000001},{"$f":"Données!$F531*E$4","v":1477},{"$f":"Données!$F531*F$4","v":1403.1499999999999},{"$f":"Données!$F531*G$4","v":1329.3},{"$f":"Données!$F531*H$4","v":1255.45}]
[null,5060,"Arsimont","Sambreville",1907,1477,{"$f":"Données!$E532*B$4","v":2193.0499999999997},{"$f":"Données!$E532*C$4","v":2097.7000000000003},{"$f":"Données!$E532*D$4","v":2002.3500000000001},{"$f":"Données!$E532*E$4","v":1907},{"$f":"Données!$E532*F$4","v":1811.6499999999999},{"$f":"Données!$E532*G$4","v":1716.3},{"$f":"Données!$E532*H$4","v":1620.95},{"$f":"Données!$F532*B$4","v":1698.55},{"$f":"Données!$F532*C$4","v":1624.7},{"$f":"Données!$F532*D$4","v":1550.8500000000001},{"$f":"Données!$F532*E$4","v":1477},{"$f":"Données!$F532*F$4","v":1403.1499999999999},{"$f":"Données!$F532*G$4","v":1329.3},{"$f":"Données!$F532*H$4","v":1255.45}]
[null,5060,"Sambreville","Sambreville",1907,1477,{"$f":"Données!$E533*B$4","v":2193.0499999999997},{"$f":"Données!$E533*C$4","v":2097.7000000000003},{"$f":"Données!$E533*D$4","v":2002.3500000000001},{"$f":"Données!$E533*E$4","v":1907},{"$f":"Données!$E533*F$4","v":1811.6499999999999},{"$f":"Données!$E533*G$4","v":1716.3},{"$f":"Données!$E533*H$4","v":1620.95},{"$f":"Données!$F533*B$4","v":1698.55},{"$f":"Données!$F533*C$4","v":1624.7},{"$f":"Données!$F533*D$4","v":1550.8500000000001},{"$f":"Données!$F533*E$4","v":1477},{"$f":"Données!$F533*F$4","v":1403.1499999999999},{"$f":"Données!$F533*G$4","v":1329.3},{"$f":"Données!$F533*H$4","v":1255.45}]
[null,5070,"Vitrival","Fosses-La-Ville",1991,1493,{"$f":"Données!$E534*B$4","v":2289.6499999999996},{"$f":"Données!$E534*C$4","v":2190.1000000000004},{"$f":"Données!$E534*D$4","v":2090.5500000000002},{"$f":"Données!$E534*E$4","v":1991},{"$f":"Données!$E534*F$4","v":1891.4499999999998},{"$f":"Données!$E534*G$4","v":1791.9},{"$f":"Données!$E534*H$4","v":1692.35},{"$f":"Données!$F534*B$4","v":1716.9499999999998},{"$f":"Données!$F534*C$4","v":1642.3000000000002},{"$f":"Données!$F534*D$4","v":1567.65},{"$f":"Données!$F534*E$4","v":1493},{"$f":"Données!$F534*F$4","v":1418.35},{"$f":"Données!$F534*G$4","v":1343.7},{"$f":"Données!$F534*H$4","v":1269.05}]
[null,5070,"Fosses-La-Ville","Fosses-La-Ville",1991,1493,{"$f":"Données!$E535*B$4","v":2289.6499999999996},{"$f":"Données!$E535*C$4","v":2190.1000000000004},{"$f":"Données!$E535*D$4","v":2090.5500000000002},{"$f":"Données!$E535*E$4","v":1991},{"$f":"Données!$E535*F$4","v":1891.4499999999998},{"$f":"Données!$E535*G$4","v":1791.9},{"$f":"Données!$E535*H$4","v":1692.35},{"$f":"Données!$F535*B$4","v":1716.9499999999998},{"$f":"Données!$F535*C$4","v":1642.3000000000002},{"$f":"Données!$F535*D$4","v":1567.65},{"$f":"Données!$F535*E$4","v":1493},{"$f":"Données!$F535*F$4","v":1418.35},{"$f":"Données!$F535*G$4","v":1343.7},{"$f":"Données!$F535*H$4","v":1269.05}]
[null,5070,"Sart-Eustache","Fosses-La-Ville",1991,1493,{"$f":"Données!$E536*B$4","v":2289.6499999999996},{"$f":"Données!$E536*C$4","v":2190.1000000000004},{"$f":"Données!$E536*D$4","v":2090.5500000000002},{"$f":"Données!$E536*E$4","v":1991},{"$f":"Données!$E536*F$4","v":1891.4499999999998},{"$f":"Données!$E536*G$4","v":1791.9},{"$f":"Données!$E536*H$4","v":1692.35},{"$f":"Données!$F536*B$4","v":1716.9499999999998},{"$f":"Données!$F536*C$4","v":1642.3000000000002},{"$f":"Données!$F536*D$4","v":1567.65},{"$f":"Données!$F536*E$4","v":1493},{"$f":"Données!$F536*F$4","v":1418.35},{"$f":"Données!$F536*G$4","v":1343.7},{"$f":"Données!$F536*H$4","v":1269.05}]
[null,5070,"Aisemont","Fosses-La-Ville",1991,1493,{"$f":"Données!$E537*B$4","v":2289.6499999999996},{"$f":"Données!$E537*C$4","v":2190.1000000000004},{"$f":"Données!$E537*D$4","v":2090.5500000000002},{"$f":"Données!$E537*E$4","v":1991},{"$f":"Données!$E537*F$4","v":1891.4499999999998},{"$f":"Données!$E537*G$4","v":1791.9},{"$f":"Données!$E537*H$4","v":1692.35},{"$f":"Données!$F537*B$4","v":1716.9499999999998},{"$f":"Données!$F537*C$4","v":1642.3000000000002},{"$f":"Données!$F537*D$4","v":1567.65},{"$f":"Données!$F537*E$4","v":1493},{"$f":"Données!$F537*F$4","v":1418.35},{"$f":"Données!$F537*G$4","v":1343.7},{"$f":"Données!$F537*H$4","v":1269.05}]
[null,5070,"Le Roux","Fosses-La-Ville",1991,1493,{"$f":"Données!$E538*B$4","v":2289.6499999999996},{"$f":"Données!$E538*C$4","v":2190.1000000000004},{"$f":"Données!$E538*D$4","v":2090.5500000000002},{"$f":"Données!$E538*E$4","v":1991},{"$f":"Données!$E538*F$4","v":1891.4499999999998},{"$f":"Données!$E538*G$4","v":1791.9},{"$f":"Données!$E538*H$4","v":1692.35},{"$f":"Données!$F538*B$4","v":1716.9499999999998},{"$f":"Données!$F538*C$4","v":1642.3000000000002},{"$f":"Données!$F538*D$4","v":1567.65},{"$f":"Données!$F538*E$4","v":1493},{"$f":"Données!$F538*F$4","v":1418.35},{"$f":"Données!$F538*G$4","v":1343.7},{"$f":"Données!$F538*H$4","v":1269.05}]
[null,5070,"Sart-Saint-Laurent","Fosses-La-Ville",1991,1493,{"$f":"Données!$E539*B$4","v":2289.6499999999996},{"$f":"Données!$E539*C$4","v":2190.1000000000004},{"$f":"Données!$E539*D$4","v":2090.5500000000002},{"$f":"Données!$E539*E$4","v":1991},{"$f":"Données!$E539*F$4","v":1891.4499999999998},{"$f":"Données!$E539*G$4","v":1791.9},{"$f":"Données!$E539*H$4","v":1692.35},{"$f":"Données!$F539*B$4","v":1716.9499999999998},{"$f":"Données!$F539*C$4","v":1642.3000000000002},{"$f":"Données!$F539*D$4","v":1567.65},{"$f":"Données!$F539*E$4","v":1493},{"$f":"Données!$F539*F$4","v":1418.35},{"$f":"Données!$F539*G$4","v":1343.7},{"$f":"Données!$F539*H$4","v":1269.05}]
[null,5080,"Warisoulx","La Bruyère",2579,1892,{"$f":"Données!$E540*B$4","v":2965.85},{"$f":"Données!$E540*C$4","v":2836.9},{"$f":"Données!$E540*D$4","v":2707.9500000000003},{"$f":"Données!$E540*E$4","v":2579},{"$f":"Données!$E540*F$4","v":2450.0499999999997},{"$f":"Données!$E540*G$4","v":2321.1},{"$f":"Données!$E540*H$4","v":2192.15},{"$f":"Données!$F540*B$4","v":2175.7999999999997},{"$f":"Données!$F540*C$4","v":2081.2000000000003},{"$f":"Données!$F540*D$4","v":1986.6000000000001},{"$f":"Données!$F540*E$4","v":1892},{"$f":"Données!$F540*F$4","v":1797.3999999999999},{"$f":"Données!$F540*G$4","v":1702.8},{"$f":"Données!$F540*H$4","v":1608.2}]
[null,5080,"La Bruyère","La Bruyère",2579,1892,{"$f":"Données!$E541*B$4","v":2965.85},{"$f":"Données!$E541*C$4","v":2836.9},{"$f":"Données!$E541*D$4","v":2707.9500000000003},{"$f":"Données!$E541*E$4","v":2579},{"$f":"Données!$E541*F$4","v":2450.0499999999997},{"$f":"Données!$E541*G$4","v":2321.1},{"$f":"Données!$E541*H$4","v":2192.15},{"$f":"Données!$F541*B$4","v":2175.7999999999997},{"$f":"Données!$F541*C$4","v":2081.2000000000003},{"$f":"Données!$F541*D$4","v":1986.6000000000001},{"$f":"Données!$F541*E$4","v":1892},{"$f":"Données!$F541*F$4","v":1797.3999999999999},{"$f":"Données!$F541*G$4","v":1702.8},{"$f":"Données!$F541*H$4","v":1608.2}]
[null,5080,"Villers-Lez-Heest","La Bruyère",2579,1892,{"$f":"Données!$E542*B$4","v":2965.85},{"$f":"Données!$E542*C$4","v":2836.9},{"$f":"Données!$E542*D$4","v":2707.9500000000003},{"$f":"Données!$E542*E$4","v":2579},{"$f":"Données!$E542*F$4","v":2450.0499999999997},{"$f":"Données!$E542*G$4","v":2321.1},{"$f":"Données!$E542*H$4","v":2192.15},{"$f":"Données!$F542*B$4","v":2175.7999999999997},{"$f":"Données!$F542*C$4","v":2081.2000000000003},{"$f":"Données!$F542*D$4","v":1986.6000000000001},{"$f":"Données!$F542*E$4","v":1892},{"$f":"Données!$F542*F$4","v":1797.3999999999999},{"$f":"Données!$F542*G$4","v":1702.8},{"$f":"Données!$F542*H$4","v":1608.2}]
[null,5080,"Emines","La Bruyère",2579,1892,{"$f":"Données!$E543*B$4","v":2965.85},{"$f":"Données!$E543*C$4","v":2836.9},{"$f":"Données!$E543*D$4","v":2707.9500000000003},{"$f":"Données!$E543*E$4","v":2579},{"$f":"Données!$E543*F$4","v":2450.0499999999997},{"$f":"Données!$E543*G$4","v":2321.1},{"$f":"Données!$E543*H$4","v":2192.15},{"$f":"Données!$F543*B$4","v":2175.7999999999997},{"$f":"Données!$F543*C$4","v":2081.2000000000003},{"$f":"Données!$F543*D$4","v":1986.6000000000001},{"$f":"Données!$F543*E$4","v":1892},{"$f":"Données!$F543*F$4","v":1797.3999999999999},{"$f":"Données!$F543*G$4","v":1702.8},{"$f":"Données!$F543*H$4","v":1608.2}]
[null,5080,"Rhisnes","La Bruyère",2579,1892,{"$f":"Données!$E544*B$4","v":2965.85},{"$f":"Données!$E544*C$4","v":2836.9},{"$f":"Données!$E544*D$4","v":2707.9500000000003},{"$f":"Données!$E544*E$4","v":2579},{"$f":"Données!$E544*F$4","v":2450.0499999999997},{"$f":"Données!$E544*G$4","v":2321.1},{"$f":"Données!$E544*H$4","v":2192.15},{"$f":"Données!$F544*B$4","v":2175.7999999999997},{"$f":"Données!$F544*C$4","v":2081.2000000000003},{"$f":"Données!$F544*D$4","v":1986.6000000000001},{"$f":"Données!$F544*E$4","v":1892},{"$f":"Données!$F544*F$4","v":1797.3999999999999},{"$f":"Données!$F544*G$4","v":1702.8},{"$f":"Données!$F544*H$4","v":1608.2}]
[null,5081,"Meux","La Bruyère",2579,1892,{"$f":"Données!$E545*B$4","v":2965.85},{"$f":"Données!$E545*C$4","v":2836.9},{"$f":"Données!$E545*D$4","v":2707.9500000000003},{"$f":"Données!$E545*E$4","v":2579},{"$f":"Données!$E545*F$4","v":2450.0499999999997},{"$f":"Données!$E545*G$4","v":2321.1},{"$f":"Données!$E545*H$4","v":2192.15},{"$f":"Données!$F545*B$4","v":2175.7999999999997},{"$f":"Données!$F545*C$4","v":2081.2000000000003},{"$f":"Données!$F545*D$4","v":1986.6000000000001},{"$f":"Données!$F545*E$4","v":1892},{"$f":"Données!$F545*F$4","v":1797.3999999999999},{"$f":"Données!$F545*G$4","v":1702.8},{"$f":"Données!$F545*H$4","v":1608.2}]
[null,5081,"Bovesse","La Bruyère",2579,1892,{"$f":"Données!$E546*B$4","v":2965.85},{"$f":"Données!$E546*C$4","v":2836.9},{"$f":"Données!$E546*D$4","v":2707.9500000000003},{"$f":"Données!$E546*E$4","v":2579},{"$f":"Données!$E546*F$4","v":2450.0499999999997},{"$f":"Données!$E546*G$4","v":2321.1},{"$f":"Données!$E546*H$4","v":2192.15},{"$f":"Données!$F546*B$4","v":2175.7999999999997},{"$f":"Données!$F546*C$4","v":2081.2000000000003},{"$f":"Données!$F546*D$4","v":1986.6000000000001},{"$f":"Données!$F546*E$4","v":1892},{"$f":"Données!$F546*F$4","v":1797.3999999999999},{"$f":"Données!$F546*G$4","v":1702.8},{"$f":"Données!$F546*H$4","v":1608.2}]
[null,5100,"Wépion","Namur",2653,1915,{"$f":"Données!$E547*B$4","v":3050.95},{"$f":"Données!$E547*C$4","v":2918.3},{"$f":"Données!$E547*D$4","v":2785.65},{"$f":"Données!$E547*E$4","v":2653},{"$f":"Données!$E547*F$4","v":2520.35},{"$f":"Données!$E547*G$4","v":2387.7000000000003},{"$f":"Données!$E547*H$4","v":2255.0499999999997},{"$f":"Données!$F547*B$4","v":2202.25},{"$f":"Données!$F547*C$4","v":2106.5},{"$f":"Données!$F547*D$4","v":2010.75},{"$f":"Données!$F547*E$4","v":1915},{"$f":"Données!$F547*F$4","v":1819.25},{"$f":"Données!$F547*G$4","v":1723.5},{"$f":"Données!$F547*H$4","v":1627.75}]
[null,5100,"Naninne","Namur",2653,1915,{"$f":"Données!$E548*B$4","v":3050.95},{"$f":"Données!$E548*C$4","v":2918.3},{"$f":"Données!$E548*D$4","v":2785.65},{"$f":"Données!$E548*E$4","v":2653},{"$f":"Données!$E548*F$4","v":2520.35},{"$f":"Données!$E548*G$4","v":2387.7000000000003},{"$f":"Données!$E548*H$4","v":2255.0499999999997},{"$f":"Données!$F548*B$4","v":2202.25},{"$f":"Données!$F548*C$4","v":2106.5},{"$f":"Données!$F548*D$4","v":2010.75},{"$f":"Données!$F548*E$4","v":1915},{"$f":"Données!$F548*F$4","v":1819.25},{"$f":"Données!$F548*G$4","v":1723.5},{"$f":"Données!$F548*H$4","v":1627.75}]
[null,5100,"Wierde","Namur",2653,1915,{"$f":"Données!$E549*B$4","v":3050.95},{"$f":"Données!$E549*C$4","v":2918.3},{"$f":"Données!$E549*D$4","v":2785.65},{"$f":"Données!$E549*E$4","v":2653},{"$f":"Données!$E549*F$4","v":2520.35},{"$f":"Données!$E549*G$4","v":2387.7000000000003},{"$f":"Données!$E549*H$4","v":2255.0499999999997},{"$f":"Données!$F549*B$4","v":2202.25},{"$f":"Données!$F549*C$4","v":2106.5},{"$f":"Données!$F549*D$4","v":2010.75},{"$f":"Données!$F549*E$4","v":1915},{"$f":"Données!$F549*F$4","v":1819.25},{"$f":"Données!$F549*G$4","v":1723.5},{"$f":"Données!$F549*H$4","v":1627.75}]
[null,5100,"Jambes","Namur",2653,1915,{"$f":"Données!$E550*B$4","v":3050.95},{"$f":"Données!$E550*C$4","v":2918.3},{"$f":"Données!$E550*D$4","v":2785.65},{"$f":"Données!$E550*E$4","v":2653},{"$f":"Données!$E550*F$4","v":2520.35},{"$f":"Données!$E550*G$4","v":2387.7000000000003},{"$f":"Données!$E550*H$4","v":2255.0499999999997},{"$f":"Données!$F550*B$4","v":2202.25},{"$f":"Données!$F550*C$4","v":2106.5},{"$f":"Données!$F550*D$4","v":2010.75},{"$f":"Données!$F550*E$4","v":1915},{"$f":"Données!$F550*F$4","v":1819.25},{"$f":"Données!$F550*G$4","v":1723.5},{"$f":"Données!$F550*H$4","v":1627.75}]
[null,5100,"Dave","Namur",2653,1915,{"$f":"Données!$E551*B$4","v":3050.95},{"$f":"Données!$E551*C$4","v":2918.3},{"$f":"Données!$E551*D$4","v":2785.65},{"$f":"Données!$E551*E$4","v":2653},{"$f":"Données!$E551*F$4","v":2520.35},{"$f":"Données!$E551*G$4","v":2387.7000000000003},{"$f":"Données!$E551*H$4","v":2255.0499999999997},{"$f":"Données!$F551*B$4","v":2202.25},{"$f":"Données!$F551*C$4","v":2106.5},{"$f":"Données!$F551*D$4","v":2010.75},{"$f":"Données!$F551*E$4","v":1915},{"$f":"Données!$F551*F$4","v":1819.25},{"$f":"Données!$F551*G$4","v":1723.5},{"$f":"Données!$F551*H$4","v":1627.75}]
[null,5101,"Erpent","Namur",2653,1915,{"$f":"Données!$E552*B$4","v":3050.95},{"$f":"Données!$E552*C$4","v":2918.3},{"$f":"Données!$E552*D$4","v":2785.65},{"$f":"Données!$E552*E$4","v":2653},{"$f":"Données!$E552*F$4","v":2520.35},{"$f":"Données!$E552*G$4","v":2387.7000000000003},{"$f":"Données!$E552*H$4","v":2255.0499999999997},{"$f":"Données!$F552*B$4","v":2202.25},{"$f":"Données!$F552*C$4","v":2106.5},{"$f":"Données!$F552*D$4","v":2010.75},{"$f":"Données!$F552*E$4","v":1915},{"$f":"Données!$F552*F$4","v":1819.25},{"$f":"Données!$F552*G$4","v":1723.5},{"$f":"Données!$F552*H$4","v":1627.75}]
[null,5101,"Loyers","Namur",2653,1915,{"$f":"Données!$E553*B$4","v":3050.95},{"$f":"Données!$E553*C$4","v":2918.3},{"$f":"Données!$E553*D$4","v":2785.65},{"$f":"Données!$E553*E$4","v":2653},{"$f":"Données!$E553*F$4","v":2520.35},{"$f":"Données!$E553*G$4","v":2387.7000000000003},{"$f":"Données!$E553*H$4","v":2255.0499999999997},{"$f":"Données!$F553*B$4","v":2202.25},{"$f":"Données!$F553*C$4","v":2106.5},{"$f":"Données!$F553*D$4","v":2010.75},{"$f":"Données!$F553*E$4","v":1915},{"$f":"Données!$F553*F$4","v":1819.25},{"$f":"Données!$F553*G$4","v":1723.5},{"$f":"Données!$F553*H$4","v":1627.75}]
[null,5101,"Lives-Sur-Meuse","Namur",2653,1915,{"$f":"Données!$E554*B$4","v":3050.95},{"$f":"Données!$E554*C$4","v":2918.3},{"$f":"Données!$E554*D$4","v":2785.65},{"$f":"Données!$E554*E$4","v":2653},{"$f":"Données!$E554*F$4","v":2520.35},{"$f":"Données!$E554*G$4","v":2387.7000000000003},{"$f":"Données!$E554*H$4","v":2255.0499999999997},{"$f":"Données!$F554*B$4","v":2202.25},{"$f":"Données!$F554*C$4","v":2106.5},{"$f":"Données!$F554*D$4","v":2010.75},{"$f":"Données!$F554*E$4","v":1915},{"$f":"Données!$F554*F$4","v":1819.25},{"$f":"Données!$F554*G$4","v":1723.5},{"$f":"Données!$F554*H$4","v":1627.75}]
[null,5140,"Boignée","Sombreffe",2281,1708,{"$f":"Données!$E555*B$4","v":2623.1499999999996},{"$f":"Données!$E555*C$4","v":2509.1000000000004},{"$f":"Données!$E555*D$4","v":2395.0500000000002},{"$f":"Données!$E555*E$4","v":2281},{"$f":"Données!$E555*F$4","v":2166.9499999999998},{"$f":"Données!$E555*G$4","v":2052.9},{"$f":"Données!$E555*H$4","v":1938.85},{"$f":"Données!$F555*B$4","v":1964.1999999999998},{"$f":"Données!$F555*C$4","v":1878.8000000000002},{"$f":"Données!$F555*D$4","v":1793.4},{"$f":"Données!$F555*E$4","v":1708},{"$f":"Données!$F555*F$4","v":1622.6},{"$f":"Données!$F555*G$4","v":1537.2},{"$f":"Données!$F555*H$4","v":1451.8}]
[null,5140,"Ligny","Sombreffe",2281,1708,{"$f":"Données!$E556*B$4","v":2623.1499999999996},{"$f":"Données!$E556*C$4","v":2509.1000000000004},{"$f":"Données!$E556*D$4","v":2395.0500000000002},{"$f":"Données!$E556*E$4","v":2281},{"$f":"Données!$E556*F$4","v":2166.9499999999998},{"$f":"Données!$E556*G$4","v":2052.9},{"$f":"Données!$E556*H$4","v":1938.85},{"$f":"Données!$F556*B$4","v":1964.1999999999998},{"$f":"Données!$F556*C$4","v":1878.8000000000002},{"$f":"Données!$F556*D$4","v":1793.4},{"$f":"Données!$F556*E$4","v":1708},{"$f":"Données!$F556*F$4","v":1622.6},{"$f":"Données!$F556*G$4","v":1537.2},{"$f":"Données!$F556*H$4","v":1451.8}]
[null,5140,"Sombreffe","Sombreffe",2281,1708,{"$f":"Données!$E557*B$4","v":2623.1499999999996},{"$f":"Données!$E557*C$4","v":2509.1000000000004},{"$f":"Données!$E557*D$4","v":2395.0500000000002},{"$f":"Données!$E557*E$4","v":2281},{"$f":"Données!$E557*F$4","v":2166.9499999999998},{"$f":"Données!$E557*G$4","v":2052.9},{"$f":"Données!$E557*H$4","v":1938.85},{"$f":"Données!$F557*B$4","v":1964.1999999999998},{"$f":"Données!$F557*C$4","v":1878.8000000000002},{"$f":"Données!$F557*D$4","v":1793.4},{"$f":"Données!$F557*E$4","v":1708},{"$f":"Données!$F557*F$4","v":1622.6},{"$f":"Données!$F557*G$4","v":1537.2},{"$f":"Données!$F557*H$4","v":1451.8}]
[null,5140,"Tongrinne","Sombreffe",2281,1708,{"$f":"Données!$E558*B$4","v":2623.1499999999996},{"$f":"Données!$E558*C$4","v":2509.1000000000004},{"$f":"Données!$E558*D$4","v":2395.0500000000002},{"$f":"Données!$E558*E$4","v":2281},{"$f":"Données!$E558*F$4","v":2166.9499999999998},{"$f":"Données!$E558*G$4","v":2052.9},{"$f":"Données!$E558*H$4","v":1938.85},{"$f":"Données!$F558*B$4","v":1964.1999999999998},{"$f":"Données!$F558*C$4","v":1878.8000000000002},{"$f":"Données!$F558*D$4","v":1793.4},{"$f":"Données!$F558*E$4","v":1708},{"$f":"Données!$F558*F$4","v":1622.6},{"$f":"Données!$F558*G$4","v":1537.2},{"$f":"Données!$F558*H$4","v":1451.8}]
[null,5150,"Floreffe","Floreffe",2352,1660,{"$f":"Données!$E559*B$4","v":2704.7999999999997},{"$f":"Données!$E559*C$4","v":2587.2000000000003},{"$f":"Données!$E559*D$4","v":2469.6},{"$f":"Données!$E559*E$4","v":2352},{"$f":"Données!$E559*F$4","v":2234.4},{"$f":"Données!$E559*G$4","v":2116.8000000000002},{"$f":"Données!$E559*H$4","v":1999.2},{"$f":"Données!$F559*B$4","v":1908.9999999999998},{"$f":"Données!$F559*C$4","v":1826.0000000000002},{"$f":"Données!$F559*D$4","v":1743},{"$f":"Données!$F559*E$4","v":1660},{"$f":"Données!$F559*F$4","v":1577},{"$f":"Données!$F559*G$4","v":1494},{"$f":"Données!$F559*H$4","v":1411}]
[null,5150,"Franière","Floreffe",2352,1660,{"$f":"Données!$E560*B$4","v":2704.7999999999997},{"$f":"Données!$E560*C$4","v":2587.2000000000003},{"$f":"Données!$E560*D$4","v":2469.6},{"$f":"Données!$E560*E$4","v":2352},{"$f":"Données!$E560*F$4","v":2234.4},{"$f":"Données!$E560*G$4","v":2116.8000000000002},{"$f":"Données!$E560*H$4","v":1999.2},{"$f":"Données!$F560*B$4","v":1908.9999999999998},{"$f":"Données!$F560*C$4","v":1826.0000000000002},{"$f":"Données!$F560*D$4","v":1743},{"$f":"Données!$F560*E$4","v":1660},{"$f":"Données!$F560*F$4","v":1577},{"$f":"Données!$F560*G$4","v":1494},{"$f":"Données!$F560*H$4","v":1411}]
[null,5150,"Floriffoux","Floreffe",2352,1660,{"$f":"Données!$E561*B$4","v":2704.7999999999997},{"$f":"Données!$E561*C$4","v":2587.2000000000003},{"$f":"Données!$E561*D$4","v":2469.6},{"$f":"Données!$E561*E$4","v":2352},{"$f":"Données!$E561*F$4","v":2234.4},{"$f":"Données!$E561*G$4","v":2116.8000000000002},{"$f":"Données!$E561*H$4","v":1999.2},{"$f":"Données!$F561*B$4","v":1908.9999999999998},{"$f":"Données!$F561*C$4","v":1826.0000000000002},{"$f":"Données!$F561*D$4","v":1743},{"$f":"Données!$F561*E$4","v":1660},{"$f":"Données!$F561*F$4","v":1577},{"$f":"Données!$F561*G$4","v":1494},{"$f":"Données!$F561*H$4","v":1411}]
[null,5150,"Soye","Floreffe",2352,1660,{"$f":"Données!$E562*B$4","v":2704.7999999999997},{"$f":"Données!$E562*C$4","v":2587.2000000000003},{"$f":"Données!$E562*D$4","v":2469.6},{"$f":"Données!$E562*E$4","v":2352},{"$f":"Données!$E562*F$4","v":2234.4},{"$f":"Données!$E562*G$4","v":2116.8000000000002},{"$f":"Données!$E562*H$4","v":1999.2},{"$f":"Données!$F562*B$4","v":1908.9999999999998},{"$f":"Données!$F562*C$4","v":1826.0000000000002},{"$f":"Données!$F562*D$4","v":1743},{"$f":"Données!$F562*E$4","v":1660},{"$f":"Données!$F562*F$4","v":1577},{"$f":"Données!$F562*G$4","v":1494},{"$f":"Données!$F562*H$4","v":1411}]
[null,5170,"Bois-De-Villers","Profondeville",2248,1737,{"$f":"Données!$E563*B$4","v":2585.1999999999998},{"$f":"Données!$E563*C$4","v":2472.8000000000002},{"$f":"Données!$E563*D$4","v":2360.4},{"$f":"Données!$E563*E$4","v":2248},{"$f":"Données!$E563*F$4","v":2135.6},{"$f":"Données!$E563*G$4","v":2023.2},{"$f":"Données!$E563*H$4","v":1910.8},{"$f":"Données!$F563*B$4","v":1997.55},{"$f":"Données!$F563*C$4","v":1910.7},{"$f":"Données!$F563*D$4","v":1823.8500000000001},{"$f":"Données!$F563*E$4","v":1737},{"$f":"Données!$F563*F$4","v":1650.1499999999999},{"$f":"Données!$F563*G$4","v":1563.3},{"$f":"Données!$F563*H$4","v":1476.45}]
[null,5170,"Lesve","Profondeville",2248,1737,{"$f":"Données!$E564*B$4","v":2585.1999999999998},{"$f":"Données!$E564*C$4","v":2472.8000000000002},{"$f":"Données!$E564*D$4","v":2360.4},{"$f":"Données!$E564*E$4","v":2248},{"$f":"Données!$E564*F$4","v":2135.6},{"$f":"Données!$E564*G$4","v":2023.2},{"$f":"Données!$E564*H$4","v":1910.8},{"$f":"Données!$F564*B$4","v":1997.55},{"$f":"Données!$F564*C$4","v":1910.7},{"$f":"Données!$F564*D$4","v":1823.8500000000001},{"$f":"Données!$F564*E$4","v":1737},{"$f":"Données!$F564*F$4","v":1650.1499999999999},{"$f":"Données!$F564*G$4","v":1563.3},{"$f":"Données!$F564*H$4","v":1476.45}]
[null,5170,"Lustin","Profondeville",2248,1737,{"$f":"Données!$E565*B$4","v":2585.1999999999998},{"$f":"Données!$E565*C$4","v":2472.8000000000002},{"$f":"Données!$E565*D$4","v":2360.4},{"$f":"Données!$E565*E$4","v":2248},{"$f":"Données!$E565*F$4","v":2135.6},{"$f":"Données!$E565*G$4","v":2023.2},{"$f":"Données!$E565*H$4","v":1910.8},{"$f":"Données!$F565*B$4","v":1997.55},{"$f":"Données!$F565*C$4","v":1910.7},{"$f":"Données!$F565*D$4","v":1823.8500000000001},{"$f":"Données!$F565*E$4","v":1737},{"$f":"Données!$F565*F$4","v":1650.1499999999999},{"$f":"Données!$F565*G$4","v":1563.3},{"$f":"Données!$F565*H$4","v":1476.45}]
[null,5170,"Profondeville","Profondeville",2248,1737,{"$f":"Données!$E566*B$4","v":2585.1999999999998},{"$f":"Données!$E566*C$4","v":2472.8000000000002},{"$f":"Données!$E566*D$4","v":2360.4},{"$f":"Données!$E566*E$4","v":2248},{"$f":"Données!$E566*F$4","v":2135.6},{"$f":"Données!$E566*G$4","v":2023.2},{"$f":"Données!$E566*H$4","v":1910.8},{"$f":"Données!$F566*B$4","v":1997.55},{"$f":"Données!$F566*C$4","v":1910.7},{"$f":"Données!$F566*D$4","v":1823.8500000000001},{"$f":"Données!$F566*E$4","v":1737},{"$f":"Données!$F566*F$4","v":1650.1499999999999},{"$f":"Données!$F566*G$4","v":1563.3},{"$f":"Données!$F566*H$4","v":1476.45}]
[null,5170,"Arbre","Profondeville",2248,1737,{"$f":"Données!$E567*B$4","v":2585.1999999999998},{"$f":"Données!$E567*C$4","v":2472.8000000000002},{"$f":"Données!$E567*D$4","v":2360.4},{"$f":"Données!$E567*E$4","v":2248},{"$f":"Données!$E567*F$4","v":2135.6},{"$f":"Données!$E567*G$4","v":2023.2},{"$f":"Données!$E567*H$4","v":1910.8},{"$f":"Données!$F567*B$4","v":1997.55},{"$f":"Données!$F567*C$4","v":1910.7},{"$f":"Données!$F567*D$4","v":1823.8500000000001},{"$f":"Données!$F567*E$4","v":1737},{"$f":"Données!$F567*F$4","v":1650.1499999999999},{"$f":"Données!$F567*G$4","v":1563.3},{"$f":"Données!$F567*H$4","v":1476.45}]
[null,5170,"Rivière","Profondeville",2248,1737,{"$f":"Données!$E568*B$4","v":2585.1999999999998},{"$f":"Données!$E568*C$4","v":2472.8000000000002},{"$f":"Données!$E568*D$4","v":2360.4},{"$f":"Données!$E568*E$4","v":2248},{"$f":"Données!$E568*F$4","v":2135.6},{"$f":"Données!$E568*G$4","v":2023.2},{"$f":"Données!$E568*H$4","v":1910.8},{"$f":"Données!$F568*B$4","v":1997.55},{"$f":"Données!$F568*C$4","v":1910.7},{"$f":"Données!$F568*D$4","v":1823.8500000000001},{"$f":"Données!$F568*E$4","v":1737},{"$f":"Données!$F568*F$4","v":1650.1499999999999},{"$f":"Données!$F568*G$4","v":1563.3},{"$f":"Données!$F568*H$4","v":1476.45}]
[null,5190,"Balâtre","Jemeppe-Sur-Sambre",2046,1532,{"$f":"Données!$E569*B$4","v":2352.8999999999996},{"$f":"Données!$E569*C$4","v":2250.6000000000004},{"$f":"Données!$E569*D$4","v":2148.3000000000002},{"$f":"Données!$E569*E$4","v":2046},{"$f":"Données!$E569*F$4","v":1943.6999999999998},{"$f":"Données!$E569*G$4","v":1841.4},{"$f":"Données!$E569*H$4","v":1739.1},{"$f":"Données!$F569*B$4","v":1761.8},{"$f":"Données!$F569*C$4","v":1685.2},{"$f":"Données!$F569*D$4","v":1608.6000000000001},{"$f":"Données!$F569*E$4","v":1532},{"$f":"Données!$F569*F$4","v":1455.3999999999999},{"$f":"Données!$F569*G$4","v":1378.8},{"$f":"Données!$F569*H$4","v":1302.2}]
[null,5190,"Saint-Martin","Jemeppe-Sur-Sambre",2046,1532,{"$f":"Données!$E570*B$4","v":2352.8999999999996},{"$f":"Données!$E570*C$4","v":2250.6000000000004},{"$f":"Données!$E570*D$4","v":2148.3000000000002},{"$f":"Données!$E570*E$4","v":2046},{"$f":"Données!$E570*F$4","v":1943.6999999999998},{"$f":"Données!$E570*G$4","v":1841.4},{"$f":"Données!$E570*H$4","v":1739.1},{"$f":"Données!$F570*B$4","v":1761.8},{"$f":"Données!$F570*C$4","v":1685.2},{"$f":"Données!$F570*D$4","v":1608.6000000000001},{"$f":"Données!$F570*E$4","v":1532},{"$f":"Données!$F570*F$4","v":1455.3999999999999},{"$f":"Données!$F570*G$4","v":1378.8},{"$f":"Données!$F570*H$4","v":1302.2}]
[null,5190,"Ham-Sur-Sambre","Jemeppe-Sur-Sambre",2046,1532,{"$f":"Données!$E571*B$4","v":2352.8999999999996},{"$f":"Données!$E571*C$4","v":2250.6000000000004},{"$f":"Données!$E571*D$4","v":2148.3000000000002},{"$f":"Données!$E571*E$4","v":2046},{"$f":"Données!$E571*F$4","v":1943.6999999999998},{"$f":"Données!$E571*G$4","v":1841.4},{"$f":"Données!$E571*H$4","v":1739.1},{"$f":"Données!$F571*B$4","v":1761.8},{"$f":"Données!$F571*C$4","v":1685.2},{"$f":"Données!$F571*D$4","v":1608.6000000000001},{"$f":"Données!$F571*E$4","v":1532},{"$f":"Données!$F571*F$4","v":1455.3999999999999},{"$f":"Données!$F571*G$4","v":1378.8},{"$f":"Données!$F571*H$4","v":1302.2}]
[null,5190,"Spy","Jemeppe-Sur-Sambre",2046,1532,{"$f":"Données!$E572*B$4","v":2352.8999999999996},{"$f":"Données!$E572*C$4","v":2250.6000000000004},{"$f":"Données!$E572*D$4","v":2148.3000000000002},{"$f":"Données!$E572*E$4","v":2046},{"$f":"Données!$E572*F$4","v":1943.6999999999998},{"$f":"Données!$E572*G$4","v":1841.4},{"$f":"Données!$E572*H$4","v":1739.1},{"$f":"Données!$F572*B$4","v":1761.8},{"$f":"Données!$F572*C$4","v":1685.2},{"$f":"Données!$F572*D$4","v":1608.6000000000001},{"$f":"Données!$F572*E$4","v":1532},{"$f":"Données!$F572*F$4","v":1455.3999999999999},{"$f":"Données!$F572*G$4","v":1378.8},{"$f":"Données!$F572*H$4","v":1302.2}]
[null,5190,"Mornimont","Jemeppe-Sur-Sambre",2046,1532,{"$f":"Données!$E573*B$4","v":2352.8999999999996},{"$f":"Données!$E573*C$4","v":2250.6000000000004},{"$f":"Données!$E573*D$4","v":2148.3000000000002},{"$f":"Données!$E573*E$4","v":2046},{"$f":"Données!$E573*F$4","v":1943.6999999999998},{"$f":"Données!$E573*G$4","v":1841.4},{"$f":"Données!$E573*H$4","v":1739.1},{"$f":"Données!$F573*B$4","v":1761.8},{"$f":"Données!$F573*C$4","v":1685.2},{"$f":"Données!$F573*D$4","v":1608.6000000000001},{"$f":"Données!$F573*E$4","v":1532},{"$f":"Données!$F573*F$4","v":1455.3999999999999},{"$f":"Données!$F573*G$4","v":1378.8},{"$f":"Données!$F573*H$4","v":1302.2}]
[null,5190,"Moustier-Sur-Sambre","Jemeppe-Sur-Sambre",2046,1532,{"$f":"Données!$E574*B$4","v":2352.8999999999996},{"$f":"Données!$E574*C$4","v":2250.6000000000004},{"$f":"Données!$E574*D$4","v":2148.3000000000002},{"$f":"Données!$E574*E$4","v":2046},{"$f":"Données!$E574*F$4","v":1943.6999999999998},{"$f":"Données!$E574*G$4","v":1841.4},{"$f":"Données!$E574*H$4","v":1739.1},{"$f":"Données!$F574*B$4","v":1761.8},{"$f":"Données!$F574*C$4","v":1685.2},{"$f":"Données!$F574*D$4","v":1608.6000000000001},{"$f":"Données!$F574*E$4","v":1532},{"$f":"Données!$F574*F$4","v":1455.3999999999999},{"$f":"Données!$F574*G$4","v":1378.8},{"$f":"Données!$F574*H$4","v":1302.2}]
[null,5190,"Jemeppe-Sur-Sambre","Jemeppe-Sur-Sambre",2046,1532,{"$f":"Données!$E575*B$4","v":2352.8999999999996},{"$f":"Données!$E575*C$4","v":2250.6000000000004},{"$f":"Données!$E575*D$4","v":2148.3000000000002},{"$f":"Données!$E575*E$4","v":2046},{"$f":"Données!$E575*F$4","v":1943.6999999999998},{"$f":"Données!$E575*G$4","v":1841.4},{"$f":"Données!$E575*H$4","v":1739.1},{"$f":"Données!$F575*B$4","v":1761.8},{"$f":"Données!$F575*C$4","v":1685.2},{"$f":"Données!$F575*D$4","v":1608.6000000000001},{"$f":"Données!$F575*E$4","v":1532},{"$f":"Données!$F575*F$4","v":1455.3999999999999},{"$f":"Données!$F575*G$4","v":1378.8},{"$f":"Données!$F575*H$4","v":1302.2}]
[null,5190,"Onoz","Jemeppe-Sur-Sambre",2046,1532,{"$f":"Données!$E576*B$4","v":2352.8999999999996},{"$f":"Données!$E576*C$4","v":2250.6000000000004},{"$f":"Données!$E576*D$4","v":2148.3000000000002},{"$f":"Données!$E576*E$4","v":2046},{"$f":"Données!$E576*F$4","v":1943.6999999999998},{"$f":"Données!$E576*G$4","v":1841.4},{"$f":"Données!$E576*H$4","v":1739.1},{"$f":"Données!$F576*B$4","v":1761.8},{"$f":"Données!$F576*C$4","v":1685.2},{"$f":"Données!$F576*D$4","v":1608.6000000000001},{"$f":"Données!$F576*E$4","v":1532},{"$f":"Données!$F576*F$4","v":1455.3999999999999},{"$f":"Données!$F576*G$4","v":1378.8},{"$f":"Données!$F576*H$4","v":1302.2}]
[null,5300,"Sclayn","Andenne",2115,1585,{"$f":"Données!$E577*B$4","v":2432.25},{"$f":"Données!$E577*C$4","v":2326.5},{"$f":"Données!$E577*D$4","v":2220.75},{"$f":"Données!$E577*E$4","v":2115},{"$f":"Données!$E577*F$4","v":2009.25},{"$f":"Données!$E577*G$4","v":1903.5},{"$f":"Données!$E577*H$4","v":1797.75},{"$f":"Données!$F577*B$4","v":1822.7499999999998},{"$f":"Données!$F577*C$4","v":1743.5000000000002},{"$f":"Données!$F577*D$4","v":1664.25},{"$f":"Données!$F577*E$4","v":1585},{"$f":"Données!$F577*F$4","v":1505.75},{"$f":"Données!$F577*G$4","v":1426.5},{"$f":"Données!$F577*H$4","v":1347.25}]
[null,5300,"Thon","Andenne",2115,1585,{"$f":"Données!$E578*B$4","v":2432.25},{"$f":"Données!$E578*C$4","v":2326.5},{"$f":"Données!$E578*D$4","v":2220.75},{"$f":"Données!$E578*E$4","v":2115},{"$f":"Données!$E578*F$4","v":2009.25},{"$f":"Données!$E578*G$4","v":1903.5},{"$f":"Données!$E578*H$4","v":1797.75},{"$f":"Données!$F578*B$4","v":1822.7499999999998},{"$f":"Données!$F578*C$4","v":1743.5000000000002},{"$f":"Données!$F578*D$4","v":1664.25},{"$f":"Données!$F578*E$4","v":1585},{"$f":"Données!$F578*F$4","v":1505.75},{"$f":"Données!$F578*G$4","v":1426.5},{"$f":"Données!$F578*H$4","v":1347.25}]
[null,5300,"Landenne","Andenne",2115,1585,{"$f":"Données!$E579*B$4","v":2432.25},{"$f":"Données!$E579*C$4","v":2326.5},{"$f":"Données!$E579*D$4","v":2220.75},{"$f":"Données!$E579*E$4","v":2115},{"$f":"Données!$E579*F$4","v":2009.25},{"$f":"Données!$E579*G$4","v":1903.5},{"$f":"Données!$E579*H$4","v":1797.75},{"$f":"Données!$F579*B$4","v":1822.7499999999998},{"$f":"Données!$F579*C$4","v":1743.5000000000002},{"$f":"Données!$F579*D$4","v":1664.25},{"$f":"Données!$F579*E$4","v":1585},{"$f":"Données!$F579*F$4","v":1505.75},{"$f":"Données!$F579*G$4","v":1426.5},{"$f":"Données!$F579*H$4","v":1347.25}]
[null,5300,"Maizeret","Andenne",2115,1585,{"$f":"Données!$E580*B$4","v":2432.25},{"$f":"Données!$E580*C$4","v":2326.5},{"$f":"Données!$E580*D$4","v":2220.75},{"$f":"Données!$E580*E$4","v":2115},{"$f":"Données!$E580*F$4","v":2009.25},{"$f":"Données!$E580*G$4","v":1903.5},{"$f":"Données!$E580*H$4","v":1797.75},{"$f":"Données!$F580*B$4","v":1822.7499999999998},{"$f":"Données!$F580*C$4","v":1743.5000000000002},{"$f":"Données!$F580*D$4","v":1664.25},{"$f":"Données!$F580*E$4","v":1585},{"$f":"Données!$F580*F$4","v":1505.75},{"$f":"Données!$F580*G$4","v":1426.5},{"$f":"Données!$F580*H$4","v":1347.25}]
[null,5300,"Namêche","Andenne",2115,1585,{"$f":"Données!$E581*B$4","v":2432.25},{"$f":"Données!$E581*C$4","v":2326.5},{"$f":"Données!$E581*D$4","v":2220.75},{"$f":"Données!$E581*E$4","v":2115},{"$f":"Données!$E581*F$4","v":2009.25},{"$f":"Données!$E581*G$4","v":1903.5},{"$f":"Données!$E581*H$4","v":1797.75},{"$f":"Données!$F581*B$4","v":1822.7499999999998},{"$f":"Données!$F581*C$4","v":1743.5000000000002},{"$f":"Données!$F581*D$4","v":1664.25},{"$f":"Données!$F581*E$4","v":1585},{"$f":"Données!$F581*F$4","v":1505.75},{"$f":"Données!$F581*G$4","v":1426.5},{"$f":"Données!$F581*H$4","v":1347.25}]
[null,5300,"Seilles","Andenne",2115,1585,{"$f":"Données!$E582*B$4","v":2432.25},{"$f":"Données!$E582*C$4","v":2326.5},{"$f":"Données!$E582*D$4","v":2220.75},{"$f":"Données!$E582*E$4","v":2115},{"$f":"Données!$E582*F$4","v":2009.25},{"$f":"Données!$E582*G$4","v":1903.5},{"$f":"Données!$E582*H$4","v":1797.75},{"$f":"Données!$F582*B$4","v":1822.7499999999998},{"$f":"Données!$F582*C$4","v":1743.5000000000002},{"$f":"Données!$F582*D$4","v":1664.25},{"$f":"Données!$F582*E$4","v":1585},{"$f":"Données!$F582*F$4","v":1505.75},{"$f":"Données!$F582*G$4","v":1426.5},{"$f":"Données!$F582*H$4","v":1347.25}]
[null,5300,"Vezin","Andenne",2115,1585,{"$f":"Données!$E583*B$4","v":2432.25},{"$f":"Données!$E583*C$4","v":2326.5},{"$f":"Données!$E583*D$4","v":2220.75},{"$f":"Données!$E583*E$4","v":2115},{"$f":"Données!$E583*F$4","v":2009.25},{"$f":"Données!$E583*G$4","v":1903.5},{"$f":"Données!$E583*H$4","v":1797.75},{"$f":"Données!$F583*B$4","v":1822.7499999999998},{"$f":"Données!$F583*C$4","v":1743.5000000000002},{"$f":"Données!$F583*D$4","v":1664.25},{"$f":"Données!$F583*E$4","v":1585},{"$f":"Données!$F583*F$4","v":1505.75},{"$f":"Données!$F583*G$4","v":1426.5},{"$f":"Données!$F583*H$4","v":1347.25}]
[null,5300,"Andenne","Andenne",2115,1585,{"$f":"Données!$E584*B$4","v":2432.25},{"$f":"Données!$E584*C$4","v":2326.5},{"$f":"Données!$E584*D$4","v":2220.75},{"$f":"Données!$E584*E$4","v":2115},{"$f":"Données!$E584*F$4","v":2009.25},{"$f":"Données!$E584*G$4","v":1903.5},{"$f":"Données!$E584*H$4","v":1797.75},{"$f":"Données!$F584*B$4","v":1822.7499999999998},{"$f":"Données!$F584*C$4","v":1743.5000000000002},{"$f":"Données!$F584*D$4","v":1664.25},{"$f":"Données!$F584*E$4","v":1585},{"$f":"Données!$F584*F$4","v":1505.75},{"$f":"Données!$F584*G$4","v":1426.5},{"$f":"Données!$F584*H$4","v":1347.25}]
[null,5300,"Bonneville","Andenne",2115,1585,{"$f":"Données!$E585*B$4","v":2432.25},{"$f":"Données!$E585*C$4","v":2326.5},{"$f":"Données!$E585*D$4","v":2220.75},{"$f":"Données!$E585*E$4","v":2115},{"$f":"Données!$E585*F$4","v":2009.25},{"$f":"Données!$E585*G$4","v":1903.5},{"$f":"Données!$E585*H$4","v":1797.75},{"$f":"Données!$F585*B$4","v":1822.7499999999998},{"$f":"Données!$F585*C$4","v":1743.5000000000002},{"$f":"Données!$F585*D$4","v":1664.25},{"$f":"Données!$F585*E$4","v":1585},{"$f":"Données!$F585*F$4","v":1505.75},{"$f":"Données!$F585*G$4","v":1426.5},{"$f":"Données!$F585*H$4","v":1347.25}]
[null,5300,"Coutisse","Andenne",2115,1585,{"$f":"Données!$E586*B$4","v":2432.25},{"$f":"Données!$E586*C$4","v":2326.5},{"$f":"Données!$E586*D$4","v":2220.75},{"$f":"Données!$E586*E$4","v":2115},{"$f":"Données!$E586*F$4","v":2009.25},{"$f":"Données!$E586*G$4","v":1903.5},{"$f":"Données!$E586*H$4","v":1797.75},{"$f":"Données!$F586*B$4","v":1822.7499999999998},{"$f":"Données!$F586*C$4","v":1743.5000000000002},{"$f":"Données!$F586*D$4","v":1664.25},{"$f":"Données!$F586*E$4","v":1585},{"$f":"Données!$F586*F$4","v":1505.75},{"$f":"Données!$F586*G$4","v":1426.5},{"$f":"Données!$F586*H$4","v":1347.25}]
[null,5310,"Aische-En-Refail","Eghezée",2447,1789,{"$f":"Données!$E587*B$4","v":2814.0499999999997},{"$f":"Données!$E587*C$4","v":2691.7000000000003},{"$f":"Données!$E587*D$4","v":2569.35},{"$f":"Données!$E587*E$4","v":2447},{"$f":"Données!$E587*F$4","v":2324.65},{"$f":"Données!$E587*G$4","v":2202.3000000000002},{"$f":"Données!$E587*H$4","v":2079.9499999999998},{"$f":"Données!$F587*B$4","v":2057.35},{"$f":"Données!$F587*C$4","v":1967.9},{"$f":"Données!$F587*D$4","v":1878.45},{"$f":"Données!$F587*E$4","v":1789},{"$f":"Données!$F587*F$4","v":1699.55},{"$f":"Données!$F587*G$4","v":1610.1000000000001},{"$f":"Données!$F587*H$4","v":1520.6499999999999}]
[null,5310,"Eghezée","Eghezée",2447,1789,{"$f":"Données!$E588*B$4","v":2814.0499999999997},{"$f":"Données!$E588*C$4","v":2691.7000000000003},{"$f":"Données!$E588*D$4","v":2569.35},{"$f":"Données!$E588*E$4","v":2447},{"$f":"Données!$E588*F$4","v":2324.65},{"$f":"Données!$E588*G$4","v":2202.3000000000002},{"$f":"Données!$E588*H$4","v":2079.9499999999998},{"$f":"Données!$F588*B$4","v":2057.35},{"$f":"Données!$F588*C$4","v":1967.9},{"$f":"Données!$F588*D$4","v":1878.45},{"$f":"Données!$F588*E$4","v":1789},{"$f":"Données!$F588*F$4","v":1699.55},{"$f":"Données!$F588*G$4","v":1610.1000000000001},{"$f":"Données!$F588*H$4","v":1520.6499999999999}]
[null,5310,"Longchamps","Eghezée",2447,1789,{"$f":"Données!$E589*B$4","v":2814.0499999999997},{"$f":"Données!$E589*C$4","v":2691.7000000000003},{"$f":"Données!$E589*D$4","v":2569.35},{"$f":"Données!$E589*E$4","v":2447},{"$f":"Données!$E589*F$4","v":2324.65},{"$f":"Données!$E589*G$4","v":2202.3000000000002},{"$f":"Données!$E589*H$4","v":2079.9499999999998},{"$f":"Données!$F589*B$4","v":2057.35},{"$f":"Données!$F589*C$4","v":1967.9},{"$f":"Données!$F589*D$4","v":1878.45},{"$f":"Données!$F589*E$4","v":1789},{"$f":"Données!$F589*F$4","v":1699.55},{"$f":"Données!$F589*G$4","v":1610.1000000000001},{"$f":"Données!$F589*H$4","v":1520.6499999999999}]
[null,5310,"Taviers","Eghezée",2447,1789,{"$f":"Données!$E590*B$4","v":2814.0499999999997},{"$f":"Données!$E590*C$4","v":2691.7000000000003},{"$f":"Données!$E590*D$4","v":2569.35},{"$f":"Données!$E590*E$4","v":2447},{"$f":"Données!$E590*F$4","v":2324.65},{"$f":"Données!$E590*G$4","v":2202.3000000000002},{"$f":"Données!$E590*H$4","v":2079.9499999999998},{"$f":"Données!$F590*B$4","v":2057.35},{"$f":"Données!$F590*C$4","v":1967.9},{"$f":"Données!$F590*D$4","v":1878.45},{"$f":"Données!$F590*E$4","v":1789},{"$f":"Données!$F590*F$4","v":1699.55},{"$f":"Données!$F590*G$4","v":1610.1000000000001},{"$f":"Données!$F590*H$4","v":1520.6499999999999}]
[null,5310,"Boneffe","Eghezée",2447,1789,{"$f":"Données!$E591*B$4","v":2814.0499999999997},{"$f":"Données!$E591*C$4","v":2691.7000000000003},{"$f":"Données!$E591*D$4","v":2569.35},{"$f":"Données!$E591*E$4","v":2447},{"$f":"Données!$E591*F$4","v":2324.65},{"$f":"Données!$E591*G$4","v":2202.3000000000002},{"$f":"Données!$E591*H$4","v":2079.9499999999998},{"$f":"Données!$F591*B$4","v":2057.35},{"$f":"Données!$F591*C$4","v":1967.9},{"$f":"Données!$F591*D$4","v":1878.45},{"$f":"Données!$F591*E$4","v":1789},{"$f":"Données!$F591*F$4","v":1699.55},{"$f":"Données!$F591*G$4","v":1610.1000000000001},{"$f":"Données!$F591*H$4","v":1520.6499999999999}]
[null,5310,"Saint-Germain","Eghezée",2447,1789,{"$f":"Données!$E592*B$4","v":2814.0499999999997},{"$f":"Données!$E592*C$4","v":2691.7000000000003},{"$f":"Données!$E592*D$4","v":2569.35},{"$f":"Données!$E592*E$4","v":2447},{"$f":"Données!$E592*F$4","v":2324.65},{"$f":"Données!$E592*G$4","v":2202.3000000000002},{"$f":"Données!$E592*H$4","v":2079.9499999999998},{"$f":"Données!$F592*B$4","v":2057.35},{"$f":"Données!$F592*C$4","v":1967.9},{"$f":"Données!$F592*D$4","v":1878.45},{"$f":"Données!$F592*E$4","v":1789},{"$f":"Données!$F592*F$4","v":1699.55},{"$f":"Données!$F592*G$4","v":1610.1000000000001},{"$f":"Données!$F592*H$4","v":1520.6499999999999}]
[null,5310,"Waret-La-Chaussée","Eghezée",2447,1789,{"$f":"Données!$E593*B$4","v":2814.0499999999997},{"$f":"Données!$E593*C$4","v":2691.7000000000003},{"$f":"Données!$E593*D$4","v":2569.35},{"$f":"Données!$E593*E$4","v":2447},{"$f":"Données!$E593*F$4","v":2324.65},{"$f":"Données!$E593*G$4","v":2202.3000000000002},{"$f":"Données!$E593*H$4","v":2079.9499999999998},{"$f":"Données!$F593*B$4","v":2057.35},{"$f":"Données!$F593*C$4","v":1967.9},{"$f":"Données!$F593*D$4","v":1878.45},{"$f":"Données!$F593*E$4","v":1789},{"$f":"Données!$F593*F$4","v":1699.55},{"$f":"Données!$F593*G$4","v":1610.1000000000001},{"$f":"Données!$F593*H$4","v":1520.6499999999999}]
[null,5310,"Branchon","Eghezée",2447,1789,{"$f":"Données!$E594*B$4","v":2814.0499999999997},{"$f":"Données!$E594*C$4","v":2691.7000000000003},{"$f":"Données!$E594*D$4","v":2569.35},{"$f":"Données!$E594*E$4","v":2447},{"$f":"Données!$E594*F$4","v":2324.65},{"$f":"Données!$E594*G$4","v":2202.3000000000002},{"$f":"Données!$E594*H$4","v":2079.9499999999998},{"$f":"Données!$F594*B$4","v":2057.35},{"$f":"Données!$F594*C$4","v":1967.9},{"$f":"Données!$F594*D$4","v":1878.45},{"$f":"Données!$F594*E$4","v":1789},{"$f":"Données!$F594*F$4","v":1699.55},{"$f":"Données!$F594*G$4","v":1610.1000000000001},{"$f":"Données!$F594*H$4","v":1520.6499999999999}]
[null,5310,"Hanret","Eghezée",2447,1789,{"$f":"Données!$E595*B$4","v":2814.0499999999997},{"$f":"Données!$E595*C$4","v":2691.7000000000003},{"$f":"Données!$E595*D$4","v":2569.35},{"$f":"Données!$E595*E$4","v":2447},{"$f":"Données!$E595*F$4","v":2324.65},{"$f":"Données!$E595*G$4","v":2202.3000000000002},{"$f":"Données!$E595*H$4","v":2079.9499999999998},{"$f":"Données!$F595*B$4","v":2057.35},{"$f":"Données!$F595*C$4","v":1967.9},{"$f":"Données!$F595*D$4","v":1878.45},{"$f":"Données!$F595*E$4","v":1789},{"$f":"Données!$F595*F$4","v":1699.55},{"$f":"Données!$F595*G$4","v":1610.1000000000001},{"$f":"Données!$F595*H$4","v":1520.6499999999999}]
[null,5310,"Leuze","Eghezée",2447,1789,{"$f":"Données!$E596*B$4","v":2814.0499999999997},{"$f":"Données!$E596*C$4","v":2691.7000000000003},{"$f":"Données!$E596*D$4","v":2569.35},{"$f":"Données!$E596*E$4","v":2447},{"$f":"Données!$E596*F$4","v":2324.65},{"$f":"Données!$E596*G$4","v":2202.3000000000002},{"$f":"Données!$E596*H$4","v":2079.9499999999998},{"$f":"Données!$F596*B$4","v":2057.35},{"$f":"Données!$F596*C$4","v":1967.9},{"$f":"Données!$F596*D$4","v":1878.45},{"$f":"Données!$F596*E$4","v":1789},{"$f":"Données!$F596*F$4","v":1699.55},{"$f":"Données!$F596*G$4","v":1610.1000000000001},{"$f":"Données!$F596*H$4","v":1520.6499999999999}]
[null,5310,"Noville-Sur-Méhaigne","Eghezée",2447,1789,{"$f":"Données!$E597*B$4","v":2814.0499999999997},{"$f":"Données!$E597*C$4","v":2691.7000000000003},{"$f":"Données!$E597*D$4","v":2569.35},{"$f":"Données!$E597*E$4","v":2447},{"$f":"Données!$E597*F$4","v":2324.65},{"$f":"Données!$E597*G$4","v":2202.3000000000002},{"$f":"Données!$E597*H$4","v":2079.9499999999998},{"$f":"Données!$F597*B$4","v":2057.35},{"$f":"Données!$F597*C$4","v":1967.9},{"$f":"Données!$F597*D$4","v":1878.45},{"$f":"Données!$F597*E$4","v":1789},{"$f":"Données!$F597*F$4","v":1699.55},{"$f":"Données!$F597*G$4","v":1610.1000000000001},{"$f":"Données!$F597*H$4","v":1520.6499999999999}]
[null,5310,"Dhuy","Eghezée",2447,1789,{"$f":"Données!$E598*B$4","v":2814.0499999999997},{"$f":"Données!$E598*C$4","v":2691.7000000000003},{"$f":"Données!$E598*D$4","v":2569.35},{"$f":"Données!$E598*E$4","v":2447},{"$f":"Données!$E598*F$4","v":2324.65},{"$f":"Données!$E598*G$4","v":2202.3000000000002},{"$f":"Données!$E598*H$4","v":2079.9499999999998},{"$f":"Données!$F598*B$4","v":2057.35},{"$f":"Données!$F598*C$4","v":1967.9},{"$f":"Données!$F598*D$4","v":1878.45},{"$f":"Données!$F598*E$4","v":1789},{"$f":"Données!$F598*F$4","v":1699.55},{"$f":"Données!$F598*G$4","v":1610.1000000000001},{"$f":"Données!$F598*H$4","v":1520.6499999999999}]
[null,5310,"Liernu","Eghezée",2447,1789,{"$f":"Données!$E599*B$4","v":2814.0499999999997},{"$f":"Données!$E599*C$4","v":2691.7000000000003},{"$f":"Données!$E599*D$4","v":2569.35},{"$f":"Données!$E599*E$4","v":2447},{"$f":"Données!$E599*F$4","v":2324.65},{"$f":"Données!$E599*G$4","v":2202.3000000000002},{"$f":"Données!$E599*H$4","v":2079.9499999999998},{"$f":"Données!$F599*B$4","v":2057.35},{"$f":"Données!$F599*C$4","v":1967.9},{"$f":"Données!$F599*D$4","v":1878.45},{"$f":"Données!$F599*E$4","v":1789},{"$f":"Données!$F599*F$4","v":1699.55},{"$f":"Données!$F599*G$4","v":1610.1000000000001},{"$f":"Données!$F599*H$4","v":1520.6499999999999}]
[null,5310,"Mehaigne","Eghezée",2447,1789,{"$f":"Données!$E600*B$4","v":2814.0499999999997},{"$f":"Données!$E600*C$4","v":2691.7000000000003},{"$f":"Données!$E600*D$4","v":2569.35},{"$f":"Données!$E600*E$4","v":2447},{"$f":"Données!$E600*F$4","v":2324.65},{"$f":"Données!$E600*G$4","v":2202.3000000000002},{"$f":"Données!$E600*H$4","v":2079.9499999999998},{"$f":"Données!$F600*B$4","v":2057.35},{"$f":"Données!$F600*C$4","v":1967.9},{"$f":"Données!$F600*D$4","v":1878.45},{"$f":"Données!$F600*E$4","v":1789},{"$f":"Données!$F600*F$4","v":1699.55},{"$f":"Données!$F600*G$4","v":1610.1000000000001},{"$f":"Données!$F600*H$4","v":1520.6499999999999}]
[null,5310,"Bolinne","Eghezée",2447,1789,{"$f":"Données!$E601*B$4","v":2814.0499999999997},{"$f":"Données!$E601*C$4","v":2691.7000000000003},{"$f":"Données!$E601*D$4","v":2569.35},{"$f":"Données!$E601*E$4","v":2447},{"$f":"Données!$E601*F$4","v":2324.65},{"$f":"Données!$E601*G$4","v":2202.3000000000002},{"$f":"Données!$E601*H$4","v":2079.9499999999998},{"$f":"Données!$F601*B$4","v":2057.35},{"$f":"Données!$F601*C$4","v":1967.9},{"$f":"Données!$F601*D$4","v":1878.45},{"$f":"Données!$F601*E$4","v":1789},{"$f":"Données!$F601*F$4","v":1699.55},{"$f":"Données!$F601*G$4","v":1610.1000000000001},{"$f":"Données!$F601*H$4","v":1520.6499999999999}]
[null,5310,"Upigny","Eghezée",2447,1789,{"$f":"Données!$E602*B$4","v":2814.0499999999997},{"$f":"Données!$E602*C$4","v":2691.7000000000003},{"$f":"Données!$E602*D$4","v":2569.35},{"$f":"Données!$E602*E$4","v":2447},{"$f":"Données!$E602*F$4","v":2324.65},{"$f":"Données!$E602*G$4","v":2202.3000000000002},{"$f":"Données!$E602*H$4","v":2079.9499999999998},{"$f":"Données!$F602*B$4","v":2057.35},{"$f":"Données!$F602*C$4","v":1967.9},{"$f":"Données!$F602*D$4","v":1878.45},{"$f":"Données!$F602*E$4","v":1789},{"$f":"Données!$F602*F$4","v":1699.55},{"$f":"Données!$F602*G$4","v":1610.1000000000001},{"$f":"Données!$F602*H$4","v":1520.6499999999999}]
[null,5330,"Sart-Bernard","Assesse",2410,1816,{"$f":"Données!$E603*B$4","v":2771.5},{"$f":"Données!$E603*C$4","v":2651},{"$f":"Données!$E603*D$4","v":2530.5},{"$f":"Données!$E603*E$4","v":2410},{"$f":"Données!$E603*F$4","v":2289.5},{"$f":"Données!$E603*G$4","v":2169},{"$f":"Données!$E603*H$4","v":2048.5},{"$f":"Données!$F603*B$4","v":2088.3999999999996},{"$f":"Données!$F603*C$4","v":1997.6000000000001},{"$f":"Données!$F603*D$4","v":1906.8000000000002},{"$f":"Données!$F603*E$4","v":1816},{"$f":"Données!$F603*F$4","v":1725.1999999999998},{"$f":"Données!$F603*G$4","v":1634.4},{"$f":"Données!$F603*H$4","v":1543.6}]
[null,5330,"Assesse","Assesse",2410,1816,{"$f":"Données!$E604*B$4","v":2771.5},{"$f":"Données!$E604*C$4","v":2651},{"$f":"Données!$E604*D$4","v":2530.5},{"$f":"Données!$E604*E$4","v":2410},{"$f":"Données!$E604*F$4","v":2289.5},{"$f":"Données!$E604*G$4","v":2169},{"$f":"Données!$E604*H$4","v":2048.5},{"$f":"Données!$F604*B$4","v":2088.3999999999996},{"$f":"Données!$F604*C$4","v":1997.6000000000001},{"$f":"Données!$F604*D$4","v":1906.8000000000002},{"$f":"Données!$F604*E$4","v":1816},{"$f":"Données!$F604*F$4","v":1725.1999999999998},{"$f":"Données!$F604*G$4","v":1634.4},{"$f":"Données!$F604*H$4","v":1543.6}]
[null,5330,"Maillen","Assesse",2410,1816,{"$f":"Données!$E605*B$4","v":2771.5},{"$f":"Données!$E605*C$4","v":2651},{"$f":"Données!$E605*D$4","v":2530.5},{"$f":"Données!$E605*E$4","v":2410},{"$f":"Données!$E605*F$4","v":2289.5},{"$f":"Données!$E605*G$4","v":2169},{"$f":"Données!$E605*H$4","v":2048.5},{"$f":"Données!$F605*B$4","v":2088.3999999999996},{"$f":"Données!$F605*C$4","v":1997.6000000000001},{"$f":"Données!$F605*D$4","v":1906.8000000000002},{"$f":"Données!$F605*E$4","v":1816},{"$f":"Données!$F605*F$4","v":1725.1999999999998},{"$f":"Données!$F605*G$4","v":1634.4},{"$f":"Données!$F605*H$4","v":1543.6}]
[null,5332,"Crupet","Assesse",2410,1816,{"$f":"Données!$E606*B$4","v":2771.5},{"$f":"Données!$E606*C$4","v":2651},{"$f":"Données!$E606*D$4","v":2530.5},{"$f":"Données!$E606*E$4","v":2410},{"$f":"Données!$E606*F$4","v":2289.5},{"$f":"Données!$E606*G$4","v":2169},{"$f":"Données!$E606*H$4","v":2048.5},{"$f":"Données!$F606*B$4","v":2088.3999999999996},{"$f":"Données!$F606*C$4","v":1997.6000000000001},{"$f":"Données!$F606*D$4","v":1906.8000000000002},{"$f":"Données!$F606*E$4","v":1816},{"$f":"Données!$F606*F$4","v":1725.1999999999998},{"$f":"Données!$F606*G$4","v":1634.4},{"$f":"Données!$F606*H$4","v":1543.6}]
[null,5333,"Sorinne-La-Longue","Assesse",2410,1816,{"$f":"Données!$E607*B$4","v":2771.5},{"$f":"Données!$E607*C$4","v":2651},{"$f":"Données!$E607*D$4","v":2530.5},{"$f":"Données!$E607*E$4","v":2410},{"$f":"Données!$E607*F$4","v":2289.5},{"$f":"Données!$E607*G$4","v":2169},{"$f":"Données!$E607*H$4","v":2048.5},{"$f":"Données!$F607*B$4","v":2088.3999999999996},{"$f":"Données!$F607*C$4","v":1997.6000000000001},{"$f":"Données!$F607*D$4","v":1906.8000000000002},{"$f":"Données!$F607*E$4","v":1816},{"$f":"Données!$F607*F$4","v":1725.1999999999998},{"$f":"Données!$F607*G$4","v":1634.4},{"$f":"Données!$F607*H$4","v":1543.6}]
[null,5334,"Florée","Assesse",2410,1816,{"$f":"Données!$E608*B$4","v":2771.5},{"$f":"Données!$E608*C$4","v":2651},{"$f":"Données!$E608*D$4","v":2530.5},{"$f":"Données!$E608*E$4","v":2410},{"$f":"Données!$E608*F$4","v":2289.5},{"$f":"Données!$E608*G$4","v":2169},{"$f":"Données!$E608*H$4","v":2048.5},{"$f":"Données!$F608*B$4","v":2088.3999999999996},{"$f":"Données!$F608*C$4","v":1997.6000000000001},{"$f":"Données!$F608*D$4","v":1906.8000000000002},{"$f":"Données!$F608*E$4","v":1816},{"$f":"Données!$F608*F$4","v":1725.1999999999998},{"$f":"Données!$F608*G$4","v":1634.4},{"$f":"Données!$F608*H$4","v":1543.6}]
[null,5336,"Courrière","Assesse",2410,1816,{"$f":"Données!$E609*B$4","v":2771.5},{"$f":"Données!$E609*C$4","v":2651},{"$f":"Données!$E609*D$4","v":2530.5},{"$f":"Données!$E609*E$4","v":2410},{"$f":"Données!$E609*F$4","v":2289.5},{"$f":"Données!$E609*G$4","v":2169},{"$f":"Données!$E609*H$4","v":2048.5},{"$f":"Données!$F609*B$4","v":2088.3999999999996},{"$f":"Données!$F609*C$4","v":1997.6000000000001},{"$f":"Données!$F609*D$4","v":1906.8000000000002},{"$f":"Données!$F609*E$4","v":1816},{"$f":"Données!$F609*F$4","v":1725.1999999999998},{"$f":"Données!$F609*G$4","v":1634.4},{"$f":"Données!$F609*H$4","v":1543.6}]
[null,5340,"Faulx-Les-Tombes","Gesves",2359,1738,{"$f":"Données!$E610*B$4","v":2712.85},{"$f":"Données!$E610*C$4","v":2594.9},{"$f":"Données!$E610*D$4","v":2476.9500000000003},{"$f":"Données!$E610*E$4","v":2359},{"$f":"Données!$E610*F$4","v":2241.0499999999997},{"$f":"Données!$E610*G$4","v":2123.1},{"$f":"Données!$E610*H$4","v":2005.1499999999999},{"$f":"Données!$F610*B$4","v":1998.6999999999998},{"$f":"Données!$F610*C$4","v":1911.8000000000002},{"$f":"Données!$F610*D$4","v":1824.9},{"$f":"Données!$F610*E$4","v":1738},{"$f":"Données!$F610*F$4","v":1651.1},{"$f":"Données!$F610*G$4","v":1564.2},{"$f":"Données!$F610*H$4","v":1477.3}]
[null,5340,"Mozet","Gesves",2359,1738,{"$f":"Données!$E611*B$4","v":2712.85},{"$f":"Données!$E611*C$4","v":2594.9},{"$f":"Données!$E611*D$4","v":2476.9500000000003},{"$f":"Données!$E611*E$4","v":2359},{"$f":"Données!$E611*F$4","v":2241.0499999999997},{"$f":"Données!$E611*G$4","v":2123.1},{"$f":"Données!$E611*H$4","v":2005.1499999999999},{"$f":"Données!$F611*B$4","v":1998.6999999999998},{"$f":"Données!$F611*C$4","v":1911.8000000000002},{"$f":"Données!$F611*D$4","v":1824.9},{"$f":"Données!$F611*E$4","v":1738},{"$f":"Données!$F611*F$4","v":1651.1},{"$f":"Données!$F611*G$4","v":1564.2},{"$f":"Données!$F611*H$4","v":1477.3}]
[null,5340,"Gesves","Gesves",2359,1738,{"$f":"Données!$E612*B$4","v":2712.85},{"$f":"Données!$E612*C$4","v":2594.9},{"$f":"Données!$E612*D$4","v":2476.9500000000003},{"$f":"Données!$E612*E$4","v":2359},{"$f":"Données!$E612*F$4","v":2241.0499999999997},{"$f":"Données!$E612*G$4","v":2123.1},{"$f":"Données!$E612*H$4","v":2005.1499999999999},{"$f":"Données!$F612*B$4","v":1998.6999999999998},{"$f":"Données!$F612*C$4","v":1911.8000000000002},{"$f":"Données!$F612*D$4","v":1824.9},{"$f":"Données!$F612*E$4","v":1738},{"$f":"Données!$F612*F$4","v":1651.1},{"$f":"Données!$F612*G$4","v":1564.2},{"$f":"Données!$F612*H$4","v":1477.3}]
[null,5340,"Haltinne","Gesves",2359,1738,{"$f":"Données!$E613*B$4","v":2712.85},{"$f":"Données!$E613*C$4","v":2594.9},{"$f":"Données!$E613*D$4","v":2476.9500000000003},{"$f":"Données!$E613*E$4","v":2359},{"$f":"Données!$E613*F$4","v":2241.0499999999997},{"$f":"Données!$E613*G$4","v":2123.1},{"$f":"Données!$E613*H$4","v":2005.1499999999999},{"$f":"Données!$F613*B$4","v":1998.6999999999998},{"$f":"Données!$F613*C$4","v":1911.8000000000002},{"$f":"Données!$F613*D$4","v":1824.9},{"$f":"Données!$F613*E$4","v":1738},{"$f":"Données!$F613*F$4","v":1651.1},{"$f":"Données!$F613*G$4","v":1564.2},{"$f":"Données!$F613*H$4","v":1477.3}]
[null,5340,"Sorée","Gesves",2359,1738,{"$f":"Données!$E614*B$4","v":2712.85},{"$f":"Données!$E614*C$4","v":2594.9},{"$f":"Données!$E614*D$4","v":2476.9500000000003},{"$f":"Données!$E614*E$4","v":2359},{"$f":"Données!$E614*F$4","v":2241.0499999999997},{"$f":"Données!$E614*G$4","v":2123.1},{"$f":"Données!$E614*H$4","v":2005.1499999999999},{"$f":"Données!$F614*B$4","v":1998.6999999999998},{"$f":"Données!$F614*C$4","v":1911.8000000000002},{"$f":"Données!$F614*D$4","v":1824.9},{"$f":"Données!$F614*E$4","v":1738},{"$f":"Données!$F614*F$4","v":1651.1},{"$f":"Données!$F614*G$4","v":1564.2},{"$f":"Données!$F614*H$4","v":1477.3}]
[null,5350,"Evelette","Ohey",2054,1555,{"$f":"Données!$E615*B$4","v":2362.1},{"$f":"Données!$E615*C$4","v":2259.4},{"$f":"Données!$E615*D$4","v":2156.7000000000003},{"$f":"Données!$E615*E$4","v":2054},{"$f":"Données!$E615*F$4","v":1951.3},{"$f":"Données!$E615*G$4","v":1848.6000000000001},{"$f":"Données!$E615*H$4","v":1745.8999999999999},{"$f":"Données!$F615*B$4","v":1788.2499999999998},{"$f":"Données!$F615*C$4","v":1710.5000000000002},{"$f":"Données!$F615*D$4","v":1632.75},{"$f":"Données!$F615*E$4","v":1555},{"$f":"Données!$F615*F$4","v":1477.25},{"$f":"Données!$F615*G$4","v":1399.5},{"$f":"Données!$F615*H$4","v":1321.75}]
[null,5350,"Ohey","Ohey",2054,1555,{"$f":"Données!$E616*B$4","v":2362.1},{"$f":"Données!$E616*C$4","v":2259.4},{"$f":"Données!$E616*D$4","v":2156.7000000000003},{"$f":"Données!$E616*E$4","v":2054},{"$f":"Données!$E616*F$4","v":1951.3},{"$f":"Données!$E616*G$4","v":1848.6000000000001},{"$f":"Données!$E616*H$4","v":1745.8999999999999},{"$f":"Données!$F616*B$4","v":1788.2499999999998},{"$f":"Données!$F616*C$4","v":1710.5000000000002},{"$f":"Données!$F616*D$4","v":1632.75},{"$f":"Données!$F616*E$4","v":1555},{"$f":"Données!$F616*F$4","v":1477.25},{"$f":"Données!$F616*G$4","v":1399.5},{"$f":"Données!$F616*H$4","v":1321.75}]
[null,5351,"Haillot","Ohey",2054,1555,{"$f":"Données!$E617*B$4","v":2362.1},{"$f":"Données!$E617*C$4","v":2259.4},{"$f":"Données!$E617*D$4","v":2156.7000000000003},{"$f":"Données!$E617*E$4","v":2054},{"$f":"Données!$E617*F$4","v":1951.3},{"$f":"Données!$E617*G$4","v":1848.6000000000001},{"$f":"Données!$E617*H$4","v":1745.8999999999999},{"$f":"Données!$F617*B$4","v":1788.2499999999998},{"$f":"Données!$F617*C$4","v":1710.5000000000002},{"$f":"Données!$F617*D$4","v":1632.75},{"$f":"Données!$F617*E$4","v":1555},{"$f":"Données!$F617*F$4","v":1477.25},{"$f":"Données!$F617*G$4","v":1399.5},{"$f":"Données!$F617*H$4","v":1321.75}]
[null,5353,"Goesnes","Ohey",2054,1555,{"$f":"Données!$E618*B$4","v":2362.1},{"$f":"Données!$E618*C$4","v":2259.4},{"$f":"Données!$E618*D$4","v":2156.7000000000003},{"$f":"Données!$E618*E$4","v":2054},{"$f":"Données!$E618*F$4","v":1951.3},{"$f":"Données!$E618*G$4","v":1848.6000000000001},{"$f":"Données!$E618*H$4","v":1745.8999999999999},{"$f":"Données!$F618*B$4","v":1788.2499999999998},{"$f":"Données!$F618*C$4","v":1710.5000000000002},{"$f":"Données!$F618*D$4","v":1632.75},{"$f":"Données!$F618*E$4","v":1555},{"$f":"Données!$F618*F$4","v":1477.25},{"$f":"Données!$F618*G$4","v":1399.5},{"$f":"Données!$F618*H$4","v":1321.75}]
[null,5354,"Jallet","Ohey",2054,1555,{"$f":"Données!$E619*B$4","v":2362.1},{"$f":"Données!$E619*C$4","v":2259.4},{"$f":"Données!$E619*D$4","v":2156.7000000000003},{"$f":"Données!$E619*E$4","v":2054},{"$f":"Données!$E619*F$4","v":1951.3},{"$f":"Données!$E619*G$4","v":1848.6000000000001},{"$f":"Données!$E619*H$4","v":1745.8999999999999},{"$f":"Données!$F619*B$4","v":1788.2499999999998},{"$f":"Données!$F619*C$4","v":1710.5000000000002},{"$f":"Données!$F619*D$4","v":1632.75},{"$f":"Données!$F619*E$4","v":1555},{"$f":"Données!$F619*F$4","v":1477.25},{"$f":"Données!$F619*G$4","v":1399.5},{"$f":"Données!$F619*H$4","v":1321.75}]
[null,5360,"Natoye","Hamois",1983,1695,{"$f":"Données!$E620*B$4","v":2280.4499999999998},{"$f":"Données!$E620*C$4","v":2181.3000000000002},{"$f":"Données!$E620*D$4","v":2082.15},{"$f":"Données!$E620*E$4","v":1983},{"$f":"Données!$E620*F$4","v":1883.85},{"$f":"Données!$E620*G$4","v":1784.7},{"$f":"Données!$E620*H$4","v":1685.55},{"$f":"Données!$F620*B$4","v":1949.2499999999998},{"$f":"Données!$F620*C$4","v":1864.5000000000002},{"$f":"Données!$F620*D$4","v":1779.75},{"$f":"Données!$F620*E$4","v":1695},{"$f":"Données!$F620*F$4","v":1610.25},{"$f":"Données!$F620*G$4","v":1525.5},{"$f":"Données!$F620*H$4","v":1440.75}]
[null,5360,"Hamois","Hamois",1983,1695,{"$f":"Données!$E621*B$4","v":2280.4499999999998},{"$f":"Données!$E621*C$4","v":2181.3000000000002},{"$f":"Données!$E621*D$4","v":2082.15},{"$f":"Données!$E621*E$4","v":1983},{"$f":"Données!$E621*F$4","v":1883.85},{"$f":"Données!$E621*G$4","v":1784.7},{"$f":"Données!$E621*H$4","v":1685.55},{"$f":"Données!$F621*B$4","v":1949.2499999999998},{"$f":"Données!$F621*C$4","v":1864.5000000000002},{"$f":"Données!$F621*D$4","v":1779.75},{"$f":"Données!$F621*E$4","v":1695},{"$f":"Données!$F621*F$4","v":1610.25},{"$f":"Données!$F621*G$4","v":1525.5},{"$f":"Données!$F621*H$4","v":1440.75}]
[null,5361,"Scy","Hamois",1983,1695,{"$f":"Données!$E622*B$4","v":2280.4499999999998},{"$f":"Données!$E622*C$4","v":2181.3000000000002},{"$f":"Données!$E622*D$4","v":2082.15},{"$f":"Données!$E622*E$4","v":1983},{"$f":"Données!$E622*F$4","v":1883.85},{"$f":"Données!$E622*G$4","v":1784.7},{"$f":"Données!$E622*H$4","v":1685.55},{"$f":"Données!$F622*B$4","v":1949.2499999999998},{"$f":"Données!$F622*C$4","v":1864.5000000000002},{"$f":"Données!$F622*D$4","v":1779.75},{"$f":"Données!$F622*E$4","v":1695},{"$f":"Données!$F622*F$4","v":1610.25},{"$f":"Données!$F622*G$4","v":1525.5},{"$f":"Données!$F622*H$4","v":1440.75}]
[null,5361,"Mohiville","Hamois",1983,1695,{"$f":"Données!$E623*B$4","v":2280.4499999999998},{"$f":"Données!$E623*C$4","v":2181.3000000000002},{"$f":"Données!$E623*D$4","v":2082.15},{"$f":"Données!$E623*E$4","v":1983},{"$f":"Données!$E623*F$4","v":1883.85},{"$f":"Données!$E623*G$4","v":1784.7},{"$f":"Données!$E623*H$4","v":1685.55},{"$f":"Données!$F623*B$4","v":1949.2499999999998},{"$f":"Données!$F623*C$4","v":1864.5000000000002},{"$f":"Données!$F623*D$4","v":1779.75},{"$f":"Données!$F623*E$4","v":1695},{"$f":"Données!$F623*F$4","v":1610.25},{"$f":"Données!$F623*G$4","v":1525.5},{"$f":"Données!$F623*H$4","v":1440.75}]
[null,5362,"Achet","Hamois",1983,1695,{"$f":"Données!$E624*B$4","v":2280.4499999999998},{"$f":"Données!$E624*C$4","v":2181.3000000000002},{"$f":"Données!$E624*D$4","v":2082.15},{"$f":"Données!$E624*E$4","v":1983},{"$f":"Données!$E624*F$4","v":1883.85},{"$f":"Données!$E624*G$4","v":1784.7},{"$f":"Données!$E624*H$4","v":1685.55},{"$f":"Données!$F624*B$4","v":1949.2499999999998},{"$f":"Données!$F624*C$4","v":1864.5000000000002},{"$f":"Données!$F624*D$4","v":1779.75},{"$f":"Données!$F624*E$4","v":1695},{"$f":"Données!$F624*F$4","v":1610.25},{"$f":"Données!$F624*G$4","v":1525.5},{"$f":"Données!$F624*H$4","v":1440.75}]
[null,5363,"Emptinne","Hamois",1983,1695,{"$f":"Données!$E625*B$4","v":2280.4499999999998},{"$f":"Données!$E625*C$4","v":2181.3000000000002},{"$f":"Données!$E625*D$4","v":2082.15},{"$f":"Données!$E625*E$4","v":1983},{"$f":"Données!$E625*F$4","v":1883.85},{"$f":"Données!$E625*G$4","v":1784.7},{"$f":"Données!$E625*H$4","v":1685.55},{"$f":"Données!$F625*B$4","v":1949.2499999999998},{"$f":"Données!$F625*C$4","v":1864.5000000000002},{"$f":"Données!$F625*D$4","v":1779.75},{"$f":"Données!$F625*E$4","v":1695},{"$f":"Données!$F625*F$4","v":1610.25},{"$f":"Données!$F625*G$4","v":1525.5},{"$f":"Données!$F625*H$4","v":1440.75}]
[null,5364,"Schaltin","Hamois",1983,1695,{"$f":"Données!$E626*B$4","v":2280.4499999999998},{"$f":"Données!$E626*C$4","v":2181.3000000000002},{"$f":"Données!$E626*D$4","v":2082.15},{"$f":"Données!$E626*E$4","v":1983},{"$f":"Données!$E626*F$4","v":1883.85},{"$f":"Données!$E626*G$4","v":1784.7},{"$f":"Données!$E626*H$4","v":1685.55},{"$f":"Données!$F626*B$4","v":1949.2499999999998},{"$f":"Données!$F626*C$4","v":1864.5000000000002},{"$f":"Données!$F626*D$4","v":1779.75},{"$f":"Données!$F626*E$4","v":1695},{"$f":"Données!$F626*F$4","v":1610.25},{"$f":"Données!$F626*G$4","v":1525.5},{"$f":"Données!$F626*H$4","v":1440.75}]
[null,5370,"Verlée","Havelange",1631,1562,{"$f":"Données!$E627*B$4","v":1875.6499999999999},{"$f":"Données!$E627*C$4","v":1794.1000000000001},{"$f":"Données!$E627*D$4","v":1712.5500000000002},{"$f":"Données!$E627*E$4","v":1631},{"$f":"Données!$E627*F$4","v":1549.4499999999998},{"$f":"Données!$E627*G$4","v":1467.9},{"$f":"Données!$E627*H$4","v":1386.35},{"$f":"Données!$F627*B$4","v":1796.3},{"$f":"Données!$F627*C$4","v":1718.2},{"$f":"Données!$F627*D$4","v":1640.1000000000001},{"$f":"Données!$F627*E$4","v":1562},{"$f":"Données!$F627*F$4","v":1483.8999999999999},{"$f":"Données!$F627*G$4","v":1405.8},{"$f":"Données!$F627*H$4","v":1327.7}]
[null,5370,"Flostoy","Havelange",1631,1562,{"$f":"Données!$E628*B$4","v":1875.6499999999999},{"$f":"Données!$E628*C$4","v":1794.1000000000001},{"$f":"Données!$E628*D$4","v":1712.5500000000002},{"$f":"Données!$E628*E$4","v":1631},{"$f":"Données!$E628*F$4","v":1549.4499999999998},{"$f":"Données!$E628*G$4","v":1467.9},{"$f":"Données!$E628*H$4","v":1386.35},{"$f":"Données!$F628*B$4","v":1796.3},{"$f":"Données!$F628*C$4","v":1718.2},{"$f":"Données!$F628*D$4","v":1640.1000000000001},{"$f":"Données!$F628*E$4","v":1562},{"$f":"Données!$F628*F$4","v":1483.8999999999999},{"$f":"Données!$F628*G$4","v":1405.8},{"$f":"Données!$F628*H$4","v":1327.7}]
[null,5370,"Havelange","Havelange",1631,1562,{"$f":"Données!$E629*B$4","v":1875.6499999999999},{"$f":"Données!$E629*C$4","v":1794.1000000000001},{"$f":"Données!$E629*D$4","v":1712.5500000000002},{"$f":"Données!$E629*E$4","v":1631},{"$f":"Données!$E629*F$4","v":1549.4499999999998},{"$f":"Données!$E629*G$4","v":1467.9},{"$f":"Données!$E629*H$4","v":1386.35},{"$f":"Données!$F629*B$4","v":1796.3},{"$f":"Données!$F629*C$4","v":1718.2},{"$f":"Données!$F629*D$4","v":1640.1000000000001},{"$f":"Données!$F629*E$4","v":1562},{"$f":"Données!$F629*F$4","v":1483.8999999999999},{"$f":"Données!$F629*G$4","v":1405.8},{"$f":"Données!$F629*H$4","v":1327.7}]
[null,5370,"Jeneffe","Havelange",1631,1562,{"$f":"Données!$E630*B$4","v":1875.6499999999999},{"$f":"Données!$E630*C$4","v":1794.1000000000001},{"$f":"Données!$E630*D$4","v":1712.5500000000002},{"$f":"Données!$E630*E$4","v":1631},{"$f":"Données!$E630*F$4","v":1549.4499999999998},{"$f":"Données!$E630*G$4","v":1467.9},{"$f":"Données!$E630*H$4","v":1386.35},{"$f":"Données!$F630*B$4","v":1796.3},{"$f":"Données!$F630*C$4","v":1718.2},{"$f":"Données!$F630*D$4","v":1640.1000000000001},{"$f":"Données!$F630*E$4","v":1562},{"$f":"Données!$F630*F$4","v":1483.8999999999999},{"$f":"Données!$F630*G$4","v":1405.8},{"$f":"Données!$F630*H$4","v":1327.7}]
[null,5370,"Barvaux-Condroz","Havelange",1631,1562,{"$f":"Données!$E631*B$4","v":1875.6499999999999},{"$f":"Données!$E631*C$4","v":1794.1000000000001},{"$f":"Données!$E631*D$4","v":1712.5500000000002},{"$f":"Données!$E631*E$4","v":1631},{"$f":"Données!$E631*F$4","v":1549.4499999999998},{"$f":"Données!$E631*G$4","v":1467.9},{"$f":"Données!$E631*H$4","v":1386.35},{"$f":"Données!$F631*B$4","v":1796.3},{"$f":"Données!$F631*C$4","v":1718.2},{"$f":"Données!$F631*D$4","v":1640.1000000000001},{"$f":"Données!$F631*E$4","v":1562},{"$f":"Données!$F631*F$4","v":1483.8999999999999},{"$f":"Données!$F631*G$4","v":1405.8},{"$f":"Données!$F631*H$4","v":1327.7}]
[null,5370,"Porcheresse","Havelange",1631,1562,{"$f":"Données!$E632*B$4","v":1875.6499999999999},{"$f":"Données!$E632*C$4","v":1794.1000000000001},{"$f":"Données!$E632*D$4","v":1712.5500000000002},{"$f":"Données!$E632*E$4","v":1631},{"$f":"Données!$E632*F$4","v":1549.4499999999998},{"$f":"Données!$E632*G$4","v":1467.9},{"$f":"Données!$E632*H$4","v":1386.35},{"$f":"Données!$F632*B$4","v":1796.3},{"$f":"Données!$F632*C$4","v":1718.2},{"$f":"Données!$F632*D$4","v":1640.1000000000001},{"$f":"Données!$F632*E$4","v":1562},{"$f":"Données!$F632*F$4","v":1483.8999999999999},{"$f":"Données!$F632*G$4","v":1405.8},{"$f":"Données!$F632*H$4","v":1327.7}]
[null,5372,"Méan","Havelange",1631,1562,{"$f":"Données!$E633*B$4","v":1875.6499999999999},{"$f":"Données!$E633*C$4","v":1794.1000000000001},{"$f":"Données!$E633*D$4","v":1712.5500000000002},{"$f":"Données!$E633*E$4","v":1631},{"$f":"Données!$E633*F$4","v":1549.4499999999998},{"$f":"Données!$E633*G$4","v":1467.9},{"$f":"Données!$E633*H$4","v":1386.35},{"$f":"Données!$F633*B$4","v":1796.3},{"$f":"Données!$F633*C$4","v":1718.2},{"$f":"Données!$F633*D$4","v":1640.1000000000001},{"$f":"Données!$F633*E$4","v":1562},{"$f":"Données!$F633*F$4","v":1483.8999999999999},{"$f":"Données!$F633*G$4","v":1405.8},{"$f":"Données!$F633*H$4","v":1327.7}]
[null,5374,"Maffe","Havelange",1631,1562,{"$f":"Données!$E634*B$4","v":1875.6499999999999},{"$f":"Données!$E634*C$4","v":1794.1000000000001},{"$f":"Données!$E634*D$4","v":1712.5500000000002},{"$f":"Données!$E634*E$4","v":1631},{"$f":"Données!$E634*F$4","v":1549.4499999999998},{"$f":"Données!$E634*G$4","v":1467.9},{"$f":"Données!$E634*H$4","v":1386.35},{"$f":"Données!$F634*B$4","v":1796.3},{"$f":"Données!$F634*C$4","v":1718.2},{"$f":"Données!$F634*D$4","v":1640.1000000000001},{"$f":"Données!$F634*E$4","v":1562},{"$f":"Données!$F634*F$4","v":1483.8999999999999},{"$f":"Données!$F634*G$4","v":1405.8},{"$f":"Données!$F634*H$4","v":1327.7}]
[null,5376,"Miécret","Havelange",1631,1562,{"$f":"Données!$E635*B$4","v":1875.6499999999999},{"$f":"Données!$E635*C$4","v":1794.1000000000001},{"$f":"Données!$E635*D$4","v":1712.5500000000002},{"$f":"Données!$E635*E$4","v":1631},{"$f":"Données!$E635*F$4","v":1549.4499999999998},{"$f":"Données!$E635*G$4","v":1467.9},{"$f":"Données!$E635*H$4","v":1386.35},{"$f":"Données!$F635*B$4","v":1796.3},{"$f":"Données!$F635*C$4","v":1718.2},{"$f":"Données!$F635*D$4","v":1640.1000000000001},{"$f":"Données!$F635*E$4","v":1562},{"$f":"Données!$F635*F$4","v":1483.8999999999999},{"$f":"Données!$F635*G$4","v":1405.8},{"$f":"Données!$F635*H$4","v":1327.7}]
[null,5377,"Nettinne","Somme-Leuze",2179,1498,{"$f":"Données!$E636*B$4","v":2505.85},{"$f":"Données!$E636*C$4","v":2396.9},{"$f":"Données!$E636*D$4","v":2287.9500000000003},{"$f":"Données!$E636*E$4","v":2179},{"$f":"Données!$E636*F$4","v":2070.0499999999997},{"$f":"Données!$E636*G$4","v":1961.1000000000001},{"$f":"Données!$E636*H$4","v":1852.1499999999999},{"$f":"Données!$F636*B$4","v":1722.6999999999998},{"$f":"Données!$F636*C$4","v":1647.8000000000002},{"$f":"Données!$F636*D$4","v":1572.9},{"$f":"Données!$F636*E$4","v":1498},{"$f":"Données!$F636*F$4","v":1423.1},{"$f":"Données!$F636*G$4","v":1348.2},{"$f":"Données!$F636*H$4","v":1273.3}]
[null,5377,"Bonsin","Somme-Leuze",2179,1498,{"$f":"Données!$E637*B$4","v":2505.85},{"$f":"Données!$E637*C$4","v":2396.9},{"$f":"Données!$E637*D$4","v":2287.9500000000003},{"$f":"Données!$E637*E$4","v":2179},{"$f":"Données!$E637*F$4","v":2070.0499999999997},{"$f":"Données!$E637*G$4","v":1961.1000000000001},{"$f":"Données!$E637*H$4","v":1852.1499999999999},{"$f":"Données!$F637*B$4","v":1722.6999999999998},{"$f":"Données!$F637*C$4","v":1647.8000000000002},{"$f":"Données!$F637*D$4","v":1572.9},{"$f":"Données!$F637*E$4","v":1498},{"$f":"Données!$F637*F$4","v":1423.1},{"$f":"Données!$F637*G$4","v":1348.2},{"$f":"Données!$F637*H$4","v":1273.3}]
[null,5377,"Heure","Somme-Leuze",2179,1498,{"$f":"Données!$E638*B$4","v":2505.85},{"$f":"Données!$E638*C$4","v":2396.9},{"$f":"Données!$E638*D$4","v":2287.9500000000003},{"$f":"Données!$E638*E$4","v":2179},{"$f":"Données!$E638*F$4","v":2070.0499999999997},{"$f":"Données!$E638*G$4","v":1961.1000000000001},{"$f":"Données!$E638*H$4","v":1852.1499999999999},{"$f":"Données!$F638*B$4","v":1722.6999999999998},{"$f":"Données!$F638*C$4","v":1647.8000000000002},{"$f":"Données!$F638*D$4","v":1572.9},{"$f":"Données!$F638*E$4","v":1498},{"$f":"Données!$F638*F$4","v":1423.1},{"$f":"Données!$F638*G$4","v":1348.2},{"$f":"Données!$F638*H$4","v":1273.3}]
[null,5377,"Hogne","Somme-Leuze",2179,1498,{"$f":"Données!$E639*B$4","v":2505.85},{"$f":"Données!$E639*C$4","v":2396.9},{"$f":"Données!$E639*D$4","v":2287.9500000000003},{"$f":"Données!$E639*E$4","v":2179},{"$f":"Données!$E639*F$4","v":2070.0499999999997},{"$f":"Données!$E639*G$4","v":1961.1000000000001},{"$f":"Données!$E639*H$4","v":1852.1499999999999},{"$f":"Données!$F639*B$4","v":1722.6999999999998},{"$f":"Données!$F639*C$4","v":1647.8000000000002},{"$f":"Données!$F639*D$4","v":1572.9},{"$f":"Données!$F639*E$4","v":1498},{"$f":"Données!$F639*F$4","v":1423.1},{"$f":"Données!$F639*G$4","v":1348.2},{"$f":"Données!$F639*H$4","v":1273.3}]
[null,5377,"Noiseux","Somme-Leuze",2179,1498,{"$f":"Données!$E640*B$4","v":2505.85},{"$f":"Données!$E640*C$4","v":2396.9},{"$f":"Données!$E640*D$4","v":2287.9500000000003},{"$f":"Données!$E640*E$4","v":2179},{"$f":"Données!$E640*F$4","v":2070.0499999999997},{"$f":"Données!$E640*G$4","v":1961.1000000000001},{"$f":"Données!$E640*H$4","v":1852.1499999999999},{"$f":"Données!$F640*B$4","v":1722.6999999999998},{"$f":"Données!$F640*C$4","v":1647.8000000000002},{"$f":"Données!$F640*D$4","v":1572.9},{"$f":"Données!$F640*E$4","v":1498},{"$f":"Données!$F640*F$4","v":1423.1},{"$f":"Données!$F640*G$4","v":1348.2},{"$f":"Données!$F640*H$4","v":1273.3}]
[null,5377,"Baillonville","Somme-Leuze",2179,1498,{"$f":"Données!$E641*B$4","v":2505.85},{"$f":"Données!$E641*C$4","v":2396.9},{"$f":"Données!$E641*D$4","v":2287.9500000000003},{"$f":"Données!$E641*E$4","v":2179},{"$f":"Données!$E641*F$4","v":2070.0499999999997},{"$f":"Données!$E641*G$4","v":1961.1000000000001},{"$f":"Données!$E641*H$4","v":1852.1499999999999},{"$f":"Données!$F641*B$4","v":1722.6999999999998},{"$f":"Données!$F641*C$4","v":1647.8000000000002},{"$f":"Données!$F641*D$4","v":1572.9},{"$f":"Données!$F641*E$4","v":1498},{"$f":"Données!$F641*F$4","v":1423.1},{"$f":"Données!$F641*G$4","v":1348.2},{"$f":"Données!$F641*H$4","v":1273.3}]
[null,5377,"Somme-Leuze","Somme-Leuze",2179,1498,{"$f":"Données!$E642*B$4","v":2505.85},{"$f":"Données!$E642*C$4","v":2396.9},{"$f":"Données!$E642*D$4","v":2287.9500000000003},{"$f":"Données!$E642*E$4","v":2179},{"$f":"Données!$E642*F$4","v":2070.0499999999997},{"$f":"Données!$E642*G$4","v":1961.1000000000001},{"$f":"Données!$E642*H$4","v":1852.1499999999999},{"$f":"Données!$F642*B$4","v":1722.6999999999998},{"$f":"Données!$F642*C$4","v":1647.8000000000002},{"$f":"Données!$F642*D$4","v":1572.9},{"$f":"Données!$F642*E$4","v":1498},{"$f":"Données!$F642*F$4","v":1423.1},{"$f":"Données!$F642*G$4","v":1348.2},{"$f":"Données!$F642*H$4","v":1273.3}]
[null,5377,"Waillet","Somme-Leuze",2179,1498,{"$f":"Données!$E643*B$4","v":2505.85},{"$f":"Données!$E643*C$4","v":2396.9},{"$f":"Données!$E643*D$4","v":2287.9500000000003},{"$f":"Données!$E643*E$4","v":2179},{"$f":"Données!$E643*F$4","v":2070.0499999999997},{"$f":"Données!$E643*G$4","v":1961.1000000000001},{"$f":"Données!$E643*H$4","v":1852.1499999999999},{"$f":"Données!$F643*B$4","v":1722.6999999999998},{"$f":"Données!$F643*C$4","v":1647.8000000000002},{"$f":"Données!$F643*D$4","v":1572.9},{"$f":"Données!$F643*E$4","v":1498},{"$f":"Données!$F643*F$4","v":1423.1},{"$f":"Données!$F643*G$4","v":1348.2},{"$f":"Données!$F643*H$4","v":1273.3}]
[null,5377,"Sinsin","Somme-Leuze",2179,1498,{"$f":"Données!$E644*B$4","v":2505.85},{"$f":"Données!$E644*C$4","v":2396.9},{"$f":"Données!$E644*D$4","v":2287.9500000000003},{"$f":"Données!$E644*E$4","v":2179},{"$f":"Données!$E644*F$4","v":2070.0499999999997},{"$f":"Données!$E644*G$4","v":1961.1000000000001},{"$f":"Données!$E644*H$4","v":1852.1499999999999},{"$f":"Données!$F644*B$4","v":1722.6999999999998},{"$f":"Données!$F644*C$4","v":1647.8000000000002},{"$f":"Données!$F644*D$4","v":1572.9},{"$f":"Données!$F644*E$4","v":1498},{"$f":"Données!$F644*F$4","v":1423.1},{"$f":"Données!$F644*G$4","v":1348.2},{"$f":"Données!$F644*H$4","v":1273.3}]
[null,5380,"Bierwart","Fernelmont",2274,1742,{"$f":"Données!$E645*B$4","v":2615.1},{"$f":"Données!$E645*C$4","v":2501.4},{"$f":"Données!$E645*D$4","v":2387.7000000000003},{"$f":"Données!$E645*E$4","v":2274},{"$f":"Données!$E645*F$4","v":2160.2999999999997},{"$f":"Données!$E645*G$4","v":2046.6000000000001},{"$f":"Données!$E645*H$4","v":1932.8999999999999},{"$f":"Données!$F645*B$4","v":2003.3},{"$f":"Données!$F645*C$4","v":1916.2},{"$f":"Données!$F645*D$4","v":1829.1000000000001},{"$f":"Données!$F645*E$4","v":1742},{"$f":"Données!$F645*F$4","v":1654.8999999999999},{"$f":"Données!$F645*G$4","v":1567.8},{"$f":"Données!$F645*H$4","v":1480.7}]
[null,5380,"Hingeon","Fernelmont",2274,1742,{"$f":"Données!$E646*B$4","v":2615.1},{"$f":"Données!$E646*C$4","v":2501.4},{"$f":"Données!$E646*D$4","v":2387.7000000000003},{"$f":"Données!$E646*E$4","v":2274},{"$f":"Données!$E646*F$4","v":2160.2999999999997},{"$f":"Données!$E646*G$4","v":2046.6000000000001},{"$f":"Données!$E646*H$4","v":1932.8999999999999},{"$f":"Données!$F646*B$4","v":2003.3},{"$f":"Données!$F646*C$4","v":1916.2},{"$f":"Données!$F646*D$4","v":1829.1000000000001},{"$f":"Données!$F646*E$4","v":1742},{"$f":"Données!$F646*F$4","v":1654.8999999999999},{"$f":"Données!$F646*G$4","v":1567.8},{"$f":"Données!$F646*H$4","v":1480.7}]
[null,5380,"Noville-Les-Bois","Fernelmont",2274,1742,{"$f":"Données!$E647*B$4","v":2615.1},{"$f":"Données!$E647*C$4","v":2501.4},{"$f":"Données!$E647*D$4","v":2387.7000000000003},{"$f":"Données!$E647*E$4","v":2274},{"$f":"Données!$E647*F$4","v":2160.2999999999997},{"$f":"Données!$E647*G$4","v":2046.6000000000001},{"$f":"Données!$E647*H$4","v":1932.8999999999999},{"$f":"Données!$F647*B$4","v":2003.3},{"$f":"Données!$F647*C$4","v":1916.2},{"$f":"Données!$F647*D$4","v":1829.1000000000001},{"$f":"Données!$F647*E$4","v":1742},{"$f":"Données!$F647*F$4","v":1654.8999999999999},{"$f":"Données!$F647*G$4","v":1567.8},{"$f":"Données!$F647*H$4","v":1480.7}]
[null,5380,"Fernelmont","Fernelmont",2274,1742,{"$f":"Données!$E648*B$4","v":2615.1},{"$f":"Données!$E648*C$4","v":2501.4},{"$f":"Données!$E648*D$4","v":2387.7000000000003},{"$f":"Données!$E648*E$4","v":2274},{"$f":"Données!$E648*F$4","v":2160.2999999999997},{"$f":"Données!$E648*G$4","v":2046.6000000000001},{"$f":"Données!$E648*H$4","v":1932.8999999999999},{"$f":"Données!$F648*B$4","v":2003.3},{"$f":"Données!$F648*C$4","v":1916.2},{"$f":"Données!$F648*D$4","v":1829.1000000000001},{"$f":"Données!$F648*E$4","v":1742},{"$f":"Données!$F648*F$4","v":1654.8999999999999},{"$f":"Données!$F648*G$4","v":1567.8},{"$f":"Données!$F648*H$4","v":1480.7}]
[null,5380,"Forville","Fernelmont",2274,1742,{"$f":"Données!$E649*B$4","v":2615.1},{"$f":"Données!$E649*C$4","v":2501.4},{"$f":"Données!$E649*D$4","v":2387.7000000000003},{"$f":"Données!$E649*E$4","v":2274},{"$f":"Données!$E649*F$4","v":2160.2999999999997},{"$f":"Données!$E649*G$4","v":2046.6000000000001},{"$f":"Données!$E649*H$4","v":1932.8999999999999},{"$f":"Données!$F649*B$4","v":2003.3},{"$f":"Données!$F649*C$4","v":1916.2},{"$f":"Données!$F649*D$4","v":1829.1000000000001},{"$f":"Données!$F649*E$4","v":1742},{"$f":"Données!$F649*F$4","v":1654.8999999999999},{"$f":"Données!$F649*G$4","v":1567.8},{"$f":"Données!$F649*H$4","v":1480.7}]
[null,5380,"Marchovelette","Fernelmont",2274,1742,{"$f":"Données!$E650*B$4","v":2615.1},{"$f":"Données!$E650*C$4","v":2501.4},{"$f":"Données!$E650*D$4","v":2387.7000000000003},{"$f":"Données!$E650*E$4","v":2274},{"$f":"Données!$E650*F$4","v":2160.2999999999997},{"$f":"Données!$E650*G$4","v":2046.6000000000001},{"$f":"Données!$E650*H$4","v":1932.8999999999999},{"$f":"Données!$F650*B$4","v":2003.3},{"$f":"Données!$F650*C$4","v":1916.2},{"$f":"Données!$F650*D$4","v":1829.1000000000001},{"$f":"Données!$F650*E$4","v":1742},{"$f":"Données!$F650*F$4","v":1654.8999999999999},{"$f":"Données!$F650*G$4","v":1567.8},{"$f":"Données!$F650*H$4","v":1480.7}]
[null,5380,"Cortil-Wodon","Fernelmont",2274,1742,{"$f":"Données!$E651*B$4","v":2615.1},{"$f":"Données!$E651*C$4","v":2501.4},{"$f":"Données!$E651*D$4","v":2387.7000000000003},{"$f":"Données!$E651*E$4","v":2274},{"$f":"Données!$E651*F$4","v":2160.2999999999997},{"$f":"Données!$E651*G$4","v":2046.6000000000001},{"$f":"Données!$E651*H$4","v":1932.8999999999999},{"$f":"Données!$F651*B$4","v":2003.3},{"$f":"Données!$F651*C$4","v":1916.2},{"$f":"Données!$F651*D$4","v":1829.1000000000001},{"$f":"Données!$F651*E$4","v":1742},{"$f":"Données!$F651*F$4","v":1654.8999999999999},{"$f":"Données!$F651*G$4","v":1567.8},{"$f":"Données!$F651*H$4","v":1480.7}]
[null,5380,"Franc-Waret","Fernelmont",2274,1742,{"$f":"Données!$E652*B$4","v":2615.1},{"$f":"Données!$E652*C$4","v":2501.4},{"$f":"Données!$E652*D$4","v":2387.7000000000003},{"$f":"Données!$E652*E$4","v":2274},{"$f":"Données!$E652*F$4","v":2160.2999999999997},{"$f":"Données!$E652*G$4","v":2046.6000000000001},{"$f":"Données!$E652*H$4","v":1932.8999999999999},{"$f":"Données!$F652*B$4","v":2003.3},{"$f":"Données!$F652*C$4","v":1916.2},{"$f":"Données!$F652*D$4","v":1829.1000000000001},{"$f":"Données!$F652*E$4","v":1742},{"$f":"Données!$F652*F$4","v":1654.8999999999999},{"$f":"Données!$F652*G$4","v":1567.8},{"$f":"Données!$F652*H$4","v":1480.7}]
[null,5380,"Hemptinne","Fernelmont",2274,1742,{"$f":"Données!$E653*B$4","v":2615.1},{"$f":"Données!$E653*C$4","v":2501.4},{"$f":"Données!$E653*D$4","v":2387.7000000000003},{"$f":"Données!$E653*E$4","v":2274},{"$f":"Données!$E653*F$4","v":2160.2999999999997},{"$f":"Données!$E653*G$4","v":2046.6000000000001},{"$f":"Données!$E653*H$4","v":1932.8999999999999},{"$f":"Données!$F653*B$4","v":2003.3},{"$f":"Données!$F653*C$4","v":1916.2},{"$f":"Données!$F653*D$4","v":1829.1000000000001},{"$f":"Données!$F653*E$4","v":1742},{"$f":"Données!$F653*F$4","v":1654.8999999999999},{"$f":"Données!$F653*G$4","v":1567.8},{"$f":"Données!$F653*H$4","v":1480.7}]
[null,5380,"Pontillas","Fernelmont",2274,1742,{"$f":"Données!$E654*B$4","v":2615.1},{"$f":"Données!$E654*C$4","v":2501.4},{"$f":"Données!$E654*D$4","v":2387.7000000000003},{"$f":"Données!$E654*E$4","v":2274},{"$f":"Données!$E654*F$4","v":2160.2999999999997},{"$f":"Données!$E654*G$4","v":2046.6000000000001},{"$f":"Données!$E654*H$4","v":1932.8999999999999},{"$f":"Données!$F654*B$4","v":2003.3},{"$f":"Données!$F654*C$4","v":1916.2},{"$f":"Données!$F654*D$4","v":1829.1000000000001},{"$f":"Données!$F654*E$4","v":1742},{"$f":"Données!$F654*F$4","v":1654.8999999999999},{"$f":"Données!$F654*G$4","v":1567.8},{"$f":"Données!$F654*H$4","v":1480.7}]
[null,5380,"Tillier","Fernelmont",2274,1742,{"$f":"Données!$E655*B$4","v":2615.1},{"$f":"Données!$E655*C$4","v":2501.4},{"$f":"Données!$E655*D$4","v":2387.7000000000003},{"$f":"Données!$E655*E$4","v":2274},{"$f":"Données!$E655*F$4","v":2160.2999999999997},{"$f":"Données!$E655*G$4","v":2046.6000000000001},{"$f":"Données!$E655*H$4","v":1932.8999999999999},{"$f":"Données!$F655*B$4","v":2003.3},{"$f":"Données!$F655*C$4","v":1916.2},{"$f":"Données!$F655*D$4","v":1829.1000000000001},{"$f":"Données!$F655*E$4","v":1742},{"$f":"Données!$F655*F$4","v":1654.8999999999999},{"$f":"Données!$F655*G$4","v":1567.8},{"$f":"Données!$F655*H$4","v":1480.7}]
[null,5500,"Dréhance","Dinant",2342,1467,{"$f":"Données!$E656*B$4","v":2693.2999999999997},{"$f":"Données!$E656*C$4","v":2576.2000000000003},{"$f":"Données!$E656*D$4","v":2459.1},{"$f":"Données!$E656*E$4","v":2342},{"$f":"Données!$E656*F$4","v":2224.9},{"$f":"Données!$E656*G$4","v":2107.8000000000002},{"$f":"Données!$E656*H$4","v":1990.7},{"$f":"Données!$F656*B$4","v":1687.05},{"$f":"Données!$F656*C$4","v":1613.7},{"$f":"Données!$F656*D$4","v":1540.3500000000001},{"$f":"Données!$F656*E$4","v":1467},{"$f":"Données!$F656*F$4","v":1393.6499999999999},{"$f":"Données!$F656*G$4","v":1320.3},{"$f":"Données!$F656*H$4","v":1246.95}]
[null,5500,"Bouvignes-Sur-Meuse","Dinant",2342,1467,{"$f":"Données!$E657*B$4","v":2693.2999999999997},{"$f":"Données!$E657*C$4","v":2576.2000000000003},{"$f":"Données!$E657*D$4","v":2459.1},{"$f":"Données!$E657*E$4","v":2342},{"$f":"Données!$E657*F$4","v":2224.9},{"$f":"Données!$E657*G$4","v":2107.8000000000002},{"$f":"Données!$E657*H$4","v":1990.7},{"$f":"Données!$F657*B$4","v":1687.05},{"$f":"Données!$F657*C$4","v":1613.7},{"$f":"Données!$F657*D$4","v":1540.3500000000001},{"$f":"Données!$F657*E$4","v":1467},{"$f":"Données!$F657*F$4","v":1393.6499999999999},{"$f":"Données!$F657*G$4","v":1320.3},{"$f":"Données!$F657*H$4","v":1246.95}]
[null,5500,"Dinant","Dinant",2342,1467,{"$f":"Données!$E658*B$4","v":2693.2999999999997},{"$f":"Données!$E658*C$4","v":2576.2000000000003},{"$f":"Données!$E658*D$4","v":2459.1},{"$f":"Données!$E658*E$4","v":2342},{"$f":"Données!$E658*F$4","v":2224.9},{"$f":"Données!$E658*G$4","v":2107.8000000000002},{"$f":"Données!$E658*H$4","v":1990.7},{"$f":"Données!$F658*B$4","v":1687.05},{"$f":"Données!$F658*C$4","v":1613.7},{"$f":"Données!$F658*D$4","v":1540.3500000000001},{"$f":"Données!$F658*E$4","v":1467},{"$f":"Données!$F658*F$4","v":1393.6499999999999},{"$f":"Données!$F658*G$4","v":1320.3},{"$f":"Données!$F658*H$4","v":1246.95}]
[null,5500,"Falmignoul","Dinant",2342,1467,{"$f":"Données!$E659*B$4","v":2693.2999999999997},{"$f":"Données!$E659*C$4","v":2576.2000000000003},{"$f":"Données!$E659*D$4","v":2459.1},{"$f":"Données!$E659*E$4","v":2342},{"$f":"Données!$E659*F$4","v":2224.9},{"$f":"Données!$E659*G$4","v":2107.8000000000002},{"$f":"Données!$E659*H$4","v":1990.7},{"$f":"Données!$F659*B$4","v":1687.05},{"$f":"Données!$F659*C$4","v":1613.7},{"$f":"Données!$F659*D$4","v":1540.3500000000001},{"$f":"Données!$F659*E$4","v":1467},{"$f":"Données!$F659*F$4","v":1393.6499999999999},{"$f":"Données!$F659*G$4","v":1320.3},{"$f":"Données!$F659*H$4","v":1246.95}]
[null,5500,"Furfooz","Dinant",2342,1467,{"$f":"Données!$E660*B$4","v":2693.2999999999997},{"$f":"Données!$E660*C$4","v":2576.2000000000003},{"$f":"Données!$E660*D$4","v":2459.1},{"$f":"Données!$E660*E$4","v":2342},{"$f":"Données!$E660*F$4","v":2224.9},{"$f":"Données!$E660*G$4","v":2107.8000000000002},{"$f":"Données!$E660*H$4","v":1990.7},{"$f":"Données!$F660*B$4","v":1687.05},{"$f":"Données!$F660*C$4","v":1613.7},{"$f":"Données!$F660*D$4","v":1540.3500000000001},{"$f":"Données!$F660*E$4","v":1467},{"$f":"Données!$F660*F$4","v":1393.6499999999999},{"$f":"Données!$F660*G$4","v":1320.3},{"$f":"Données!$F660*H$4","v":1246.95}]
[null,5500,"Anseremme","Dinant",2342,1467,{"$f":"Données!$E661*B$4","v":2693.2999999999997},{"$f":"Données!$E661*C$4","v":2576.2000000000003},{"$f":"Données!$E661*D$4","v":2459.1},{"$f":"Données!$E661*E$4","v":2342},{"$f":"Données!$E661*F$4","v":2224.9},{"$f":"Données!$E661*G$4","v":2107.8000000000002},{"$f":"Données!$E661*H$4","v":1990.7},{"$f":"Données!$F661*B$4","v":1687.05},{"$f":"Données!$F661*C$4","v":1613.7},{"$f":"Données!$F661*D$4","v":1540.3500000000001},{"$f":"Données!$F661*E$4","v":1467},{"$f":"Données!$F661*F$4","v":1393.6499999999999},{"$f":"Données!$F661*G$4","v":1320.3},{"$f":"Données!$F661*H$4","v":1246.95}]
[null,5500,"Falmagne","Dinant",2342,1467,{"$f":"Données!$E662*B$4","v":2693.2999999999997},{"$f":"Données!$E662*C$4","v":2576.2000000000003},{"$f":"Données!$E662*D$4","v":2459.1},{"$f":"Données!$E662*E$4","v":2342},{"$f":"Données!$E662*F$4","v":2224.9},{"$f":"Données!$E662*G$4","v":2107.8000000000002},{"$f":"Données!$E662*H$4","v":1990.7},{"$f":"Données!$F662*B$4","v":1687.05},{"$f":"Données!$F662*C$4","v":1613.7},{"$f":"Données!$F662*D$4","v":1540.3500000000001},{"$f":"Données!$F662*E$4","v":1467},{"$f":"Données!$F662*F$4","v":1393.6499999999999},{"$f":"Données!$F662*G$4","v":1320.3},{"$f":"Données!$F662*H$4","v":1246.95}]
[null,5501,"Lisogne","Dinant",2342,1467,{"$f":"Données!$E663*B$4","v":2693.2999999999997},{"$f":"Données!$E663*C$4","v":2576.2000000000003},{"$f":"Données!$E663*D$4","v":2459.1},{"$f":"Données!$E663*E$4","v":2342},{"$f":"Données!$E663*F$4","v":2224.9},{"$f":"Données!$E663*G$4","v":2107.8000000000002},{"$f":"Données!$E663*H$4","v":1990.7},{"$f":"Données!$F663*B$4","v":1687.05},{"$f":"Données!$F663*C$4","v":1613.7},{"$f":"Données!$F663*D$4","v":1540.3500000000001},{"$f":"Données!$F663*E$4","v":1467},{"$f":"Données!$F663*F$4","v":1393.6499999999999},{"$f":"Données!$F663*G$4","v":1320.3},{"$f":"Données!$F663*H$4","v":1246.95}]
[null,5502,"Thynes","Dinant",2342,1467,{"$f":"Données!$E664*B$4","v":2693.2999999999997},{"$f":"Données!$E664*C$4","v":2576.2000000000003},{"$f":"Données!$E664*D$4","v":2459.1},{"$f":"Données!$E664*E$4","v":2342},{"$f":"Données!$E664*F$4","v":2224.9},{"$f":"Données!$E664*G$4","v":2107.8000000000002},{"$f":"Données!$E664*H$4","v":1990.7},{"$f":"Données!$F664*B$4","v":1687.05},{"$f":"Données!$F664*C$4","v":1613.7},{"$f":"Données!$F664*D$4","v":1540.3500000000001},{"$f":"Données!$F664*E$4","v":1467},{"$f":"Données!$F664*F$4","v":1393.6499999999999},{"$f":"Données!$F664*G$4","v":1320.3},{"$f":"Données!$F664*H$4","v":1246.95}]
[null,5503,"Sorinnes","Dinant",2342,1467,{"$f":"Données!$E665*B$4","v":2693.2999999999997},{"$f":"Données!$E665*C$4","v":2576.2000000000003},{"$f":"Données!$E665*D$4","v":2459.1},{"$f":"Données!$E665*E$4","v":2342},{"$f":"Données!$E665*F$4","v":2224.9},{"$f":"Données!$E665*G$4","v":2107.8000000000002},{"$f":"Données!$E665*H$4","v":1990.7},{"$f":"Données!$F665*B$4","v":1687.05},{"$f":"Données!$F665*C$4","v":1613.7},{"$f":"Données!$F665*D$4","v":1540.3500000000001},{"$f":"Données!$F665*E$4","v":1467},{"$f":"Données!$F665*F$4","v":1393.6499999999999},{"$f":"Données!$F665*G$4","v":1320.3},{"$f":"Données!$F665*H$4","v":1246.95}]
[null,5504,"Foy-Notre-Dame","Dinant",2342,1467,{"$f":"Données!$E666*B$4","v":2693.2999999999997},{"$f":"Données!$E666*C$4","v":2576.2000000000003},{"$f":"Données!$E666*D$4","v":2459.1},{"$f":"Données!$E666*E$4","v":2342},{"$f":"Données!$E666*F$4","v":2224.9},{"$f":"Données!$E666*G$4","v":2107.8000000000002},{"$f":"Données!$E666*H$4","v":1990.7},{"$f":"Données!$F666*B$4","v":1687.05},{"$f":"Données!$F666*C$4","v":1613.7},{"$f":"Données!$F666*D$4","v":1540.3500000000001},{"$f":"Données!$F666*E$4","v":1467},{"$f":"Données!$F666*F$4","v":1393.6499999999999},{"$f":"Données!$F666*G$4","v":1320.3},{"$f":"Données!$F666*H$4","v":1246.95}]
[null,5520,"Onhaye","Onhaye",2269,1423,{"$f":"Données!$E667*B$4","v":2609.35},{"$f":"Données!$E667*C$4","v":2495.9},{"$f":"Données!$E667*D$4","v":2382.4500000000003},{"$f":"Données!$E667*E$4","v":2269},{"$f":"Données!$E667*F$4","v":2155.5499999999997},{"$f":"Données!$E667*G$4","v":2042.1000000000001},{"$f":"Données!$E667*H$4","v":1928.6499999999999},{"$f":"Données!$F667*B$4","v":1636.4499999999998},{"$f":"Données!$F667*C$4","v":1565.3000000000002},{"$f":"Données!$F667*D$4","v":1494.15},{"$f":"Données!$F667*E$4","v":1423},{"$f":"Données!$F667*F$4","v":1351.85},{"$f":"Données!$F667*G$4","v":1280.7},{"$f":"Données!$F667*H$4","v":1209.55}]
[null,5520,"Anthée","Onhaye",2269,1423,{"$f":"Données!$E668*B$4","v":2609.35},{"$f":"Données!$E668*C$4","v":2495.9},{"$f":"Données!$E668*D$4","v":2382.4500000000003},{"$f":"Données!$E668*E$4","v":2269},{"$f":"Données!$E668*F$4","v":2155.5499999999997},{"$f":"Données!$E668*G$4","v":2042.1000000000001},{"$f":"Données!$E668*H$4","v":1928.6499999999999},{"$f":"Données!$F668*B$4","v":1636.4499999999998},{"$f":"Données!$F668*C$4","v":1565.3000000000002},{"$f":"Données!$F668*D$4","v":1494.15},{"$f":"Données!$F668*E$4","v":1423},{"$f":"Données!$F668*F$4","v":1351.85},{"$f":"Données!$F668*G$4","v":1280.7},{"$f":"Données!$F668*H$4","v":1209.55}]
[null,5521,"Serville","Onhaye",2269,1423,{"$f":"Données!$E669*B$4","v":2609.35},{"$f":"Données!$E669*C$4","v":2495.9},{"$f":"Données!$E669*D$4","v":2382.4500000000003},{"$f":"Données!$E669*E$4","v":2269},{"$f":"Données!$E669*F$4","v":2155.5499999999997},{"$f":"Données!$E669*G$4","v":2042.1000000000001},{"$f":"Données!$E669*H$4","v":1928.6499999999999},{"$f":"Données!$F669*B$4","v":1636.4499999999998},{"$f":"Données!$F669*C$4","v":1565.3000000000002},{"$f":"Données!$F669*D$4","v":1494.15},{"$f":"Données!$F669*E$4","v":1423},{"$f":"Données!$F669*F$4","v":1351.85},{"$f":"Données!$F669*G$4","v":1280.7},{"$f":"Données!$F669*H$4","v":1209.55}]
[null,5522,"Falaen","Onhaye",2269,1423,{"$f":"Données!$E670*B$4","v":2609.35},{"$f":"Données!$E670*C$4","v":2495.9},{"$f":"Données!$E670*D$4","v":2382.4500000000003},{"$f":"Données!$E670*E$4","v":2269},{"$f":"Données!$E670*F$4","v":2155.5499999999997},{"$f":"Données!$E670*G$4","v":2042.1000000000001},{"$f":"Données!$E670*H$4","v":1928.6499999999999},{"$f":"Données!$F670*B$4","v":1636.4499999999998},{"$f":"Données!$F670*C$4","v":1565.3000000000002},{"$f":"Données!$F670*D$4","v":1494.15},{"$f":"Données!$F670*E$4","v":1423},{"$f":"Données!$F670*F$4","v":1351.85},{"$f":"Données!$F670*G$4","v":1280.7},{"$f":"Données!$F670*H$4","v":1209.55}]
[null,5523,"Weillen","Onhaye",2269,1423,{"$f":"Données!$E671*B$4","v":2609.35},{"$f":"Données!$E671*C$4","v":2495.9},{"$f":"Données!$E671*D$4","v":2382.4500000000003},{"$f":"Données!$E671*E$4","v":2269},{"$f":"Données!$E671*F$4","v":2155.5499999999997},{"$f":"Données!$E671*G$4","v":2042.1000000000001},{"$f":"Données!$E671*H$4","v":1928.6499999999999},{"$f":"Données!$F671*B$4","v":1636.4499999999998},{"$f":"Données!$F671*C$4","v":1565.3000000000002},{"$f":"Données!$F671*D$4","v":1494.15},{"$f":"Données!$F671*E$4","v":1423},{"$f":"Données!$F671*F$4","v":1351.85},{"$f":"Données!$F671*G$4","v":1280.7},{"$f":"Données!$F671*H$4","v":1209.55}]
[null,5523,"Sommière","Onhaye",2269,1423,{"$f":"Données!$E672*B$4","v":2609.35},{"$f":"Données!$E672*C$4","v":2495.9},{"$f":"Données!$E672*D$4","v":2382.4500000000003},{"$f":"Données!$E672*E$4","v":2269},{"$f":"Données!$E672*F$4","v":2155.5499999999997},{"$f":"Données!$E672*G$4","v":2042.1000000000001},{"$f":"Données!$E672*H$4","v":1928.6499999999999},{"$f":"Données!$F672*B$4","v":1636.4499999999998},{"$f":"Données!$F672*C$4","v":1565.3000000000002},{"$f":"Données!$F672*D$4","v":1494.15},{"$f":"Données!$F672*E$4","v":1423},{"$f":"Données!$F672*F$4","v":1351.85},{"$f":"Données!$F672*G$4","v":1280.7},{"$f":"Données!$F672*H$4","v":1209.55}]
[null,5524,"Gerin","Onhaye",2269,1423,{"$f":"Données!$E673*B$4","v":2609.35},{"$f":"Données!$E673*C$4","v":2495.9},{"$f":"Données!$E673*D$4","v":2382.4500000000003},{"$f":"Données!$E673*E$4","v":2269},{"$f":"Données!$E673*F$4","v":2155.5499999999997},{"$f":"Données!$E673*G$4","v":2042.1000000000001},{"$f":"Données!$E673*H$4","v":1928.6499999999999},{"$f":"Données!$F673*B$4","v":1636.4499999999998},{"$f":"Données!$F673*C$4","v":1565.3000000000002},{"$f":"Données!$F673*D$4","v":1494.15},{"$f":"Données!$F673*E$4","v":1423},{"$f":"Données!$F673*F$4","v":1351.85},{"$f":"Données!$F673*G$4","v":1280.7},{"$f":"Données!$F673*H$4","v":1209.55}]
[null,5530,"Yvoir","Yvoir",2416,1647,{"$f":"Données!$E674*B$4","v":2778.3999999999996},{"$f":"Données!$E674*C$4","v":2657.6000000000004},{"$f":"Données!$E674*D$4","v":2536.8000000000002},{"$f":"Données!$E674*E$4","v":2416},{"$f":"Données!$E674*F$4","v":2295.1999999999998},{"$f":"Données!$E674*G$4","v":2174.4},{"$f":"Données!$E674*H$4","v":2053.6},{"$f":"Données!$F674*B$4","v":1894.05},{"$f":"Données!$F674*C$4","v":1811.7},{"$f":"Données!$F674*D$4","v":1729.3500000000001},{"$f":"Données!$F674*E$4","v":1647},{"$f":"Données!$F674*F$4","v":1564.6499999999999},{"$f":"Données!$F674*G$4","v":1482.3},{"$f":"Données!$F674*H$4","v":1399.95}]
[null,5530,"Mont","Yvoir",2416,1647,{"$f":"Données!$E675*B$4","v":2778.3999999999996},{"$f":"Données!$E675*C$4","v":2657.6000000000004},{"$f":"Données!$E675*D$4","v":2536.8000000000002},{"$f":"Données!$E675*E$4","v":2416},{"$f":"Données!$E675*F$4","v":2295.1999999999998},{"$f":"Données!$E675*G$4","v":2174.4},{"$f":"Données!$E675*H$4","v":2053.6},{"$f":"Données!$F675*B$4","v":1894.05},{"$f":"Données!$F675*C$4","v":1811.7},{"$f":"Données!$F675*D$4","v":1729.3500000000001},{"$f":"Données!$F675*E$4","v":1647},{"$f":"Données!$F675*F$4","v":1564.6499999999999},{"$f":"Données!$F675*G$4","v":1482.3},{"$f":"Données!$F675*H$4","v":1399.95}]
[null,5530,"Dorinne","Yvoir",2416,1647,{"$f":"Données!$E676*B$4","v":2778.3999999999996},{"$f":"Données!$E676*C$4","v":2657.6000000000004},{"$f":"Données!$E676*D$4","v":2536.8000000000002},{"$f":"Données!$E676*E$4","v":2416},{"$f":"Données!$E676*F$4","v":2295.1999999999998},{"$f":"Données!$E676*G$4","v":2174.4},{"$f":"Données!$E676*H$4","v":2053.6},{"$f":"Données!$F676*B$4","v":1894.05},{"$f":"Données!$F676*C$4","v":1811.7},{"$f":"Données!$F676*D$4","v":1729.3500000000001},{"$f":"Données!$F676*E$4","v":1647},{"$f":"Données!$F676*F$4","v":1564.6499999999999},{"$f":"Données!$F676*G$4","v":1482.3},{"$f":"Données!$F676*H$4","v":1399.95}]
[null,5530,"Evrehailles","Yvoir",2416,1647,{"$f":"Données!$E677*B$4","v":2778.3999999999996},{"$f":"Données!$E677*C$4","v":2657.6000000000004},{"$f":"Données!$E677*D$4","v":2536.8000000000002},{"$f":"Données!$E677*E$4","v":2416},{"$f":"Données!$E677*F$4","v":2295.1999999999998},{"$f":"Données!$E677*G$4","v":2174.4},{"$f":"Données!$E677*H$4","v":2053.6},{"$f":"Données!$F677*B$4","v":1894.05},{"$f":"Données!$F677*C$4","v":1811.7},{"$f":"Données!$F677*D$4","v":1729.3500000000001},{"$f":"Données!$F677*E$4","v":1647},{"$f":"Données!$F677*F$4","v":1564.6499999999999},{"$f":"Données!$F677*G$4","v":1482.3},{"$f":"Données!$F677*H$4","v":1399.95}]
[null,5530,"Spontin","Yvoir",2416,1647,{"$f":"Données!$E678*B$4","v":2778.3999999999996},{"$f":"Données!$E678*C$4","v":2657.6000000000004},{"$f":"Données!$E678*D$4","v":2536.8000000000002},{"$f":"Données!$E678*E$4","v":2416},{"$f":"Données!$E678*F$4","v":2295.1999999999998},{"$f":"Données!$E678*G$4","v":2174.4},{"$f":"Données!$E678*H$4","v":2053.6},{"$f":"Données!$F678*B$4","v":1894.05},{"$f":"Données!$F678*C$4","v":1811.7},{"$f":"Données!$F678*D$4","v":1729.3500000000001},{"$f":"Données!$F678*E$4","v":1647},{"$f":"Données!$F678*F$4","v":1564.6499999999999},{"$f":"Données!$F678*G$4","v":1482.3},{"$f":"Données!$F678*H$4","v":1399.95}]
[null,5530,"Durnal","Yvoir",2416,1647,{"$f":"Données!$E679*B$4","v":2778.3999999999996},{"$f":"Données!$E679*C$4","v":2657.6000000000004},{"$f":"Données!$E679*D$4","v":2536.8000000000002},{"$f":"Données!$E679*E$4","v":2416},{"$f":"Données!$E679*F$4","v":2295.1999999999998},{"$f":"Données!$E679*G$4","v":2174.4},{"$f":"Données!$E679*H$4","v":2053.6},{"$f":"Données!$F679*B$4","v":1894.05},{"$f":"Données!$F679*C$4","v":1811.7},{"$f":"Données!$F679*D$4","v":1729.3500000000001},{"$f":"Données!$F679*E$4","v":1647},{"$f":"Données!$F679*F$4","v":1564.6499999999999},{"$f":"Données!$F679*G$4","v":1482.3},{"$f":"Données!$F679*H$4","v":1399.95}]
[null,5530,"Godinne","Yvoir",2416,1647,{"$f":"Données!$E680*B$4","v":2778.3999999999996},{"$f":"Données!$E680*C$4","v":2657.6000000000004},{"$f":"Données!$E680*D$4","v":2536.8000000000002},{"$f":"Données!$E680*E$4","v":2416},{"$f":"Données!$E680*F$4","v":2295.1999999999998},{"$f":"Données!$E680*G$4","v":2174.4},{"$f":"Données!$E680*H$4","v":2053.6},{"$f":"Données!$F680*B$4","v":1894.05},{"$f":"Données!$F680*C$4","v":1811.7},{"$f":"Données!$F680*D$4","v":1729.3500000000001},{"$f":"Données!$F680*E$4","v":1647},{"$f":"Données!$F680*F$4","v":1564.6499999999999},{"$f":"Données!$F680*G$4","v":1482.3},{"$f":"Données!$F680*H$4","v":1399.95}]
[null,5530,"Houx","Yvoir",2416,1647,{"$f":"Données!$E681*B$4","v":2778.3999999999996},{"$f":"Données!$E681*C$4","v":2657.6000000000004},{"$f":"Données!$E681*D$4","v":2536.8000000000002},{"$f":"Données!$E681*E$4","v":2416},{"$f":"Données!$E681*F$4","v":2295.1999999999998},{"$f":"Données!$E681*G$4","v":2174.4},{"$f":"Données!$E681*H$4","v":2053.6},{"$f":"Données!$F681*B$4","v":1894.05},{"$f":"Données!$F681*C$4","v":1811.7},{"$f":"Données!$F681*D$4","v":1729.3500000000001},{"$f":"Données!$F681*E$4","v":1647},{"$f":"Données!$F681*F$4","v":1564.6499999999999},{"$f":"Données!$F681*G$4","v":1482.3},{"$f":"Données!$F681*H$4","v":1399.95}]
[null,5530,"Purnode","Yvoir",2416,1647,{"$f":"Données!$E682*B$4","v":2778.3999999999996},{"$f":"Données!$E682*C$4","v":2657.6000000000004},{"$f":"Données!$E682*D$4","v":2536.8000000000002},{"$f":"Données!$E682*E$4","v":2416},{"$f":"Données!$E682*F$4","v":2295.1999999999998},{"$f":"Données!$E682*G$4","v":2174.4},{"$f":"Données!$E682*H$4","v":2053.6},{"$f":"Données!$F682*B$4","v":1894.05},{"$f":"Données!$F682*C$4","v":1811.7},{"$f":"Données!$F682*D$4","v":1729.3500000000001},{"$f":"Données!$F682*E$4","v":1647},{"$f":"Données!$F682*F$4","v":1564.6499999999999},{"$f":"Données!$F682*G$4","v":1482.3},{"$f":"Données!$F682*H$4","v":1399.95}]
[null,5537,"Anhée","Anhée",2366,1492,{"$f":"Données!$E683*B$4","v":2720.8999999999996},{"$f":"Données!$E683*C$4","v":2602.6000000000004},{"$f":"Données!$E683*D$4","v":2484.3000000000002},{"$f":"Données!$E683*E$4","v":2366},{"$f":"Données!$E683*F$4","v":2247.6999999999998},{"$f":"Données!$E683*G$4","v":2129.4},{"$f":"Données!$E683*H$4","v":2011.1},{"$f":"Données!$F683*B$4","v":1715.8},{"$f":"Données!$F683*C$4","v":1641.2},{"$f":"Données!$F683*D$4","v":1566.6000000000001},{"$f":"Données!$F683*E$4","v":1492},{"$f":"Données!$F683*F$4","v":1417.3999999999999},{"$f":"Données!$F683*G$4","v":1342.8},{"$f":"Données!$F683*H$4","v":1268.2}]
[null,5537,"Annevoie-Rouillon","Anhée",2366,1492,{"$f":"Données!$E684*B$4","v":2720.8999999999996},{"$f":"Données!$E684*C$4","v":2602.6000000000004},{"$f":"Données!$E684*D$4","v":2484.3000000000002},{"$f":"Données!$E684*E$4","v":2366},{"$f":"Données!$E684*F$4","v":2247.6999999999998},{"$f":"Données!$E684*G$4","v":2129.4},{"$f":"Données!$E684*H$4","v":2011.1},{"$f":"Données!$F684*B$4","v":1715.8},{"$f":"Données!$F684*C$4","v":1641.2},{"$f":"Données!$F684*D$4","v":1566.6000000000001},{"$f":"Données!$F684*E$4","v":1492},{"$f":"Données!$F684*F$4","v":1417.3999999999999},{"$f":"Données!$F684*G$4","v":1342.8},{"$f":"Données!$F684*H$4","v":1268.2}]
[null,5537,"Bioul","Anhée",2366,1492,{"$f":"Données!$E685*B$4","v":2720.8999999999996},{"$f":"Données!$E685*C$4","v":2602.6000000000004},{"$f":"Données!$E685*D$4","v":2484.3000000000002},{"$f":"Données!$E685*E$4","v":2366},{"$f":"Données!$E685*F$4","v":2247.6999999999998},{"$f":"Données!$E685*G$4","v":2129.4},{"$f":"Données!$E685*H$4","v":2011.1},{"$f":"Données!$F685*B$4","v":1715.8},{"$f":"Données!$F685*C$4","v":1641.2},{"$f":"Données!$F685*D$4","v":1566.6000000000001},{"$f":"Données!$F685*E$4","v":1492},{"$f":"Données!$F685*F$4","v":1417.3999999999999},{"$f":"Données!$F685*G$4","v":1342.8},{"$f":"Données!$F685*H$4","v":1268.2}]
[null,5537,"Sosoye","Anhée",2366,1492,{"$f":"Données!$E686*B$4","v":2720.8999999999996},{"$f":"Données!$E686*C$4","v":2602.6000000000004},{"$f":"Données!$E686*D$4","v":2484.3000000000002},{"$f":"Données!$E686*E$4","v":2366},{"$f":"Données!$E686*F$4","v":2247.6999999999998},{"$f":"Données!$E686*G$4","v":2129.4},{"$f":"Données!$E686*H$4","v":2011.1},{"$f":"Données!$F686*B$4","v":1715.8},{"$f":"Données!$F686*C$4","v":1641.2},{"$f":"Données!$F686*D$4","v":1566.6000000000001},{"$f":"Données!$F686*E$4","v":1492},{"$f":"Données!$F686*F$4","v":1417.3999999999999},{"$f":"Données!$F686*G$4","v":1342.8},{"$f":"Données!$F686*H$4","v":1268.2}]
[null,5537,"Denée","Anhée",2366,1492,{"$f":"Données!$E687*B$4","v":2720.8999999999996},{"$f":"Données!$E687*C$4","v":2602.6000000000004},{"$f":"Données!$E687*D$4","v":2484.3000000000002},{"$f":"Données!$E687*E$4","v":2366},{"$f":"Données!$E687*F$4","v":2247.6999999999998},{"$f":"Données!$E687*G$4","v":2129.4},{"$f":"Données!$E687*H$4","v":2011.1},{"$f":"Données!$F687*B$4","v":1715.8},{"$f":"Données!$F687*C$4","v":1641.2},{"$f":"Données!$F687*D$4","v":1566.6000000000001},{"$f":"Données!$F687*E$4","v":1492},{"$f":"Données!$F687*F$4","v":1417.3999999999999},{"$f":"Données!$F687*G$4","v":1342.8},{"$f":"Données!$F687*H$4","v":1268.2}]
[null,5537,"Haut-Le-Wastia","Anhée",2366,1492,{"$f":"Données!$E688*B$4","v":2720.8999999999996},{"$f":"Données!$E688*C$4","v":2602.6000000000004},{"$f":"Données!$E688*D$4","v":2484.3000000000002},{"$f":"Données!$E688*E$4","v":2366},{"$f":"Données!$E688*F$4","v":2247.6999999999998},{"$f":"Données!$E688*G$4","v":2129.4},{"$f":"Données!$E688*H$4","v":2011.1},{"$f":"Données!$F688*B$4","v":1715.8},{"$f":"Données!$F688*C$4","v":1641.2},{"$f":"Données!$F688*D$4","v":1566.6000000000001},{"$f":"Données!$F688*E$4","v":1492},{"$f":"Données!$F688*F$4","v":1417.3999999999999},{"$f":"Données!$F688*G$4","v":1342.8},{"$f":"Données!$F688*H$4","v":1268.2}]
[null,5537,"Warnant","Anhée",2366,1492,{"$f":"Données!$E689*B$4","v":2720.8999999999996},{"$f":"Données!$E689*C$4","v":2602.6000000000004},{"$f":"Données!$E689*D$4","v":2484.3000000000002},{"$f":"Données!$E689*E$4","v":2366},{"$f":"Données!$E689*F$4","v":2247.6999999999998},{"$f":"Données!$E689*G$4","v":2129.4},{"$f":"Données!$E689*H$4","v":2011.1},{"$f":"Données!$F689*B$4","v":1715.8},{"$f":"Données!$F689*C$4","v":1641.2},{"$f":"Données!$F689*D$4","v":1566.6000000000001},{"$f":"Données!$F689*E$4","v":1492},{"$f":"Données!$F689*F$4","v":1417.3999999999999},{"$f":"Données!$F689*G$4","v":1342.8},{"$f":"Données!$F689*H$4","v":1268.2}]
[null,5540,"Hastière","Hastière",1993,1223,{"$f":"Données!$E690*B$4","v":2291.9499999999998},{"$f":"Données!$E690*C$4","v":2192.3000000000002},{"$f":"Données!$E690*D$4","v":2092.65},{"$f":"Données!$E690*E$4","v":1993},{"$f":"Données!$E690*F$4","v":1893.35},{"$f":"Données!$E690*G$4","v":1793.7},{"$f":"Données!$E690*H$4","v":1694.05},{"$f":"Données!$F690*B$4","v":1406.4499999999998},{"$f":"Données!$F690*C$4","v":1345.3000000000002},{"$f":"Données!$F690*D$4","v":1284.1500000000001},{"$f":"Données!$F690*E$4","v":1223},{"$f":"Données!$F690*F$4","v":1161.8499999999999},{"$f":"Données!$F690*G$4","v":1100.7},{"$f":"Données!$F690*H$4","v":1039.55}]
[null,5540,"Hermeton-Sur-Meuse","Hastière",1993,1223,{"$f":"Données!$E691*B$4","v":2291.9499999999998},{"$f":"Données!$E691*C$4","v":2192.3000000000002},{"$f":"Données!$E691*D$4","v":2092.65},{"$f":"Données!$E691*E$4","v":1993},{"$f":"Données!$E691*F$4","v":1893.35},{"$f":"Données!$E691*G$4","v":1793.7},{"$f":"Données!$E691*H$4","v":1694.05},{"$f":"Données!$F691*B$4","v":1406.4499999999998},{"$f":"Données!$F691*C$4","v":1345.3000000000002},{"$f":"Données!$F691*D$4","v":1284.1500000000001},{"$f":"Données!$F691*E$4","v":1223},{"$f":"Données!$F691*F$4","v":1161.8499999999999},{"$f":"Données!$F691*G$4","v":1100.7},{"$f":"Données!$F691*H$4","v":1039.55}]
[null,5540,"Hastière-Lavaux","Hastière",1993,1223,{"$f":"Données!$E692*B$4","v":2291.9499999999998},{"$f":"Données!$E692*C$4","v":2192.3000000000002},{"$f":"Données!$E692*D$4","v":2092.65},{"$f":"Données!$E692*E$4","v":1993},{"$f":"Données!$E692*F$4","v":1893.35},{"$f":"Données!$E692*G$4","v":1793.7},{"$f":"Données!$E692*H$4","v":1694.05},{"$f":"Données!$F692*B$4","v":1406.4499999999998},{"$f":"Données!$F692*C$4","v":1345.3000000000002},{"$f":"Données!$F692*D$4","v":1284.1500000000001},{"$f":"Données!$F692*E$4","v":1223},{"$f":"Données!$F692*F$4","v":1161.8499999999999},{"$f":"Données!$F692*G$4","v":1100.7},{"$f":"Données!$F692*H$4","v":1039.55}]
[null,5540,"Waulsort","Hastière",1993,1223,{"$f":"Données!$E693*B$4","v":2291.9499999999998},{"$f":"Données!$E693*C$4","v":2192.3000000000002},{"$f":"Données!$E693*D$4","v":2092.65},{"$f":"Données!$E693*E$4","v":1993},{"$f":"Données!$E693*F$4","v":1893.35},{"$f":"Données!$E693*G$4","v":1793.7},{"$f":"Données!$E693*H$4","v":1694.05},{"$f":"Données!$F693*B$4","v":1406.4499999999998},{"$f":"Données!$F693*C$4","v":1345.3000000000002},{"$f":"Données!$F693*D$4","v":1284.1500000000001},{"$f":"Données!$F693*E$4","v":1223},{"$f":"Données!$F693*F$4","v":1161.8499999999999},{"$f":"Données!$F693*G$4","v":1100.7},{"$f":"Données!$F693*H$4","v":1039.55}]
[null,5541,"Hastière-Par-Delà","Hastière",1993,1223,{"$f":"Données!$E694*B$4","v":2291.9499999999998},{"$f":"Données!$E694*C$4","v":2192.3000000000002},{"$f":"Données!$E694*D$4","v":2092.65},{"$f":"Données!$E694*E$4","v":1993},{"$f":"Données!$E694*F$4","v":1893.35},{"$f":"Données!$E694*G$4","v":1793.7},{"$f":"Données!$E694*H$4","v":1694.05},{"$f":"Données!$F694*B$4","v":1406.4499999999998},{"$f":"Données!$F694*C$4","v":1345.3000000000002},{"$f":"Données!$F694*D$4","v":1284.1500000000001},{"$f":"Données!$F694*E$4","v":1223},{"$f":"Données!$F694*F$4","v":1161.8499999999999},{"$f":"Données!$F694*G$4","v":1100.7},{"$f":"Données!$F694*H$4","v":1039.55}]
[null,5542,"Blaimont","Hastière",1993,1223,{"$f":"Données!$E695*B$4","v":2291.9499999999998},{"$f":"Données!$E695*C$4","v":2192.3000000000002},{"$f":"Données!$E695*D$4","v":2092.65},{"$f":"Données!$E695*E$4","v":1993},{"$f":"Données!$E695*F$4","v":1893.35},{"$f":"Données!$E695*G$4","v":1793.7},{"$f":"Données!$E695*H$4","v":1694.05},{"$f":"Données!$F695*B$4","v":1406.4499999999998},{"$f":"Données!$F695*C$4","v":1345.3000000000002},{"$f":"Données!$F695*D$4","v":1284.1500000000001},{"$f":"Données!$F695*E$4","v":1223},{"$f":"Données!$F695*F$4","v":1161.8499999999999},{"$f":"Données!$F695*G$4","v":1100.7},{"$f":"Données!$F695*H$4","v":1039.55}]
[null,5543,"Heer","Hastière",1993,1223,{"$f":"Données!$E696*B$4","v":2291.9499999999998},{"$f":"Données!$E696*C$4","v":2192.3000000000002},{"$f":"Données!$E696*D$4","v":2092.65},{"$f":"Données!$E696*E$4","v":1993},{"$f":"Données!$E696*F$4","v":1893.35},{"$f":"Données!$E696*G$4","v":1793.7},{"$f":"Données!$E696*H$4","v":1694.05},{"$f":"Données!$F696*B$4","v":1406.4499999999998},{"$f":"Données!$F696*C$4","v":1345.3000000000002},{"$f":"Données!$F696*D$4","v":1284.1500000000001},{"$f":"Données!$F696*E$4","v":1223},{"$f":"Données!$F696*F$4","v":1161.8499999999999},{"$f":"Données!$F696*G$4","v":1100.7},{"$f":"Données!$F696*H$4","v":1039.55}]
[null,5544,"Agimont","Hastière",1993,1223,{"$f":"Données!$E697*B$4","v":2291.9499999999998},{"$f":"Données!$E697*C$4","v":2192.3000000000002},{"$f":"Données!$E697*D$4","v":2092.65},{"$f":"Données!$E697*E$4","v":1993},{"$f":"Données!$E697*F$4","v":1893.35},{"$f":"Données!$E697*G$4","v":1793.7},{"$f":"Données!$E697*H$4","v":1694.05},{"$f":"Données!$F697*B$4","v":1406.4499999999998},{"$f":"Données!$F697*C$4","v":1345.3000000000002},{"$f":"Données!$F697*D$4","v":1284.1500000000001},{"$f":"Données!$F697*E$4","v":1223},{"$f":"Données!$F697*F$4","v":1161.8499999999999},{"$f":"Données!$F697*G$4","v":1100.7},{"$f":"Données!$F697*H$4","v":1039.55}]
[null,5550,"Mouzaive","Vresse-Sur-Semois",1381,1320,{"$f":"Données!$E698*B$4","v":1588.1499999999999},{"$f":"Données!$E698*C$4","v":1519.1000000000001},{"$f":"Données!$E698*D$4","v":1450.05},{"$f":"Données!$E698*E$4","v":1381},{"$f":"Données!$E698*F$4","v":1311.95},{"$f":"Données!$E698*G$4","v":1242.9000000000001},{"$f":"Données!$E698*H$4","v":1173.8499999999999},{"$f":"Données!$F698*B$4","v":1517.9999999999998},{"$f":"Données!$F698*C$4","v":1452.0000000000002},{"$f":"Données!$F698*D$4","v":1386},{"$f":"Données!$F698*E$4","v":1320},{"$f":"Données!$F698*F$4","v":1254},{"$f":"Données!$F698*G$4","v":1188},{"$f":"Données!$F698*H$4","v":1122}]
[null,5550,"Nafraiture","Vresse-Sur-Semois",1381,1320,{"$f":"Données!$E699*B$4","v":1588.1499999999999},{"$f":"Données!$E699*C$4","v":1519.1000000000001},{"$f":"Données!$E699*D$4","v":1450.05},{"$f":"Données!$E699*E$4","v":1381},{"$f":"Données!$E699*F$4","v":1311.95},{"$f":"Données!$E699*G$4","v":1242.9000000000001},{"$f":"Données!$E699*H$4","v":1173.8499999999999},{"$f":"Données!$F699*B$4","v":1517.9999999999998},{"$f":"Données!$F699*C$4","v":1452.0000000000002},{"$f":"Données!$F699*D$4","v":1386},{"$f":"Données!$F699*E$4","v":1320},{"$f":"Données!$F699*F$4","v":1254},{"$f":"Données!$F699*G$4","v":1188},{"$f":"Données!$F699*H$4","v":1122}]
[null,5550,"Alle","Vresse-Sur-Semois",1381,1320,{"$f":"Données!$E700*B$4","v":1588.1499999999999},{"$f":"Données!$E700*C$4","v":1519.1000000000001},{"$f":"Données!$E700*D$4","v":1450.05},{"$f":"Données!$E700*E$4","v":1381},{"$f":"Données!$E700*F$4","v":1311.95},{"$f":"Données!$E700*G$4","v":1242.9000000000001},{"$f":"Données!$E700*H$4","v":1173.8499999999999},{"$f":"Données!$F700*B$4","v":1517.9999999999998},{"$f":"Données!$F700*C$4","v":1452.0000000000002},{"$f":"Données!$F700*D$4","v":1386},{"$f":"Données!$F700*E$4","v":1320},{"$f":"Données!$F700*F$4","v":1254},{"$f":"Données!$F700*G$4","v":1188},{"$f":"Données!$F700*H$4","v":1122}]
[null,5550,"Bohan","Vresse-Sur-Semois",1381,1320,{"$f":"Données!$E701*B$4","v":1588.1499999999999},{"$f":"Données!$E701*C$4","v":1519.1000000000001},{"$f":"Données!$E701*D$4","v":1450.05},{"$f":"Données!$E701*E$4","v":1381},{"$f":"Données!$E701*F$4","v":1311.95},{"$f":"Données!$E701*G$4","v":1242.9000000000001},{"$f":"Données!$E701*H$4","v":1173.8499999999999},{"$f":"Données!$F701*B$4","v":1517.9999999999998},{"$f":"Données!$F701*C$4","v":1452.0000000000002},{"$f":"Données!$F701*D$4","v":1386},{"$f":"Données!$F701*E$4","v":1320},{"$f":"Données!$F701*F$4","v":1254},{"$f":"Données!$F701*G$4","v":1188},{"$f":"Données!$F701*H$4","v":1122}]
[null,5550,"Laforet","Vresse-Sur-Semois",1381,1320,{"$f":"Données!$E702*B$4","v":1588.1499999999999},{"$f":"Données!$E702*C$4","v":1519.1000000000001},{"$f":"Données!$E702*D$4","v":1450.05},{"$f":"Données!$E702*E$4","v":1381},{"$f":"Données!$E702*F$4","v":1311.95},{"$f":"Données!$E702*G$4","v":1242.9000000000001},{"$f":"Données!$E702*H$4","v":1173.8499999999999},{"$f":"Données!$F702*B$4","v":1517.9999999999998},{"$f":"Données!$F702*C$4","v":1452.0000000000002},{"$f":"Données!$F702*D$4","v":1386},{"$f":"Données!$F702*E$4","v":1320},{"$f":"Données!$F702*F$4","v":1254},{"$f":"Données!$F702*G$4","v":1188},{"$f":"Données!$F702*H$4","v":1122}]
[null,5550,"Sugny","Vresse-Sur-Semois",1381,1320,{"$f":"Données!$E703*B$4","v":1588.1499999999999},{"$f":"Données!$E703*C$4","v":1519.1000000000001},{"$f":"Données!$E703*D$4","v":1450.05},{"$f":"Données!$E703*E$4","v":1381},{"$f":"Données!$E703*F$4","v":1311.95},{"$f":"Données!$E703*G$4","v":1242.9000000000001},{"$f":"Données!$E703*H$4","v":1173.8499999999999},{"$f":"Données!$F703*B$4","v":1517.9999999999998},{"$f":"Données!$F703*C$4","v":1452.0000000000002},{"$f":"Données!$F703*D$4","v":1386},{"$f":"Données!$F703*E$4","v":1320},{"$f":"Données!$F703*F$4","v":1254},{"$f":"Données!$F703*G$4","v":1188},{"$f":"Données!$F703*H$4","v":1122}]
[null,5550,"Bagimont","Vresse-Sur-Semois",1381,1320,{"$f":"Données!$E704*B$4","v":1588.1499999999999},{"$f":"Données!$E704*C$4","v":1519.1000000000001},{"$f":"Données!$E704*D$4","v":1450.05},{"$f":"Données!$E704*E$4","v":1381},{"$f":"Données!$E704*F$4","v":1311.95},{"$f":"Données!$E704*G$4","v":1242.9000000000001},{"$f":"Données!$E704*H$4","v":1173.8499999999999},{"$f":"Données!$F704*B$4","v":1517.9999999999998},{"$f":"Données!$F704*C$4","v":1452.0000000000002},{"$f":"Données!$F704*D$4","v":1386},{"$f":"Données!$F704*E$4","v":1320},{"$f":"Données!$F704*F$4","v":1254},{"$f":"Données!$F704*G$4","v":1188},{"$f":"Données!$F704*H$4","v":1122}]
[null,5550,"Membre","Vresse-Sur-Semois",1381,1320,{"$f":"Données!$E705*B$4","v":1588.1499999999999},{"$f":"Données!$E705*C$4","v":1519.1000000000001},{"$f":"Données!$E705*D$4","v":1450.05},{"$f":"Données!$E705*E$4","v":1381},{"$f":"Données!$E705*F$4","v":1311.95},{"$f":"Données!$E705*G$4","v":1242.9000000000001},{"$f":"Données!$E705*H$4","v":1173.8499999999999},{"$f":"Données!$F705*B$4","v":1517.9999999999998},{"$f":"Données!$F705*C$4","v":1452.0000000000002},{"$f":"Données!$F705*D$4","v":1386},{"$f":"Données!$F705*E$4","v":1320},{"$f":"Données!$F705*F$4","v":1254},{"$f":"Données!$F705*G$4","v":1188},{"$f":"Données!$F705*H$4","v":1122}]
[null,5550,"Orchimont","Vresse-Sur-Semois",1381,1320,{"$f":"Données!$E706*B$4","v":1588.1499999999999},{"$f":"Données!$E706*C$4","v":1519.1000000000001},{"$f":"Données!$E706*D$4","v":1450.05},{"$f":"Données!$E706*E$4","v":1381},{"$f":"Données!$E706*F$4","v":1311.95},{"$f":"Données!$E706*G$4","v":1242.9000000000001},{"$f":"Données!$E706*H$4","v":1173.8499999999999},{"$f":"Données!$F706*B$4","v":1517.9999999999998},{"$f":"Données!$F706*C$4","v":1452.0000000000002},{"$f":"Données!$F706*D$4","v":1386},{"$f":"Données!$F706*E$4","v":1320},{"$f":"Données!$F706*F$4","v":1254},{"$f":"Données!$F706*G$4","v":1188},{"$f":"Données!$F706*H$4","v":1122}]
[null,5550,"Chairière","Vresse-Sur-Semois",1381,1320,{"$f":"Données!$E707*B$4","v":1588.1499999999999},{"$f":"Données!$E707*C$4","v":1519.1000000000001},{"$f":"Données!$E707*D$4","v":1450.05},{"$f":"Données!$E707*E$4","v":1381},{"$f":"Données!$E707*F$4","v":1311.95},{"$f":"Données!$E707*G$4","v":1242.9000000000001},{"$f":"Données!$E707*H$4","v":1173.8499999999999},{"$f":"Données!$F707*B$4","v":1517.9999999999998},{"$f":"Données!$F707*C$4","v":1452.0000000000002},{"$f":"Données!$F707*D$4","v":1386},{"$f":"Données!$F707*E$4","v":1320},{"$f":"Données!$F707*F$4","v":1254},{"$f":"Données!$F707*G$4","v":1188},{"$f":"Données!$F707*H$4","v":1122}]
[null,5550,"Pussemange","Vresse-Sur-Semois",1381,1320,{"$f":"Données!$E708*B$4","v":1588.1499999999999},{"$f":"Données!$E708*C$4","v":1519.1000000000001},{"$f":"Données!$E708*D$4","v":1450.05},{"$f":"Données!$E708*E$4","v":1381},{"$f":"Données!$E708*F$4","v":1311.95},{"$f":"Données!$E708*G$4","v":1242.9000000000001},{"$f":"Données!$E708*H$4","v":1173.8499999999999},{"$f":"Données!$F708*B$4","v":1517.9999999999998},{"$f":"Données!$F708*C$4","v":1452.0000000000002},{"$f":"Données!$F708*D$4","v":1386},{"$f":"Données!$F708*E$4","v":1320},{"$f":"Données!$F708*F$4","v":1254},{"$f":"Données!$F708*G$4","v":1188},{"$f":"Données!$F708*H$4","v":1122}]
[null,5550,"Vresse-Sur-Semois","Vresse-Sur-Semois",1381,1320,{"$f":"Données!$E709*B$4","v":1588.1499999999999},{"$f":"Données!$E709*C$4","v":1519.1000000000001},{"$f":"Données!$E709*D$4","v":1450.05},{"$f":"Données!$E709*E$4","v":1381},{"$f":"Données!$E709*F$4","v":1311.95},{"$f":"Données!$E709*G$4","v":1242.9000000000001},{"$f":"Données!$E709*H$4","v":1173.8499999999999},{"$f":"Données!$F709*B$4","v":1517.9999999999998},{"$f":"Données!$F709*C$4","v":1452.0000000000002},{"$f":"Données!$F709*D$4","v":1386},{"$f":"Données!$F709*E$4","v":1320},{"$f":"Données!$F709*F$4","v":1254},{"$f":"Données!$F709*G$4","v":1188},{"$f":"Données!$F709*H$4","v":1122}]
[null,5555,"Monceau-En-Ardenne","Bièvre",1537,1253,{"$f":"Données!$E710*B$4","v":1767.55},{"$f":"Données!$E710*C$4","v":1690.7},{"$f":"Données!$E710*D$4","v":1613.8500000000001},{"$f":"Données!$E710*E$4","v":1537},{"$f":"Données!$E710*F$4","v":1460.1499999999999},{"$f":"Données!$E710*G$4","v":1383.3},{"$f":"Données!$E710*H$4","v":1306.45},{"$f":"Données!$F710*B$4","v":1440.9499999999998},{"$f":"Données!$F710*C$4","v":1378.3000000000002},{"$f":"Données!$F710*D$4","v":1315.65},{"$f":"Données!$F710*E$4","v":1253},{"$f":"Données!$F710*F$4","v":1190.3499999999999},{"$f":"Données!$F710*G$4","v":1127.7},{"$f":"Données!$F710*H$4","v":1065.05}]
[null,5555,"Naomé","Bièvre",1537,1253,{"$f":"Données!$E711*B$4","v":1767.55},{"$f":"Données!$E711*C$4","v":1690.7},{"$f":"Données!$E711*D$4","v":1613.8500000000001},{"$f":"Données!$E711*E$4","v":1537},{"$f":"Données!$E711*F$4","v":1460.1499999999999},{"$f":"Données!$E711*G$4","v":1383.3},{"$f":"Données!$E711*H$4","v":1306.45},{"$f":"Données!$F711*B$4","v":1440.9499999999998},{"$f":"Données!$F711*C$4","v":1378.3000000000002},{"$f":"Données!$F711*D$4","v":1315.65},{"$f":"Données!$F711*E$4","v":1253},{"$f":"Données!$F711*F$4","v":1190.3499999999999},{"$f":"Données!$F711*G$4","v":1127.7},{"$f":"Données!$F711*H$4","v":1065.05}]
[null,5555,"Bellefontaine","Bièvre",1537,1253,{"$f":"Données!$E712*B$4","v":1767.55},{"$f":"Données!$E712*C$4","v":1690.7},{"$f":"Données!$E712*D$4","v":1613.8500000000001},{"$f":"Données!$E712*E$4","v":1537},{"$f":"Données!$E712*F$4","v":1460.1499999999999},{"$f":"Données!$E712*G$4","v":1383.3},{"$f":"Données!$E712*H$4","v":1306.45},{"$f":"Données!$F712*B$4","v":1440.9499999999998},{"$f":"Données!$F712*C$4","v":1378.3000000000002},{"$f":"Données!$F712*D$4","v":1315.65},{"$f":"Données!$F712*E$4","v":1253},{"$f":"Données!$F712*F$4","v":1190.3499999999999},{"$f":"Données!$F712*G$4","v":1127.7},{"$f":"Données!$F712*H$4","v":1065.05}]
[null,5555,"Graide","Bièvre",1537,1253,{"$f":"Données!$E713*B$4","v":1767.55},{"$f":"Données!$E713*C$4","v":1690.7},{"$f":"Données!$E713*D$4","v":1613.8500000000001},{"$f":"Données!$E713*E$4","v":1537},{"$f":"Données!$E713*F$4","v":1460.1499999999999},{"$f":"Données!$E713*G$4","v":1383.3},{"$f":"Données!$E713*H$4","v":1306.45},{"$f":"Données!$F713*B$4","v":1440.9499999999998},{"$f":"Données!$F713*C$4","v":1378.3000000000002},{"$f":"Données!$F713*D$4","v":1315.65},{"$f":"Données!$F713*E$4","v":1253},{"$f":"Données!$F713*F$4","v":1190.3499999999999},{"$f":"Données!$F713*G$4","v":1127.7},{"$f":"Données!$F713*H$4","v":1065.05}]
[null,5555,"Gros-Fays","Bièvre",1537,1253,{"$f":"Données!$E714*B$4","v":1767.55},{"$f":"Données!$E714*C$4","v":1690.7},{"$f":"Données!$E714*D$4","v":1613.8500000000001},{"$f":"Données!$E714*E$4","v":1537},{"$f":"Données!$E714*F$4","v":1460.1499999999999},{"$f":"Données!$E714*G$4","v":1383.3},{"$f":"Données!$E714*H$4","v":1306.45},{"$f":"Données!$F714*B$4","v":1440.9499999999998},{"$f":"Données!$F714*C$4","v":1378.3000000000002},{"$f":"Données!$F714*D$4","v":1315.65},{"$f":"Données!$F714*E$4","v":1253},{"$f":"Données!$F714*F$4","v":1190.3499999999999},{"$f":"Données!$F714*G$4","v":1127.7},{"$f":"Données!$F714*H$4","v":1065.05}]
[null,5555,"Petit-Fays","Bièvre",1537,1253,{"$f":"Données!$E715*B$4","v":1767.55},{"$f":"Données!$E715*C$4","v":1690.7},{"$f":"Données!$E715*D$4","v":1613.8500000000001},{"$f":"Données!$E715*E$4","v":1537},{"$f":"Données!$E715*F$4","v":1460.1499999999999},{"$f":"Données!$E715*G$4","v":1383.3},{"$f":"Données!$E715*H$4","v":1306.45},{"$f":"Données!$F715*B$4","v":1440.9499999999998},{"$f":"Données!$F715*C$4","v":1378.3000000000002},{"$f":"Données!$F715*D$4","v":1315.65},{"$f":"Données!$F715*E$4","v":1253},{"$f":"Données!$F715*F$4","v":1190.3499999999999},{"$f":"Données!$F715*G$4","v":1127.7},{"$f":"Données!$F715*H$4","v":1065.05}]
[null,5555,"Baillamont","Bièvre",1537,1253,{"$f":"Données!$E716*B$4","v":1767.55},{"$f":"Données!$E716*C$4","v":1690.7},{"$f":"Données!$E716*D$4","v":1613.8500000000001},{"$f":"Données!$E716*E$4","v":1537},{"$f":"Données!$E716*F$4","v":1460.1499999999999},{"$f":"Données!$E716*G$4","v":1383.3},{"$f":"Données!$E716*H$4","v":1306.45},{"$f":"Données!$F716*B$4","v":1440.9499999999998},{"$f":"Données!$F716*C$4","v":1378.3000000000002},{"$f":"Données!$F716*D$4","v":1315.65},{"$f":"Données!$F716*E$4","v":1253},{"$f":"Données!$F716*F$4","v":1190.3499999999999},{"$f":"Données!$F716*G$4","v":1127.7},{"$f":"Données!$F716*H$4","v":1065.05}]
[null,5555,"Bièvre","Bièvre",1537,1253,{"$f":"Données!$E717*B$4","v":1767.55},{"$f":"Données!$E717*C$4","v":1690.7},{"$f":"Données!$E717*D$4","v":1613.8500000000001},{"$f":"Données!$E717*E$4","v":1537},{"$f":"Données!$E717*F$4","v":1460.1499999999999},{"$f":"Données!$E717*G$4","v":1383.3},{"$f":"Données!$E717*H$4","v":1306.45},{"$f":"Données!$F717*B$4","v":1440.9499999999998},{"$f":"Données!$F717*C$4","v":1378.3000000000002},{"$f":"Données!$F717*D$4","v":1315.65},{"$f":"Données!$F717*E$4","v":1253},{"$f":"Données!$F717*F$4","v":1190.3499999999999},{"$f":"Données!$F717*G$4","v":1127.7},{"$f":"Données!$F717*H$4","v":1065.05}]
[null,5555,"Cornimont","Bièvre",1537,1253,{"$f":"Données!$E718*B$4","v":1767.55},{"$f":"Données!$E718*C$4","v":1690.7},{"$f":"Données!$E718*D$4","v":1613.8500000000001},{"$f":"Données!$E718*E$4","v":1537},{"$f":"Données!$E718*F$4","v":1460.1499999999999},{"$f":"Données!$E718*G$4","v":1383.3},{"$f":"Données!$E718*H$4","v":1306.45},{"$f":"Données!$F718*B$4","v":1440.9499999999998},{"$f":"Données!$F718*C$4","v":1378.3000000000002},{"$f":"Données!$F718*D$4","v":1315.65},{"$f":"Données!$F718*E$4","v":1253},{"$f":"Données!$F718*F$4","v":1190.3499999999999},{"$f":"Données!$F718*G$4","v":1127.7},{"$f":"Données!$F718*H$4","v":1065.05}]
[null,5555,"Oizy","Bièvre",1537,1253,{"$f":"Données!$E719*B$4","v":1767.55},{"$f":"Données!$E719*C$4","v":1690.7},{"$f":"Données!$E719*D$4","v":1613.8500000000001},{"$f":"Données!$E719*E$4","v":1537},{"$f":"Données!$E719*F$4","v":1460.1499999999999},{"$f":"Données!$E719*G$4","v":1383.3},{"$f":"Données!$E719*H$4","v":1306.45},{"$f":"Données!$F719*B$4","v":1440.9499999999998},{"$f":"Données!$F719*C$4","v":1378.3000000000002},{"$f":"Données!$F719*D$4","v":1315.65},{"$f":"Données!$F719*E$4","v":1253},{"$f":"Données!$F719*F$4","v":1190.3499999999999},{"$f":"Données!$F719*G$4","v":1127.7},{"$f":"Données!$F719*H$4","v":1065.05}]
[null,5560,"Houyet","Houyet",1980,1419,{"$f":"Données!$E720*B$4","v":2277},{"$f":"Données!$E720*C$4","v":2178},{"$f":"Données!$E720*D$4","v":2079},{"$f":"Données!$E720*E$4","v":1980},{"$f":"Données!$E720*F$4","v":1881},{"$f":"Données!$E720*G$4","v":1782},{"$f":"Données!$E720*H$4","v":1683},{"$f":"Données!$F720*B$4","v":1631.85},{"$f":"Données!$F720*C$4","v":1560.9},{"$f":"Données!$F720*D$4","v":1489.95},{"$f":"Données!$F720*E$4","v":1419},{"$f":"Données!$F720*F$4","v":1348.05},{"$f":"Données!$F720*G$4","v":1277.1000000000001},{"$f":"Données!$F720*H$4","v":1206.1499999999999}]
[null,5560,"Mesnil-Eglise","Houyet",1980,1419,{"$f":"Données!$E721*B$4","v":2277},{"$f":"Données!$E721*C$4","v":2178},{"$f":"Données!$E721*D$4","v":2079},{"$f":"Données!$E721*E$4","v":1980},{"$f":"Données!$E721*F$4","v":1881},{"$f":"Données!$E721*G$4","v":1782},{"$f":"Données!$E721*H$4","v":1683},{"$f":"Données!$F721*B$4","v":1631.85},{"$f":"Données!$F721*C$4","v":1560.9},{"$f":"Données!$F721*D$4","v":1489.95},{"$f":"Données!$F721*E$4","v":1419},{"$f":"Données!$F721*F$4","v":1348.05},{"$f":"Données!$F721*G$4","v":1277.1000000000001},{"$f":"Données!$F721*H$4","v":1206.1499999999999}]
[null,5560,"Ciergnon","Houyet",1980,1419,{"$f":"Données!$E722*B$4","v":2277},{"$f":"Données!$E722*C$4","v":2178},{"$f":"Données!$E722*D$4","v":2079},{"$f":"Données!$E722*E$4","v":1980},{"$f":"Données!$E722*F$4","v":1881},{"$f":"Données!$E722*G$4","v":1782},{"$f":"Données!$E722*H$4","v":1683},{"$f":"Données!$F722*B$4","v":1631.85},{"$f":"Données!$F722*C$4","v":1560.9},{"$f":"Données!$F722*D$4","v":1489.95},{"$f":"Données!$F722*E$4","v":1419},{"$f":"Données!$F722*F$4","v":1348.05},{"$f":"Données!$F722*G$4","v":1277.1000000000001},{"$f":"Données!$F722*H$4","v":1206.1499999999999}]
[null,5560,"Finnevaux","Houyet",1980,1419,{"$f":"Données!$E723*B$4","v":2277},{"$f":"Données!$E723*C$4","v":2178},{"$f":"Données!$E723*D$4","v":2079},{"$f":"Données!$E723*E$4","v":1980},{"$f":"Données!$E723*F$4","v":1881},{"$f":"Données!$E723*G$4","v":1782},{"$f":"Données!$E723*H$4","v":1683},{"$f":"Données!$F723*B$4","v":1631.85},{"$f":"Données!$F723*C$4","v":1560.9},{"$f":"Données!$F723*D$4","v":1489.95},{"$f":"Données!$F723*E$4","v":1419},{"$f":"Données!$F723*F$4","v":1348.05},{"$f":"Données!$F723*G$4","v":1277.1000000000001},{"$f":"Données!$F723*H$4","v":1206.1499999999999}]
[null,5560,"Hulsonniaux","Houyet",1980,1419,{"$f":"Données!$E724*B$4","v":2277},{"$f":"Données!$E724*C$4","v":2178},{"$f":"Données!$E724*D$4","v":2079},{"$f":"Données!$E724*E$4","v":1980},{"$f":"Données!$E724*F$4","v":1881},{"$f":"Données!$E724*G$4","v":1782},{"$f":"Données!$E724*H$4","v":1683},{"$f":"Données!$F724*B$4","v":1631.85},{"$f":"Données!$F724*C$4","v":1560.9},{"$f":"Données!$F724*D$4","v":1489.95},{"$f":"Données!$F724*E$4","v":1419},{"$f":"Données!$F724*F$4","v":1348.05},{"$f":"Données!$F724*G$4","v":1277.1000000000001},{"$f":"Données!$F724*H$4","v":1206.1499999999999}]
[null,5560,"Mesnil-Saint-Blaise","Houyet",1980,1419,{"$f":"Données!$E725*B$4","v":2277},{"$f":"Données!$E725*C$4","v":2178},{"$f":"Données!$E725*D$4","v":2079},{"$f":"Données!$E725*E$4","v":1980},{"$f":"Données!$E725*F$4","v":1881},{"$f":"Données!$E725*G$4","v":1782},{"$f":"Données!$E725*H$4","v":1683},{"$f":"Données!$F725*B$4","v":1631.85},{"$f":"Données!$F725*C$4","v":1560.9},{"$f":"Données!$F725*D$4","v":1489.95},{"$f":"Données!$F725*E$4","v":1419},{"$f":"Données!$F725*F$4","v":1348.05},{"$f":"Données!$F725*G$4","v":1277.1000000000001},{"$f":"Données!$F725*H$4","v":1206.1499999999999}]
[null,5561,"Celles","Houyet",1980,1419,{"$f":"Données!$E726*B$4","v":2277},{"$f":"Données!$E726*C$4","v":2178},{"$f":"Données!$E726*D$4","v":2079},{"$f":"Données!$E726*E$4","v":1980},{"$f":"Données!$E726*F$4","v":1881},{"$f":"Données!$E726*G$4","v":1782},{"$f":"Données!$E726*H$4","v":1683},{"$f":"Données!$F726*B$4","v":1631.85},{"$f":"Données!$F726*C$4","v":1560.9},{"$f":"Données!$F726*D$4","v":1489.95},{"$f":"Données!$F726*E$4","v":1419},{"$f":"Données!$F726*F$4","v":1348.05},{"$f":"Données!$F726*G$4","v":1277.1000000000001},{"$f":"Données!$F726*H$4","v":1206.1499999999999}]
[null,5562,"Custinne","Houyet",1980,1419,{"$f":"Données!$E727*B$4","v":2277},{"$f":"Données!$E727*C$4","v":2178},{"$f":"Données!$E727*D$4","v":2079},{"$f":"Données!$E727*E$4","v":1980},{"$f":"Données!$E727*F$4","v":1881},{"$f":"Données!$E727*G$4","v":1782},{"$f":"Données!$E727*H$4","v":1683},{"$f":"Données!$F727*B$4","v":1631.85},{"$f":"Données!$F727*C$4","v":1560.9},{"$f":"Données!$F727*D$4","v":1489.95},{"$f":"Données!$F727*E$4","v":1419},{"$f":"Données!$F727*F$4","v":1348.05},{"$f":"Données!$F727*G$4","v":1277.1000000000001},{"$f":"Données!$F727*H$4","v":1206.1499999999999}]
[null,5563,"Hour","Houyet",1980,1419,{"$f":"Données!$E728*B$4","v":2277},{"$f":"Données!$E728*C$4","v":2178},{"$f":"Données!$E728*D$4","v":2079},{"$f":"Données!$E728*E$4","v":1980},{"$f":"Données!$E728*F$4","v":1881},{"$f":"Données!$E728*G$4","v":1782},{"$f":"Données!$E728*H$4","v":1683},{"$f":"Données!$F728*B$4","v":1631.85},{"$f":"Données!$F728*C$4","v":1560.9},{"$f":"Données!$F728*D$4","v":1489.95},{"$f":"Données!$F728*E$4","v":1419},{"$f":"Données!$F728*F$4","v":1348.05},{"$f":"Données!$F728*G$4","v":1277.1000000000001},{"$f":"Données!$F728*H$4","v":1206.1499999999999}]
[null,5564,"Wanlin","Houyet",1980,1419,{"$f":"Données!$E729*B$4","v":2277},{"$f":"Données!$E729*C$4","v":2178},{"$f":"Données!$E729*D$4","v":2079},{"$f":"Données!$E729*E$4","v":1980},{"$f":"Données!$E729*F$4","v":1881},{"$f":"Données!$E729*G$4","v":1782},{"$f":"Données!$E729*H$4","v":1683},{"$f":"Données!$F729*B$4","v":1631.85},{"$f":"Données!$F729*C$4","v":1560.9},{"$f":"Données!$F729*D$4","v":1489.95},{"$f":"Données!$F729*E$4","v":1419},{"$f":"Données!$F729*F$4","v":1348.05},{"$f":"Données!$F729*G$4","v":1277.1000000000001},{"$f":"Données!$F729*H$4","v":1206.1499999999999}]
[null,5570,"Felenne","Beauraing",1897,1335,{"$f":"Données!$E730*B$4","v":2181.5499999999997},{"$f":"Données!$E730*C$4","v":2086.7000000000003},{"$f":"Données!$E730*D$4","v":1991.8500000000001},{"$f":"Données!$E730*E$4","v":1897},{"$f":"Données!$E730*F$4","v":1802.1499999999999},{"$f":"Données!$E730*G$4","v":1707.3},{"$f":"Données!$E730*H$4","v":1612.45},{"$f":"Données!$F730*B$4","v":1535.2499999999998},{"$f":"Données!$F730*C$4","v":1468.5000000000002},{"$f":"Données!$F730*D$4","v":1401.75},{"$f":"Données!$F730*E$4","v":1335},{"$f":"Données!$F730*F$4","v":1268.25},{"$f":"Données!$F730*G$4","v":1201.5},{"$f":"Données!$F730*H$4","v":1134.75}]
[null,5570,"Feschaux","Beauraing",1897,1335,{"$f":"Données!$E731*B$4","v":2181.5499999999997},{"$f":"Données!$E731*C$4","v":2086.7000000000003},{"$f":"Données!$E731*D$4","v":1991.8500000000001},{"$f":"Données!$E731*E$4","v":1897},{"$f":"Données!$E731*F$4","v":1802.1499999999999},{"$f":"Données!$E731*G$4","v":1707.3},{"$f":"Données!$E731*H$4","v":1612.45},{"$f":"Données!$F731*B$4","v":1535.2499999999998},{"$f":"Données!$F731*C$4","v":1468.5000000000002},{"$f":"Données!$F731*D$4","v":1401.75},{"$f":"Données!$F731*E$4","v":1335},{"$f":"Données!$F731*F$4","v":1268.25},{"$f":"Données!$F731*G$4","v":1201.5},{"$f":"Données!$F731*H$4","v":1134.75}]
[null,5570,"Dion","Beauraing",1897,1335,{"$f":"Données!$E732*B$4","v":2181.5499999999997},{"$f":"Données!$E732*C$4","v":2086.7000000000003},{"$f":"Données!$E732*D$4","v":1991.8500000000001},{"$f":"Données!$E732*E$4","v":1897},{"$f":"Données!$E732*F$4","v":1802.1499999999999},{"$f":"Données!$E732*G$4","v":1707.3},{"$f":"Données!$E732*H$4","v":1612.45},{"$f":"Données!$F732*B$4","v":1535.2499999999998},{"$f":"Données!$F732*C$4","v":1468.5000000000002},{"$f":"Données!$F732*D$4","v":1401.75},{"$f":"Données!$F732*E$4","v":1335},{"$f":"Données!$F732*F$4","v":1268.25},{"$f":"Données!$F732*G$4","v":1201.5},{"$f":"Données!$F732*H$4","v":1134.75}]
[null,5570,"Wancennes","Beauraing",1897,1335,{"$f":"Données!$E733*B$4","v":2181.5499999999997},{"$f":"Données!$E733*C$4","v":2086.7000000000003},{"$f":"Données!$E733*D$4","v":1991.8500000000001},{"$f":"Données!$E733*E$4","v":1897},{"$f":"Données!$E733*F$4","v":1802.1499999999999},{"$f":"Données!$E733*G$4","v":1707.3},{"$f":"Données!$E733*H$4","v":1612.45},{"$f":"Données!$F733*B$4","v":1535.2499999999998},{"$f":"Données!$F733*C$4","v":1468.5000000000002},{"$f":"Données!$F733*D$4","v":1401.75},{"$f":"Données!$F733*E$4","v":1335},{"$f":"Données!$F733*F$4","v":1268.25},{"$f":"Données!$F733*G$4","v":1201.5},{"$f":"Données!$F733*H$4","v":1134.75}]
[null,5570,"Baronville","Beauraing",1897,1335,{"$f":"Données!$E734*B$4","v":2181.5499999999997},{"$f":"Données!$E734*C$4","v":2086.7000000000003},{"$f":"Données!$E734*D$4","v":1991.8500000000001},{"$f":"Données!$E734*E$4","v":1897},{"$f":"Données!$E734*F$4","v":1802.1499999999999},{"$f":"Données!$E734*G$4","v":1707.3},{"$f":"Données!$E734*H$4","v":1612.45},{"$f":"Données!$F734*B$4","v":1535.2499999999998},{"$f":"Données!$F734*C$4","v":1468.5000000000002},{"$f":"Données!$F734*D$4","v":1401.75},{"$f":"Données!$F734*E$4","v":1335},{"$f":"Données!$F734*F$4","v":1268.25},{"$f":"Données!$F734*G$4","v":1201.5},{"$f":"Données!$F734*H$4","v":1134.75}]
[null,5570,"Beauraing","Beauraing",1897,1335,{"$f":"Données!$E735*B$4","v":2181.5499999999997},{"$f":"Données!$E735*C$4","v":2086.7000000000003},{"$f":"Données!$E735*D$4","v":1991.8500000000001},{"$f":"Données!$E735*E$4","v":1897},{"$f":"Données!$E735*F$4","v":1802.1499999999999},{"$f":"Données!$E735*G$4","v":1707.3},{"$f":"Données!$E735*H$4","v":1612.45},{"$f":"Données!$F735*B$4","v":1535.2499999999998},{"$f":"Données!$F735*C$4","v":1468.5000000000002},{"$f":"Données!$F735*D$4","v":1401.75},{"$f":"Données!$F735*E$4","v":1335},{"$f":"Données!$F735*F$4","v":1268.25},{"$f":"Données!$F735*G$4","v":1201.5},{"$f":"Données!$F735*H$4","v":1134.75}]
[null,5570,"Vonêche","Beauraing",1897,1335,{"$f":"Données!$E736*B$4","v":2181.5499999999997},{"$f":"Données!$E736*C$4","v":2086.7000000000003},{"$f":"Données!$E736*D$4","v":1991.8500000000001},{"$f":"Données!$E736*E$4","v":1897},{"$f":"Données!$E736*F$4","v":1802.1499999999999},{"$f":"Données!$E736*G$4","v":1707.3},{"$f":"Données!$E736*H$4","v":1612.45},{"$f":"Données!$F736*B$4","v":1535.2499999999998},{"$f":"Données!$F736*C$4","v":1468.5000000000002},{"$f":"Données!$F736*D$4","v":1401.75},{"$f":"Données!$F736*E$4","v":1335},{"$f":"Données!$F736*F$4","v":1268.25},{"$f":"Données!$F736*G$4","v":1201.5},{"$f":"Données!$F736*H$4","v":1134.75}]
[null,5570,"Winenne","Beauraing",1897,1335,{"$f":"Données!$E737*B$4","v":2181.5499999999997},{"$f":"Données!$E737*C$4","v":2086.7000000000003},{"$f":"Données!$E737*D$4","v":1991.8500000000001},{"$f":"Données!$E737*E$4","v":1897},{"$f":"Données!$E737*F$4","v":1802.1499999999999},{"$f":"Données!$E737*G$4","v":1707.3},{"$f":"Données!$E737*H$4","v":1612.45},{"$f":"Données!$F737*B$4","v":1535.2499999999998},{"$f":"Données!$F737*C$4","v":1468.5000000000002},{"$f":"Données!$F737*D$4","v":1401.75},{"$f":"Données!$F737*E$4","v":1335},{"$f":"Données!$F737*F$4","v":1268.25},{"$f":"Données!$F737*G$4","v":1201.5},{"$f":"Données!$F737*H$4","v":1134.75}]
[null,5570,"Honnay","Beauraing",1897,1335,{"$f":"Données!$E738*B$4","v":2181.5499999999997},{"$f":"Données!$E738*C$4","v":2086.7000000000003},{"$f":"Données!$E738*D$4","v":1991.8500000000001},{"$f":"Données!$E738*E$4","v":1897},{"$f":"Données!$E738*F$4","v":1802.1499999999999},{"$f":"Données!$E738*G$4","v":1707.3},{"$f":"Données!$E738*H$4","v":1612.45},{"$f":"Données!$F738*B$4","v":1535.2499999999998},{"$f":"Données!$F738*C$4","v":1468.5000000000002},{"$f":"Données!$F738*D$4","v":1401.75},{"$f":"Données!$F738*E$4","v":1335},{"$f":"Données!$F738*F$4","v":1268.25},{"$f":"Données!$F738*G$4","v":1201.5},{"$f":"Données!$F738*H$4","v":1134.75}]
[null,5570,"Javingue","Beauraing",1897,1335,{"$f":"Données!$E739*B$4","v":2181.5499999999997},{"$f":"Données!$E739*C$4","v":2086.7000000000003},{"$f":"Données!$E739*D$4","v":1991.8500000000001},{"$f":"Données!$E739*E$4","v":1897},{"$f":"Données!$E739*F$4","v":1802.1499999999999},{"$f":"Données!$E739*G$4","v":1707.3},{"$f":"Données!$E739*H$4","v":1612.45},{"$f":"Données!$F739*B$4","v":1535.2499999999998},{"$f":"Données!$F739*C$4","v":1468.5000000000002},{"$f":"Données!$F739*D$4","v":1401.75},{"$f":"Données!$F739*E$4","v":1335},{"$f":"Données!$F739*F$4","v":1268.25},{"$f":"Données!$F739*G$4","v":1201.5},{"$f":"Données!$F739*H$4","v":1134.75}]
[null,5571,"Wiesme","Beauraing",1897,1335,{"$f":"Données!$E740*B$4","v":2181.5499999999997},{"$f":"Données!$E740*C$4","v":2086.7000000000003},{"$f":"Données!$E740*D$4","v":1991.8500000000001},{"$f":"Données!$E740*E$4","v":1897},{"$f":"Données!$E740*F$4","v":1802.1499999999999},{"$f":"Données!$E740*G$4","v":1707.3},{"$f":"Données!$E740*H$4","v":1612.45},{"$f":"Données!$F740*B$4","v":1535.2499999999998},{"$f":"Données!$F740*C$4","v":1468.5000000000002},{"$f":"Données!$F740*D$4","v":1401.75},{"$f":"Données!$F740*E$4","v":1335},{"$f":"Données!$F740*F$4","v":1268.25},{"$f":"Données!$F740*G$4","v":1201.5},{"$f":"Données!$F740*H$4","v":1134.75}]
[null,5572,"Focant","Beauraing",1897,1335,{"$f":"Données!$E741*B$4","v":2181.5499999999997},{"$f":"Données!$E741*C$4","v":2086.7000000000003},{"$f":"Données!$E741*D$4","v":1991.8500000000001},{"$f":"Données!$E741*E$4","v":1897},{"$f":"Données!$E741*F$4","v":1802.1499999999999},{"$f":"Données!$E741*G$4","v":1707.3},{"$f":"Données!$E741*H$4","v":1612.45},{"$f":"Données!$F741*B$4","v":1535.2499999999998},{"$f":"Données!$F741*C$4","v":1468.5000000000002},{"$f":"Données!$F741*D$4","v":1401.75},{"$f":"Données!$F741*E$4","v":1335},{"$f":"Données!$F741*F$4","v":1268.25},{"$f":"Données!$F741*G$4","v":1201.5},{"$f":"Données!$F741*H$4","v":1134.75}]
[null,5573,"Martouzin-Neuville","Beauraing",1897,1335,{"$f":"Données!$E742*B$4","v":2181.5499999999997},{"$f":"Données!$E742*C$4","v":2086.7000000000003},{"$f":"Données!$E742*D$4","v":1991.8500000000001},{"$f":"Données!$E742*E$4","v":1897},{"$f":"Données!$E742*F$4","v":1802.1499999999999},{"$f":"Données!$E742*G$4","v":1707.3},{"$f":"Données!$E742*H$4","v":1612.45},{"$f":"Données!$F742*B$4","v":1535.2499999999998},{"$f":"Données!$F742*C$4","v":1468.5000000000002},{"$f":"Données!$F742*D$4","v":1401.75},{"$f":"Données!$F742*E$4","v":1335},{"$f":"Données!$F742*F$4","v":1268.25},{"$f":"Données!$F742*G$4","v":1201.5},{"$f":"Données!$F742*H$4","v":1134.75}]
[null,5574,"Pondrôme","Beauraing",1897,1335,{"$f":"Données!$E743*B$4","v":2181.5499999999997},{"$f":"Données!$E743*C$4","v":2086.7000000000003},{"$f":"Données!$E743*D$4","v":1991.8500000000001},{"$f":"Données!$E743*E$4","v":1897},{"$f":"Données!$E743*F$4","v":1802.1499999999999},{"$f":"Données!$E743*G$4","v":1707.3},{"$f":"Données!$E743*H$4","v":1612.45},{"$f":"Données!$F743*B$4","v":1535.2499999999998},{"$f":"Données!$F743*C$4","v":1468.5000000000002},{"$f":"Données!$F743*D$4","v":1401.75},{"$f":"Données!$F743*E$4","v":1335},{"$f":"Données!$F743*F$4","v":1268.25},{"$f":"Données!$F743*G$4","v":1201.5},{"$f":"Données!$F743*H$4","v":1134.75}]
[null,5575,"Louette-Saint-Denis","Gedinne",1784,1204,{"$f":"Données!$E744*B$4","v":2051.6},{"$f":"Données!$E744*C$4","v":1962.4},{"$f":"Données!$E744*D$4","v":1873.2},{"$f":"Données!$E744*E$4","v":1784},{"$f":"Données!$E744*F$4","v":1694.8},{"$f":"Données!$E744*G$4","v":1605.6000000000001},{"$f":"Données!$E744*H$4","v":1516.3999999999999},{"$f":"Données!$F744*B$4","v":1384.6},{"$f":"Données!$F744*C$4","v":1324.4},{"$f":"Données!$F744*D$4","v":1264.2},{"$f":"Données!$F744*E$4","v":1204},{"$f":"Données!$F744*F$4","v":1143.8},{"$f":"Données!$F744*G$4","v":1083.6000000000001},{"$f":"Données!$F744*H$4","v":1023.4}]
[null,5575,"Louette-Saint-Pierre","Gedinne",1784,1204,{"$f":"Données!$E745*B$4","v":2051.6},{"$f":"Données!$E745*C$4","v":1962.4},{"$f":"Données!$E745*D$4","v":1873.2},{"$f":"Données!$E745*E$4","v":1784},{"$f":"Données!$E745*F$4","v":1694.8},{"$f":"Données!$E745*G$4","v":1605.6000000000001},{"$f":"Données!$E745*H$4","v":1516.3999999999999},{"$f":"Données!$F745*B$4","v":1384.6},{"$f":"Données!$F745*C$4","v":1324.4},{"$f":"Données!$F745*D$4","v":1264.2},{"$f":"Données!$F745*E$4","v":1204},{"$f":"Données!$F745*F$4","v":1143.8},{"$f":"Données!$F745*G$4","v":1083.6000000000001},{"$f":"Données!$F745*H$4","v":1023.4}]
[null,5575,"Malvoisin","Gedinne",1784,1204,{"$f":"Données!$E746*B$4","v":2051.6},{"$f":"Données!$E746*C$4","v":1962.4},{"$f":"Données!$E746*D$4","v":1873.2},{"$f":"Données!$E746*E$4","v":1784},{"$f":"Données!$E746*F$4","v":1694.8},{"$f":"Données!$E746*G$4","v":1605.6000000000001},{"$f":"Données!$E746*H$4","v":1516.3999999999999},{"$f":"Données!$F746*B$4","v":1384.6},{"$f":"Données!$F746*C$4","v":1324.4},{"$f":"Données!$F746*D$4","v":1264.2},{"$f":"Données!$F746*E$4","v":1204},{"$f":"Données!$F746*F$4","v":1143.8},{"$f":"Données!$F746*G$4","v":1083.6000000000001},{"$f":"Données!$F746*H$4","v":1023.4}]
[null,5575,"Patignies","Gedinne",1784,1204,{"$f":"Données!$E747*B$4","v":2051.6},{"$f":"Données!$E747*C$4","v":1962.4},{"$f":"Données!$E747*D$4","v":1873.2},{"$f":"Données!$E747*E$4","v":1784},{"$f":"Données!$E747*F$4","v":1694.8},{"$f":"Données!$E747*G$4","v":1605.6000000000001},{"$f":"Données!$E747*H$4","v":1516.3999999999999},{"$f":"Données!$F747*B$4","v":1384.6},{"$f":"Données!$F747*C$4","v":1324.4},{"$f":"Données!$F747*D$4","v":1264.2},{"$f":"Données!$F747*E$4","v":1204},{"$f":"Données!$F747*F$4","v":1143.8},{"$f":"Données!$F747*G$4","v":1083.6000000000001},{"$f":"Données!$F747*H$4","v":1023.4}]
[null,5575,"Bourseigne-Neuve","Gedinne",1784,1204,{"$f":"Données!$E748*B$4","v":2051.6},{"$f":"Données!$E748*C$4","v":1962.4},{"$f":"Données!$E748*D$4","v":1873.2},{"$f":"Données!$E748*E$4","v":1784},{"$f":"Données!$E748*F$4","v":1694.8},{"$f":"Données!$E748*G$4","v":1605.6000000000001},{"$f":"Données!$E748*H$4","v":1516.3999999999999},{"$f":"Données!$F748*B$4","v":1384.6},{"$f":"Données!$F748*C$4","v":1324.4},{"$f":"Données!$F748*D$4","v":1264.2},{"$f":"Données!$F748*E$4","v":1204},{"$f":"Données!$F748*F$4","v":1143.8},{"$f":"Données!$F748*G$4","v":1083.6000000000001},{"$f":"Données!$F748*H$4","v":1023.4}]
[null,5575,"Houdremont","Gedinne",1784,1204,{"$f":"Données!$E749*B$4","v":2051.6},{"$f":"Données!$E749*C$4","v":1962.4},{"$f":"Données!$E749*D$4","v":1873.2},{"$f":"Données!$E749*E$4","v":1784},{"$f":"Données!$E749*F$4","v":1694.8},{"$f":"Données!$E749*G$4","v":1605.6000000000001},{"$f":"Données!$E749*H$4","v":1516.3999999999999},{"$f":"Données!$F749*B$4","v":1384.6},{"$f":"Données!$F749*C$4","v":1324.4},{"$f":"Données!$F749*D$4","v":1264.2},{"$f":"Données!$F749*E$4","v":1204},{"$f":"Données!$F749*F$4","v":1143.8},{"$f":"Données!$F749*G$4","v":1083.6000000000001},{"$f":"Données!$F749*H$4","v":1023.4}]
[null,5575,"Rienne","Gedinne",1784,1204,{"$f":"Données!$E750*B$4","v":2051.6},{"$f":"Données!$E750*C$4","v":1962.4},{"$f":"Données!$E750*D$4","v":1873.2},{"$f":"Données!$E750*E$4","v":1784},{"$f":"Données!$E750*F$4","v":1694.8},{"$f":"Données!$E750*G$4","v":1605.6000000000001},{"$f":"Données!$E750*H$4","v":1516.3999999999999},{"$f":"Données!$F750*B$4","v":1384.6},{"$f":"Données!$F750*C$4","v":1324.4},{"$f":"Données!$F750*D$4","v":1264.2},{"$f":"Données!$F750*E$4","v":1204},{"$f":"Données!$F750*F$4","v":1143.8},{"$f":"Données!$F750*G$4","v":1083.6000000000001},{"$f":"Données!$F750*H$4","v":1023.4}]
[null,5575,"Willerzie","Gedinne",1784,1204,{"$f":"Données!$E751*B$4","v":2051.6},{"$f":"Données!$E751*C$4","v":1962.4},{"$f":"Données!$E751*D$4","v":1873.2},{"$f":"Données!$E751*E$4","v":1784},{"$f":"Données!$E751*F$4","v":1694.8},{"$f":"Données!$E751*G$4","v":1605.6000000000001},{"$f":"Données!$E751*H$4","v":1516.3999999999999},{"$f":"Données!$F751*B$4","v":1384.6},{"$f":"Données!$F751*C$4","v":1324.4},{"$f":"Données!$F751*D$4","v":1264.2},{"$f":"Données!$F751*E$4","v":1204},{"$f":"Données!$F751*F$4","v":1143.8},{"$f":"Données!$F751*G$4","v":1083.6000000000001},{"$f":"Données!$F751*H$4","v":1023.4}]
[null,5575,"Sart-Custinne","Gedinne",1784,1204,{"$f":"Données!$E752*B$4","v":2051.6},{"$f":"Données!$E752*C$4","v":1962.4},{"$f":"Données!$E752*D$4","v":1873.2},{"$f":"Données!$E752*E$4","v":1784},{"$f":"Données!$E752*F$4","v":1694.8},{"$f":"Données!$E752*G$4","v":1605.6000000000001},{"$f":"Données!$E752*H$4","v":1516.3999999999999},{"$f":"Données!$F752*B$4","v":1384.6},{"$f":"Données!$F752*C$4","v":1324.4},{"$f":"Données!$F752*D$4","v":1264.2},{"$f":"Données!$F752*E$4","v":1204},{"$f":"Données!$F752*F$4","v":1143.8},{"$f":"Données!$F752*G$4","v":1083.6000000000001},{"$f":"Données!$F752*H$4","v":1023.4}]
[null,5575,"Vencimont","Gedinne",1784,1204,{"$f":"Données!$E753*B$4","v":2051.6},{"$f":"Données!$E753*C$4","v":1962.4},{"$f":"Données!$E753*D$4","v":1873.2},{"$f":"Données!$E753*E$4","v":1784},{"$f":"Données!$E753*F$4","v":1694.8},{"$f":"Données!$E753*G$4","v":1605.6000000000001},{"$f":"Données!$E753*H$4","v":1516.3999999999999},{"$f":"Données!$F753*B$4","v":1384.6},{"$f":"Données!$F753*C$4","v":1324.4},{"$f":"Données!$F753*D$4","v":1264.2},{"$f":"Données!$F753*E$4","v":1204},{"$f":"Données!$F753*F$4","v":1143.8},{"$f":"Données!$F753*G$4","v":1083.6000000000001},{"$f":"Données!$F753*H$4","v":1023.4}]
[null,5575,"Bourseigne-Vieille","Gedinne",1784,1204,{"$f":"Données!$E754*B$4","v":2051.6},{"$f":"Données!$E754*C$4","v":1962.4},{"$f":"Données!$E754*D$4","v":1873.2},{"$f":"Données!$E754*E$4","v":1784},{"$f":"Données!$E754*F$4","v":1694.8},{"$f":"Données!$E754*G$4","v":1605.6000000000001},{"$f":"Données!$E754*H$4","v":1516.3999999999999},{"$f":"Données!$F754*B$4","v":1384.6},{"$f":"Données!$F754*C$4","v":1324.4},{"$f":"Données!$F754*D$4","v":1264.2},{"$f":"Données!$F754*E$4","v":1204},{"$f":"Données!$F754*F$4","v":1143.8},{"$f":"Données!$F754*G$4","v":1083.6000000000001},{"$f":"Données!$F754*H$4","v":1023.4}]
[null,5575,"Gedinne","Gedinne",1784,1204,{"$f":"Données!$E755*B$4","v":2051.6},{"$f":"Données!$E755*C$4","v":1962.4},{"$f":"Données!$E755*D$4","v":1873.2},{"$f":"Données!$E755*E$4","v":1784},{"$f":"Données!$E755*F$4","v":1694.8},{"$f":"Données!$E755*G$4","v":1605.6000000000001},{"$f":"Données!$E755*H$4","v":1516.3999999999999},{"$f":"Données!$F755*B$4","v":1384.6},{"$f":"Données!$F755*C$4","v":1324.4},{"$f":"Données!$F755*D$4","v":1264.2},{"$f":"Données!$F755*E$4","v":1204},{"$f":"Données!$F755*F$4","v":1143.8},{"$f":"Données!$F755*G$4","v":1083.6000000000001},{"$f":"Données!$F755*H$4","v":1023.4}]
[null,5576,"Froidfontaine","Beauraing",1897,1335,{"$f":"Données!$E756*B$4","v":2181.5499999999997},{"$f":"Données!$E756*C$4","v":2086.7000000000003},{"$f":"Données!$E756*D$4","v":1991.8500000000001},{"$f":"Données!$E756*E$4","v":1897},{"$f":"Données!$E756*F$4","v":1802.1499999999999},{"$f":"Données!$E756*G$4","v":1707.3},{"$f":"Données!$E756*H$4","v":1612.45},{"$f":"Données!$F756*B$4","v":1535.2499999999998},{"$f":"Données!$F756*C$4","v":1468.5000000000002},{"$f":"Données!$F756*D$4","v":1401.75},{"$f":"Données!$F756*E$4","v":1335},{"$f":"Données!$F756*F$4","v":1268.25},{"$f":"Données!$F756*G$4","v":1201.5},{"$f":"Données!$F756*H$4","v":1134.75}]
[null,5580,"Ave-Et-Auffe","Rochefort",2161,1444,{"$f":"Données!$E757*B$4","v":2485.1499999999996},{"$f":"Données!$E757*C$4","v":2377.1000000000004},{"$f":"Données!$E757*D$4","v":2269.0500000000002},{"$f":"Données!$E757*E$4","v":2161},{"$f":"Données!$E757*F$4","v":2052.9499999999998},{"$f":"Données!$E757*G$4","v":1944.9},{"$f":"Données!$E757*H$4","v":1836.85},{"$f":"Données!$F757*B$4","v":1660.6},{"$f":"Données!$F757*C$4","v":1588.4},{"$f":"Données!$F757*D$4","v":1516.2},{"$f":"Données!$F757*E$4","v":1444},{"$f":"Données!$F757*F$4","v":1371.8},{"$f":"Données!$F757*G$4","v":1299.6000000000001},{"$f":"Données!$F757*H$4","v":1227.3999999999999}]
[null,5580,"Eprave","Rochefort",2161,1444,{"$f":"Données!$E758*B$4","v":2485.1499999999996},{"$f":"Données!$E758*C$4","v":2377.1000000000004},{"$f":"Données!$E758*D$4","v":2269.0500000000002},{"$f":"Données!$E758*E$4","v":2161},{"$f":"Données!$E758*F$4","v":2052.9499999999998},{"$f":"Données!$E758*G$4","v":1944.9},{"$f":"Données!$E758*H$4","v":1836.85},{"$f":"Données!$F758*B$4","v":1660.6},{"$f":"Données!$F758*C$4","v":1588.4},{"$f":"Données!$F758*D$4","v":1516.2},{"$f":"Données!$F758*E$4","v":1444},{"$f":"Données!$F758*F$4","v":1371.8},{"$f":"Données!$F758*G$4","v":1299.6000000000001},{"$f":"Données!$F758*H$4","v":1227.3999999999999}]
[null,5580,"Lessive","Rochefort",2161,1444,{"$f":"Données!$E759*B$4","v":2485.1499999999996},{"$f":"Données!$E759*C$4","v":2377.1000000000004},{"$f":"Données!$E759*D$4","v":2269.0500000000002},{"$f":"Données!$E759*E$4","v":2161},{"$f":"Données!$E759*F$4","v":2052.9499999999998},{"$f":"Données!$E759*G$4","v":1944.9},{"$f":"Données!$E759*H$4","v":1836.85},{"$f":"Données!$F759*B$4","v":1660.6},{"$f":"Données!$F759*C$4","v":1588.4},{"$f":"Données!$F759*D$4","v":1516.2},{"$f":"Données!$F759*E$4","v":1444},{"$f":"Données!$F759*F$4","v":1371.8},{"$f":"Données!$F759*G$4","v":1299.6000000000001},{"$f":"Données!$F759*H$4","v":1227.3999999999999}]
[null,5580,"Buissonville","Rochefort",2161,1444,{"$f":"Données!$E760*B$4","v":2485.1499999999996},{"$f":"Données!$E760*C$4","v":2377.1000000000004},{"$f":"Données!$E760*D$4","v":2269.0500000000002},{"$f":"Données!$E760*E$4","v":2161},{"$f":"Données!$E760*F$4","v":2052.9499999999998},{"$f":"Données!$E760*G$4","v":1944.9},{"$f":"Données!$E760*H$4","v":1836.85},{"$f":"Données!$F760*B$4","v":1660.6},{"$f":"Données!$F760*C$4","v":1588.4},{"$f":"Données!$F760*D$4","v":1516.2},{"$f":"Données!$F760*E$4","v":1444},{"$f":"Données!$F760*F$4","v":1371.8},{"$f":"Données!$F760*G$4","v":1299.6000000000001},{"$f":"Données!$F760*H$4","v":1227.3999999999999}]
[null,5580,"Han-Sur-Lesse","Rochefort",2161,1444,{"$f":"Données!$E761*B$4","v":2485.1499999999996},{"$f":"Données!$E761*C$4","v":2377.1000000000004},{"$f":"Données!$E761*D$4","v":2269.0500000000002},{"$f":"Données!$E761*E$4","v":2161},{"$f":"Données!$E761*F$4","v":2052.9499999999998},{"$f":"Données!$E761*G$4","v":1944.9},{"$f":"Données!$E761*H$4","v":1836.85},{"$f":"Données!$F761*B$4","v":1660.6},{"$f":"Données!$F761*C$4","v":1588.4},{"$f":"Données!$F761*D$4","v":1516.2},{"$f":"Données!$F761*E$4","v":1444},{"$f":"Données!$F761*F$4","v":1371.8},{"$f":"Données!$F761*G$4","v":1299.6000000000001},{"$f":"Données!$F761*H$4","v":1227.3999999999999}]
[null,5580,"Jemelle","Rochefort",2161,1444,{"$f":"Données!$E762*B$4","v":2485.1499999999996},{"$f":"Données!$E762*C$4","v":2377.1000000000004},{"$f":"Données!$E762*D$4","v":2269.0500000000002},{"$f":"Données!$E762*E$4","v":2161},{"$f":"Données!$E762*F$4","v":2052.9499999999998},{"$f":"Données!$E762*G$4","v":1944.9},{"$f":"Données!$E762*H$4","v":1836.85},{"$f":"Données!$F762*B$4","v":1660.6},{"$f":"Données!$F762*C$4","v":1588.4},{"$f":"Données!$F762*D$4","v":1516.2},{"$f":"Données!$F762*E$4","v":1444},{"$f":"Données!$F762*F$4","v":1371.8},{"$f":"Données!$F762*G$4","v":1299.6000000000001},{"$f":"Données!$F762*H$4","v":1227.3999999999999}]
[null,5580,"Rochefort","Rochefort",2161,1444,{"$f":"Données!$E763*B$4","v":2485.1499999999996},{"$f":"Données!$E763*C$4","v":2377.1000000000004},{"$f":"Données!$E763*D$4","v":2269.0500000000002},{"$f":"Données!$E763*E$4","v":2161},{"$f":"Données!$E763*F$4","v":2052.9499999999998},{"$f":"Données!$E763*G$4","v":1944.9},{"$f":"Données!$E763*H$4","v":1836.85},{"$f":"Données!$F763*B$4","v":1660.6},{"$f":"Données!$F763*C$4","v":1588.4},{"$f":"Données!$F763*D$4","v":1516.2},{"$f":"Données!$F763*E$4","v":1444},{"$f":"Données!$F763*F$4","v":1371.8},{"$f":"Données!$F763*G$4","v":1299.6000000000001},{"$f":"Données!$F763*H$4","v":1227.3999999999999}]
[null,5580,"Wavreille","Rochefort",2161,1444,{"$f":"Données!$E764*B$4","v":2485.1499999999996},{"$f":"Données!$E764*C$4","v":2377.1000000000004},{"$f":"Données!$E764*D$4","v":2269.0500000000002},{"$f":"Données!$E764*E$4","v":2161},{"$f":"Données!$E764*F$4","v":2052.9499999999998},{"$f":"Données!$E764*G$4","v":1944.9},{"$f":"Données!$E764*H$4","v":1836.85},{"$f":"Données!$F764*B$4","v":1660.6},{"$f":"Données!$F764*C$4","v":1588.4},{"$f":"Données!$F764*D$4","v":1516.2},{"$f":"Données!$F764*E$4","v":1444},{"$f":"Données!$F764*F$4","v":1371.8},{"$f":"Données!$F764*G$4","v":1299.6000000000001},{"$f":"Données!$F764*H$4","v":1227.3999999999999}]
[null,5580,"Villers-Sur-Lesse","Rochefort",2161,1444,{"$f":"Données!$E765*B$4","v":2485.1499999999996},{"$f":"Données!$E765*C$4","v":2377.1000000000004},{"$f":"Données!$E765*D$4","v":2269.0500000000002},{"$f":"Données!$E765*E$4","v":2161},{"$f":"Données!$E765*F$4","v":2052.9499999999998},{"$f":"Données!$E765*G$4","v":1944.9},{"$f":"Données!$E765*H$4","v":1836.85},{"$f":"Données!$F765*B$4","v":1660.6},{"$f":"Données!$F765*C$4","v":1588.4},{"$f":"Données!$F765*D$4","v":1516.2},{"$f":"Données!$F765*E$4","v":1444},{"$f":"Données!$F765*F$4","v":1371.8},{"$f":"Données!$F765*G$4","v":1299.6000000000001},{"$f":"Données!$F765*H$4","v":1227.3999999999999}]
[null,5580,"Mont-Gauthier","Rochefort",2161,1444,{"$f":"Données!$E766*B$4","v":2485.1499999999996},{"$f":"Données!$E766*C$4","v":2377.1000000000004},{"$f":"Données!$E766*D$4","v":2269.0500000000002},{"$f":"Données!$E766*E$4","v":2161},{"$f":"Données!$E766*F$4","v":2052.9499999999998},{"$f":"Données!$E766*G$4","v":1944.9},{"$f":"Données!$E766*H$4","v":1836.85},{"$f":"Données!$F766*B$4","v":1660.6},{"$f":"Données!$F766*C$4","v":1588.4},{"$f":"Données!$F766*D$4","v":1516.2},{"$f":"Données!$F766*E$4","v":1444},{"$f":"Données!$F766*F$4","v":1371.8},{"$f":"Données!$F766*G$4","v":1299.6000000000001},{"$f":"Données!$F766*H$4","v":1227.3999999999999}]
[null,5590,"Braibant","Ciney",2379,1626,{"$f":"Données!$E767*B$4","v":2735.85},{"$f":"Données!$E767*C$4","v":2616.9},{"$f":"Données!$E767*D$4","v":2497.9500000000003},{"$f":"Données!$E767*E$4","v":2379},{"$f":"Données!$E767*F$4","v":2260.0499999999997},{"$f":"Données!$E767*G$4","v":2141.1},{"$f":"Données!$E767*H$4","v":2022.1499999999999},{"$f":"Données!$F767*B$4","v":1869.8999999999999},{"$f":"Données!$F767*C$4","v":1788.6000000000001},{"$f":"Données!$F767*D$4","v":1707.3000000000002},{"$f":"Données!$F767*E$4","v":1626},{"$f":"Données!$F767*F$4","v":1544.6999999999998},{"$f":"Données!$F767*G$4","v":1463.4},{"$f":"Données!$F767*H$4","v":1382.1}]
[null,5590,"Ciney","Ciney",2379,1626,{"$f":"Données!$E768*B$4","v":2735.85},{"$f":"Données!$E768*C$4","v":2616.9},{"$f":"Données!$E768*D$4","v":2497.9500000000003},{"$f":"Données!$E768*E$4","v":2379},{"$f":"Données!$E768*F$4","v":2260.0499999999997},{"$f":"Données!$E768*G$4","v":2141.1},{"$f":"Données!$E768*H$4","v":2022.1499999999999},{"$f":"Données!$F768*B$4","v":1869.8999999999999},{"$f":"Données!$F768*C$4","v":1788.6000000000001},{"$f":"Données!$F768*D$4","v":1707.3000000000002},{"$f":"Données!$F768*E$4","v":1626},{"$f":"Données!$F768*F$4","v":1544.6999999999998},{"$f":"Données!$F768*G$4","v":1463.4},{"$f":"Données!$F768*H$4","v":1382.1}]
[null,5590,"Conneux","Ciney",2379,1626,{"$f":"Données!$E769*B$4","v":2735.85},{"$f":"Données!$E769*C$4","v":2616.9},{"$f":"Données!$E769*D$4","v":2497.9500000000003},{"$f":"Données!$E769*E$4","v":2379},{"$f":"Données!$E769*F$4","v":2260.0499999999997},{"$f":"Données!$E769*G$4","v":2141.1},{"$f":"Données!$E769*H$4","v":2022.1499999999999},{"$f":"Données!$F769*B$4","v":1869.8999999999999},{"$f":"Données!$F769*C$4","v":1788.6000000000001},{"$f":"Données!$F769*D$4","v":1707.3000000000002},{"$f":"Données!$F769*E$4","v":1626},{"$f":"Données!$F769*F$4","v":1544.6999999999998},{"$f":"Données!$F769*G$4","v":1463.4},{"$f":"Données!$F769*H$4","v":1382.1}]
[null,5590,"Sovet","Ciney",2379,1626,{"$f":"Données!$E770*B$4","v":2735.85},{"$f":"Données!$E770*C$4","v":2616.9},{"$f":"Données!$E770*D$4","v":2497.9500000000003},{"$f":"Données!$E770*E$4","v":2379},{"$f":"Données!$E770*F$4","v":2260.0499999999997},{"$f":"Données!$E770*G$4","v":2141.1},{"$f":"Données!$E770*H$4","v":2022.1499999999999},{"$f":"Données!$F770*B$4","v":1869.8999999999999},{"$f":"Données!$F770*C$4","v":1788.6000000000001},{"$f":"Données!$F770*D$4","v":1707.3000000000002},{"$f":"Données!$F770*E$4","v":1626},{"$f":"Données!$F770*F$4","v":1544.6999999999998},{"$f":"Données!$F770*G$4","v":1463.4},{"$f":"Données!$F770*H$4","v":1382.1}]
[null,5590,"Haversin","Ciney",2379,1626,{"$f":"Données!$E771*B$4","v":2735.85},{"$f":"Données!$E771*C$4","v":2616.9},{"$f":"Données!$E771*D$4","v":2497.9500000000003},{"$f":"Données!$E771*E$4","v":2379},{"$f":"Données!$E771*F$4","v":2260.0499999999997},{"$f":"Données!$E771*G$4","v":2141.1},{"$f":"Données!$E771*H$4","v":2022.1499999999999},{"$f":"Données!$F771*B$4","v":1869.8999999999999},{"$f":"Données!$F771*C$4","v":1788.6000000000001},{"$f":"Données!$F771*D$4","v":1707.3000000000002},{"$f":"Données!$F771*E$4","v":1626},{"$f":"Données!$F771*F$4","v":1544.6999999999998},{"$f":"Données!$F771*G$4","v":1463.4},{"$f":"Données!$F771*H$4","v":1382.1}]
[null,5590,"Serinchamps","Ciney",2379,1626,{"$f":"Données!$E772*B$4","v":2735.85},{"$f":"Données!$E772*C$4","v":2616.9},{"$f":"Données!$E772*D$4","v":2497.9500000000003},{"$f":"Données!$E772*E$4","v":2379},{"$f":"Données!$E772*F$4","v":2260.0499999999997},{"$f":"Données!$E772*G$4","v":2141.1},{"$f":"Données!$E772*H$4","v":2022.1499999999999},{"$f":"Données!$F772*B$4","v":1869.8999999999999},{"$f":"Données!$F772*C$4","v":1788.6000000000001},{"$f":"Données!$F772*D$4","v":1707.3000000000002},{"$f":"Données!$F772*E$4","v":1626},{"$f":"Données!$F772*F$4","v":1544.6999999999998},{"$f":"Données!$F772*G$4","v":1463.4},{"$f":"Données!$F772*H$4","v":1382.1}]
[null,5590,"Achêne","Ciney",2379,1626,{"$f":"Données!$E773*B$4","v":2735.85},{"$f":"Données!$E773*C$4","v":2616.9},{"$f":"Données!$E773*D$4","v":2497.9500000000003},{"$f":"Données!$E773*E$4","v":2379},{"$f":"Données!$E773*F$4","v":2260.0499999999997},{"$f":"Données!$E773*G$4","v":2141.1},{"$f":"Données!$E773*H$4","v":2022.1499999999999},{"$f":"Données!$F773*B$4","v":1869.8999999999999},{"$f":"Données!$F773*C$4","v":1788.6000000000001},{"$f":"Données!$F773*D$4","v":1707.3000000000002},{"$f":"Données!$F773*E$4","v":1626},{"$f":"Données!$F773*F$4","v":1544.6999999999998},{"$f":"Données!$F773*G$4","v":1463.4},{"$f":"Données!$F773*H$4","v":1382.1}]
[null,5590,"Leignon","Ciney",2379,1626,{"$f":"Données!$E774*B$4","v":2735.85},{"$f":"Données!$E774*C$4","v":2616.9},{"$f":"Données!$E774*D$4","v":2497.9500000000003},{"$f":"Données!$E774*E$4","v":2379},{"$f":"Données!$E774*F$4","v":2260.0499999999997},{"$f":"Données!$E774*G$4","v":2141.1},{"$f":"Données!$E774*H$4","v":2022.1499999999999},{"$f":"Données!$F774*B$4","v":1869.8999999999999},{"$f":"Données!$F774*C$4","v":1788.6000000000001},{"$f":"Données!$F774*D$4","v":1707.3000000000002},{"$f":"Données!$F774*E$4","v":1626},{"$f":"Données!$F774*F$4","v":1544.6999999999998},{"$f":"Données!$F774*G$4","v":1463.4},{"$f":"Données!$F774*H$4","v":1382.1}]
[null,5590,"Chevetogne","Ciney",2379,1626,{"$f":"Données!$E775*B$4","v":2735.85},{"$f":"Données!$E775*C$4","v":2616.9},{"$f":"Données!$E775*D$4","v":2497.9500000000003},{"$f":"Données!$E775*E$4","v":2379},{"$f":"Données!$E775*F$4","v":2260.0499999999997},{"$f":"Données!$E775*G$4","v":2141.1},{"$f":"Données!$E775*H$4","v":2022.1499999999999},{"$f":"Données!$F775*B$4","v":1869.8999999999999},{"$f":"Données!$F775*C$4","v":1788.6000000000001},{"$f":"Données!$F775*D$4","v":1707.3000000000002},{"$f":"Données!$F775*E$4","v":1626},{"$f":"Données!$F775*F$4","v":1544.6999999999998},{"$f":"Données!$F775*G$4","v":1463.4},{"$f":"Données!$F775*H$4","v":1382.1}]
[null,5590,"Pessoux","Ciney",2379,1626,{"$f":"Données!$E776*B$4","v":2735.85},{"$f":"Données!$E776*C$4","v":2616.9},{"$f":"Données!$E776*D$4","v":2497.9500000000003},{"$f":"Données!$E776*E$4","v":2379},{"$f":"Données!$E776*F$4","v":2260.0499999999997},{"$f":"Données!$E776*G$4","v":2141.1},{"$f":"Données!$E776*H$4","v":2022.1499999999999},{"$f":"Données!$F776*B$4","v":1869.8999999999999},{"$f":"Données!$F776*C$4","v":1788.6000000000001},{"$f":"Données!$F776*D$4","v":1707.3000000000002},{"$f":"Données!$F776*E$4","v":1626},{"$f":"Données!$F776*F$4","v":1544.6999999999998},{"$f":"Données!$F776*G$4","v":1463.4},{"$f":"Données!$F776*H$4","v":1382.1}]
[null,5600,"Jamagne","Philippeville",2015,1190,{"$f":"Données!$E777*B$4","v":2317.25},{"$f":"Données!$E777*C$4","v":2216.5},{"$f":"Données!$E777*D$4","v":2115.75},{"$f":"Données!$E777*E$4","v":2015},{"$f":"Données!$E777*F$4","v":1914.25},{"$f":"Données!$E777*G$4","v":1813.5},{"$f":"Données!$E777*H$4","v":1712.75},{"$f":"Données!$F777*B$4","v":1368.5},{"$f":"Données!$F777*C$4","v":1309},{"$f":"Données!$F777*D$4","v":1249.5},{"$f":"Données!$F777*E$4","v":1190},{"$f":"Données!$F777*F$4","v":1130.5},{"$f":"Données!$F777*G$4","v":1071},{"$f":"Données!$F777*H$4","v":1011.5}]
[null,5600,"Neuville","Philippeville",2015,1190,{"$f":"Données!$E778*B$4","v":2317.25},{"$f":"Données!$E778*C$4","v":2216.5},{"$f":"Données!$E778*D$4","v":2115.75},{"$f":"Données!$E778*E$4","v":2015},{"$f":"Données!$E778*F$4","v":1914.25},{"$f":"Données!$E778*G$4","v":1813.5},{"$f":"Données!$E778*H$4","v":1712.75},{"$f":"Données!$F778*B$4","v":1368.5},{"$f":"Données!$F778*C$4","v":1309},{"$f":"Données!$F778*D$4","v":1249.5},{"$f":"Données!$F778*E$4","v":1190},{"$f":"Données!$F778*F$4","v":1130.5},{"$f":"Données!$F778*G$4","v":1071},{"$f":"Données!$F778*H$4","v":1011.5}]
[null,5600,"Omezée","Philippeville",2015,1190,{"$f":"Données!$E779*B$4","v":2317.25},{"$f":"Données!$E779*C$4","v":2216.5},{"$f":"Données!$E779*D$4","v":2115.75},{"$f":"Données!$E779*E$4","v":2015},{"$f":"Données!$E779*F$4","v":1914.25},{"$f":"Données!$E779*G$4","v":1813.5},{"$f":"Données!$E779*H$4","v":1712.75},{"$f":"Données!$F779*B$4","v":1368.5},{"$f":"Données!$F779*C$4","v":1309},{"$f":"Données!$F779*D$4","v":1249.5},{"$f":"Données!$F779*E$4","v":1190},{"$f":"Données!$F779*F$4","v":1130.5},{"$f":"Données!$F779*G$4","v":1071},{"$f":"Données!$F779*H$4","v":1011.5}]
[null,5600,"Philippeville","Philippeville",2015,1190,{"$f":"Données!$E780*B$4","v":2317.25},{"$f":"Données!$E780*C$4","v":2216.5},{"$f":"Données!$E780*D$4","v":2115.75},{"$f":"Données!$E780*E$4","v":2015},{"$f":"Données!$E780*F$4","v":1914.25},{"$f":"Données!$E780*G$4","v":1813.5},{"$f":"Données!$E780*H$4","v":1712.75},{"$f":"Données!$F780*B$4","v":1368.5},{"$f":"Données!$F780*C$4","v":1309},{"$f":"Données!$F780*D$4","v":1249.5},{"$f":"Données!$F780*E$4","v":1190},{"$f":"Données!$F780*F$4","v":1130.5},{"$f":"Données!$F780*G$4","v":1071},{"$f":"Données!$F780*H$4","v":1011.5}]
[null,5600,"Sautour","Philippeville",2015,1190,{"$f":"Données!$E781*B$4","v":2317.25},{"$f":"Données!$E781*C$4","v":2216.5},{"$f":"Données!$E781*D$4","v":2115.75},{"$f":"Données!$E781*E$4","v":2015},{"$f":"Données!$E781*F$4","v":1914.25},{"$f":"Données!$E781*G$4","v":1813.5},{"$f":"Données!$E781*H$4","v":1712.75},{"$f":"Données!$F781*B$4","v":1368.5},{"$f":"Données!$F781*C$4","v":1309},{"$f":"Données!$F781*D$4","v":1249.5},{"$f":"Données!$F781*E$4","v":1190},{"$f":"Données!$F781*F$4","v":1130.5},{"$f":"Données!$F781*G$4","v":1071},{"$f":"Données!$F781*H$4","v":1011.5}]
[null,5600,"Villers-En-Fagne","Philippeville",2015,1190,{"$f":"Données!$E782*B$4","v":2317.25},{"$f":"Données!$E782*C$4","v":2216.5},{"$f":"Données!$E782*D$4","v":2115.75},{"$f":"Données!$E782*E$4","v":2015},{"$f":"Données!$E782*F$4","v":1914.25},{"$f":"Données!$E782*G$4","v":1813.5},{"$f":"Données!$E782*H$4","v":1712.75},{"$f":"Données!$F782*B$4","v":1368.5},{"$f":"Données!$F782*C$4","v":1309},{"$f":"Données!$F782*D$4","v":1249.5},{"$f":"Données!$F782*E$4","v":1190},{"$f":"Données!$F782*F$4","v":1130.5},{"$f":"Données!$F782*G$4","v":1071},{"$f":"Données!$F782*H$4","v":1011.5}]
[null,5600,"Sart-En-Fagne","Philippeville",2015,1190,{"$f":"Données!$E783*B$4","v":2317.25},{"$f":"Données!$E783*C$4","v":2216.5},{"$f":"Données!$E783*D$4","v":2115.75},{"$f":"Données!$E783*E$4","v":2015},{"$f":"Données!$E783*F$4","v":1914.25},{"$f":"Données!$E783*G$4","v":1813.5},{"$f":"Données!$E783*H$4","v":1712.75},{"$f":"Données!$F783*B$4","v":1368.5},{"$f":"Données!$F783*C$4","v":1309},{"$f":"Données!$F783*D$4","v":1249.5},{"$f":"Données!$F783*E$4","v":1190},{"$f":"Données!$F783*F$4","v":1130.5},{"$f":"Données!$F783*G$4","v":1071},{"$f":"Données!$F783*H$4","v":1011.5}]
[null,5600,"Villers-Le-Gambon","Philippeville",2015,1190,{"$f":"Données!$E784*B$4","v":2317.25},{"$f":"Données!$E784*C$4","v":2216.5},{"$f":"Données!$E784*D$4","v":2115.75},{"$f":"Données!$E784*E$4","v":2015},{"$f":"Données!$E784*F$4","v":1914.25},{"$f":"Données!$E784*G$4","v":1813.5},{"$f":"Données!$E784*H$4","v":1712.75},{"$f":"Données!$F784*B$4","v":1368.5},{"$f":"Données!$F784*C$4","v":1309},{"$f":"Données!$F784*D$4","v":1249.5},{"$f":"Données!$F784*E$4","v":1190},{"$f":"Données!$F784*F$4","v":1130.5},{"$f":"Données!$F784*G$4","v":1071},{"$f":"Données!$F784*H$4","v":1011.5}]
[null,5600,"Fagnolle","Philippeville",2015,1190,{"$f":"Données!$E785*B$4","v":2317.25},{"$f":"Données!$E785*C$4","v":2216.5},{"$f":"Données!$E785*D$4","v":2115.75},{"$f":"Données!$E785*E$4","v":2015},{"$f":"Données!$E785*F$4","v":1914.25},{"$f":"Données!$E785*G$4","v":1813.5},{"$f":"Données!$E785*H$4","v":1712.75},{"$f":"Données!$F785*B$4","v":1368.5},{"$f":"Données!$F785*C$4","v":1309},{"$f":"Données!$F785*D$4","v":1249.5},{"$f":"Données!$F785*E$4","v":1190},{"$f":"Données!$F785*F$4","v":1130.5},{"$f":"Données!$F785*G$4","v":1071},{"$f":"Données!$F785*H$4","v":1011.5}]
[null,5600,"Jamiolle","Philippeville",2015,1190,{"$f":"Données!$E786*B$4","v":2317.25},{"$f":"Données!$E786*C$4","v":2216.5},{"$f":"Données!$E786*D$4","v":2115.75},{"$f":"Données!$E786*E$4","v":2015},{"$f":"Données!$E786*F$4","v":1914.25},{"$f":"Données!$E786*G$4","v":1813.5},{"$f":"Données!$E786*H$4","v":1712.75},{"$f":"Données!$F786*B$4","v":1368.5},{"$f":"Données!$F786*C$4","v":1309},{"$f":"Données!$F786*D$4","v":1249.5},{"$f":"Données!$F786*E$4","v":1190},{"$f":"Données!$F786*F$4","v":1130.5},{"$f":"Données!$F786*G$4","v":1071},{"$f":"Données!$F786*H$4","v":1011.5}]
[null,5600,"Romedenne","Philippeville",2015,1190,{"$f":"Données!$E787*B$4","v":2317.25},{"$f":"Données!$E787*C$4","v":2216.5},{"$f":"Données!$E787*D$4","v":2115.75},{"$f":"Données!$E787*E$4","v":2015},{"$f":"Données!$E787*F$4","v":1914.25},{"$f":"Données!$E787*G$4","v":1813.5},{"$f":"Données!$E787*H$4","v":1712.75},{"$f":"Données!$F787*B$4","v":1368.5},{"$f":"Données!$F787*C$4","v":1309},{"$f":"Données!$F787*D$4","v":1249.5},{"$f":"Données!$F787*E$4","v":1190},{"$f":"Données!$F787*F$4","v":1130.5},{"$f":"Données!$F787*G$4","v":1071},{"$f":"Données!$F787*H$4","v":1011.5}]
[null,5600,"Franchimont","Philippeville",2015,1190,{"$f":"Données!$E788*B$4","v":2317.25},{"$f":"Données!$E788*C$4","v":2216.5},{"$f":"Données!$E788*D$4","v":2115.75},{"$f":"Données!$E788*E$4","v":2015},{"$f":"Données!$E788*F$4","v":1914.25},{"$f":"Données!$E788*G$4","v":1813.5},{"$f":"Données!$E788*H$4","v":1712.75},{"$f":"Données!$F788*B$4","v":1368.5},{"$f":"Données!$F788*C$4","v":1309},{"$f":"Données!$F788*D$4","v":1249.5},{"$f":"Données!$F788*E$4","v":1190},{"$f":"Données!$F788*F$4","v":1130.5},{"$f":"Données!$F788*G$4","v":1071},{"$f":"Données!$F788*H$4","v":1011.5}]
[null,5600,"Merlemont","Philippeville",2015,1190,{"$f":"Données!$E789*B$4","v":2317.25},{"$f":"Données!$E789*C$4","v":2216.5},{"$f":"Données!$E789*D$4","v":2115.75},{"$f":"Données!$E789*E$4","v":2015},{"$f":"Données!$E789*F$4","v":1914.25},{"$f":"Données!$E789*G$4","v":1813.5},{"$f":"Données!$E789*H$4","v":1712.75},{"$f":"Données!$F789*B$4","v":1368.5},{"$f":"Données!$F789*C$4","v":1309},{"$f":"Données!$F789*D$4","v":1249.5},{"$f":"Données!$F789*E$4","v":1190},{"$f":"Données!$F789*F$4","v":1130.5},{"$f":"Données!$F789*G$4","v":1071},{"$f":"Données!$F789*H$4","v":1011.5}]
[null,5600,"Roly","Philippeville",2015,1190,{"$f":"Données!$E790*B$4","v":2317.25},{"$f":"Données!$E790*C$4","v":2216.5},{"$f":"Données!$E790*D$4","v":2115.75},{"$f":"Données!$E790*E$4","v":2015},{"$f":"Données!$E790*F$4","v":1914.25},{"$f":"Données!$E790*G$4","v":1813.5},{"$f":"Données!$E790*H$4","v":1712.75},{"$f":"Données!$F790*B$4","v":1368.5},{"$f":"Données!$F790*C$4","v":1309},{"$f":"Données!$F790*D$4","v":1249.5},{"$f":"Données!$F790*E$4","v":1190},{"$f":"Données!$F790*F$4","v":1130.5},{"$f":"Données!$F790*G$4","v":1071},{"$f":"Données!$F790*H$4","v":1011.5}]
[null,5600,"Samart","Philippeville",2015,1190,{"$f":"Données!$E791*B$4","v":2317.25},{"$f":"Données!$E791*C$4","v":2216.5},{"$f":"Données!$E791*D$4","v":2115.75},{"$f":"Données!$E791*E$4","v":2015},{"$f":"Données!$E791*F$4","v":1914.25},{"$f":"Données!$E791*G$4","v":1813.5},{"$f":"Données!$E791*H$4","v":1712.75},{"$f":"Données!$F791*B$4","v":1368.5},{"$f":"Données!$F791*C$4","v":1309},{"$f":"Données!$F791*D$4","v":1249.5},{"$f":"Données!$F791*E$4","v":1190},{"$f":"Données!$F791*F$4","v":1130.5},{"$f":"Données!$F791*G$4","v":1071},{"$f":"Données!$F791*H$4","v":1011.5}]
[null,5600,"Surice","Philippeville",2015,1190,{"$f":"Données!$E792*B$4","v":2317.25},{"$f":"Données!$E792*C$4","v":2216.5},{"$f":"Données!$E792*D$4","v":2115.75},{"$f":"Données!$E792*E$4","v":2015},{"$f":"Données!$E792*F$4","v":1914.25},{"$f":"Données!$E792*G$4","v":1813.5},{"$f":"Données!$E792*H$4","v":1712.75},{"$f":"Données!$F792*B$4","v":1368.5},{"$f":"Données!$F792*C$4","v":1309},{"$f":"Données!$F792*D$4","v":1249.5},{"$f":"Données!$F792*E$4","v":1190},{"$f":"Données!$F792*F$4","v":1130.5},{"$f":"Données!$F792*G$4","v":1071},{"$f":"Données!$F792*H$4","v":1011.5}]
[null,5600,"Vodecée","Philippeville",2015,1190,{"$f":"Données!$E793*B$4","v":2317.25},{"$f":"Données!$E793*C$4","v":2216.5},{"$f":"Données!$E793*D$4","v":2115.75},{"$f":"Données!$E793*E$4","v":2015},{"$f":"Données!$E793*F$4","v":1914.25},{"$f":"Données!$E793*G$4","v":1813.5},{"$f":"Données!$E793*H$4","v":1712.75},{"$f":"Données!$F793*B$4","v":1368.5},{"$f":"Données!$F793*C$4","v":1309},{"$f":"Données!$F793*D$4","v":1249.5},{"$f":"Données!$F793*E$4","v":1190},{"$f":"Données!$F793*F$4","v":1130.5},{"$f":"Données!$F793*G$4","v":1071},{"$f":"Données!$F793*H$4","v":1011.5}]
[null,5620,"Florennes","Florennes",1895,1324,{"$f":"Données!$E794*B$4","v":2179.25},{"$f":"Données!$E794*C$4","v":2084.5},{"$f":"Données!$E794*D$4","v":1989.75},{"$f":"Données!$E794*E$4","v":1895},{"$f":"Données!$E794*F$4","v":1800.25},{"$f":"Données!$E794*G$4","v":1705.5},{"$f":"Données!$E794*H$4","v":1610.75},{"$f":"Données!$F794*B$4","v":1522.6},{"$f":"Données!$F794*C$4","v":1456.4},{"$f":"Données!$F794*D$4","v":1390.2},{"$f":"Données!$F794*E$4","v":1324},{"$f":"Données!$F794*F$4","v":1257.8},{"$f":"Données!$F794*G$4","v":1191.6000000000001},{"$f":"Données!$F794*H$4","v":1125.3999999999999}]
[null,5620,"Hemptinne-Lez-Florennes","Florennes",1895,1324,{"$f":"Données!$E795*B$4","v":2179.25},{"$f":"Données!$E795*C$4","v":2084.5},{"$f":"Données!$E795*D$4","v":1989.75},{"$f":"Données!$E795*E$4","v":1895},{"$f":"Données!$E795*F$4","v":1800.25},{"$f":"Données!$E795*G$4","v":1705.5},{"$f":"Données!$E795*H$4","v":1610.75},{"$f":"Données!$F795*B$4","v":1522.6},{"$f":"Données!$F795*C$4","v":1456.4},{"$f":"Données!$F795*D$4","v":1390.2},{"$f":"Données!$F795*E$4","v":1324},{"$f":"Données!$F795*F$4","v":1257.8},{"$f":"Données!$F795*G$4","v":1191.6000000000001},{"$f":"Données!$F795*H$4","v":1125.3999999999999}]
[null,5620,"Saint-Aubin","Florennes",1895,1324,{"$f":"Données!$E796*B$4","v":2179.25},{"$f":"Données!$E796*C$4","v":2084.5},{"$f":"Données!$E796*D$4","v":1989.75},{"$f":"Données!$E796*E$4","v":1895},{"$f":"Données!$E796*F$4","v":1800.25},{"$f":"Données!$E796*G$4","v":1705.5},{"$f":"Données!$E796*H$4","v":1610.75},{"$f":"Données!$F796*B$4","v":1522.6},{"$f":"Données!$F796*C$4","v":1456.4},{"$f":"Données!$F796*D$4","v":1390.2},{"$f":"Données!$F796*E$4","v":1324},{"$f":"Données!$F796*F$4","v":1257.8},{"$f":"Données!$F796*G$4","v":1191.6000000000001},{"$f":"Données!$F796*H$4","v":1125.3999999999999}]
[null,5620,"Flavion","Florennes",1895,1324,{"$f":"Données!$E797*B$4","v":2179.25},{"$f":"Données!$E797*C$4","v":2084.5},{"$f":"Données!$E797*D$4","v":1989.75},{"$f":"Données!$E797*E$4","v":1895},{"$f":"Données!$E797*F$4","v":1800.25},{"$f":"Données!$E797*G$4","v":1705.5},{"$f":"Données!$E797*H$4","v":1610.75},{"$f":"Données!$F797*B$4","v":1522.6},{"$f":"Données!$F797*C$4","v":1456.4},{"$f":"Données!$F797*D$4","v":1390.2},{"$f":"Données!$F797*E$4","v":1324},{"$f":"Données!$F797*F$4","v":1257.8},{"$f":"Données!$F797*G$4","v":1191.6000000000001},{"$f":"Données!$F797*H$4","v":1125.3999999999999}]
[null,5620,"Morville","Florennes",1895,1324,{"$f":"Données!$E798*B$4","v":2179.25},{"$f":"Données!$E798*C$4","v":2084.5},{"$f":"Données!$E798*D$4","v":1989.75},{"$f":"Données!$E798*E$4","v":1895},{"$f":"Données!$E798*F$4","v":1800.25},{"$f":"Données!$E798*G$4","v":1705.5},{"$f":"Données!$E798*H$4","v":1610.75},{"$f":"Données!$F798*B$4","v":1522.6},{"$f":"Données!$F798*C$4","v":1456.4},{"$f":"Données!$F798*D$4","v":1390.2},{"$f":"Données!$F798*E$4","v":1324},{"$f":"Données!$F798*F$4","v":1257.8},{"$f":"Données!$F798*G$4","v":1191.6000000000001},{"$f":"Données!$F798*H$4","v":1125.3999999999999}]
[null,5620,"Corenne","Florennes",1895,1324,{"$f":"Données!$E799*B$4","v":2179.25},{"$f":"Données!$E799*C$4","v":2084.5},{"$f":"Données!$E799*D$4","v":1989.75},{"$f":"Données!$E799*E$4","v":1895},{"$f":"Données!$E799*F$4","v":1800.25},{"$f":"Données!$E799*G$4","v":1705.5},{"$f":"Données!$E799*H$4","v":1610.75},{"$f":"Données!$F799*B$4","v":1522.6},{"$f":"Données!$F799*C$4","v":1456.4},{"$f":"Données!$F799*D$4","v":1390.2},{"$f":"Données!$F799*E$4","v":1324},{"$f":"Données!$F799*F$4","v":1257.8},{"$f":"Données!$F799*G$4","v":1191.6000000000001},{"$f":"Données!$F799*H$4","v":1125.3999999999999}]
[null,5620,"Rosée","Florennes",1895,1324,{"$f":"Données!$E800*B$4","v":2179.25},{"$f":"Données!$E800*C$4","v":2084.5},{"$f":"Données!$E800*D$4","v":1989.75},{"$f":"Données!$E800*E$4","v":1895},{"$f":"Données!$E800*F$4","v":1800.25},{"$f":"Données!$E800*G$4","v":1705.5},{"$f":"Données!$E800*H$4","v":1610.75},{"$f":"Données!$F800*B$4","v":1522.6},{"$f":"Données!$F800*C$4","v":1456.4},{"$f":"Données!$F800*D$4","v":1390.2},{"$f":"Données!$F800*E$4","v":1324},{"$f":"Données!$F800*F$4","v":1257.8},{"$f":"Données!$F800*G$4","v":1191.6000000000001},{"$f":"Données!$F800*H$4","v":1125.3999999999999}]
[null,5621,"Hanzinne","Florennes",1895,1324,{"$f":"Données!$E801*B$4","v":2179.25},{"$f":"Données!$E801*C$4","v":2084.5},{"$f":"Données!$E801*D$4","v":1989.75},{"$f":"Données!$E801*E$4","v":1895},{"$f":"Données!$E801*F$4","v":1800.25},{"$f":"Données!$E801*G$4","v":1705.5},{"$f":"Données!$E801*H$4","v":1610.75},{"$f":"Données!$F801*B$4","v":1522.6},{"$f":"Données!$F801*C$4","v":1456.4},{"$f":"Données!$F801*D$4","v":1390.2},{"$f":"Données!$F801*E$4","v":1324},{"$f":"Données!$F801*F$4","v":1257.8},{"$f":"Données!$F801*G$4","v":1191.6000000000001},{"$f":"Données!$F801*H$4","v":1125.3999999999999}]
[null,5621,"Morialmé","Florennes",1895,1324,{"$f":"Données!$E802*B$4","v":2179.25},{"$f":"Données!$E802*C$4","v":2084.5},{"$f":"Données!$E802*D$4","v":1989.75},{"$f":"Données!$E802*E$4","v":1895},{"$f":"Données!$E802*F$4","v":1800.25},{"$f":"Données!$E802*G$4","v":1705.5},{"$f":"Données!$E802*H$4","v":1610.75},{"$f":"Données!$F802*B$4","v":1522.6},{"$f":"Données!$F802*C$4","v":1456.4},{"$f":"Données!$F802*D$4","v":1390.2},{"$f":"Données!$F802*E$4","v":1324},{"$f":"Données!$F802*F$4","v":1257.8},{"$f":"Données!$F802*G$4","v":1191.6000000000001},{"$f":"Données!$F802*H$4","v":1125.3999999999999}]
[null,5621,"Hanzinelle","Florennes",1895,1324,{"$f":"Données!$E803*B$4","v":2179.25},{"$f":"Données!$E803*C$4","v":2084.5},{"$f":"Données!$E803*D$4","v":1989.75},{"$f":"Données!$E803*E$4","v":1895},{"$f":"Données!$E803*F$4","v":1800.25},{"$f":"Données!$E803*G$4","v":1705.5},{"$f":"Données!$E803*H$4","v":1610.75},{"$f":"Données!$F803*B$4","v":1522.6},{"$f":"Données!$F803*C$4","v":1456.4},{"$f":"Données!$F803*D$4","v":1390.2},{"$f":"Données!$F803*E$4","v":1324},{"$f":"Données!$F803*F$4","v":1257.8},{"$f":"Données!$F803*G$4","v":1191.6000000000001},{"$f":"Données!$F803*H$4","v":1125.3999999999999}]
[null,5630,"Cerfontaine","Cerfontaine",1740,1195,{"$f":"Données!$E804*B$4","v":2000.9999999999998},{"$f":"Données!$E804*C$4","v":1914.0000000000002},{"$f":"Données!$E804*D$4","v":1827},{"$f":"Données!$E804*E$4","v":1740},{"$f":"Données!$E804*F$4","v":1653},{"$f":"Données!$E804*G$4","v":1566},{"$f":"Données!$E804*H$4","v":1479},{"$f":"Données!$F804*B$4","v":1374.25},{"$f":"Données!$F804*C$4","v":1314.5},{"$f":"Données!$F804*D$4","v":1254.75},{"$f":"Données!$F804*E$4","v":1195},{"$f":"Données!$F804*F$4","v":1135.25},{"$f":"Données!$F804*G$4","v":1075.5},{"$f":"Données!$F804*H$4","v":1015.75}]
[null,5630,"Soumoy","Cerfontaine",1740,1195,{"$f":"Données!$E805*B$4","v":2000.9999999999998},{"$f":"Données!$E805*C$4","v":1914.0000000000002},{"$f":"Données!$E805*D$4","v":1827},{"$f":"Données!$E805*E$4","v":1740},{"$f":"Données!$E805*F$4","v":1653},{"$f":"Données!$E805*G$4","v":1566},{"$f":"Données!$E805*H$4","v":1479},{"$f":"Données!$F805*B$4","v":1374.25},{"$f":"Données!$F805*C$4","v":1314.5},{"$f":"Données!$F805*D$4","v":1254.75},{"$f":"Données!$F805*E$4","v":1195},{"$f":"Données!$F805*F$4","v":1135.25},{"$f":"Données!$F805*G$4","v":1075.5},{"$f":"Données!$F805*H$4","v":1015.75}]
[null,5630,"Silenrieux","Cerfontaine",1740,1195,{"$f":"Données!$E806*B$4","v":2000.9999999999998},{"$f":"Données!$E806*C$4","v":1914.0000000000002},{"$f":"Données!$E806*D$4","v":1827},{"$f":"Données!$E806*E$4","v":1740},{"$f":"Données!$E806*F$4","v":1653},{"$f":"Données!$E806*G$4","v":1566},{"$f":"Données!$E806*H$4","v":1479},{"$f":"Données!$F806*B$4","v":1374.25},{"$f":"Données!$F806*C$4","v":1314.5},{"$f":"Données!$F806*D$4","v":1254.75},{"$f":"Données!$F806*E$4","v":1195},{"$f":"Données!$F806*F$4","v":1135.25},{"$f":"Données!$F806*G$4","v":1075.5},{"$f":"Données!$F806*H$4","v":1015.75}]
[null,5630,"Villers-Deux-Eglises","Cerfontaine",1740,1195,{"$f":"Données!$E807*B$4","v":2000.9999999999998},{"$f":"Données!$E807*C$4","v":1914.0000000000002},{"$f":"Données!$E807*D$4","v":1827},{"$f":"Données!$E807*E$4","v":1740},{"$f":"Données!$E807*F$4","v":1653},{"$f":"Données!$E807*G$4","v":1566},{"$f":"Données!$E807*H$4","v":1479},{"$f":"Données!$F807*B$4","v":1374.25},{"$f":"Données!$F807*C$4","v":1314.5},{"$f":"Données!$F807*D$4","v":1254.75},{"$f":"Données!$F807*E$4","v":1195},{"$f":"Données!$F807*F$4","v":1135.25},{"$f":"Données!$F807*G$4","v":1075.5},{"$f":"Données!$F807*H$4","v":1015.75}]
[null,5630,"Daussois","Cerfontaine",1740,1195,{"$f":"Données!$E808*B$4","v":2000.9999999999998},{"$f":"Données!$E808*C$4","v":1914.0000000000002},{"$f":"Données!$E808*D$4","v":1827},{"$f":"Données!$E808*E$4","v":1740},{"$f":"Données!$E808*F$4","v":1653},{"$f":"Données!$E808*G$4","v":1566},{"$f":"Données!$E808*H$4","v":1479},{"$f":"Données!$F808*B$4","v":1374.25},{"$f":"Données!$F808*C$4","v":1314.5},{"$f":"Données!$F808*D$4","v":1254.75},{"$f":"Données!$F808*E$4","v":1195},{"$f":"Données!$F808*F$4","v":1135.25},{"$f":"Données!$F808*G$4","v":1075.5},{"$f":"Données!$F808*H$4","v":1015.75}]
[null,5630,"Senzeille","Cerfontaine",1740,1195,{"$f":"Données!$E809*B$4","v":2000.9999999999998},{"$f":"Données!$E809*C$4","v":1914.0000000000002},{"$f":"Données!$E809*D$4","v":1827},{"$f":"Données!$E809*E$4","v":1740},{"$f":"Données!$E809*F$4","v":1653},{"$f":"Données!$E809*G$4","v":1566},{"$f":"Données!$E809*H$4","v":1479},{"$f":"Données!$F809*B$4","v":1374.25},{"$f":"Données!$F809*C$4","v":1314.5},{"$f":"Données!$F809*D$4","v":1254.75},{"$f":"Données!$F809*E$4","v":1195},{"$f":"Données!$F809*F$4","v":1135.25},{"$f":"Données!$F809*G$4","v":1075.5},{"$f":"Données!$F809*H$4","v":1015.75}]
[null,5640,"Biesmerée","Mettet",2124,1450,{"$f":"Données!$E810*B$4","v":2442.6},{"$f":"Données!$E810*C$4","v":2336.4},{"$f":"Données!$E810*D$4","v":2230.2000000000003},{"$f":"Données!$E810*E$4","v":2124},{"$f":"Données!$E810*F$4","v":2017.8},{"$f":"Données!$E810*G$4","v":1911.6000000000001},{"$f":"Données!$E810*H$4","v":1805.3999999999999},{"$f":"Données!$F810*B$4","v":1667.4999999999998},{"$f":"Données!$F810*C$4","v":1595.0000000000002},{"$f":"Données!$F810*D$4","v":1522.5},{"$f":"Données!$F810*E$4","v":1450},{"$f":"Données!$F810*F$4","v":1377.5},{"$f":"Données!$F810*G$4","v":1305},{"$f":"Données!$F810*H$4","v":1232.5}]
[null,5640,"Graux","Mettet",2124,1450,{"$f":"Données!$E811*B$4","v":2442.6},{"$f":"Données!$E811*C$4","v":2336.4},{"$f":"Données!$E811*D$4","v":2230.2000000000003},{"$f":"Données!$E811*E$4","v":2124},{"$f":"Données!$E811*F$4","v":2017.8},{"$f":"Données!$E811*G$4","v":1911.6000000000001},{"$f":"Données!$E811*H$4","v":1805.3999999999999},{"$f":"Données!$F811*B$4","v":1667.4999999999998},{"$f":"Données!$F811*C$4","v":1595.0000000000002},{"$f":"Données!$F811*D$4","v":1522.5},{"$f":"Données!$F811*E$4","v":1450},{"$f":"Données!$F811*F$4","v":1377.5},{"$f":"Données!$F811*G$4","v":1305},{"$f":"Données!$F811*H$4","v":1232.5}]
[null,5640,"Oret","Mettet",2124,1450,{"$f":"Données!$E812*B$4","v":2442.6},{"$f":"Données!$E812*C$4","v":2336.4},{"$f":"Données!$E812*D$4","v":2230.2000000000003},{"$f":"Données!$E812*E$4","v":2124},{"$f":"Données!$E812*F$4","v":2017.8},{"$f":"Données!$E812*G$4","v":1911.6000000000001},{"$f":"Données!$E812*H$4","v":1805.3999999999999},{"$f":"Données!$F812*B$4","v":1667.4999999999998},{"$f":"Données!$F812*C$4","v":1595.0000000000002},{"$f":"Données!$F812*D$4","v":1522.5},{"$f":"Données!$F812*E$4","v":1450},{"$f":"Données!$F812*F$4","v":1377.5},{"$f":"Données!$F812*G$4","v":1305},{"$f":"Données!$F812*H$4","v":1232.5}]
[null,5640,"Biesme","Mettet",2124,1450,{"$f":"Données!$E813*B$4","v":2442.6},{"$f":"Données!$E813*C$4","v":2336.4},{"$f":"Données!$E813*D$4","v":2230.2000000000003},{"$f":"Données!$E813*E$4","v":2124},{"$f":"Données!$E813*F$4","v":2017.8},{"$f":"Données!$E813*G$4","v":1911.6000000000001},{"$f":"Données!$E813*H$4","v":1805.3999999999999},{"$f":"Données!$F813*B$4","v":1667.4999999999998},{"$f":"Données!$F813*C$4","v":1595.0000000000002},{"$f":"Données!$F813*D$4","v":1522.5},{"$f":"Données!$F813*E$4","v":1450},{"$f":"Données!$F813*F$4","v":1377.5},{"$f":"Données!$F813*G$4","v":1305},{"$f":"Données!$F813*H$4","v":1232.5}]
[null,5640,"Mettet","Mettet",2124,1450,{"$f":"Données!$E814*B$4","v":2442.6},{"$f":"Données!$E814*C$4","v":2336.4},{"$f":"Données!$E814*D$4","v":2230.2000000000003},{"$f":"Données!$E814*E$4","v":2124},{"$f":"Données!$E814*F$4","v":2017.8},{"$f":"Données!$E814*G$4","v":1911.6000000000001},{"$f":"Données!$E814*H$4","v":1805.3999999999999},{"$f":"Données!$F814*B$4","v":1667.4999999999998},{"$f":"Données!$F814*C$4","v":1595.0000000000002},{"$f":"Données!$F814*D$4","v":1522.5},{"$f":"Données!$F814*E$4","v":1450},{"$f":"Données!$F814*F$4","v":1377.5},{"$f":"Données!$F814*G$4","v":1305},{"$f":"Données!$F814*H$4","v":1232.5}]
[null,5640,"Saint-Gérard","Mettet",2124,1450,{"$f":"Données!$E815*B$4","v":2442.6},{"$f":"Données!$E815*C$4","v":2336.4},{"$f":"Données!$E815*D$4","v":2230.2000000000003},{"$f":"Données!$E815*E$4","v":2124},{"$f":"Données!$E815*F$4","v":2017.8},{"$f":"Données!$E815*G$4","v":1911.6000000000001},{"$f":"Données!$E815*H$4","v":1805.3999999999999},{"$f":"Données!$F815*B$4","v":1667.4999999999998},{"$f":"Données!$F815*C$4","v":1595.0000000000002},{"$f":"Données!$F815*D$4","v":1522.5},{"$f":"Données!$F815*E$4","v":1450},{"$f":"Données!$F815*F$4","v":1377.5},{"$f":"Données!$F815*G$4","v":1305},{"$f":"Données!$F815*H$4","v":1232.5}]
[null,5641,"Furnaux","Mettet",2124,1450,{"$f":"Données!$E816*B$4","v":2442.6},{"$f":"Données!$E816*C$4","v":2336.4},{"$f":"Données!$E816*D$4","v":2230.2000000000003},{"$f":"Données!$E816*E$4","v":2124},{"$f":"Données!$E816*F$4","v":2017.8},{"$f":"Données!$E816*G$4","v":1911.6000000000001},{"$f":"Données!$E816*H$4","v":1805.3999999999999},{"$f":"Données!$F816*B$4","v":1667.4999999999998},{"$f":"Données!$F816*C$4","v":1595.0000000000002},{"$f":"Données!$F816*D$4","v":1522.5},{"$f":"Données!$F816*E$4","v":1450},{"$f":"Données!$F816*F$4","v":1377.5},{"$f":"Données!$F816*G$4","v":1305},{"$f":"Données!$F816*H$4","v":1232.5}]
[null,5644,"Ermeton-Sur-Biert","Mettet",2124,1450,{"$f":"Données!$E817*B$4","v":2442.6},{"$f":"Données!$E817*C$4","v":2336.4},{"$f":"Données!$E817*D$4","v":2230.2000000000003},{"$f":"Données!$E817*E$4","v":2124},{"$f":"Données!$E817*F$4","v":2017.8},{"$f":"Données!$E817*G$4","v":1911.6000000000001},{"$f":"Données!$E817*H$4","v":1805.3999999999999},{"$f":"Données!$F817*B$4","v":1667.4999999999998},{"$f":"Données!$F817*C$4","v":1595.0000000000002},{"$f":"Données!$F817*D$4","v":1522.5},{"$f":"Données!$F817*E$4","v":1450},{"$f":"Données!$F817*F$4","v":1377.5},{"$f":"Données!$F817*G$4","v":1305},{"$f":"Données!$F817*H$4","v":1232.5}]
[null,5646,"Stave","Mettet",2124,1450,{"$f":"Données!$E818*B$4","v":2442.6},{"$f":"Données!$E818*C$4","v":2336.4},{"$f":"Données!$E818*D$4","v":2230.2000000000003},{"$f":"Données!$E818*E$4","v":2124},{"$f":"Données!$E818*F$4","v":2017.8},{"$f":"Données!$E818*G$4","v":1911.6000000000001},{"$f":"Données!$E818*H$4","v":1805.3999999999999},{"$f":"Données!$F818*B$4","v":1667.4999999999998},{"$f":"Données!$F818*C$4","v":1595.0000000000002},{"$f":"Données!$F818*D$4","v":1522.5},{"$f":"Données!$F818*E$4","v":1450},{"$f":"Données!$F818*F$4","v":1377.5},{"$f":"Données!$F818*G$4","v":1305},{"$f":"Données!$F818*H$4","v":1232.5}]
[null,5650,"Castillon","Walcourt",1936,1335,{"$f":"Données!$E819*B$4","v":2226.3999999999996},{"$f":"Données!$E819*C$4","v":2129.6000000000004},{"$f":"Données!$E819*D$4","v":2032.8000000000002},{"$f":"Données!$E819*E$4","v":1936},{"$f":"Données!$E819*F$4","v":1839.1999999999998},{"$f":"Données!$E819*G$4","v":1742.4},{"$f":"Données!$E819*H$4","v":1645.6},{"$f":"Données!$F819*B$4","v":1535.2499999999998},{"$f":"Données!$F819*C$4","v":1468.5000000000002},{"$f":"Données!$F819*D$4","v":1401.75},{"$f":"Données!$F819*E$4","v":1335},{"$f":"Données!$F819*F$4","v":1268.25},{"$f":"Données!$F819*G$4","v":1201.5},{"$f":"Données!$F819*H$4","v":1134.75}]
[null,5650,"Fraire","Walcourt",1936,1335,{"$f":"Données!$E820*B$4","v":2226.3999999999996},{"$f":"Données!$E820*C$4","v":2129.6000000000004},{"$f":"Données!$E820*D$4","v":2032.8000000000002},{"$f":"Données!$E820*E$4","v":1936},{"$f":"Données!$E820*F$4","v":1839.1999999999998},{"$f":"Données!$E820*G$4","v":1742.4},{"$f":"Données!$E820*H$4","v":1645.6},{"$f":"Données!$F820*B$4","v":1535.2499999999998},{"$f":"Données!$F820*C$4","v":1468.5000000000002},{"$f":"Données!$F820*D$4","v":1401.75},{"$f":"Données!$F820*E$4","v":1335},{"$f":"Données!$F820*F$4","v":1268.25},{"$f":"Données!$F820*G$4","v":1201.5},{"$f":"Données!$F820*H$4","v":1134.75}]
[null,5650,"Walcourt","Walcourt",1936,1335,{"$f":"Données!$E821*B$4","v":2226.3999999999996},{"$f":"Données!$E821*C$4","v":2129.6000000000004},{"$f":"Données!$E821*D$4","v":2032.8000000000002},{"$f":"Données!$E821*E$4","v":1936},{"$f":"Données!$E821*F$4","v":1839.1999999999998},{"$f":"Données!$E821*G$4","v":1742.4},{"$f":"Données!$E821*H$4","v":1645.6},{"$f":"Données!$F821*B$4","v":1535.2499999999998},{"$f":"Données!$F821*C$4","v":1468.5000000000002},{"$f":"Données!$F821*D$4","v":1401.75},{"$f":"Données!$F821*E$4","v":1335},{"$f":"Données!$F821*F$4","v":1268.25},{"$f":"Données!$F821*G$4","v":1201.5},{"$f":"Données!$F821*H$4","v":1134.75}]
[null,5650,"Chastrès","Walcourt",1936,1335,{"$f":"Données!$E822*B$4","v":2226.3999999999996},{"$f":"Données!$E822*C$4","v":2129.6000000000004},{"$f":"Données!$E822*D$4","v":2032.8000000000002},{"$f":"Données!$E822*E$4","v":1936},{"$f":"Données!$E822*F$4","v":1839.1999999999998},{"$f":"Données!$E822*G$4","v":1742.4},{"$f":"Données!$E822*H$4","v":1645.6},{"$f":"Données!$F822*B$4","v":1535.2499999999998},{"$f":"Données!$F822*C$4","v":1468.5000000000002},{"$f":"Données!$F822*D$4","v":1401.75},{"$f":"Données!$F822*E$4","v":1335},{"$f":"Données!$F822*F$4","v":1268.25},{"$f":"Données!$F822*G$4","v":1201.5},{"$f":"Données!$F822*H$4","v":1134.75}]
[null,5650,"Clermont","Walcourt",1936,1335,{"$f":"Données!$E823*B$4","v":2226.3999999999996},{"$f":"Données!$E823*C$4","v":2129.6000000000004},{"$f":"Données!$E823*D$4","v":2032.8000000000002},{"$f":"Données!$E823*E$4","v":1936},{"$f":"Données!$E823*F$4","v":1839.1999999999998},{"$f":"Données!$E823*G$4","v":1742.4},{"$f":"Données!$E823*H$4","v":1645.6},{"$f":"Données!$F823*B$4","v":1535.2499999999998},{"$f":"Données!$F823*C$4","v":1468.5000000000002},{"$f":"Données!$F823*D$4","v":1401.75},{"$f":"Données!$F823*E$4","v":1335},{"$f":"Données!$F823*F$4","v":1268.25},{"$f":"Données!$F823*G$4","v":1201.5},{"$f":"Données!$F823*H$4","v":1134.75}]
[null,5650,"Pry","Walcourt",1936,1335,{"$f":"Données!$E824*B$4","v":2226.3999999999996},{"$f":"Données!$E824*C$4","v":2129.6000000000004},{"$f":"Données!$E824*D$4","v":2032.8000000000002},{"$f":"Données!$E824*E$4","v":1936},{"$f":"Données!$E824*F$4","v":1839.1999999999998},{"$f":"Données!$E824*G$4","v":1742.4},{"$f":"Données!$E824*H$4","v":1645.6},{"$f":"Données!$F824*B$4","v":1535.2499999999998},{"$f":"Données!$F824*C$4","v":1468.5000000000002},{"$f":"Données!$F824*D$4","v":1401.75},{"$f":"Données!$F824*E$4","v":1335},{"$f":"Données!$F824*F$4","v":1268.25},{"$f":"Données!$F824*G$4","v":1201.5},{"$f":"Données!$F824*H$4","v":1134.75}]
[null,5650,"Fontenelle","Walcourt",1936,1335,{"$f":"Données!$E825*B$4","v":2226.3999999999996},{"$f":"Données!$E825*C$4","v":2129.6000000000004},{"$f":"Données!$E825*D$4","v":2032.8000000000002},{"$f":"Données!$E825*E$4","v":1936},{"$f":"Données!$E825*F$4","v":1839.1999999999998},{"$f":"Données!$E825*G$4","v":1742.4},{"$f":"Données!$E825*H$4","v":1645.6},{"$f":"Données!$F825*B$4","v":1535.2499999999998},{"$f":"Données!$F825*C$4","v":1468.5000000000002},{"$f":"Données!$F825*D$4","v":1401.75},{"$f":"Données!$F825*E$4","v":1335},{"$f":"Données!$F825*F$4","v":1268.25},{"$f":"Données!$F825*G$4","v":1201.5},{"$f":"Données!$F825*H$4","v":1134.75}]
[null,5650,"Vogenée","Walcourt",1936,1335,{"$f":"Données!$E826*B$4","v":2226.3999999999996},{"$f":"Données!$E826*C$4","v":2129.6000000000004},{"$f":"Données!$E826*D$4","v":2032.8000000000002},{"$f":"Données!$E826*E$4","v":1936},{"$f":"Données!$E826*F$4","v":1839.1999999999998},{"$f":"Données!$E826*G$4","v":1742.4},{"$f":"Données!$E826*H$4","v":1645.6},{"$f":"Données!$F826*B$4","v":1535.2499999999998},{"$f":"Données!$F826*C$4","v":1468.5000000000002},{"$f":"Données!$F826*D$4","v":1401.75},{"$f":"Données!$F826*E$4","v":1335},{"$f":"Données!$F826*F$4","v":1268.25},{"$f":"Données!$F826*G$4","v":1201.5},{"$f":"Données!$F826*H$4","v":1134.75}]
[null,5650,"Yves-Gomezée","Walcourt",1936,1335,{"$f":"Données!$E827*B$4","v":2226.3999999999996},{"$f":"Données!$E827*C$4","v":2129.6000000000004},{"$f":"Données!$E827*D$4","v":2032.8000000000002},{"$f":"Données!$E827*E$4","v":1936},{"$f":"Données!$E827*F$4","v":1839.1999999999998},{"$f":"Données!$E827*G$4","v":1742.4},{"$f":"Données!$E827*H$4","v":1645.6},{"$f":"Données!$F827*B$4","v":1535.2499999999998},{"$f":"Données!$F827*C$4","v":1468.5000000000002},{"$f":"Données!$F827*D$4","v":1401.75},{"$f":"Données!$F827*E$4","v":1335},{"$f":"Données!$F827*F$4","v":1268.25},{"$f":"Données!$F827*G$4","v":1201.5},{"$f":"Données!$F827*H$4","v":1134.75}]
[null,5651,"Berzée","Walcourt",1936,1335,{"$f":"Données!$E828*B$4","v":2226.3999999999996},{"$f":"Données!$E828*C$4","v":2129.6000000000004},{"$f":"Données!$E828*D$4","v":2032.8000000000002},{"$f":"Données!$E828*E$4","v":1936},{"$f":"Données!$E828*F$4","v":1839.1999999999998},{"$f":"Données!$E828*G$4","v":1742.4},{"$f":"Données!$E828*H$4","v":1645.6},{"$f":"Données!$F828*B$4","v":1535.2499999999998},{"$f":"Données!$F828*C$4","v":1468.5000000000002},{"$f":"Données!$F828*D$4","v":1401.75},{"$f":"Données!$F828*E$4","v":1335},{"$f":"Données!$F828*F$4","v":1268.25},{"$f":"Données!$F828*G$4","v":1201.5},{"$f":"Données!$F828*H$4","v":1134.75}]
[null,5651,"Rognée","Walcourt",1936,1335,{"$f":"Données!$E829*B$4","v":2226.3999999999996},{"$f":"Données!$E829*C$4","v":2129.6000000000004},{"$f":"Données!$E829*D$4","v":2032.8000000000002},{"$f":"Données!$E829*E$4","v":1936},{"$f":"Données!$E829*F$4","v":1839.1999999999998},{"$f":"Données!$E829*G$4","v":1742.4},{"$f":"Données!$E829*H$4","v":1645.6},{"$f":"Données!$F829*B$4","v":1535.2499999999998},{"$f":"Données!$F829*C$4","v":1468.5000000000002},{"$f":"Données!$F829*D$4","v":1401.75},{"$f":"Données!$F829*E$4","v":1335},{"$f":"Données!$F829*F$4","v":1268.25},{"$f":"Données!$F829*G$4","v":1201.5},{"$f":"Données!$F829*H$4","v":1134.75}]
[null,5651,"Somzée","Walcourt",1936,1335,{"$f":"Données!$E830*B$4","v":2226.3999999999996},{"$f":"Données!$E830*C$4","v":2129.6000000000004},{"$f":"Données!$E830*D$4","v":2032.8000000000002},{"$f":"Données!$E830*E$4","v":1936},{"$f":"Données!$E830*F$4","v":1839.1999999999998},{"$f":"Données!$E830*G$4","v":1742.4},{"$f":"Données!$E830*H$4","v":1645.6},{"$f":"Données!$F830*B$4","v":1535.2499999999998},{"$f":"Données!$F830*C$4","v":1468.5000000000002},{"$f":"Données!$F830*D$4","v":1401.75},{"$f":"Données!$F830*E$4","v":1335},{"$f":"Données!$F830*F$4","v":1268.25},{"$f":"Données!$F830*G$4","v":1201.5},{"$f":"Données!$F830*H$4","v":1134.75}]
[null,5651,"Thy-Le-Château","Walcourt",1936,1335,{"$f":"Données!$E831*B$4","v":2226.3999999999996},{"$f":"Données!$E831*C$4","v":2129.6000000000004},{"$f":"Données!$E831*D$4","v":2032.8000000000002},{"$f":"Données!$E831*E$4","v":1936},{"$f":"Données!$E831*F$4","v":1839.1999999999998},{"$f":"Données!$E831*G$4","v":1742.4},{"$f":"Données!$E831*H$4","v":1645.6},{"$f":"Données!$F831*B$4","v":1535.2499999999998},{"$f":"Données!$F831*C$4","v":1468.5000000000002},{"$f":"Données!$F831*D$4","v":1401.75},{"$f":"Données!$F831*E$4","v":1335},{"$f":"Données!$F831*F$4","v":1268.25},{"$f":"Données!$F831*G$4","v":1201.5},{"$f":"Données!$F831*H$4","v":1134.75}]
[null,5651,"Laneffe","Walcourt",1936,1335,{"$f":"Données!$E832*B$4","v":2226.3999999999996},{"$f":"Données!$E832*C$4","v":2129.6000000000004},{"$f":"Données!$E832*D$4","v":2032.8000000000002},{"$f":"Données!$E832*E$4","v":1936},{"$f":"Données!$E832*F$4","v":1839.1999999999998},{"$f":"Données!$E832*G$4","v":1742.4},{"$f":"Données!$E832*H$4","v":1645.6},{"$f":"Données!$F832*B$4","v":1535.2499999999998},{"$f":"Données!$F832*C$4","v":1468.5000000000002},{"$f":"Données!$F832*D$4","v":1401.75},{"$f":"Données!$F832*E$4","v":1335},{"$f":"Données!$F832*F$4","v":1268.25},{"$f":"Données!$F832*G$4","v":1201.5},{"$f":"Données!$F832*H$4","v":1134.75}]
[null,5651,"Gourdinne","Walcourt",1936,1335,{"$f":"Données!$E833*B$4","v":2226.3999999999996},{"$f":"Données!$E833*C$4","v":2129.6000000000004},{"$f":"Données!$E833*D$4","v":2032.8000000000002},{"$f":"Données!$E833*E$4","v":1936},{"$f":"Données!$E833*F$4","v":1839.1999999999998},{"$f":"Données!$E833*G$4","v":1742.4},{"$f":"Données!$E833*H$4","v":1645.6},{"$f":"Données!$F833*B$4","v":1535.2499999999998},{"$f":"Données!$F833*C$4","v":1468.5000000000002},{"$f":"Données!$F833*D$4","v":1401.75},{"$f":"Données!$F833*E$4","v":1335},{"$f":"Données!$F833*F$4","v":1268.25},{"$f":"Données!$F833*G$4","v":1201.5},{"$f":"Données!$F833*H$4","v":1134.75}]
[null,5651,"Tarcienne","Walcourt",1936,1335,{"$f":"Données!$E834*B$4","v":2226.3999999999996},{"$f":"Données!$E834*C$4","v":2129.6000000000004},{"$f":"Données!$E834*D$4","v":2032.8000000000002},{"$f":"Données!$E834*E$4","v":1936},{"$f":"Données!$E834*F$4","v":1839.1999999999998},{"$f":"Données!$E834*G$4","v":1742.4},{"$f":"Données!$E834*H$4","v":1645.6},{"$f":"Données!$F834*B$4","v":1535.2499999999998},{"$f":"Données!$F834*C$4","v":1468.5000000000002},{"$f":"Données!$F834*D$4","v":1401.75},{"$f":"Données!$F834*E$4","v":1335},{"$f":"Données!$F834*F$4","v":1268.25},{"$f":"Données!$F834*G$4","v":1201.5},{"$f":"Données!$F834*H$4","v":1134.75}]
[null,5660,"Aublain","Couvin",1853,1186,{"$f":"Données!$E835*B$4","v":2130.9499999999998},{"$f":"Données!$E835*C$4","v":2038.3000000000002},{"$f":"Données!$E835*D$4","v":1945.65},{"$f":"Données!$E835*E$4","v":1853},{"$f":"Données!$E835*F$4","v":1760.35},{"$f":"Données!$E835*G$4","v":1667.7},{"$f":"Données!$E835*H$4","v":1575.05},{"$f":"Données!$F835*B$4","v":1363.8999999999999},{"$f":"Données!$F835*C$4","v":1304.6000000000001},{"$f":"Données!$F835*D$4","v":1245.3},{"$f":"Données!$F835*E$4","v":1186},{"$f":"Données!$F835*F$4","v":1126.7},{"$f":"Données!$F835*G$4","v":1067.4000000000001},{"$f":"Données!$F835*H$4","v":1008.1}]
[null,5660,"Pesche","Couvin",1853,1186,{"$f":"Données!$E836*B$4","v":2130.9499999999998},{"$f":"Données!$E836*C$4","v":2038.3000000000002},{"$f":"Données!$E836*D$4","v":1945.65},{"$f":"Données!$E836*E$4","v":1853},{"$f":"Données!$E836*F$4","v":1760.35},{"$f":"Données!$E836*G$4","v":1667.7},{"$f":"Données!$E836*H$4","v":1575.05},{"$f":"Données!$F836*B$4","v":1363.8999999999999},{"$f":"Données!$F836*C$4","v":1304.6000000000001},{"$f":"Données!$F836*D$4","v":1245.3},{"$f":"Données!$F836*E$4","v":1186},{"$f":"Données!$F836*F$4","v":1126.7},{"$f":"Données!$F836*G$4","v":1067.4000000000001},{"$f":"Données!$F836*H$4","v":1008.1}]
[null,5660,"Brûly","Couvin",1853,1186,{"$f":"Données!$E837*B$4","v":2130.9499999999998},{"$f":"Données!$E837*C$4","v":2038.3000000000002},{"$f":"Données!$E837*D$4","v":1945.65},{"$f":"Données!$E837*E$4","v":1853},{"$f":"Données!$E837*F$4","v":1760.35},{"$f":"Données!$E837*G$4","v":1667.7},{"$f":"Données!$E837*H$4","v":1575.05},{"$f":"Données!$F837*B$4","v":1363.8999999999999},{"$f":"Données!$F837*C$4","v":1304.6000000000001},{"$f":"Données!$F837*D$4","v":1245.3},{"$f":"Données!$F837*E$4","v":1186},{"$f":"Données!$F837*F$4","v":1126.7},{"$f":"Données!$F837*G$4","v":1067.4000000000001},{"$f":"Données!$F837*H$4","v":1008.1}]
[null,5660,"Couvin","Couvin",1853,1186,{"$f":"Données!$E838*B$4","v":2130.9499999999998},{"$f":"Données!$E838*C$4","v":2038.3000000000002},{"$f":"Données!$E838*D$4","v":1945.65},{"$f":"Données!$E838*E$4","v":1853},{"$f":"Données!$E838*F$4","v":1760.35},{"$f":"Données!$E838*G$4","v":1667.7},{"$f":"Données!$E838*H$4","v":1575.05},{"$f":"Données!$F838*B$4","v":1363.8999999999999},{"$f":"Données!$F838*C$4","v":1304.6000000000001},{"$f":"Données!$F838*D$4","v":1245.3},{"$f":"Données!$F838*E$4","v":1186},{"$f":"Données!$F838*F$4","v":1126.7},{"$f":"Données!$F838*G$4","v":1067.4000000000001},{"$f":"Données!$F838*H$4","v":1008.1}]
[null,5660,"Cul-Des-Sarts","Couvin",1853,1186,{"$f":"Données!$E839*B$4","v":2130.9499999999998},{"$f":"Données!$E839*C$4","v":2038.3000000000002},{"$f":"Données!$E839*D$4","v":1945.65},{"$f":"Données!$E839*E$4","v":1853},{"$f":"Données!$E839*F$4","v":1760.35},{"$f":"Données!$E839*G$4","v":1667.7},{"$f":"Données!$E839*H$4","v":1575.05},{"$f":"Données!$F839*B$4","v":1363.8999999999999},{"$f":"Données!$F839*C$4","v":1304.6000000000001},{"$f":"Données!$F839*D$4","v":1245.3},{"$f":"Données!$F839*E$4","v":1186},{"$f":"Données!$F839*F$4","v":1126.7},{"$f":"Données!$F839*G$4","v":1067.4000000000001},{"$f":"Données!$F839*H$4","v":1008.1}]
[null,5660,"Frasnes","Couvin",1853,1186,{"$f":"Données!$E840*B$4","v":2130.9499999999998},{"$f":"Données!$E840*C$4","v":2038.3000000000002},{"$f":"Données!$E840*D$4","v":1945.65},{"$f":"Données!$E840*E$4","v":1853},{"$f":"Données!$E840*F$4","v":1760.35},{"$f":"Données!$E840*G$4","v":1667.7},{"$f":"Données!$E840*H$4","v":1575.05},{"$f":"Données!$F840*B$4","v":1363.8999999999999},{"$f":"Données!$F840*C$4","v":1304.6000000000001},{"$f":"Données!$F840*D$4","v":1245.3},{"$f":"Données!$F840*E$4","v":1186},{"$f":"Données!$F840*F$4","v":1126.7},{"$f":"Données!$F840*G$4","v":1067.4000000000001},{"$f":"Données!$F840*H$4","v":1008.1}]
[null,5660,"Gonrieux","Couvin",1853,1186,{"$f":"Données!$E841*B$4","v":2130.9499999999998},{"$f":"Données!$E841*C$4","v":2038.3000000000002},{"$f":"Données!$E841*D$4","v":1945.65},{"$f":"Données!$E841*E$4","v":1853},{"$f":"Données!$E841*F$4","v":1760.35},{"$f":"Données!$E841*G$4","v":1667.7},{"$f":"Données!$E841*H$4","v":1575.05},{"$f":"Données!$F841*B$4","v":1363.8999999999999},{"$f":"Données!$F841*C$4","v":1304.6000000000001},{"$f":"Données!$F841*D$4","v":1245.3},{"$f":"Données!$F841*E$4","v":1186},{"$f":"Données!$F841*F$4","v":1126.7},{"$f":"Données!$F841*G$4","v":1067.4000000000001},{"$f":"Données!$F841*H$4","v":1008.1}]
[null,5660,"Petigny","Couvin",1853,1186,{"$f":"Données!$E842*B$4","v":2130.9499999999998},{"$f":"Données!$E842*C$4","v":2038.3000000000002},{"$f":"Données!$E842*D$4","v":1945.65},{"$f":"Données!$E842*E$4","v":1853},{"$f":"Données!$E842*F$4","v":1760.35},{"$f":"Données!$E842*G$4","v":1667.7},{"$f":"Données!$E842*H$4","v":1575.05},{"$f":"Données!$F842*B$4","v":1363.8999999999999},{"$f":"Données!$F842*C$4","v":1304.6000000000001},{"$f":"Données!$F842*D$4","v":1245.3},{"$f":"Données!$F842*E$4","v":1186},{"$f":"Données!$F842*F$4","v":1126.7},{"$f":"Données!$F842*G$4","v":1067.4000000000001},{"$f":"Données!$F842*H$4","v":1008.1}]
[null,5660,"Brûly-De-Pesche","Couvin",1853,1186,{"$f":"Données!$E843*B$4","v":2130.9499999999998},{"$f":"Données!$E843*C$4","v":2038.3000000000002},{"$f":"Données!$E843*D$4","v":1945.65},{"$f":"Données!$E843*E$4","v":1853},{"$f":"Données!$E843*F$4","v":1760.35},{"$f":"Données!$E843*G$4","v":1667.7},{"$f":"Données!$E843*H$4","v":1575.05},{"$f":"Données!$F843*B$4","v":1363.8999999999999},{"$f":"Données!$F843*C$4","v":1304.6000000000001},{"$f":"Données!$F843*D$4","v":1245.3},{"$f":"Données!$F843*E$4","v":1186},{"$f":"Données!$F843*F$4","v":1126.7},{"$f":"Données!$F843*G$4","v":1067.4000000000001},{"$f":"Données!$F843*H$4","v":1008.1}]
[null,5660,"Petite-Chapelle","Couvin",1853,1186,{"$f":"Données!$E844*B$4","v":2130.9499999999998},{"$f":"Données!$E844*C$4","v":2038.3000000000002},{"$f":"Données!$E844*D$4","v":1945.65},{"$f":"Données!$E844*E$4","v":1853},{"$f":"Données!$E844*F$4","v":1760.35},{"$f":"Données!$E844*G$4","v":1667.7},{"$f":"Données!$E844*H$4","v":1575.05},{"$f":"Données!$F844*B$4","v":1363.8999999999999},{"$f":"Données!$F844*C$4","v":1304.6000000000001},{"$f":"Données!$F844*D$4","v":1245.3},{"$f":"Données!$F844*E$4","v":1186},{"$f":"Données!$F844*F$4","v":1126.7},{"$f":"Données!$F844*G$4","v":1067.4000000000001},{"$f":"Données!$F844*H$4","v":1008.1}]
[null,5660,"Boussu-En-Fagne","Couvin",1853,1186,{"$f":"Données!$E845*B$4","v":2130.9499999999998},{"$f":"Données!$E845*C$4","v":2038.3000000000002},{"$f":"Données!$E845*D$4","v":1945.65},{"$f":"Données!$E845*E$4","v":1853},{"$f":"Données!$E845*F$4","v":1760.35},{"$f":"Données!$E845*G$4","v":1667.7},{"$f":"Données!$E845*H$4","v":1575.05},{"$f":"Données!$F845*B$4","v":1363.8999999999999},{"$f":"Données!$F845*C$4","v":1304.6000000000001},{"$f":"Données!$F845*D$4","v":1245.3},{"$f":"Données!$F845*E$4","v":1186},{"$f":"Données!$F845*F$4","v":1126.7},{"$f":"Données!$F845*G$4","v":1067.4000000000001},{"$f":"Données!$F845*H$4","v":1008.1}]
[null,5660,"Dailly","Couvin",1853,1186,{"$f":"Données!$E846*B$4","v":2130.9499999999998},{"$f":"Données!$E846*C$4","v":2038.3000000000002},{"$f":"Données!$E846*D$4","v":1945.65},{"$f":"Données!$E846*E$4","v":1853},{"$f":"Données!$E846*F$4","v":1760.35},{"$f":"Données!$E846*G$4","v":1667.7},{"$f":"Données!$E846*H$4","v":1575.05},{"$f":"Données!$F846*B$4","v":1363.8999999999999},{"$f":"Données!$F846*C$4","v":1304.6000000000001},{"$f":"Données!$F846*D$4","v":1245.3},{"$f":"Données!$F846*E$4","v":1186},{"$f":"Données!$F846*F$4","v":1126.7},{"$f":"Données!$F846*G$4","v":1067.4000000000001},{"$f":"Données!$F846*H$4","v":1008.1}]
[null,5660,"Mariembourg","Couvin",1853,1186,{"$f":"Données!$E847*B$4","v":2130.9499999999998},{"$f":"Données!$E847*C$4","v":2038.3000000000002},{"$f":"Données!$E847*D$4","v":1945.65},{"$f":"Données!$E847*E$4","v":1853},{"$f":"Données!$E847*F$4","v":1760.35},{"$f":"Données!$E847*G$4","v":1667.7},{"$f":"Données!$E847*H$4","v":1575.05},{"$f":"Données!$F847*B$4","v":1363.8999999999999},{"$f":"Données!$F847*C$4","v":1304.6000000000001},{"$f":"Données!$F847*D$4","v":1245.3},{"$f":"Données!$F847*E$4","v":1186},{"$f":"Données!$F847*F$4","v":1126.7},{"$f":"Données!$F847*G$4","v":1067.4000000000001},{"$f":"Données!$F847*H$4","v":1008.1}]
[null,5660,"Presgaux","Couvin",1853,1186,{"$f":"Données!$E848*B$4","v":2130.9499999999998},{"$f":"Données!$E848*C$4","v":2038.3000000000002},{"$f":"Données!$E848*D$4","v":1945.65},{"$f":"Données!$E848*E$4","v":1853},{"$f":"Données!$E848*F$4","v":1760.35},{"$f":"Données!$E848*G$4","v":1667.7},{"$f":"Données!$E848*H$4","v":1575.05},{"$f":"Données!$F848*B$4","v":1363.8999999999999},{"$f":"Données!$F848*C$4","v":1304.6000000000001},{"$f":"Données!$F848*D$4","v":1245.3},{"$f":"Données!$F848*E$4","v":1186},{"$f":"Données!$F848*F$4","v":1126.7},{"$f":"Données!$F848*G$4","v":1067.4000000000001},{"$f":"Données!$F848*H$4","v":1008.1}]
[null,5670,"Dourbes","Viroinval",1927,1070,{"$f":"Données!$E849*B$4","v":2216.0499999999997},{"$f":"Données!$E849*C$4","v":2119.7000000000003},{"$f":"Données!$E849*D$4","v":2023.3500000000001},{"$f":"Données!$E849*E$4","v":1927},{"$f":"Données!$E849*F$4","v":1830.6499999999999},{"$f":"Données!$E849*G$4","v":1734.3},{"$f":"Données!$E849*H$4","v":1637.95},{"$f":"Données!$F849*B$4","v":1230.5},{"$f":"Données!$F849*C$4","v":1177},{"$f":"Données!$F849*D$4","v":1123.5},{"$f":"Données!$F849*E$4","v":1070},{"$f":"Données!$F849*F$4","v":1016.5},{"$f":"Données!$F849*G$4","v":963},{"$f":"Données!$F849*H$4","v":909.5}]
[null,5670,"Mazée","Viroinval",1927,1070,{"$f":"Données!$E850*B$4","v":2216.0499999999997},{"$f":"Données!$E850*C$4","v":2119.7000000000003},{"$f":"Données!$E850*D$4","v":2023.3500000000001},{"$f":"Données!$E850*E$4","v":1927},{"$f":"Données!$E850*F$4","v":1830.6499999999999},{"$f":"Données!$E850*G$4","v":1734.3},{"$f":"Données!$E850*H$4","v":1637.95},{"$f":"Données!$F850*B$4","v":1230.5},{"$f":"Données!$F850*C$4","v":1177},{"$f":"Données!$F850*D$4","v":1123.5},{"$f":"Données!$F850*E$4","v":1070},{"$f":"Données!$F850*F$4","v":1016.5},{"$f":"Données!$F850*G$4","v":963},{"$f":"Données!$F850*H$4","v":909.5}]
[null,5670,"Oignies-En-Thiérache","Viroinval",1927,1070,{"$f":"Données!$E851*B$4","v":2216.0499999999997},{"$f":"Données!$E851*C$4","v":2119.7000000000003},{"$f":"Données!$E851*D$4","v":2023.3500000000001},{"$f":"Données!$E851*E$4","v":1927},{"$f":"Données!$E851*F$4","v":1830.6499999999999},{"$f":"Données!$E851*G$4","v":1734.3},{"$f":"Données!$E851*H$4","v":1637.95},{"$f":"Données!$F851*B$4","v":1230.5},{"$f":"Données!$F851*C$4","v":1177},{"$f":"Données!$F851*D$4","v":1123.5},{"$f":"Données!$F851*E$4","v":1070},{"$f":"Données!$F851*F$4","v":1016.5},{"$f":"Données!$F851*G$4","v":963},{"$f":"Données!$F851*H$4","v":909.5}]
[null,5670,"Olloy-Sur-Viroin","Viroinval",1927,1070,{"$f":"Données!$E852*B$4","v":2216.0499999999997},{"$f":"Données!$E852*C$4","v":2119.7000000000003},{"$f":"Données!$E852*D$4","v":2023.3500000000001},{"$f":"Données!$E852*E$4","v":1927},{"$f":"Données!$E852*F$4","v":1830.6499999999999},{"$f":"Données!$E852*G$4","v":1734.3},{"$f":"Données!$E852*H$4","v":1637.95},{"$f":"Données!$F852*B$4","v":1230.5},{"$f":"Données!$F852*C$4","v":1177},{"$f":"Données!$F852*D$4","v":1123.5},{"$f":"Données!$F852*E$4","v":1070},{"$f":"Données!$F852*F$4","v":1016.5},{"$f":"Données!$F852*G$4","v":963},{"$f":"Données!$F852*H$4","v":909.5}]
[null,5670,"Nismes","Viroinval",1927,1070,{"$f":"Données!$E853*B$4","v":2216.0499999999997},{"$f":"Données!$E853*C$4","v":2119.7000000000003},{"$f":"Données!$E853*D$4","v":2023.3500000000001},{"$f":"Données!$E853*E$4","v":1927},{"$f":"Données!$E853*F$4","v":1830.6499999999999},{"$f":"Données!$E853*G$4","v":1734.3},{"$f":"Données!$E853*H$4","v":1637.95},{"$f":"Données!$F853*B$4","v":1230.5},{"$f":"Données!$F853*C$4","v":1177},{"$f":"Données!$F853*D$4","v":1123.5},{"$f":"Données!$F853*E$4","v":1070},{"$f":"Données!$F853*F$4","v":1016.5},{"$f":"Données!$F853*G$4","v":963},{"$f":"Données!$F853*H$4","v":909.5}]
[null,5670,"LeMesnil","Viroinval",1927,1070,{"$f":"Données!$E854*B$4","v":2216.0499999999997},{"$f":"Données!$E854*C$4","v":2119.7000000000003},{"$f":"Données!$E854*D$4","v":2023.3500000000001},{"$f":"Données!$E854*E$4","v":1927},{"$f":"Données!$E854*F$4","v":1830.6499999999999},{"$f":"Données!$E854*G$4","v":1734.3},{"$f":"Données!$E854*H$4","v":1637.95},{"$f":"Données!$F854*B$4","v":1230.5},{"$f":"Données!$F854*C$4","v":1177},{"$f":"Données!$F854*D$4","v":1123.5},{"$f":"Données!$F854*E$4","v":1070},{"$f":"Données!$F854*F$4","v":1016.5},{"$f":"Données!$F854*G$4","v":963},{"$f":"Données!$F854*H$4","v":909.5}]
[null,5670,"Vierves-Sur-Viroin","Viroinval",1927,1070,{"$f":"Données!$E855*B$4","v":2216.0499999999997},{"$f":"Données!$E855*C$4","v":2119.7000000000003},{"$f":"Données!$E855*D$4","v":2023.3500000000001},{"$f":"Données!$E855*E$4","v":1927},{"$f":"Données!$E855*F$4","v":1830.6499999999999},{"$f":"Données!$E855*G$4","v":1734.3},{"$f":"Données!$E855*H$4","v":1637.95},{"$f":"Données!$F855*B$4","v":1230.5},{"$f":"Données!$F855*C$4","v":1177},{"$f":"Données!$F855*D$4","v":1123.5},{"$f":"Données!$F855*E$4","v":1070},{"$f":"Données!$F855*F$4","v":1016.5},{"$f":"Données!$F855*G$4","v":963},{"$f":"Données!$F855*H$4","v":909.5}]
[null,5670,"Viroinval","Viroinval",1927,1070,{"$f":"Données!$E856*B$4","v":2216.0499999999997},{"$f":"Données!$E856*C$4","v":2119.7000000000003},{"$f":"Données!$E856*D$4","v":2023.3500000000001},{"$f":"Données!$E856*E$4","v":1927},{"$f":"Données!$E856*F$4","v":1830.6499999999999},{"$f":"Données!$E856*G$4","v":1734.3},{"$f":"Données!$E856*H$4","v":1637.95},{"$f":"Données!$F856*B$4","v":1230.5},{"$f":"Données!$F856*C$4","v":1177},{"$f":"Données!$F856*D$4","v":1123.5},{"$f":"Données!$F856*E$4","v":1070},{"$f":"Données!$F856*F$4","v":1016.5},{"$f":"Données!$F856*G$4","v":963},{"$f":"Données!$F856*H$4","v":909.5}]
[null,5670,"Treignes","Viroinval",1927,1070,{"$f":"Données!$E857*B$4","v":2216.0499999999997},{"$f":"Données!$E857*C$4","v":2119.7000000000003},{"$f":"Données!$E857*D$4","v":2023.3500000000001},{"$f":"Données!$E857*E$4","v":1927},{"$f":"Données!$E857*F$4","v":1830.6499999999999},{"$f":"Données!$E857*G$4","v":1734.3},{"$f":"Données!$E857*H$4","v":1637.95},{"$f":"Données!$F857*B$4","v":1230.5},{"$f":"Données!$F857*C$4","v":1177},{"$f":"Données!$F857*D$4","v":1123.5},{"$f":"Données!$F857*E$4","v":1070},{"$f":"Données!$F857*F$4","v":1016.5},{"$f":"Données!$F857*G$4","v":963},{"$f":"Données!$F857*H$4","v":909.5}]
[null,5680,"Gimnée","Doische",1996,1109,{"$f":"Données!$E858*B$4","v":2295.3999999999996},{"$f":"Données!$E858*C$4","v":2195.6000000000004},{"$f":"Données!$E858*D$4","v":2095.8000000000002},{"$f":"Données!$E858*E$4","v":1996},{"$f":"Données!$E858*F$4","v":1896.1999999999998},{"$f":"Données!$E858*G$4","v":1796.4},{"$f":"Données!$E858*H$4","v":1696.6},{"$f":"Données!$F858*B$4","v":1275.3499999999999},{"$f":"Données!$F858*C$4","v":1219.9000000000001},{"$f":"Données!$F858*D$4","v":1164.45},{"$f":"Données!$F858*E$4","v":1109},{"$f":"Données!$F858*F$4","v":1053.55},{"$f":"Données!$F858*G$4","v":998.1},{"$f":"Données!$F858*H$4","v":942.65}]
[null,5680,"Niverlée","Doische",1996,1109,{"$f":"Données!$E859*B$4","v":2295.3999999999996},{"$f":"Données!$E859*C$4","v":2195.6000000000004},{"$f":"Données!$E859*D$4","v":2095.8000000000002},{"$f":"Données!$E859*E$4","v":1996},{"$f":"Données!$E859*F$4","v":1896.1999999999998},{"$f":"Données!$E859*G$4","v":1796.4},{"$f":"Données!$E859*H$4","v":1696.6},{"$f":"Données!$F859*B$4","v":1275.3499999999999},{"$f":"Données!$F859*C$4","v":1219.9000000000001},{"$f":"Données!$F859*D$4","v":1164.45},{"$f":"Données!$F859*E$4","v":1109},{"$f":"Données!$F859*F$4","v":1053.55},{"$f":"Données!$F859*G$4","v":998.1},{"$f":"Données!$F859*H$4","v":942.65}]
[null,5680,"Gochenée","Doische",1996,1109,{"$f":"Données!$E860*B$4","v":2295.3999999999996},{"$f":"Données!$E860*C$4","v":2195.6000000000004},{"$f":"Données!$E860*D$4","v":2095.8000000000002},{"$f":"Données!$E860*E$4","v":1996},{"$f":"Données!$E860*F$4","v":1896.1999999999998},{"$f":"Données!$E860*G$4","v":1796.4},{"$f":"Données!$E860*H$4","v":1696.6},{"$f":"Données!$F860*B$4","v":1275.3499999999999},{"$f":"Données!$F860*C$4","v":1219.9000000000001},{"$f":"Données!$F860*D$4","v":1164.45},{"$f":"Données!$F860*E$4","v":1109},{"$f":"Données!$F860*F$4","v":1053.55},{"$f":"Données!$F860*G$4","v":998.1},{"$f":"Données!$F860*H$4","v":942.65}]
[null,5680,"Matagne-La-Grande","Doische",1996,1109,{"$f":"Données!$E861*B$4","v":2295.3999999999996},{"$f":"Données!$E861*C$4","v":2195.6000000000004},{"$f":"Données!$E861*D$4","v":2095.8000000000002},{"$f":"Données!$E861*E$4","v":1996},{"$f":"Données!$E861*F$4","v":1896.1999999999998},{"$f":"Données!$E861*G$4","v":1796.4},{"$f":"Données!$E861*H$4","v":1696.6},{"$f":"Données!$F861*B$4","v":1275.3499999999999},{"$f":"Données!$F861*C$4","v":1219.9000000000001},{"$f":"Données!$F861*D$4","v":1164.45},{"$f":"Données!$F861*E$4","v":1109},{"$f":"Données!$F861*F$4","v":1053.55},{"$f":"Données!$F861*G$4","v":998.1},{"$f":"Données!$F861*H$4","v":942.65}]
[null,5680,"Vodelée","Doische",1996,1109,{"$f":"Données!$E862*B$4","v":2295.3999999999996},{"$f":"Données!$E862*C$4","v":2195.6000000000004},{"$f":"Données!$E862*D$4","v":2095.8000000000002},{"$f":"Données!$E862*E$4","v":1996},{"$f":"Données!$E862*F$4","v":1896.1999999999998},{"$f":"Données!$E862*G$4","v":1796.4},{"$f":"Données!$E862*H$4","v":1696.6},{"$f":"Données!$F862*B$4","v":1275.3499999999999},{"$f":"Données!$F862*C$4","v":1219.9000000000001},{"$f":"Données!$F862*D$4","v":1164.45},{"$f":"Données!$F862*E$4","v":1109},{"$f":"Données!$F862*F$4","v":1053.55},{"$f":"Données!$F862*G$4","v":998.1},{"$f":"Données!$F862*H$4","v":942.65}]
[null,5680,"Doische","Doische",1996,1109,{"$f":"Données!$E863*B$4","v":2295.3999999999996},{"$f":"Données!$E863*C$4","v":2195.6000000000004},{"$f":"Données!$E863*D$4","v":2095.8000000000002},{"$f":"Données!$E863*E$4","v":1996},{"$f":"Données!$E863*F$4","v":1896.1999999999998},{"$f":"Données!$E863*G$4","v":1796.4},{"$f":"Données!$E863*H$4","v":1696.6},{"$f":"Données!$F863*B$4","v":1275.3499999999999},{"$f":"Données!$F863*C$4","v":1219.9000000000001},{"$f":"Données!$F863*D$4","v":1164.45},{"$f":"Données!$F863*E$4","v":1109},{"$f":"Données!$F863*F$4","v":1053.55},{"$f":"Données!$F863*G$4","v":998.1},{"$f":"Données!$F863*H$4","v":942.65}]
[null,5680,"Matagne-La-Petite","Doische",1996,1109,{"$f":"Données!$E864*B$4","v":2295.3999999999996},{"$f":"Données!$E864*C$4","v":2195.6000000000004},{"$f":"Données!$E864*D$4","v":2095.8000000000002},{"$f":"Données!$E864*E$4","v":1996},{"$f":"Données!$E864*F$4","v":1896.1999999999998},{"$f":"Données!$E864*G$4","v":1796.4},{"$f":"Données!$E864*H$4","v":1696.6},{"$f":"Données!$F864*B$4","v":1275.3499999999999},{"$f":"Données!$F864*C$4","v":1219.9000000000001},{"$f":"Données!$F864*D$4","v":1164.45},{"$f":"Données!$F864*E$4","v":1109},{"$f":"Données!$F864*F$4","v":1053.55},{"$f":"Données!$F864*G$4","v":998.1},{"$f":"Données!$F864*H$4","v":942.65}]
[null,5680,"Romerée","Doische",1996,1109,{"$f":"Données!$E865*B$4","v":2295.3999999999996},{"$f":"Données!$E865*C$4","v":2195.6000000000004},{"$f":"Données!$E865*D$4","v":2095.8000000000002},{"$f":"Données!$E865*E$4","v":1996},{"$f":"Données!$E865*F$4","v":1896.1999999999998},{"$f":"Données!$E865*G$4","v":1796.4},{"$f":"Données!$E865*H$4","v":1696.6},{"$f":"Données!$F865*B$4","v":1275.3499999999999},{"$f":"Données!$F865*C$4","v":1219.9000000000001},{"$f":"Données!$F865*D$4","v":1164.45},{"$f":"Données!$F865*E$4","v":1109},{"$f":"Données!$F865*F$4","v":1053.55},{"$f":"Données!$F865*G$4","v":998.1},{"$f":"Données!$F865*H$4","v":942.65}]
[null,5680,"Vaucelles","Doische",1996,1109,{"$f":"Données!$E866*B$4","v":2295.3999999999996},{"$f":"Données!$E866*C$4","v":2195.6000000000004},{"$f":"Données!$E866*D$4","v":2095.8000000000002},{"$f":"Données!$E866*E$4","v":1996},{"$f":"Données!$E866*F$4","v":1896.1999999999998},{"$f":"Données!$E866*G$4","v":1796.4},{"$f":"Données!$E866*H$4","v":1696.6},{"$f":"Données!$F866*B$4","v":1275.3499999999999},{"$f":"Données!$F866*C$4","v":1219.9000000000001},{"$f":"Données!$F866*D$4","v":1164.45},{"$f":"Données!$F866*E$4","v":1109},{"$f":"Données!$F866*F$4","v":1053.55},{"$f":"Données!$F866*G$4","v":998.1},{"$f":"Données!$F866*H$4","v":942.65}]
[null,5680,"Soulme","Doische",1996,1109,{"$f":"Données!$E867*B$4","v":2295.3999999999996},{"$f":"Données!$E867*C$4","v":2195.6000000000004},{"$f":"Données!$E867*D$4","v":2095.8000000000002},{"$f":"Données!$E867*E$4","v":1996},{"$f":"Données!$E867*F$4","v":1896.1999999999998},{"$f":"Données!$E867*G$4","v":1796.4},{"$f":"Données!$E867*H$4","v":1696.6},{"$f":"Données!$F867*B$4","v":1275.3499999999999},{"$f":"Données!$F867*C$4","v":1219.9000000000001},{"$f":"Données!$F867*D$4","v":1164.45},{"$f":"Données!$F867*E$4","v":1109},{"$f":"Données!$F867*F$4","v":1053.55},{"$f":"Données!$F867*G$4","v":998.1},{"$f":"Données!$F867*H$4","v":942.65}]
[null,6000,"Charleroi","Charleroi",1734,1223,{"$f":"Données!$E868*B$4","v":1994.1},{"$f":"Données!$E868*C$4","v":1907.4},{"$f":"Données!$E868*D$4","v":1820.7},{"$f":"Données!$E868*E$4","v":1734},{"$f":"Données!$E868*F$4","v":1647.3},{"$f":"Données!$E868*G$4","v":1560.6000000000001},{"$f":"Données!$E868*H$4","v":1473.8999999999999},{"$f":"Données!$F868*B$4","v":1406.4499999999998},{"$f":"Données!$F868*C$4","v":1345.3000000000002},{"$f":"Données!$F868*D$4","v":1284.1500000000001},{"$f":"Données!$F868*E$4","v":1223},{"$f":"Données!$F868*F$4","v":1161.8499999999999},{"$f":"Données!$F868*G$4","v":1100.7},{"$f":"Données!$F868*H$4","v":1039.55}]
[null,6001,"Marcinelle","Charleroi",1734,1223,{"$f":"Données!$E869*B$4","v":1994.1},{"$f":"Données!$E869*C$4","v":1907.4},{"$f":"Données!$E869*D$4","v":1820.7},{"$f":"Données!$E869*E$4","v":1734},{"$f":"Données!$E869*F$4","v":1647.3},{"$f":"Données!$E869*G$4","v":1560.6000000000001},{"$f":"Données!$E869*H$4","v":1473.8999999999999},{"$f":"Données!$F869*B$4","v":1406.4499999999998},{"$f":"Données!$F869*C$4","v":1345.3000000000002},{"$f":"Données!$F869*D$4","v":1284.1500000000001},{"$f":"Données!$F869*E$4","v":1223},{"$f":"Données!$F869*F$4","v":1161.8499999999999},{"$f":"Données!$F869*G$4","v":1100.7},{"$f":"Données!$F869*H$4","v":1039.55}]
[null,6010,"Couillet","Charleroi",1734,1223,{"$f":"Données!$E870*B$4","v":1994.1},{"$f":"Données!$E870*C$4","v":1907.4},{"$f":"Données!$E870*D$4","v":1820.7},{"$f":"Données!$E870*E$4","v":1734},{"$f":"Données!$E870*F$4","v":1647.3},{"$f":"Données!$E870*G$4","v":1560.6000000000001},{"$f":"Données!$E870*H$4","v":1473.8999999999999},{"$f":"Données!$F870*B$4","v":1406.4499999999998},{"$f":"Données!$F870*C$4","v":1345.3000000000002},{"$f":"Données!$F870*D$4","v":1284.1500000000001},{"$f":"Données!$F870*E$4","v":1223},{"$f":"Données!$F870*F$4","v":1161.8499999999999},{"$f":"Données!$F870*G$4","v":1100.7},{"$f":"Données!$F870*H$4","v":1039.55}]
[null,6020,"Dampremy","Charleroi",1734,1223,{"$f":"Données!$E871*B$4","v":1994.1},{"$f":"Données!$E871*C$4","v":1907.4},{"$f":"Données!$E871*D$4","v":1820.7},{"$f":"Données!$E871*E$4","v":1734},{"$f":"Données!$E871*F$4","v":1647.3},{"$f":"Données!$E871*G$4","v":1560.6000000000001},{"$f":"Données!$E871*H$4","v":1473.8999999999999},{"$f":"Données!$F871*B$4","v":1406.4499999999998},{"$f":"Données!$F871*C$4","v":1345.3000000000002},{"$f":"Données!$F871*D$4","v":1284.1500000000001},{"$f":"Données!$F871*E$4","v":1223},{"$f":"Données!$F871*F$4","v":1161.8499999999999},{"$f":"Données!$F871*G$4","v":1100.7},{"$f":"Données!$F871*H$4","v":1039.55}]
[null,6030,"Marchienne-Au-Pont","Charleroi",1734,1223,{"$f":"Données!$E872*B$4","v":1994.1},{"$f":"Données!$E872*C$4","v":1907.4},{"$f":"Données!$E872*D$4","v":1820.7},{"$f":"Données!$E872*E$4","v":1734},{"$f":"Données!$E872*F$4","v":1647.3},{"$f":"Données!$E872*G$4","v":1560.6000000000001},{"$f":"Données!$E872*H$4","v":1473.8999999999999},{"$f":"Données!$F872*B$4","v":1406.4499999999998},{"$f":"Données!$F872*C$4","v":1345.3000000000002},{"$f":"Données!$F872*D$4","v":1284.1500000000001},{"$f":"Données!$F872*E$4","v":1223},{"$f":"Données!$F872*F$4","v":1161.8499999999999},{"$f":"Données!$F872*G$4","v":1100.7},{"$f":"Données!$F872*H$4","v":1039.55}]
[null,6030,"Goutroux","Charleroi",1734,1223,{"$f":"Données!$E873*B$4","v":1994.1},{"$f":"Données!$E873*C$4","v":1907.4},{"$f":"Données!$E873*D$4","v":1820.7},{"$f":"Données!$E873*E$4","v":1734},{"$f":"Données!$E873*F$4","v":1647.3},{"$f":"Données!$E873*G$4","v":1560.6000000000001},{"$f":"Données!$E873*H$4","v":1473.8999999999999},{"$f":"Données!$F873*B$4","v":1406.4499999999998},{"$f":"Données!$F873*C$4","v":1345.3000000000002},{"$f":"Données!$F873*D$4","v":1284.1500000000001},{"$f":"Données!$F873*E$4","v":1223},{"$f":"Données!$F873*F$4","v":1161.8499999999999},{"$f":"Données!$F873*G$4","v":1100.7},{"$f":"Données!$F873*H$4","v":1039.55}]
[null,6031,"Monceau-Sur-Sambre","Charleroi",1734,1223,{"$f":"Données!$E874*B$4","v":1994.1},{"$f":"Données!$E874*C$4","v":1907.4},{"$f":"Données!$E874*D$4","v":1820.7},{"$f":"Données!$E874*E$4","v":1734},{"$f":"Données!$E874*F$4","v":1647.3},{"$f":"Données!$E874*G$4","v":1560.6000000000001},{"$f":"Données!$E874*H$4","v":1473.8999999999999},{"$f":"Données!$F874*B$4","v":1406.4499999999998},{"$f":"Données!$F874*C$4","v":1345.3000000000002},{"$f":"Données!$F874*D$4","v":1284.1500000000001},{"$f":"Données!$F874*E$4","v":1223},{"$f":"Données!$F874*F$4","v":1161.8499999999999},{"$f":"Données!$F874*G$4","v":1100.7},{"$f":"Données!$F874*H$4","v":1039.55}]
[null,6032,"Mont-Sur-Marchienne","Charleroi",1734,1223,{"$f":"Données!$E875*B$4","v":1994.1},{"$f":"Données!$E875*C$4","v":1907.4},{"$f":"Données!$E875*D$4","v":1820.7},{"$f":"Données!$E875*E$4","v":1734},{"$f":"Données!$E875*F$4","v":1647.3},{"$f":"Données!$E875*G$4","v":1560.6000000000001},{"$f":"Données!$E875*H$4","v":1473.8999999999999},{"$f":"Données!$F875*B$4","v":1406.4499999999998},{"$f":"Données!$F875*C$4","v":1345.3000000000002},{"$f":"Données!$F875*D$4","v":1284.1500000000001},{"$f":"Données!$F875*E$4","v":1223},{"$f":"Données!$F875*F$4","v":1161.8499999999999},{"$f":"Données!$F875*G$4","v":1100.7},{"$f":"Données!$F875*H$4","v":1039.55}]
[null,6040,"Jumet","Charleroi",1734,1223,{"$f":"Données!$E876*B$4","v":1994.1},{"$f":"Données!$E876*C$4","v":1907.4},{"$f":"Données!$E876*D$4","v":1820.7},{"$f":"Données!$E876*E$4","v":1734},{"$f":"Données!$E876*F$4","v":1647.3},{"$f":"Données!$E876*G$4","v":1560.6000000000001},{"$f":"Données!$E876*H$4","v":1473.8999999999999},{"$f":"Données!$F876*B$4","v":1406.4499999999998},{"$f":"Données!$F876*C$4","v":1345.3000000000002},{"$f":"Données!$F876*D$4","v":1284.1500000000001},{"$f":"Données!$F876*E$4","v":1223},{"$f":"Données!$F876*F$4","v":1161.8499999999999},{"$f":"Données!$F876*G$4","v":1100.7},{"$f":"Données!$F876*H$4","v":1039.55}]
[null,6041,"Gosselies","Charleroi",1734,1223,{"$f":"Données!$E877*B$4","v":1994.1},{"$f":"Données!$E877*C$4","v":1907.4},{"$f":"Données!$E877*D$4","v":1820.7},{"$f":"Données!$E877*E$4","v":1734},{"$f":"Données!$E877*F$4","v":1647.3},{"$f":"Données!$E877*G$4","v":1560.6000000000001},{"$f":"Données!$E877*H$4","v":1473.8999999999999},{"$f":"Données!$F877*B$4","v":1406.4499999999998},{"$f":"Données!$F877*C$4","v":1345.3000000000002},{"$f":"Données!$F877*D$4","v":1284.1500000000001},{"$f":"Données!$F877*E$4","v":1223},{"$f":"Données!$F877*F$4","v":1161.8499999999999},{"$f":"Données!$F877*G$4","v":1100.7},{"$f":"Données!$F877*H$4","v":1039.55}]
[null,6042,"Lodelinsart","Charleroi",1734,1223,{"$f":"Données!$E878*B$4","v":1994.1},{"$f":"Données!$E878*C$4","v":1907.4},{"$f":"Données!$E878*D$4","v":1820.7},{"$f":"Données!$E878*E$4","v":1734},{"$f":"Données!$E878*F$4","v":1647.3},{"$f":"Données!$E878*G$4","v":1560.6000000000001},{"$f":"Données!$E878*H$4","v":1473.8999999999999},{"$f":"Données!$F878*B$4","v":1406.4499999999998},{"$f":"Données!$F878*C$4","v":1345.3000000000002},{"$f":"Données!$F878*D$4","v":1284.1500000000001},{"$f":"Données!$F878*E$4","v":1223},{"$f":"Données!$F878*F$4","v":1161.8499999999999},{"$f":"Données!$F878*G$4","v":1100.7},{"$f":"Données!$F878*H$4","v":1039.55}]
[null,6043,"Ransart","Charleroi",1734,1223,{"$f":"Données!$E879*B$4","v":1994.1},{"$f":"Données!$E879*C$4","v":1907.4},{"$f":"Données!$E879*D$4","v":1820.7},{"$f":"Données!$E879*E$4","v":1734},{"$f":"Données!$E879*F$4","v":1647.3},{"$f":"Données!$E879*G$4","v":1560.6000000000001},{"$f":"Données!$E879*H$4","v":1473.8999999999999},{"$f":"Données!$F879*B$4","v":1406.4499999999998},{"$f":"Données!$F879*C$4","v":1345.3000000000002},{"$f":"Données!$F879*D$4","v":1284.1500000000001},{"$f":"Données!$F879*E$4","v":1223},{"$f":"Données!$F879*F$4","v":1161.8499999999999},{"$f":"Données!$F879*G$4","v":1100.7},{"$f":"Données!$F879*H$4","v":1039.55}]
[null,6044,"Roux","Charleroi",1734,1223,{"$f":"Données!$E880*B$4","v":1994.1},{"$f":"Données!$E880*C$4","v":1907.4},{"$f":"Données!$E880*D$4","v":1820.7},{"$f":"Données!$E880*E$4","v":1734},{"$f":"Données!$E880*F$4","v":1647.3},{"$f":"Données!$E880*G$4","v":1560.6000000000001},{"$f":"Données!$E880*H$4","v":1473.8999999999999},{"$f":"Données!$F880*B$4","v":1406.4499999999998},{"$f":"Données!$F880*C$4","v":1345.3000000000002},{"$f":"Données!$F880*D$4","v":1284.1500000000001},{"$f":"Données!$F880*E$4","v":1223},{"$f":"Données!$F880*F$4","v":1161.8499999999999},{"$f":"Données!$F880*G$4","v":1100.7},{"$f":"Données!$F880*H$4","v":1039.55}]
[null,6060,"Gilly","Charleroi",1734,1223,{"$f":"Données!$E881*B$4","v":1994.1},{"$f":"Données!$E881*C$4","v":1907.4},{"$f":"Données!$E881*D$4","v":1820.7},{"$f":"Données!$E881*E$4","v":1734},{"$f":"Données!$E881*F$4","v":1647.3},{"$f":"Données!$E881*G$4","v":1560.6000000000001},{"$f":"Données!$E881*H$4","v":1473.8999999999999},{"$f":"Données!$F881*B$4","v":1406.4499999999998},{"$f":"Données!$F881*C$4","v":1345.3000000000002},{"$f":"Données!$F881*D$4","v":1284.1500000000001},{"$f":"Données!$F881*E$4","v":1223},{"$f":"Données!$F881*F$4","v":1161.8499999999999},{"$f":"Données!$F881*G$4","v":1100.7},{"$f":"Données!$F881*H$4","v":1039.55}]
[null,6061,"Montignies-Sur-Sambre","Charleroi",1734,1223,{"$f":"Données!$E882*B$4","v":1994.1},{"$f":"Données!$E882*C$4","v":1907.4},{"$f":"Données!$E882*D$4","v":1820.7},{"$f":"Données!$E882*E$4","v":1734},{"$f":"Données!$E882*F$4","v":1647.3},{"$f":"Données!$E882*G$4","v":1560.6000000000001},{"$f":"Données!$E882*H$4","v":1473.8999999999999},{"$f":"Données!$F882*B$4","v":1406.4499999999998},{"$f":"Données!$F882*C$4","v":1345.3000000000002},{"$f":"Données!$F882*D$4","v":1284.1500000000001},{"$f":"Données!$F882*E$4","v":1223},{"$f":"Données!$F882*F$4","v":1161.8499999999999},{"$f":"Données!$F882*G$4","v":1100.7},{"$f":"Données!$F882*H$4","v":1039.55}]
[null,6110,"Montigny-Le-Tilleul","Montigny-Le-Tilleul",2111,1476,{"$f":"Données!$E883*B$4","v":2427.6499999999996},{"$f":"Données!$E883*C$4","v":2322.1000000000004},{"$f":"Données!$E883*D$4","v":2216.5500000000002},{"$f":"Données!$E883*E$4","v":2111},{"$f":"Données!$E883*F$4","v":2005.4499999999998},{"$f":"Données!$E883*G$4","v":1899.9},{"$f":"Données!$E883*H$4","v":1794.35},{"$f":"Données!$F883*B$4","v":1697.3999999999999},{"$f":"Données!$F883*C$4","v":1623.6000000000001},{"$f":"Données!$F883*D$4","v":1549.8},{"$f":"Données!$F883*E$4","v":1476},{"$f":"Données!$F883*F$4","v":1402.2},{"$f":"Données!$F883*G$4","v":1328.4},{"$f":"Données!$F883*H$4","v":1254.5999999999999}]
[null,6111,"Landelies","Montigny-Le-Tilleul",2111,1476,{"$f":"Données!$E884*B$4","v":2427.6499999999996},{"$f":"Données!$E884*C$4","v":2322.1000000000004},{"$f":"Données!$E884*D$4","v":2216.5500000000002},{"$f":"Données!$E884*E$4","v":2111},{"$f":"Données!$E884*F$4","v":2005.4499999999998},{"$f":"Données!$E884*G$4","v":1899.9},{"$f":"Données!$E884*H$4","v":1794.35},{"$f":"Données!$F884*B$4","v":1697.3999999999999},{"$f":"Données!$F884*C$4","v":1623.6000000000001},{"$f":"Données!$F884*D$4","v":1549.8},{"$f":"Données!$F884*E$4","v":1476},{"$f":"Données!$F884*F$4","v":1402.2},{"$f":"Données!$F884*G$4","v":1328.4},{"$f":"Données!$F884*H$4","v":1254.5999999999999}]
[null,6120,"Ham-Sur-Heure","Ham-Sur-Heure",1932,1437,{"$f":"Données!$E885*B$4","v":2221.7999999999997},{"$f":"Données!$E885*C$4","v":2125.2000000000003},{"$f":"Données!$E885*D$4","v":2028.6000000000001},{"$f":"Données!$E885*E$4","v":1932},{"$f":"Données!$E885*F$4","v":1835.3999999999999},{"$f":"Données!$E885*G$4","v":1738.8},{"$f":"Données!$E885*H$4","v":1642.2},{"$f":"Données!$F885*B$4","v":1652.55},{"$f":"Données!$F885*C$4","v":1580.7},{"$f":"Données!$F885*D$4","v":1508.8500000000001},{"$f":"Données!$F885*E$4","v":1437},{"$f":"Données!$F885*F$4","v":1365.1499999999999},{"$f":"Données!$F885*G$4","v":1293.3},{"$f":"Données!$F885*H$4","v":1221.45}]
[null,6120,"Cour-Sur-Heure","Ham-Sur-Heure",1932,1437,{"$f":"Données!$E886*B$4","v":2221.7999999999997},{"$f":"Données!$E886*C$4","v":2125.2000000000003},{"$f":"Données!$E886*D$4","v":2028.6000000000001},{"$f":"Données!$E886*E$4","v":1932},{"$f":"Données!$E886*F$4","v":1835.3999999999999},{"$f":"Données!$E886*G$4","v":1738.8},{"$f":"Données!$E886*H$4","v":1642.2},{"$f":"Données!$F886*B$4","v":1652.55},{"$f":"Données!$F886*C$4","v":1580.7},{"$f":"Données!$F886*D$4","v":1508.8500000000001},{"$f":"Données!$F886*E$4","v":1437},{"$f":"Données!$F886*F$4","v":1365.1499999999999},{"$f":"Données!$F886*G$4","v":1293.3},{"$f":"Données!$F886*H$4","v":1221.45}]
[null,6120,"Jamioulx","Ham-Sur-Heure",1932,1437,{"$f":"Données!$E887*B$4","v":2221.7999999999997},{"$f":"Données!$E887*C$4","v":2125.2000000000003},{"$f":"Données!$E887*D$4","v":2028.6000000000001},{"$f":"Données!$E887*E$4","v":1932},{"$f":"Données!$E887*F$4","v":1835.3999999999999},{"$f":"Données!$E887*G$4","v":1738.8},{"$f":"Données!$E887*H$4","v":1642.2},{"$f":"Données!$F887*B$4","v":1652.55},{"$f":"Données!$F887*C$4","v":1580.7},{"$f":"Données!$F887*D$4","v":1508.8500000000001},{"$f":"Données!$F887*E$4","v":1437},{"$f":"Données!$F887*F$4","v":1365.1499999999999},{"$f":"Données!$F887*G$4","v":1293.3},{"$f":"Données!$F887*H$4","v":1221.45}]
[null,6120,"Marbaix","Ham-Sur-Heure",1932,1437,{"$f":"Données!$E888*B$4","v":2221.7999999999997},{"$f":"Données!$E888*C$4","v":2125.2000000000003},{"$f":"Données!$E888*D$4","v":2028.6000000000001},{"$f":"Données!$E888*E$4","v":1932},{"$f":"Données!$E888*F$4","v":1835.3999999999999},{"$f":"Données!$E888*G$4","v":1738.8},{"$f":"Données!$E888*H$4","v":1642.2},{"$f":"Données!$F888*B$4","v":1652.55},{"$f":"Données!$F888*C$4","v":1580.7},{"$f":"Données!$F888*D$4","v":1508.8500000000001},{"$f":"Données!$F888*E$4","v":1437},{"$f":"Données!$F888*F$4","v":1365.1499999999999},{"$f":"Données!$F888*G$4","v":1293.3},{"$f":"Données!$F888*H$4","v":1221.45}]
[null,6120,"Nalinnes","Ham-Sur-Heure",1932,1437,{"$f":"Données!$E889*B$4","v":2221.7999999999997},{"$f":"Données!$E889*C$4","v":2125.2000000000003},{"$f":"Données!$E889*D$4","v":2028.6000000000001},{"$f":"Données!$E889*E$4","v":1932},{"$f":"Données!$E889*F$4","v":1835.3999999999999},{"$f":"Données!$E889*G$4","v":1738.8},{"$f":"Données!$E889*H$4","v":1642.2},{"$f":"Données!$F889*B$4","v":1652.55},{"$f":"Données!$F889*C$4","v":1580.7},{"$f":"Données!$F889*D$4","v":1508.8500000000001},{"$f":"Données!$F889*E$4","v":1437},{"$f":"Données!$F889*F$4","v":1365.1499999999999},{"$f":"Données!$F889*G$4","v":1293.3},{"$f":"Données!$F889*H$4","v":1221.45}]
[null,6140,"Fontaine-L'evêque","Fontaine-L'evêque",1750,1290,{"$f":"Données!$E890*B$4","v":2012.4999999999998},{"$f":"Données!$E890*C$4","v":1925.0000000000002},{"$f":"Données!$E890*D$4","v":1837.5},{"$f":"Données!$E890*E$4","v":1750},{"$f":"Données!$E890*F$4","v":1662.5},{"$f":"Données!$E890*G$4","v":1575},{"$f":"Données!$E890*H$4","v":1487.5},{"$f":"Données!$F890*B$4","v":1483.4999999999998},{"$f":"Données!$F890*C$4","v":1419.0000000000002},{"$f":"Données!$F890*D$4","v":1354.5},{"$f":"Données!$F890*E$4","v":1290},{"$f":"Données!$F890*F$4","v":1225.5},{"$f":"Données!$F890*G$4","v":1161},{"$f":"Données!$F890*H$4","v":1096.5}]
[null,6141,"Forchies-La-Marche","Fontaine-L'evêque",1750,1290,{"$f":"Données!$E891*B$4","v":2012.4999999999998},{"$f":"Données!$E891*C$4","v":1925.0000000000002},{"$f":"Données!$E891*D$4","v":1837.5},{"$f":"Données!$E891*E$4","v":1750},{"$f":"Données!$E891*F$4","v":1662.5},{"$f":"Données!$E891*G$4","v":1575},{"$f":"Données!$E891*H$4","v":1487.5},{"$f":"Données!$F891*B$4","v":1483.4999999999998},{"$f":"Données!$F891*C$4","v":1419.0000000000002},{"$f":"Données!$F891*D$4","v":1354.5},{"$f":"Données!$F891*E$4","v":1290},{"$f":"Données!$F891*F$4","v":1225.5},{"$f":"Données!$F891*G$4","v":1161},{"$f":"Données!$F891*H$4","v":1096.5}]
[null,6142,"Leernes","Fontaine-L'evêque",1750,1290,{"$f":"Données!$E892*B$4","v":2012.4999999999998},{"$f":"Données!$E892*C$4","v":1925.0000000000002},{"$f":"Données!$E892*D$4","v":1837.5},{"$f":"Données!$E892*E$4","v":1750},{"$f":"Données!$E892*F$4","v":1662.5},{"$f":"Données!$E892*G$4","v":1575},{"$f":"Données!$E892*H$4","v":1487.5},{"$f":"Données!$F892*B$4","v":1483.4999999999998},{"$f":"Données!$F892*C$4","v":1419.0000000000002},{"$f":"Données!$F892*D$4","v":1354.5},{"$f":"Données!$F892*E$4","v":1290},{"$f":"Données!$F892*F$4","v":1225.5},{"$f":"Données!$F892*G$4","v":1161},{"$f":"Données!$F892*H$4","v":1096.5}]
[null,6150,"Anderlues","Anderlues",1674,1265,{"$f":"Données!$E893*B$4","v":1925.1},{"$f":"Données!$E893*C$4","v":1841.4},{"$f":"Données!$E893*D$4","v":1757.7},{"$f":"Données!$E893*E$4","v":1674},{"$f":"Données!$E893*F$4","v":1590.3},{"$f":"Données!$E893*G$4","v":1506.6000000000001},{"$f":"Données!$E893*H$4","v":1422.8999999999999},{"$f":"Données!$F893*B$4","v":1454.75},{"$f":"Données!$F893*C$4","v":1391.5},{"$f":"Données!$F893*D$4","v":1328.25},{"$f":"Données!$F893*E$4","v":1265},{"$f":"Données!$F893*F$4","v":1201.75},{"$f":"Données!$F893*G$4","v":1138.5},{"$f":"Données!$F893*H$4","v":1075.25}]
[null,6180,"Courcelles","Courcelles",1816,1289,{"$f":"Données!$E894*B$4","v":2088.3999999999996},{"$f":"Données!$E894*C$4","v":1997.6000000000001},{"$f":"Données!$E894*D$4","v":1906.8000000000002},{"$f":"Données!$E894*E$4","v":1816},{"$f":"Données!$E894*F$4","v":1725.1999999999998},{"$f":"Données!$E894*G$4","v":1634.4},{"$f":"Données!$E894*H$4","v":1543.6},{"$f":"Données!$F894*B$4","v":1482.35},{"$f":"Données!$F894*C$4","v":1417.9},{"$f":"Données!$F894*D$4","v":1353.45},{"$f":"Données!$F894*E$4","v":1289},{"$f":"Données!$F894*F$4","v":1224.55},{"$f":"Données!$F894*G$4","v":1160.1000000000001},{"$f":"Données!$F894*H$4","v":1095.6499999999999}]
[null,6181,"Gouy-Lez-Piéton","Courcelles",1816,1289,{"$f":"Données!$E895*B$4","v":2088.3999999999996},{"$f":"Données!$E895*C$4","v":1997.6000000000001},{"$f":"Données!$E895*D$4","v":1906.8000000000002},{"$f":"Données!$E895*E$4","v":1816},{"$f":"Données!$E895*F$4","v":1725.1999999999998},{"$f":"Données!$E895*G$4","v":1634.4},{"$f":"Données!$E895*H$4","v":1543.6},{"$f":"Données!$F895*B$4","v":1482.35},{"$f":"Données!$F895*C$4","v":1417.9},{"$f":"Données!$F895*D$4","v":1353.45},{"$f":"Données!$F895*E$4","v":1289},{"$f":"Données!$F895*F$4","v":1224.55},{"$f":"Données!$F895*G$4","v":1160.1000000000001},{"$f":"Données!$F895*H$4","v":1095.6499999999999}]
[null,6182,"Souvret","Courcelles",1816,1289,{"$f":"Données!$E896*B$4","v":2088.3999999999996},{"$f":"Données!$E896*C$4","v":1997.6000000000001},{"$f":"Données!$E896*D$4","v":1906.8000000000002},{"$f":"Données!$E896*E$4","v":1816},{"$f":"Données!$E896*F$4","v":1725.1999999999998},{"$f":"Données!$E896*G$4","v":1634.4},{"$f":"Données!$E896*H$4","v":1543.6},{"$f":"Données!$F896*B$4","v":1482.35},{"$f":"Données!$F896*C$4","v":1417.9},{"$f":"Données!$F896*D$4","v":1353.45},{"$f":"Données!$F896*E$4","v":1289},{"$f":"Données!$F896*F$4","v":1224.55},{"$f":"Données!$F896*G$4","v":1160.1000000000001},{"$f":"Données!$F896*H$4","v":1095.6499999999999}]
[null,6183,"Trazegnies","Courcelles",1816,1289,{"$f":"Données!$E897*B$4","v":2088.3999999999996},{"$f":"Données!$E897*C$4","v":1997.6000000000001},{"$f":"Données!$E897*D$4","v":1906.8000000000002},{"$f":"Données!$E897*E$4","v":1816},{"$f":"Données!$E897*F$4","v":1725.1999999999998},{"$f":"Données!$E897*G$4","v":1634.4},{"$f":"Données!$E897*H$4","v":1543.6},{"$f":"Données!$F897*B$4","v":1482.35},{"$f":"Données!$F897*C$4","v":1417.9},{"$f":"Données!$F897*D$4","v":1353.45},{"$f":"Données!$F897*E$4","v":1289},{"$f":"Données!$F897*F$4","v":1224.55},{"$f":"Données!$F897*G$4","v":1160.1000000000001},{"$f":"Données!$F897*H$4","v":1095.6499999999999}]
[null,6200,"Châtelineau","Châtelet",1635,1262,{"$f":"Données!$E898*B$4","v":1880.2499999999998},{"$f":"Données!$E898*C$4","v":1798.5000000000002},{"$f":"Données!$E898*D$4","v":1716.75},{"$f":"Données!$E898*E$4","v":1635},{"$f":"Données!$E898*F$4","v":1553.25},{"$f":"Données!$E898*G$4","v":1471.5},{"$f":"Données!$E898*H$4","v":1389.75},{"$f":"Données!$F898*B$4","v":1451.3},{"$f":"Données!$F898*C$4","v":1388.2},{"$f":"Données!$F898*D$4","v":1325.1000000000001},{"$f":"Données!$F898*E$4","v":1262},{"$f":"Données!$F898*F$4","v":1198.8999999999999},{"$f":"Données!$F898*G$4","v":1135.8},{"$f":"Données!$F898*H$4","v":1072.7}]
[null,6200,"Bouffioulx","Châtelet",1635,1262,{"$f":"Données!$E899*B$4","v":1880.2499999999998},{"$f":"Données!$E899*C$4","v":1798.5000000000002},{"$f":"Données!$E899*D$4","v":1716.75},{"$f":"Données!$E899*E$4","v":1635},{"$f":"Données!$E899*F$4","v":1553.25},{"$f":"Données!$E899*G$4","v":1471.5},{"$f":"Données!$E899*H$4","v":1389.75},{"$f":"Données!$F899*B$4","v":1451.3},{"$f":"Données!$F899*C$4","v":1388.2},{"$f":"Données!$F899*D$4","v":1325.1000000000001},{"$f":"Données!$F899*E$4","v":1262},{"$f":"Données!$F899*F$4","v":1198.8999999999999},{"$f":"Données!$F899*G$4","v":1135.8},{"$f":"Données!$F899*H$4","v":1072.7}]
[null,6200,"Châtelet","Châtelet",1635,1262,{"$f":"Données!$E900*B$4","v":1880.2499999999998},{"$f":"Données!$E900*C$4","v":1798.5000000000002},{"$f":"Données!$E900*D$4","v":1716.75},{"$f":"Données!$E900*E$4","v":1635},{"$f":"Données!$E900*F$4","v":1553.25},{"$f":"Données!$E900*G$4","v":1471.5},{"$f":"Données!$E900*H$4","v":1389.75},{"$f":"Données!$F900*B$4","v":1451.3},{"$f":"Données!$F900*C$4","v":1388.2},{"$f":"Données!$F900*D$4","v":1325.1000000000001},{"$f":"Données!$F900*E$4","v":1262},{"$f":"Données!$F900*F$4","v":1198.8999999999999},{"$f":"Données!$F900*G$4","v":1135.8},{"$f":"Données!$F900*H$4","v":1072.7}]
[null,6210,"Rèves","Les Bons Villers",2160,1672,{"$f":"Données!$E901*B$4","v":2484},{"$f":"Données!$E901*C$4","v":2376},{"$f":"Données!$E901*D$4","v":2268},{"$f":"Données!$E901*E$4","v":2160},{"$f":"Données!$E901*F$4","v":2052},{"$f":"Données!$E901*G$4","v":1944},{"$f":"Données!$E901*H$4","v":1836},{"$f":"Données!$F901*B$4","v":1922.8},{"$f":"Données!$F901*C$4","v":1839.2},{"$f":"Données!$F901*D$4","v":1755.6000000000001},{"$f":"Données!$F901*E$4","v":1672},{"$f":"Données!$F901*F$4","v":1588.3999999999999},{"$f":"Données!$F901*G$4","v":1504.8},{"$f":"Données!$F901*H$4","v":1421.2}]
[null,6210,"Wayaux","Les Bons Villers",2160,1672,{"$f":"Données!$E902*B$4","v":2484},{"$f":"Données!$E902*C$4","v":2376},{"$f":"Données!$E902*D$4","v":2268},{"$f":"Données!$E902*E$4","v":2160},{"$f":"Données!$E902*F$4","v":2052},{"$f":"Données!$E902*G$4","v":1944},{"$f":"Données!$E902*H$4","v":1836},{"$f":"Données!$F902*B$4","v":1922.8},{"$f":"Données!$F902*C$4","v":1839.2},{"$f":"Données!$F902*D$4","v":1755.6000000000001},{"$f":"Données!$F902*E$4","v":1672},{"$f":"Données!$F902*F$4","v":1588.3999999999999},{"$f":"Données!$F902*G$4","v":1504.8},{"$f":"Données!$F902*H$4","v":1421.2}]
[null,6210,"LesBonsVillers","Les Bons Villers",2160,1672,{"$f":"Données!$E903*B$4","v":2484},{"$f":"Données!$E903*C$4","v":2376},{"$f":"Données!$E903*D$4","v":2268},{"$f":"Données!$E903*E$4","v":2160},{"$f":"Données!$E903*F$4","v":2052},{"$f":"Données!$E903*G$4","v":1944},{"$f":"Données!$E903*H$4","v":1836},{"$f":"Données!$F903*B$4","v":1922.8},{"$f":"Données!$F903*C$4","v":1839.2},{"$f":"Données!$F903*D$4","v":1755.6000000000001},{"$f":"Données!$F903*E$4","v":1672},{"$f":"Données!$F903*F$4","v":1588.3999999999999},{"$f":"Données!$F903*G$4","v":1504.8},{"$f":"Données!$F903*H$4","v":1421.2}]
[null,6210,"Villers-Perwin","Les Bons Villers",2160,1672,{"$f":"Données!$E904*B$4","v":2484},{"$f":"Données!$E904*C$4","v":2376},{"$f":"Données!$E904*D$4","v":2268},{"$f":"Données!$E904*E$4","v":2160},{"$f":"Données!$E904*F$4","v":2052},{"$f":"Données!$E904*G$4","v":1944},{"$f":"Données!$E904*H$4","v":1836},{"$f":"Données!$F904*B$4","v":1922.8},{"$f":"Données!$F904*C$4","v":1839.2},{"$f":"Données!$F904*D$4","v":1755.6000000000001},{"$f":"Données!$F904*E$4","v":1672},{"$f":"Données!$F904*F$4","v":1588.3999999999999},{"$f":"Données!$F904*G$4","v":1504.8},{"$f":"Données!$F904*H$4","v":1421.2}]
[null,6210,"Frasnes-Lez-Gosselies","Les Bons Villers",2160,1672,{"$f":"Données!$E905*B$4","v":2484},{"$f":"Données!$E905*C$4","v":2376},{"$f":"Données!$E905*D$4","v":2268},{"$f":"Données!$E905*E$4","v":2160},{"$f":"Données!$E905*F$4","v":2052},{"$f":"Données!$E905*G$4","v":1944},{"$f":"Données!$E905*H$4","v":1836},{"$f":"Données!$F905*B$4","v":1922.8},{"$f":"Données!$F905*C$4","v":1839.2},{"$f":"Données!$F905*D$4","v":1755.6000000000001},{"$f":"Données!$F905*E$4","v":1672},{"$f":"Données!$F905*F$4","v":1588.3999999999999},{"$f":"Données!$F905*G$4","v":1504.8},{"$f":"Données!$F905*H$4","v":1421.2}]
[null,6211,"Mellet","Les Bons Villers",2160,1672,{"$f":"Données!$E906*B$4","v":2484},{"$f":"Données!$E906*C$4","v":2376},{"$f":"Données!$E906*D$4","v":2268},{"$f":"Données!$E906*E$4","v":2160},{"$f":"Données!$E906*F$4","v":2052},{"$f":"Données!$E906*G$4","v":1944},{"$f":"Données!$E906*H$4","v":1836},{"$f":"Données!$F906*B$4","v":1922.8},{"$f":"Données!$F906*C$4","v":1839.2},{"$f":"Données!$F906*D$4","v":1755.6000000000001},{"$f":"Données!$F906*E$4","v":1672},{"$f":"Données!$F906*F$4","v":1588.3999999999999},{"$f":"Données!$F906*G$4","v":1504.8},{"$f":"Données!$F906*H$4","v":1421.2}]
[null,6220,"Wangenies","Fleurus",1961,1417,{"$f":"Données!$E907*B$4","v":2255.1499999999996},{"$f":"Données!$E907*C$4","v":2157.1000000000004},{"$f":"Données!$E907*D$4","v":2059.0500000000002},{"$f":"Données!$E907*E$4","v":1961},{"$f":"Données!$E907*F$4","v":1862.9499999999998},{"$f":"Données!$E907*G$4","v":1764.9},{"$f":"Données!$E907*H$4","v":1666.85},{"$f":"Données!$F907*B$4","v":1629.55},{"$f":"Données!$F907*C$4","v":1558.7},{"$f":"Données!$F907*D$4","v":1487.8500000000001},{"$f":"Données!$F907*E$4","v":1417},{"$f":"Données!$F907*F$4","v":1346.1499999999999},{"$f":"Données!$F907*G$4","v":1275.3},{"$f":"Données!$F907*H$4","v":1204.45}]
[null,6220,"Fleurus","Fleurus",1961,1417,{"$f":"Données!$E908*B$4","v":2255.1499999999996},{"$f":"Données!$E908*C$4","v":2157.1000000000004},{"$f":"Données!$E908*D$4","v":2059.0500000000002},{"$f":"Données!$E908*E$4","v":1961},{"$f":"Données!$E908*F$4","v":1862.9499999999998},{"$f":"Données!$E908*G$4","v":1764.9},{"$f":"Données!$E908*H$4","v":1666.85},{"$f":"Données!$F908*B$4","v":1629.55},{"$f":"Données!$F908*C$4","v":1558.7},{"$f":"Données!$F908*D$4","v":1487.8500000000001},{"$f":"Données!$F908*E$4","v":1417},{"$f":"Données!$F908*F$4","v":1346.1499999999999},{"$f":"Données!$F908*G$4","v":1275.3},{"$f":"Données!$F908*H$4","v":1204.45}]
[null,6220,"Heppignies","Fleurus",1961,1417,{"$f":"Données!$E909*B$4","v":2255.1499999999996},{"$f":"Données!$E909*C$4","v":2157.1000000000004},{"$f":"Données!$E909*D$4","v":2059.0500000000002},{"$f":"Données!$E909*E$4","v":1961},{"$f":"Données!$E909*F$4","v":1862.9499999999998},{"$f":"Données!$E909*G$4","v":1764.9},{"$f":"Données!$E909*H$4","v":1666.85},{"$f":"Données!$F909*B$4","v":1629.55},{"$f":"Données!$F909*C$4","v":1558.7},{"$f":"Données!$F909*D$4","v":1487.8500000000001},{"$f":"Données!$F909*E$4","v":1417},{"$f":"Données!$F909*F$4","v":1346.1499999999999},{"$f":"Données!$F909*G$4","v":1275.3},{"$f":"Données!$F909*H$4","v":1204.45}]
[null,6220,"Lambusart","Fleurus",1961,1417,{"$f":"Données!$E910*B$4","v":2255.1499999999996},{"$f":"Données!$E910*C$4","v":2157.1000000000004},{"$f":"Données!$E910*D$4","v":2059.0500000000002},{"$f":"Données!$E910*E$4","v":1961},{"$f":"Données!$E910*F$4","v":1862.9499999999998},{"$f":"Données!$E910*G$4","v":1764.9},{"$f":"Données!$E910*H$4","v":1666.85},{"$f":"Données!$F910*B$4","v":1629.55},{"$f":"Données!$F910*C$4","v":1558.7},{"$f":"Données!$F910*D$4","v":1487.8500000000001},{"$f":"Données!$F910*E$4","v":1417},{"$f":"Données!$F910*F$4","v":1346.1499999999999},{"$f":"Données!$F910*G$4","v":1275.3},{"$f":"Données!$F910*H$4","v":1204.45}]
[null,6221,"Saint-Amand","Fleurus",1961,1417,{"$f":"Données!$E911*B$4","v":2255.1499999999996},{"$f":"Données!$E911*C$4","v":2157.1000000000004},{"$f":"Données!$E911*D$4","v":2059.0500000000002},{"$f":"Données!$E911*E$4","v":1961},{"$f":"Données!$E911*F$4","v":1862.9499999999998},{"$f":"Données!$E911*G$4","v":1764.9},{"$f":"Données!$E911*H$4","v":1666.85},{"$f":"Données!$F911*B$4","v":1629.55},{"$f":"Données!$F911*C$4","v":1558.7},{"$f":"Données!$F911*D$4","v":1487.8500000000001},{"$f":"Données!$F911*E$4","v":1417},{"$f":"Données!$F911*F$4","v":1346.1499999999999},{"$f":"Données!$F911*G$4","v":1275.3},{"$f":"Données!$F911*H$4","v":1204.45}]
[null,6222,"Brye","Fleurus",1961,1417,{"$f":"Données!$E912*B$4","v":2255.1499999999996},{"$f":"Données!$E912*C$4","v":2157.1000000000004},{"$f":"Données!$E912*D$4","v":2059.0500000000002},{"$f":"Données!$E912*E$4","v":1961},{"$f":"Données!$E912*F$4","v":1862.9499999999998},{"$f":"Données!$E912*G$4","v":1764.9},{"$f":"Données!$E912*H$4","v":1666.85},{"$f":"Données!$F912*B$4","v":1629.55},{"$f":"Données!$F912*C$4","v":1558.7},{"$f":"Données!$F912*D$4","v":1487.8500000000001},{"$f":"Données!$F912*E$4","v":1417},{"$f":"Données!$F912*F$4","v":1346.1499999999999},{"$f":"Données!$F912*G$4","v":1275.3},{"$f":"Données!$F912*H$4","v":1204.45}]
[null,6223,"Wagnelée","Fleurus",1961,1417,{"$f":"Données!$E913*B$4","v":2255.1499999999996},{"$f":"Données!$E913*C$4","v":2157.1000000000004},{"$f":"Données!$E913*D$4","v":2059.0500000000002},{"$f":"Données!$E913*E$4","v":1961},{"$f":"Données!$E913*F$4","v":1862.9499999999998},{"$f":"Données!$E913*G$4","v":1764.9},{"$f":"Données!$E913*H$4","v":1666.85},{"$f":"Données!$F913*B$4","v":1629.55},{"$f":"Données!$F913*C$4","v":1558.7},{"$f":"Données!$F913*D$4","v":1487.8500000000001},{"$f":"Données!$F913*E$4","v":1417},{"$f":"Données!$F913*F$4","v":1346.1499999999999},{"$f":"Données!$F913*G$4","v":1275.3},{"$f":"Données!$F913*H$4","v":1204.45}]
[null,6224,"Wanfercée-Baulet","Fleurus",1961,1417,{"$f":"Données!$E914*B$4","v":2255.1499999999996},{"$f":"Données!$E914*C$4","v":2157.1000000000004},{"$f":"Données!$E914*D$4","v":2059.0500000000002},{"$f":"Données!$E914*E$4","v":1961},{"$f":"Données!$E914*F$4","v":1862.9499999999998},{"$f":"Données!$E914*G$4","v":1764.9},{"$f":"Données!$E914*H$4","v":1666.85},{"$f":"Données!$F914*B$4","v":1629.55},{"$f":"Données!$F914*C$4","v":1558.7},{"$f":"Données!$F914*D$4","v":1487.8500000000001},{"$f":"Données!$F914*E$4","v":1417},{"$f":"Données!$F914*F$4","v":1346.1499999999999},{"$f":"Données!$F914*G$4","v":1275.3},{"$f":"Données!$F914*H$4","v":1204.45}]
[null,6230,"Obaix","Pont-À-Celles",2218,1535,{"$f":"Données!$E915*B$4","v":2550.6999999999998},{"$f":"Données!$E915*C$4","v":2439.8000000000002},{"$f":"Données!$E915*D$4","v":2328.9},{"$f":"Données!$E915*E$4","v":2218},{"$f":"Données!$E915*F$4","v":2107.1},{"$f":"Données!$E915*G$4","v":1996.2},{"$f":"Données!$E915*H$4","v":1885.3},{"$f":"Données!$F915*B$4","v":1765.2499999999998},{"$f":"Données!$F915*C$4","v":1688.5000000000002},{"$f":"Données!$F915*D$4","v":1611.75},{"$f":"Données!$F915*E$4","v":1535},{"$f":"Données!$F915*F$4","v":1458.25},{"$f":"Données!$F915*G$4","v":1381.5},{"$f":"Données!$F915*H$4","v":1304.75}]
[null,6230,"Thiméon","Pont-À-Celles",2218,1535,{"$f":"Données!$E916*B$4","v":2550.6999999999998},{"$f":"Données!$E916*C$4","v":2439.8000000000002},{"$f":"Données!$E916*D$4","v":2328.9},{"$f":"Données!$E916*E$4","v":2218},{"$f":"Données!$E916*F$4","v":2107.1},{"$f":"Données!$E916*G$4","v":1996.2},{"$f":"Données!$E916*H$4","v":1885.3},{"$f":"Données!$F916*B$4","v":1765.2499999999998},{"$f":"Données!$F916*C$4","v":1688.5000000000002},{"$f":"Données!$F916*D$4","v":1611.75},{"$f":"Données!$F916*E$4","v":1535},{"$f":"Données!$F916*F$4","v":1458.25},{"$f":"Données!$F916*G$4","v":1381.5},{"$f":"Données!$F916*H$4","v":1304.75}]
[null,6230,"Viesville","Pont-À-Celles",2218,1535,{"$f":"Données!$E917*B$4","v":2550.6999999999998},{"$f":"Données!$E917*C$4","v":2439.8000000000002},{"$f":"Données!$E917*D$4","v":2328.9},{"$f":"Données!$E917*E$4","v":2218},{"$f":"Données!$E917*F$4","v":2107.1},{"$f":"Données!$E917*G$4","v":1996.2},{"$f":"Données!$E917*H$4","v":1885.3},{"$f":"Données!$F917*B$4","v":1765.2499999999998},{"$f":"Données!$F917*C$4","v":1688.5000000000002},{"$f":"Données!$F917*D$4","v":1611.75},{"$f":"Données!$F917*E$4","v":1535},{"$f":"Données!$F917*F$4","v":1458.25},{"$f":"Données!$F917*G$4","v":1381.5},{"$f":"Données!$F917*H$4","v":1304.75}]
[null,6230,"Buzet","Pont-À-Celles",2218,1535,{"$f":"Données!$E918*B$4","v":2550.6999999999998},{"$f":"Données!$E918*C$4","v":2439.8000000000002},{"$f":"Données!$E918*D$4","v":2328.9},{"$f":"Données!$E918*E$4","v":2218},{"$f":"Données!$E918*F$4","v":2107.1},{"$f":"Données!$E918*G$4","v":1996.2},{"$f":"Données!$E918*H$4","v":1885.3},{"$f":"Données!$F918*B$4","v":1765.2499999999998},{"$f":"Données!$F918*C$4","v":1688.5000000000002},{"$f":"Données!$F918*D$4","v":1611.75},{"$f":"Données!$F918*E$4","v":1535},{"$f":"Données!$F918*F$4","v":1458.25},{"$f":"Données!$F918*G$4","v":1381.5},{"$f":"Données!$F918*H$4","v":1304.75}]
[null,6230,"Pont-À-Celles","Pont-À-Celles",2218,1535,{"$f":"Données!$E919*B$4","v":2550.6999999999998},{"$f":"Données!$E919*C$4","v":2439.8000000000002},{"$f":"Données!$E919*D$4","v":2328.9},{"$f":"Données!$E919*E$4","v":2218},{"$f":"Données!$E919*F$4","v":2107.1},{"$f":"Données!$E919*G$4","v":1996.2},{"$f":"Données!$E919*H$4","v":1885.3},{"$f":"Données!$F919*B$4","v":1765.2499999999998},{"$f":"Données!$F919*C$4","v":1688.5000000000002},{"$f":"Données!$F919*D$4","v":1611.75},{"$f":"Données!$F919*E$4","v":1535},{"$f":"Données!$F919*F$4","v":1458.25},{"$f":"Données!$F919*G$4","v":1381.5},{"$f":"Données!$F919*H$4","v":1304.75}]
[null,6238,"Luttre","Pont-À-Celles",2218,1535,{"$f":"Données!$E920*B$4","v":2550.6999999999998},{"$f":"Données!$E920*C$4","v":2439.8000000000002},{"$f":"Données!$E920*D$4","v":2328.9},{"$f":"Données!$E920*E$4","v":2218},{"$f":"Données!$E920*F$4","v":2107.1},{"$f":"Données!$E920*G$4","v":1996.2},{"$f":"Données!$E920*H$4","v":1885.3},{"$f":"Données!$F920*B$4","v":1765.2499999999998},{"$f":"Données!$F920*C$4","v":1688.5000000000002},{"$f":"Données!$F920*D$4","v":1611.75},{"$f":"Données!$F920*E$4","v":1535},{"$f":"Données!$F920*F$4","v":1458.25},{"$f":"Données!$F920*G$4","v":1381.5},{"$f":"Données!$F920*H$4","v":1304.75}]
[null,6238,"Liberchies","Pont-À-Celles",2218,1535,{"$f":"Données!$E921*B$4","v":2550.6999999999998},{"$f":"Données!$E921*C$4","v":2439.8000000000002},{"$f":"Données!$E921*D$4","v":2328.9},{"$f":"Données!$E921*E$4","v":2218},{"$f":"Données!$E921*F$4","v":2107.1},{"$f":"Données!$E921*G$4","v":1996.2},{"$f":"Données!$E921*H$4","v":1885.3},{"$f":"Données!$F921*B$4","v":1765.2499999999998},{"$f":"Données!$F921*C$4","v":1688.5000000000002},{"$f":"Données!$F921*D$4","v":1611.75},{"$f":"Données!$F921*E$4","v":1535},{"$f":"Données!$F921*F$4","v":1458.25},{"$f":"Données!$F921*G$4","v":1381.5},{"$f":"Données!$F921*H$4","v":1304.75}]
[null,6240,"Pironchamps","Farciennes",1904,1223,{"$f":"Données!$E922*B$4","v":2189.6},{"$f":"Données!$E922*C$4","v":2094.4},{"$f":"Données!$E922*D$4","v":1999.2},{"$f":"Données!$E922*E$4","v":1904},{"$f":"Données!$E922*F$4","v":1808.8},{"$f":"Données!$E922*G$4","v":1713.6000000000001},{"$f":"Données!$E922*H$4","v":1618.3999999999999},{"$f":"Données!$F922*B$4","v":1406.4499999999998},{"$f":"Données!$F922*C$4","v":1345.3000000000002},{"$f":"Données!$F922*D$4","v":1284.1500000000001},{"$f":"Données!$F922*E$4","v":1223},{"$f":"Données!$F922*F$4","v":1161.8499999999999},{"$f":"Données!$F922*G$4","v":1100.7},{"$f":"Données!$F922*H$4","v":1039.55}]
[null,6240,"Farciennes","Farciennes",1904,1223,{"$f":"Données!$E923*B$4","v":2189.6},{"$f":"Données!$E923*C$4","v":2094.4},{"$f":"Données!$E923*D$4","v":1999.2},{"$f":"Données!$E923*E$4","v":1904},{"$f":"Données!$E923*F$4","v":1808.8},{"$f":"Données!$E923*G$4","v":1713.6000000000001},{"$f":"Données!$E923*H$4","v":1618.3999999999999},{"$f":"Données!$F923*B$4","v":1406.4499999999998},{"$f":"Données!$F923*C$4","v":1345.3000000000002},{"$f":"Données!$F923*D$4","v":1284.1500000000001},{"$f":"Données!$F923*E$4","v":1223},{"$f":"Données!$F923*F$4","v":1161.8499999999999},{"$f":"Données!$F923*G$4","v":1100.7},{"$f":"Données!$F923*H$4","v":1039.55}]
[null,6250,"Aiseau-Presles","Aiseau-Presles",1858,1477,{"$f":"Données!$E924*B$4","v":2136.6999999999998},{"$f":"Données!$E924*C$4","v":2043.8000000000002},{"$f":"Données!$E924*D$4","v":1950.9},{"$f":"Données!$E924*E$4","v":1858},{"$f":"Données!$E924*F$4","v":1765.1},{"$f":"Données!$E924*G$4","v":1672.2},{"$f":"Données!$E924*H$4","v":1579.3},{"$f":"Données!$F924*B$4","v":1698.55},{"$f":"Données!$F924*C$4","v":1624.7},{"$f":"Données!$F924*D$4","v":1550.8500000000001},{"$f":"Données!$F924*E$4","v":1477},{"$f":"Données!$F924*F$4","v":1403.1499999999999},{"$f":"Données!$F924*G$4","v":1329.3},{"$f":"Données!$F924*H$4","v":1255.45}]
[null,6250,"Pont-De-Loup","Aiseau-Presles",1858,1477,{"$f":"Données!$E925*B$4","v":2136.6999999999998},{"$f":"Données!$E925*C$4","v":2043.8000000000002},{"$f":"Données!$E925*D$4","v":1950.9},{"$f":"Données!$E925*E$4","v":1858},{"$f":"Données!$E925*F$4","v":1765.1},{"$f":"Données!$E925*G$4","v":1672.2},{"$f":"Données!$E925*H$4","v":1579.3},{"$f":"Données!$F925*B$4","v":1698.55},{"$f":"Données!$F925*C$4","v":1624.7},{"$f":"Données!$F925*D$4","v":1550.8500000000001},{"$f":"Données!$F925*E$4","v":1477},{"$f":"Données!$F925*F$4","v":1403.1499999999999},{"$f":"Données!$F925*G$4","v":1329.3},{"$f":"Données!$F925*H$4","v":1255.45}]
[null,6250,"Presles","Aiseau-Presles",1858,1477,{"$f":"Données!$E926*B$4","v":2136.6999999999998},{"$f":"Données!$E926*C$4","v":2043.8000000000002},{"$f":"Données!$E926*D$4","v":1950.9},{"$f":"Données!$E926*E$4","v":1858},{"$f":"Données!$E926*F$4","v":1765.1},{"$f":"Données!$E926*G$4","v":1672.2},{"$f":"Données!$E926*H$4","v":1579.3},{"$f":"Données!$F926*B$4","v":1698.55},{"$f":"Données!$F926*C$4","v":1624.7},{"$f":"Données!$F926*D$4","v":1550.8500000000001},{"$f":"Données!$F926*E$4","v":1477},{"$f":"Données!$F926*F$4","v":1403.1499999999999},{"$f":"Données!$F926*G$4","v":1329.3},{"$f":"Données!$F926*H$4","v":1255.45}]
[null,6250,"Roselies","Aiseau-Presles",1858,1477,{"$f":"Données!$E927*B$4","v":2136.6999999999998},{"$f":"Données!$E927*C$4","v":2043.8000000000002},{"$f":"Données!$E927*D$4","v":1950.9},{"$f":"Données!$E927*E$4","v":1858},{"$f":"Données!$E927*F$4","v":1765.1},{"$f":"Données!$E927*G$4","v":1672.2},{"$f":"Données!$E927*H$4","v":1579.3},{"$f":"Données!$F927*B$4","v":1698.55},{"$f":"Données!$F927*C$4","v":1624.7},{"$f":"Données!$F927*D$4","v":1550.8500000000001},{"$f":"Données!$F927*E$4","v":1477},{"$f":"Données!$F927*F$4","v":1403.1499999999999},{"$f":"Données!$F927*G$4","v":1329.3},{"$f":"Données!$F927*H$4","v":1255.45}]
[null,6250,"Aiseau","Aiseau-Presles",1858,1477,{"$f":"Données!$E928*B$4","v":2136.6999999999998},{"$f":"Données!$E928*C$4","v":2043.8000000000002},{"$f":"Données!$E928*D$4","v":1950.9},{"$f":"Données!$E928*E$4","v":1858},{"$f":"Données!$E928*F$4","v":1765.1},{"$f":"Données!$E928*G$4","v":1672.2},{"$f":"Données!$E928*H$4","v":1579.3},{"$f":"Données!$F928*B$4","v":1698.55},{"$f":"Données!$F928*C$4","v":1624.7},{"$f":"Données!$F928*D$4","v":1550.8500000000001},{"$f":"Données!$F928*E$4","v":1477},{"$f":"Données!$F928*F$4","v":1403.1499999999999},{"$f":"Données!$F928*G$4","v":1329.3},{"$f":"Données!$F928*H$4","v":1255.45}]
[null,6280,"Gerpinnes","Gerpinnes",2528,1507,{"$f":"Données!$E929*B$4","v":2907.2},{"$f":"Données!$E929*C$4","v":2780.8},{"$f":"Données!$E929*D$4","v":2654.4},{"$f":"Données!$E929*E$4","v":2528},{"$f":"Données!$E929*F$4","v":2401.6},{"$f":"Données!$E929*G$4","v":2275.2000000000003},{"$f":"Données!$E929*H$4","v":2148.7999999999997},{"$f":"Données!$F929*B$4","v":1733.05},{"$f":"Données!$F929*C$4","v":1657.7},{"$f":"Données!$F929*D$4","v":1582.3500000000001},{"$f":"Données!$F929*E$4","v":1507},{"$f":"Données!$F929*F$4","v":1431.6499999999999},{"$f":"Données!$F929*G$4","v":1356.3},{"$f":"Données!$F929*H$4","v":1280.95}]
[null,6280,"Gougnies","Gerpinnes",2528,1507,{"$f":"Données!$E930*B$4","v":2907.2},{"$f":"Données!$E930*C$4","v":2780.8},{"$f":"Données!$E930*D$4","v":2654.4},{"$f":"Données!$E930*E$4","v":2528},{"$f":"Données!$E930*F$4","v":2401.6},{"$f":"Données!$E930*G$4","v":2275.2000000000003},{"$f":"Données!$E930*H$4","v":2148.7999999999997},{"$f":"Données!$F930*B$4","v":1733.05},{"$f":"Données!$F930*C$4","v":1657.7},{"$f":"Données!$F930*D$4","v":1582.3500000000001},{"$f":"Données!$F930*E$4","v":1507},{"$f":"Données!$F930*F$4","v":1431.6499999999999},{"$f":"Données!$F930*G$4","v":1356.3},{"$f":"Données!$F930*H$4","v":1280.95}]
[null,6280,"Joncret","Gerpinnes",2528,1507,{"$f":"Données!$E931*B$4","v":2907.2},{"$f":"Données!$E931*C$4","v":2780.8},{"$f":"Données!$E931*D$4","v":2654.4},{"$f":"Données!$E931*E$4","v":2528},{"$f":"Données!$E931*F$4","v":2401.6},{"$f":"Données!$E931*G$4","v":2275.2000000000003},{"$f":"Données!$E931*H$4","v":2148.7999999999997},{"$f":"Données!$F931*B$4","v":1733.05},{"$f":"Données!$F931*C$4","v":1657.7},{"$f":"Données!$F931*D$4","v":1582.3500000000001},{"$f":"Données!$F931*E$4","v":1507},{"$f":"Données!$F931*F$4","v":1431.6499999999999},{"$f":"Données!$F931*G$4","v":1356.3},{"$f":"Données!$F931*H$4","v":1280.95}]
[null,6280,"Villers-Poterie","Gerpinnes",2528,1507,{"$f":"Données!$E932*B$4","v":2907.2},{"$f":"Données!$E932*C$4","v":2780.8},{"$f":"Données!$E932*D$4","v":2654.4},{"$f":"Données!$E932*E$4","v":2528},{"$f":"Données!$E932*F$4","v":2401.6},{"$f":"Données!$E932*G$4","v":2275.2000000000003},{"$f":"Données!$E932*H$4","v":2148.7999999999997},{"$f":"Données!$F932*B$4","v":1733.05},{"$f":"Données!$F932*C$4","v":1657.7},{"$f":"Données!$F932*D$4","v":1582.3500000000001},{"$f":"Données!$F932*E$4","v":1507},{"$f":"Données!$F932*F$4","v":1431.6499999999999},{"$f":"Données!$F932*G$4","v":1356.3},{"$f":"Données!$F932*H$4","v":1280.95}]
[null,6280,"Acoz","Gerpinnes",2528,1507,{"$f":"Données!$E933*B$4","v":2907.2},{"$f":"Données!$E933*C$4","v":2780.8},{"$f":"Données!$E933*D$4","v":2654.4},{"$f":"Données!$E933*E$4","v":2528},{"$f":"Données!$E933*F$4","v":2401.6},{"$f":"Données!$E933*G$4","v":2275.2000000000003},{"$f":"Données!$E933*H$4","v":2148.7999999999997},{"$f":"Données!$F933*B$4","v":1733.05},{"$f":"Données!$F933*C$4","v":1657.7},{"$f":"Données!$F933*D$4","v":1582.3500000000001},{"$f":"Données!$F933*E$4","v":1507},{"$f":"Données!$F933*F$4","v":1431.6499999999999},{"$f":"Données!$F933*G$4","v":1356.3},{"$f":"Données!$F933*H$4","v":1280.95}]
[null,6280,"Loverval","Gerpinnes",2528,1507,{"$f":"Données!$E934*B$4","v":2907.2},{"$f":"Données!$E934*C$4","v":2780.8},{"$f":"Données!$E934*D$4","v":2654.4},{"$f":"Données!$E934*E$4","v":2528},{"$f":"Données!$E934*F$4","v":2401.6},{"$f":"Données!$E934*G$4","v":2275.2000000000003},{"$f":"Données!$E934*H$4","v":2148.7999999999997},{"$f":"Données!$F934*B$4","v":1733.05},{"$f":"Données!$F934*C$4","v":1657.7},{"$f":"Données!$F934*D$4","v":1582.3500000000001},{"$f":"Données!$F934*E$4","v":1507},{"$f":"Données!$F934*F$4","v":1431.6499999999999},{"$f":"Données!$F934*G$4","v":1356.3},{"$f":"Données!$F934*H$4","v":1280.95}]
[null,6440,"Boussu-Lez-Walcourt","Froidchapelle",1835,1115,{"$f":"Données!$E935*B$4","v":2110.25},{"$f":"Données!$E935*C$4","v":2018.5000000000002},{"$f":"Données!$E935*D$4","v":1926.75},{"$f":"Données!$E935*E$4","v":1835},{"$f":"Données!$E935*F$4","v":1743.25},{"$f":"Données!$E935*G$4","v":1651.5},{"$f":"Données!$E935*H$4","v":1559.75},{"$f":"Données!$F935*B$4","v":1282.25},{"$f":"Données!$F935*C$4","v":1226.5},{"$f":"Données!$F935*D$4","v":1170.75},{"$f":"Données!$F935*E$4","v":1115},{"$f":"Données!$F935*F$4","v":1059.25},{"$f":"Données!$F935*G$4","v":1003.5},{"$f":"Données!$F935*H$4","v":947.75}]
[null,6440,"Fourbechies","Froidchapelle",1835,1115,{"$f":"Données!$E936*B$4","v":2110.25},{"$f":"Données!$E936*C$4","v":2018.5000000000002},{"$f":"Données!$E936*D$4","v":1926.75},{"$f":"Données!$E936*E$4","v":1835},{"$f":"Données!$E936*F$4","v":1743.25},{"$f":"Données!$E936*G$4","v":1651.5},{"$f":"Données!$E936*H$4","v":1559.75},{"$f":"Données!$F936*B$4","v":1282.25},{"$f":"Données!$F936*C$4","v":1226.5},{"$f":"Données!$F936*D$4","v":1170.75},{"$f":"Données!$F936*E$4","v":1115},{"$f":"Données!$F936*F$4","v":1059.25},{"$f":"Données!$F936*G$4","v":1003.5},{"$f":"Données!$F936*H$4","v":947.75}]
[null,6440,"Froidchapelle","Froidchapelle",1835,1115,{"$f":"Données!$E937*B$4","v":2110.25},{"$f":"Données!$E937*C$4","v":2018.5000000000002},{"$f":"Données!$E937*D$4","v":1926.75},{"$f":"Données!$E937*E$4","v":1835},{"$f":"Données!$E937*F$4","v":1743.25},{"$f":"Données!$E937*G$4","v":1651.5},{"$f":"Données!$E937*H$4","v":1559.75},{"$f":"Données!$F937*B$4","v":1282.25},{"$f":"Données!$F937*C$4","v":1226.5},{"$f":"Données!$F937*D$4","v":1170.75},{"$f":"Données!$F937*E$4","v":1115},{"$f":"Données!$F937*F$4","v":1059.25},{"$f":"Données!$F937*G$4","v":1003.5},{"$f":"Données!$F937*H$4","v":947.75}]
[null,6440,"Vergnies","Froidchapelle",1835,1115,{"$f":"Données!$E938*B$4","v":2110.25},{"$f":"Données!$E938*C$4","v":2018.5000000000002},{"$f":"Données!$E938*D$4","v":1926.75},{"$f":"Données!$E938*E$4","v":1835},{"$f":"Données!$E938*F$4","v":1743.25},{"$f":"Données!$E938*G$4","v":1651.5},{"$f":"Données!$E938*H$4","v":1559.75},{"$f":"Données!$F938*B$4","v":1282.25},{"$f":"Données!$F938*C$4","v":1226.5},{"$f":"Données!$F938*D$4","v":1170.75},{"$f":"Données!$F938*E$4","v":1115},{"$f":"Données!$F938*F$4","v":1059.25},{"$f":"Données!$F938*G$4","v":1003.5},{"$f":"Données!$F938*H$4","v":947.75}]
[null,6441,"Erpion","Froidchapelle",1835,1115,{"$f":"Données!$E939*B$4","v":2110.25},{"$f":"Données!$E939*C$4","v":2018.5000000000002},{"$f":"Données!$E939*D$4","v":1926.75},{"$f":"Données!$E939*E$4","v":1835},{"$f":"Données!$E939*F$4","v":1743.25},{"$f":"Données!$E939*G$4","v":1651.5},{"$f":"Données!$E939*H$4","v":1559.75},{"$f":"Données!$F939*B$4","v":1282.25},{"$f":"Données!$F939*C$4","v":1226.5},{"$f":"Données!$F939*D$4","v":1170.75},{"$f":"Données!$F939*E$4","v":1115},{"$f":"Données!$F939*F$4","v":1059.25},{"$f":"Données!$F939*G$4","v":1003.5},{"$f":"Données!$F939*H$4","v":947.75}]
[null,6460,"Bailièvre","Chimay",1553,1059,{"$f":"Données!$E940*B$4","v":1785.9499999999998},{"$f":"Données!$E940*C$4","v":1708.3000000000002},{"$f":"Données!$E940*D$4","v":1630.65},{"$f":"Données!$E940*E$4","v":1553},{"$f":"Données!$E940*F$4","v":1475.35},{"$f":"Données!$E940*G$4","v":1397.7},{"$f":"Données!$E940*H$4","v":1320.05},{"$f":"Données!$F940*B$4","v":1217.8499999999999},{"$f":"Données!$F940*C$4","v":1164.9000000000001},{"$f":"Données!$F940*D$4","v":1111.95},{"$f":"Données!$F940*E$4","v":1059},{"$f":"Données!$F940*F$4","v":1006.05},{"$f":"Données!$F940*G$4","v":953.1},{"$f":"Données!$F940*H$4","v":900.15}]
[null,6460,"Villers-La-Tour","Chimay",1553,1059,{"$f":"Données!$E941*B$4","v":1785.9499999999998},{"$f":"Données!$E941*C$4","v":1708.3000000000002},{"$f":"Données!$E941*D$4","v":1630.65},{"$f":"Données!$E941*E$4","v":1553},{"$f":"Données!$E941*F$4","v":1475.35},{"$f":"Données!$E941*G$4","v":1397.7},{"$f":"Données!$E941*H$4","v":1320.05},{"$f":"Données!$F941*B$4","v":1217.8499999999999},{"$f":"Données!$F941*C$4","v":1164.9000000000001},{"$f":"Données!$F941*D$4","v":1111.95},{"$f":"Données!$F941*E$4","v":1059},{"$f":"Données!$F941*F$4","v":1006.05},{"$f":"Données!$F941*G$4","v":953.1},{"$f":"Données!$F941*H$4","v":900.15}]
[null,6460,"Robechies","Chimay",1553,1059,{"$f":"Données!$E942*B$4","v":1785.9499999999998},{"$f":"Données!$E942*C$4","v":1708.3000000000002},{"$f":"Données!$E942*D$4","v":1630.65},{"$f":"Données!$E942*E$4","v":1553},{"$f":"Données!$E942*F$4","v":1475.35},{"$f":"Données!$E942*G$4","v":1397.7},{"$f":"Données!$E942*H$4","v":1320.05},{"$f":"Données!$F942*B$4","v":1217.8499999999999},{"$f":"Données!$F942*C$4","v":1164.9000000000001},{"$f":"Données!$F942*D$4","v":1111.95},{"$f":"Données!$F942*E$4","v":1059},{"$f":"Données!$F942*F$4","v":1006.05},{"$f":"Données!$F942*G$4","v":953.1},{"$f":"Données!$F942*H$4","v":900.15}]
[null,6460,"Chimay","Chimay",1553,1059,{"$f":"Données!$E943*B$4","v":1785.9499999999998},{"$f":"Données!$E943*C$4","v":1708.3000000000002},{"$f":"Données!$E943*D$4","v":1630.65},{"$f":"Données!$E943*E$4","v":1553},{"$f":"Données!$E943*F$4","v":1475.35},{"$f":"Données!$E943*G$4","v":1397.7},{"$f":"Données!$E943*H$4","v":1320.05},{"$f":"Données!$F943*B$4","v":1217.8499999999999},{"$f":"Données!$F943*C$4","v":1164.9000000000001},{"$f":"Données!$F943*D$4","v":1111.95},{"$f":"Données!$F943*E$4","v":1059},{"$f":"Données!$F943*F$4","v":1006.05},{"$f":"Données!$F943*G$4","v":953.1},{"$f":"Données!$F943*H$4","v":900.15}]
[null,6460,"Salles","Chimay",1553,1059,{"$f":"Données!$E944*B$4","v":1785.9499999999998},{"$f":"Données!$E944*C$4","v":1708.3000000000002},{"$f":"Données!$E944*D$4","v":1630.65},{"$f":"Données!$E944*E$4","v":1553},{"$f":"Données!$E944*F$4","v":1475.35},{"$f":"Données!$E944*G$4","v":1397.7},{"$f":"Données!$E944*H$4","v":1320.05},{"$f":"Données!$F944*B$4","v":1217.8499999999999},{"$f":"Données!$F944*C$4","v":1164.9000000000001},{"$f":"Données!$F944*D$4","v":1111.95},{"$f":"Données!$F944*E$4","v":1059},{"$f":"Données!$F944*F$4","v":1006.05},{"$f":"Données!$F944*G$4","v":953.1},{"$f":"Données!$F944*H$4","v":900.15}]
[null,6460,"Saint-Remy","Chimay",1553,1059,{"$f":"Données!$E945*B$4","v":1785.9499999999998},{"$f":"Données!$E945*C$4","v":1708.3000000000002},{"$f":"Données!$E945*D$4","v":1630.65},{"$f":"Données!$E945*E$4","v":1553},{"$f":"Données!$E945*F$4","v":1475.35},{"$f":"Données!$E945*G$4","v":1397.7},{"$f":"Données!$E945*H$4","v":1320.05},{"$f":"Données!$F945*B$4","v":1217.8499999999999},{"$f":"Données!$F945*C$4","v":1164.9000000000001},{"$f":"Données!$F945*D$4","v":1111.95},{"$f":"Données!$F945*E$4","v":1059},{"$f":"Données!$F945*F$4","v":1006.05},{"$f":"Données!$F945*G$4","v":953.1},{"$f":"Données!$F945*H$4","v":900.15}]
[null,6461,"Virelles","Chimay",1553,1059,{"$f":"Données!$E946*B$4","v":1785.9499999999998},{"$f":"Données!$E946*C$4","v":1708.3000000000002},{"$f":"Données!$E946*D$4","v":1630.65},{"$f":"Données!$E946*E$4","v":1553},{"$f":"Données!$E946*F$4","v":1475.35},{"$f":"Données!$E946*G$4","v":1397.7},{"$f":"Données!$E946*H$4","v":1320.05},{"$f":"Données!$F946*B$4","v":1217.8499999999999},{"$f":"Données!$F946*C$4","v":1164.9000000000001},{"$f":"Données!$F946*D$4","v":1111.95},{"$f":"Données!$F946*E$4","v":1059},{"$f":"Données!$F946*F$4","v":1006.05},{"$f":"Données!$F946*G$4","v":953.1},{"$f":"Données!$F946*H$4","v":900.15}]
[null,6462,"Vaulx-Lez-Chimay","Chimay",1553,1059,{"$f":"Données!$E947*B$4","v":1785.9499999999998},{"$f":"Données!$E947*C$4","v":1708.3000000000002},{"$f":"Données!$E947*D$4","v":1630.65},{"$f":"Données!$E947*E$4","v":1553},{"$f":"Données!$E947*F$4","v":1475.35},{"$f":"Données!$E947*G$4","v":1397.7},{"$f":"Données!$E947*H$4","v":1320.05},{"$f":"Données!$F947*B$4","v":1217.8499999999999},{"$f":"Données!$F947*C$4","v":1164.9000000000001},{"$f":"Données!$F947*D$4","v":1111.95},{"$f":"Données!$F947*E$4","v":1059},{"$f":"Données!$F947*F$4","v":1006.05},{"$f":"Données!$F947*G$4","v":953.1},{"$f":"Données!$F947*H$4","v":900.15}]
[null,6463,"Lompret","Chimay",1553,1059,{"$f":"Données!$E948*B$4","v":1785.9499999999998},{"$f":"Données!$E948*C$4","v":1708.3000000000002},{"$f":"Données!$E948*D$4","v":1630.65},{"$f":"Données!$E948*E$4","v":1553},{"$f":"Données!$E948*F$4","v":1475.35},{"$f":"Données!$E948*G$4","v":1397.7},{"$f":"Données!$E948*H$4","v":1320.05},{"$f":"Données!$F948*B$4","v":1217.8499999999999},{"$f":"Données!$F948*C$4","v":1164.9000000000001},{"$f":"Données!$F948*D$4","v":1111.95},{"$f":"Données!$F948*E$4","v":1059},{"$f":"Données!$F948*F$4","v":1006.05},{"$f":"Données!$F948*G$4","v":953.1},{"$f":"Données!$F948*H$4","v":900.15}]
[null,6464,"Forges","Chimay",1553,1059,{"$f":"Données!$E949*B$4","v":1785.9499999999998},{"$f":"Données!$E949*C$4","v":1708.3000000000002},{"$f":"Données!$E949*D$4","v":1630.65},{"$f":"Données!$E949*E$4","v":1553},{"$f":"Données!$E949*F$4","v":1475.35},{"$f":"Données!$E949*G$4","v":1397.7},{"$f":"Données!$E949*H$4","v":1320.05},{"$f":"Données!$F949*B$4","v":1217.8499999999999},{"$f":"Données!$F949*C$4","v":1164.9000000000001},{"$f":"Données!$F949*D$4","v":1111.95},{"$f":"Données!$F949*E$4","v":1059},{"$f":"Données!$F949*F$4","v":1006.05},{"$f":"Données!$F949*G$4","v":953.1},{"$f":"Données!$F949*H$4","v":900.15}]
[null,6464,"Baileux","Chimay",1553,1059,{"$f":"Données!$E950*B$4","v":1785.9499999999998},{"$f":"Données!$E950*C$4","v":1708.3000000000002},{"$f":"Données!$E950*D$4","v":1630.65},{"$f":"Données!$E950*E$4","v":1553},{"$f":"Données!$E950*F$4","v":1475.35},{"$f":"Données!$E950*G$4","v":1397.7},{"$f":"Données!$E950*H$4","v":1320.05},{"$f":"Données!$F950*B$4","v":1217.8499999999999},{"$f":"Données!$F950*C$4","v":1164.9000000000001},{"$f":"Données!$F950*D$4","v":1111.95},{"$f":"Données!$F950*E$4","v":1059},{"$f":"Données!$F950*F$4","v":1006.05},{"$f":"Données!$F950*G$4","v":953.1},{"$f":"Données!$F950*H$4","v":900.15}]
[null,6464,"L'escaillère","Chimay",1553,1059,{"$f":"Données!$E951*B$4","v":1785.9499999999998},{"$f":"Données!$E951*C$4","v":1708.3000000000002},{"$f":"Données!$E951*D$4","v":1630.65},{"$f":"Données!$E951*E$4","v":1553},{"$f":"Données!$E951*F$4","v":1475.35},{"$f":"Données!$E951*G$4","v":1397.7},{"$f":"Données!$E951*H$4","v":1320.05},{"$f":"Données!$F951*B$4","v":1217.8499999999999},{"$f":"Données!$F951*C$4","v":1164.9000000000001},{"$f":"Données!$F951*D$4","v":1111.95},{"$f":"Données!$F951*E$4","v":1059},{"$f":"Données!$F951*F$4","v":1006.05},{"$f":"Données!$F951*G$4","v":953.1},{"$f":"Données!$F951*H$4","v":900.15}]
[null,6464,"Bourlers","Chimay",1553,1059,{"$f":"Données!$E952*B$4","v":1785.9499999999998},{"$f":"Données!$E952*C$4","v":1708.3000000000002},{"$f":"Données!$E952*D$4","v":1630.65},{"$f":"Données!$E952*E$4","v":1553},{"$f":"Données!$E952*F$4","v":1475.35},{"$f":"Données!$E952*G$4","v":1397.7},{"$f":"Données!$E952*H$4","v":1320.05},{"$f":"Données!$F952*B$4","v":1217.8499999999999},{"$f":"Données!$F952*C$4","v":1164.9000000000001},{"$f":"Données!$F952*D$4","v":1111.95},{"$f":"Données!$F952*E$4","v":1059},{"$f":"Données!$F952*F$4","v":1006.05},{"$f":"Données!$F952*G$4","v":953.1},{"$f":"Données!$F952*H$4","v":900.15}]
[null,6464,"Rièzes","Chimay",1553,1059,{"$f":"Données!$E953*B$4","v":1785.9499999999998},{"$f":"Données!$E953*C$4","v":1708.3000000000002},{"$f":"Données!$E953*D$4","v":1630.65},{"$f":"Données!$E953*E$4","v":1553},{"$f":"Données!$E953*F$4","v":1475.35},{"$f":"Données!$E953*G$4","v":1397.7},{"$f":"Données!$E953*H$4","v":1320.05},{"$f":"Données!$F953*B$4","v":1217.8499999999999},{"$f":"Données!$F953*C$4","v":1164.9000000000001},{"$f":"Données!$F953*D$4","v":1111.95},{"$f":"Données!$F953*E$4","v":1059},{"$f":"Données!$F953*F$4","v":1006.05},{"$f":"Données!$F953*G$4","v":953.1},{"$f":"Données!$F953*H$4","v":900.15}]
[null,6470,"Grandrieu","Sivry-Rance",1674,1116,{"$f":"Données!$E954*B$4","v":1925.1},{"$f":"Données!$E954*C$4","v":1841.4},{"$f":"Données!$E954*D$4","v":1757.7},{"$f":"Données!$E954*E$4","v":1674},{"$f":"Données!$E954*F$4","v":1590.3},{"$f":"Données!$E954*G$4","v":1506.6000000000001},{"$f":"Données!$E954*H$4","v":1422.8999999999999},{"$f":"Données!$F954*B$4","v":1283.3999999999999},{"$f":"Données!$F954*C$4","v":1227.6000000000001},{"$f":"Données!$F954*D$4","v":1171.8},{"$f":"Données!$F954*E$4","v":1116},{"$f":"Données!$F954*F$4","v":1060.2},{"$f":"Données!$F954*G$4","v":1004.4},{"$f":"Données!$F954*H$4","v":948.6}]
[null,6470,"Sivry","Sivry-Rance",1674,1116,{"$f":"Données!$E955*B$4","v":1925.1},{"$f":"Données!$E955*C$4","v":1841.4},{"$f":"Données!$E955*D$4","v":1757.7},{"$f":"Données!$E955*E$4","v":1674},{"$f":"Données!$E955*F$4","v":1590.3},{"$f":"Données!$E955*G$4","v":1506.6000000000001},{"$f":"Données!$E955*H$4","v":1422.8999999999999},{"$f":"Données!$F955*B$4","v":1283.3999999999999},{"$f":"Données!$F955*C$4","v":1227.6000000000001},{"$f":"Données!$F955*D$4","v":1171.8},{"$f":"Données!$F955*E$4","v":1116},{"$f":"Données!$F955*F$4","v":1060.2},{"$f":"Données!$F955*G$4","v":1004.4},{"$f":"Données!$F955*H$4","v":948.6}]
[null,6470,"Sivry-Rance","Sivry-Rance",1674,1116,{"$f":"Données!$E956*B$4","v":1925.1},{"$f":"Données!$E956*C$4","v":1841.4},{"$f":"Données!$E956*D$4","v":1757.7},{"$f":"Données!$E956*E$4","v":1674},{"$f":"Données!$E956*F$4","v":1590.3},{"$f":"Données!$E956*G$4","v":1506.6000000000001},{"$f":"Données!$E956*H$4","v":1422.8999999999999},{"$f":"Données!$F956*B$4","v":1283.3999999999999},{"$f":"Données!$F956*C$4","v":1227.6000000000001},{"$f":"Données!$F956*D$4","v":1171.8},{"$f":"Données!$F956*E$4","v":1116},{"$f":"Données!$F956*F$4","v":1060.2},{"$f":"Données!$F956*G$4","v":1004.4},{"$f":"Données!$F956*H$4","v":948.6}]
[null,6470,"Montbliart","Sivry-Rance",1674,1116,{"$f":"Données!$E957*B$4","v":1925.1},{"$f":"Données!$E957*C$4","v":1841.4},{"$f":"Données!$E957*D$4","v":1757.7},{"$f":"Données!$E957*E$4","v":1674},{"$f":"Données!$E957*F$4","v":1590.3},{"$f":"Données!$E957*G$4","v":1506.6000000000001},{"$f":"Données!$E957*H$4","v":1422.8999999999999},{"$f":"Données!$F957*B$4","v":1283.3999999999999},{"$f":"Données!$F957*C$4","v":1227.6000000000001},{"$f":"Données!$F957*D$4","v":1171.8},{"$f":"Données!$F957*E$4","v":1116},{"$f":"Données!$F957*F$4","v":1060.2},{"$f":"Données!$F957*G$4","v":1004.4},{"$f":"Données!$F957*H$4","v":948.6}]
[null,6470,"Sautin","Sivry-Rance",1674,1116,{"$f":"Données!$E958*B$4","v":1925.1},{"$f":"Données!$E958*C$4","v":1841.4},{"$f":"Données!$E958*D$4","v":1757.7},{"$f":"Données!$E958*E$4","v":1674},{"$f":"Données!$E958*F$4","v":1590.3},{"$f":"Données!$E958*G$4","v":1506.6000000000001},{"$f":"Données!$E958*H$4","v":1422.8999999999999},{"$f":"Données!$F958*B$4","v":1283.3999999999999},{"$f":"Données!$F958*C$4","v":1227.6000000000001},{"$f":"Données!$F958*D$4","v":1171.8},{"$f":"Données!$F958*E$4","v":1116},{"$f":"Données!$F958*F$4","v":1060.2},{"$f":"Données!$F958*G$4","v":1004.4},{"$f":"Données!$F958*H$4","v":948.6}]
[null,6470,"Rance","Sivry-Rance",1674,1116,{"$f":"Données!$E959*B$4","v":1925.1},{"$f":"Données!$E959*C$4","v":1841.4},{"$f":"Données!$E959*D$4","v":1757.7},{"$f":"Données!$E959*E$4","v":1674},{"$f":"Données!$E959*F$4","v":1590.3},{"$f":"Données!$E959*G$4","v":1506.6000000000001},{"$f":"Données!$E959*H$4","v":1422.8999999999999},{"$f":"Données!$F959*B$4","v":1283.3999999999999},{"$f":"Données!$F959*C$4","v":1227.6000000000001},{"$f":"Données!$F959*D$4","v":1171.8},{"$f":"Données!$F959*E$4","v":1116},{"$f":"Données!$F959*F$4","v":1060.2},{"$f":"Données!$F959*G$4","v":1004.4},{"$f":"Données!$F959*H$4","v":948.6}]
[null,6500,"Leugnies","Beaumont",1739,1177,{"$f":"Données!$E960*B$4","v":1999.85},{"$f":"Données!$E960*C$4","v":1912.9},{"$f":"Données!$E960*D$4","v":1825.95},{"$f":"Données!$E960*E$4","v":1739},{"$f":"Données!$E960*F$4","v":1652.05},{"$f":"Données!$E960*G$4","v":1565.1000000000001},{"$f":"Données!$E960*H$4","v":1478.1499999999999},{"$f":"Données!$F960*B$4","v":1353.55},{"$f":"Données!$F960*C$4","v":1294.7},{"$f":"Données!$F960*D$4","v":1235.8500000000001},{"$f":"Données!$F960*E$4","v":1177},{"$f":"Données!$F960*F$4","v":1118.1499999999999},{"$f":"Données!$F960*G$4","v":1059.3},{"$f":"Données!$F960*H$4","v":1000.4499999999999}]
[null,6500,"Barbençon","Beaumont",1739,1177,{"$f":"Données!$E961*B$4","v":1999.85},{"$f":"Données!$E961*C$4","v":1912.9},{"$f":"Données!$E961*D$4","v":1825.95},{"$f":"Données!$E961*E$4","v":1739},{"$f":"Données!$E961*F$4","v":1652.05},{"$f":"Données!$E961*G$4","v":1565.1000000000001},{"$f":"Données!$E961*H$4","v":1478.1499999999999},{"$f":"Données!$F961*B$4","v":1353.55},{"$f":"Données!$F961*C$4","v":1294.7},{"$f":"Données!$F961*D$4","v":1235.8500000000001},{"$f":"Données!$F961*E$4","v":1177},{"$f":"Données!$F961*F$4","v":1118.1499999999999},{"$f":"Données!$F961*G$4","v":1059.3},{"$f":"Données!$F961*H$4","v":1000.4499999999999}]
[null,6500,"Thirimont","Beaumont",1739,1177,{"$f":"Données!$E962*B$4","v":1999.85},{"$f":"Données!$E962*C$4","v":1912.9},{"$f":"Données!$E962*D$4","v":1825.95},{"$f":"Données!$E962*E$4","v":1739},{"$f":"Données!$E962*F$4","v":1652.05},{"$f":"Données!$E962*G$4","v":1565.1000000000001},{"$f":"Données!$E962*H$4","v":1478.1499999999999},{"$f":"Données!$F962*B$4","v":1353.55},{"$f":"Données!$F962*C$4","v":1294.7},{"$f":"Données!$F962*D$4","v":1235.8500000000001},{"$f":"Données!$F962*E$4","v":1177},{"$f":"Données!$F962*F$4","v":1118.1499999999999},{"$f":"Données!$F962*G$4","v":1059.3},{"$f":"Données!$F962*H$4","v":1000.4499999999999}]
[null,6500,"Solre-Saint-Géry","Beaumont",1739,1177,{"$f":"Données!$E963*B$4","v":1999.85},{"$f":"Données!$E963*C$4","v":1912.9},{"$f":"Données!$E963*D$4","v":1825.95},{"$f":"Données!$E963*E$4","v":1739},{"$f":"Données!$E963*F$4","v":1652.05},{"$f":"Données!$E963*G$4","v":1565.1000000000001},{"$f":"Données!$E963*H$4","v":1478.1499999999999},{"$f":"Données!$F963*B$4","v":1353.55},{"$f":"Données!$F963*C$4","v":1294.7},{"$f":"Données!$F963*D$4","v":1235.8500000000001},{"$f":"Données!$F963*E$4","v":1177},{"$f":"Données!$F963*F$4","v":1118.1499999999999},{"$f":"Données!$F963*G$4","v":1059.3},{"$f":"Données!$F963*H$4","v":1000.4499999999999}]
[null,6500,"Beaumont","Beaumont",1739,1177,{"$f":"Données!$E964*B$4","v":1999.85},{"$f":"Données!$E964*C$4","v":1912.9},{"$f":"Données!$E964*D$4","v":1825.95},{"$f":"Données!$E964*E$4","v":1739},{"$f":"Données!$E964*F$4","v":1652.05},{"$f":"Données!$E964*G$4","v":1565.1000000000001},{"$f":"Données!$E964*H$4","v":1478.1499999999999},{"$f":"Données!$F964*B$4","v":1353.55},{"$f":"Données!$F964*C$4","v":1294.7},{"$f":"Données!$F964*D$4","v":1235.8500000000001},{"$f":"Données!$F964*E$4","v":1177},{"$f":"Données!$F964*F$4","v":1118.1499999999999},{"$f":"Données!$F964*G$4","v":1059.3},{"$f":"Données!$F964*H$4","v":1000.4499999999999}]
[null,6500,"Leval-Chaudeville","Beaumont",1739,1177,{"$f":"Données!$E965*B$4","v":1999.85},{"$f":"Données!$E965*C$4","v":1912.9},{"$f":"Données!$E965*D$4","v":1825.95},{"$f":"Données!$E965*E$4","v":1739},{"$f":"Données!$E965*F$4","v":1652.05},{"$f":"Données!$E965*G$4","v":1565.1000000000001},{"$f":"Données!$E965*H$4","v":1478.1499999999999},{"$f":"Données!$F965*B$4","v":1353.55},{"$f":"Données!$F965*C$4","v":1294.7},{"$f":"Données!$F965*D$4","v":1235.8500000000001},{"$f":"Données!$F965*E$4","v":1177},{"$f":"Données!$F965*F$4","v":1118.1499999999999},{"$f":"Données!$F965*G$4","v":1059.3},{"$f":"Données!$F965*H$4","v":1000.4499999999999}]
[null,6500,"Renlies","Beaumont",1739,1177,{"$f":"Données!$E966*B$4","v":1999.85},{"$f":"Données!$E966*C$4","v":1912.9},{"$f":"Données!$E966*D$4","v":1825.95},{"$f":"Données!$E966*E$4","v":1739},{"$f":"Données!$E966*F$4","v":1652.05},{"$f":"Données!$E966*G$4","v":1565.1000000000001},{"$f":"Données!$E966*H$4","v":1478.1499999999999},{"$f":"Données!$F966*B$4","v":1353.55},{"$f":"Données!$F966*C$4","v":1294.7},{"$f":"Données!$F966*D$4","v":1235.8500000000001},{"$f":"Données!$F966*E$4","v":1177},{"$f":"Données!$F966*F$4","v":1118.1499999999999},{"$f":"Données!$F966*G$4","v":1059.3},{"$f":"Données!$F966*H$4","v":1000.4499999999999}]
[null,6511,"Strée","Beaumont",1739,1177,{"$f":"Données!$E967*B$4","v":1999.85},{"$f":"Données!$E967*C$4","v":1912.9},{"$f":"Données!$E967*D$4","v":1825.95},{"$f":"Données!$E967*E$4","v":1739},{"$f":"Données!$E967*F$4","v":1652.05},{"$f":"Données!$E967*G$4","v":1565.1000000000001},{"$f":"Données!$E967*H$4","v":1478.1499999999999},{"$f":"Données!$F967*B$4","v":1353.55},{"$f":"Données!$F967*C$4","v":1294.7},{"$f":"Données!$F967*D$4","v":1235.8500000000001},{"$f":"Données!$F967*E$4","v":1177},{"$f":"Données!$F967*F$4","v":1118.1499999999999},{"$f":"Données!$F967*G$4","v":1059.3},{"$f":"Données!$F967*H$4","v":1000.4499999999999}]
[null,6530,"Thuin","Thuin",1778,1352,{"$f":"Données!$E968*B$4","v":2044.6999999999998},{"$f":"Données!$E968*C$4","v":1955.8000000000002},{"$f":"Données!$E968*D$4","v":1866.9},{"$f":"Données!$E968*E$4","v":1778},{"$f":"Données!$E968*F$4","v":1689.1},{"$f":"Données!$E968*G$4","v":1600.2},{"$f":"Données!$E968*H$4","v":1511.3},{"$f":"Données!$F968*B$4","v":1554.8},{"$f":"Données!$F968*C$4","v":1487.2},{"$f":"Données!$F968*D$4","v":1419.6000000000001},{"$f":"Données!$F968*E$4","v":1352},{"$f":"Données!$F968*F$4","v":1284.3999999999999},{"$f":"Données!$F968*G$4","v":1216.8},{"$f":"Données!$F968*H$4","v":1149.2}]
[null,6530,"Leers-Et-Fosteau","Thuin",1778,1352,{"$f":"Données!$E969*B$4","v":2044.6999999999998},{"$f":"Données!$E969*C$4","v":1955.8000000000002},{"$f":"Données!$E969*D$4","v":1866.9},{"$f":"Données!$E969*E$4","v":1778},{"$f":"Données!$E969*F$4","v":1689.1},{"$f":"Données!$E969*G$4","v":1600.2},{"$f":"Données!$E969*H$4","v":1511.3},{"$f":"Données!$F969*B$4","v":1554.8},{"$f":"Données!$F969*C$4","v":1487.2},{"$f":"Données!$F969*D$4","v":1419.6000000000001},{"$f":"Données!$F969*E$4","v":1352},{"$f":"Données!$F969*F$4","v":1284.3999999999999},{"$f":"Données!$F969*G$4","v":1216.8},{"$f":"Données!$F969*H$4","v":1149.2}]
[null,6531,"Biesme-Sous-Thuin","Thuin",1778,1352,{"$f":"Données!$E970*B$4","v":2044.6999999999998},{"$f":"Données!$E970*C$4","v":1955.8000000000002},{"$f":"Données!$E970*D$4","v":1866.9},{"$f":"Données!$E970*E$4","v":1778},{"$f":"Données!$E970*F$4","v":1689.1},{"$f":"Données!$E970*G$4","v":1600.2},{"$f":"Données!$E970*H$4","v":1511.3},{"$f":"Données!$F970*B$4","v":1554.8},{"$f":"Données!$F970*C$4","v":1487.2},{"$f":"Données!$F970*D$4","v":1419.6000000000001},{"$f":"Données!$F970*E$4","v":1352},{"$f":"Données!$F970*F$4","v":1284.3999999999999},{"$f":"Données!$F970*G$4","v":1216.8},{"$f":"Données!$F970*H$4","v":1149.2}]
[null,6532,"Ragnies","Thuin",1778,1352,{"$f":"Données!$E971*B$4","v":2044.6999999999998},{"$f":"Données!$E971*C$4","v":1955.8000000000002},{"$f":"Données!$E971*D$4","v":1866.9},{"$f":"Données!$E971*E$4","v":1778},{"$f":"Données!$E971*F$4","v":1689.1},{"$f":"Données!$E971*G$4","v":1600.2},{"$f":"Données!$E971*H$4","v":1511.3},{"$f":"Données!$F971*B$4","v":1554.8},{"$f":"Données!$F971*C$4","v":1487.2},{"$f":"Données!$F971*D$4","v":1419.6000000000001},{"$f":"Données!$F971*E$4","v":1352},{"$f":"Données!$F971*F$4","v":1284.3999999999999},{"$f":"Données!$F971*G$4","v":1216.8},{"$f":"Données!$F971*H$4","v":1149.2}]
[null,6533,"Biercée","Thuin",1778,1352,{"$f":"Données!$E972*B$4","v":2044.6999999999998},{"$f":"Données!$E972*C$4","v":1955.8000000000002},{"$f":"Données!$E972*D$4","v":1866.9},{"$f":"Données!$E972*E$4","v":1778},{"$f":"Données!$E972*F$4","v":1689.1},{"$f":"Données!$E972*G$4","v":1600.2},{"$f":"Données!$E972*H$4","v":1511.3},{"$f":"Données!$F972*B$4","v":1554.8},{"$f":"Données!$F972*C$4","v":1487.2},{"$f":"Données!$F972*D$4","v":1419.6000000000001},{"$f":"Données!$F972*E$4","v":1352},{"$f":"Données!$F972*F$4","v":1284.3999999999999},{"$f":"Données!$F972*G$4","v":1216.8},{"$f":"Données!$F972*H$4","v":1149.2}]
[null,6534,"Gozée","Thuin",1778,1352,{"$f":"Données!$E973*B$4","v":2044.6999999999998},{"$f":"Données!$E973*C$4","v":1955.8000000000002},{"$f":"Données!$E973*D$4","v":1866.9},{"$f":"Données!$E973*E$4","v":1778},{"$f":"Données!$E973*F$4","v":1689.1},{"$f":"Données!$E973*G$4","v":1600.2},{"$f":"Données!$E973*H$4","v":1511.3},{"$f":"Données!$F973*B$4","v":1554.8},{"$f":"Données!$F973*C$4","v":1487.2},{"$f":"Données!$F973*D$4","v":1419.6000000000001},{"$f":"Données!$F973*E$4","v":1352},{"$f":"Données!$F973*F$4","v":1284.3999999999999},{"$f":"Données!$F973*G$4","v":1216.8},{"$f":"Données!$F973*H$4","v":1149.2}]
[null,6536,"Thuillies","Thuin",1778,1352,{"$f":"Données!$E974*B$4","v":2044.6999999999998},{"$f":"Données!$E974*C$4","v":1955.8000000000002},{"$f":"Données!$E974*D$4","v":1866.9},{"$f":"Données!$E974*E$4","v":1778},{"$f":"Données!$E974*F$4","v":1689.1},{"$f":"Données!$E974*G$4","v":1600.2},{"$f":"Données!$E974*H$4","v":1511.3},{"$f":"Données!$F974*B$4","v":1554.8},{"$f":"Données!$F974*C$4","v":1487.2},{"$f":"Données!$F974*D$4","v":1419.6000000000001},{"$f":"Données!$F974*E$4","v":1352},{"$f":"Données!$F974*F$4","v":1284.3999999999999},{"$f":"Données!$F974*G$4","v":1216.8},{"$f":"Données!$F974*H$4","v":1149.2}]
[null,6536,"Donstiennes","Thuin",1778,1352,{"$f":"Données!$E975*B$4","v":2044.6999999999998},{"$f":"Données!$E975*C$4","v":1955.8000000000002},{"$f":"Données!$E975*D$4","v":1866.9},{"$f":"Données!$E975*E$4","v":1778},{"$f":"Données!$E975*F$4","v":1689.1},{"$f":"Données!$E975*G$4","v":1600.2},{"$f":"Données!$E975*H$4","v":1511.3},{"$f":"Données!$F975*B$4","v":1554.8},{"$f":"Données!$F975*C$4","v":1487.2},{"$f":"Données!$F975*D$4","v":1419.6000000000001},{"$f":"Données!$F975*E$4","v":1352},{"$f":"Données!$F975*F$4","v":1284.3999999999999},{"$f":"Données!$F975*G$4","v":1216.8},{"$f":"Données!$F975*H$4","v":1149.2}]
[null,6540,"Lobbes","Lobbes",1587,1347,{"$f":"Données!$E976*B$4","v":1825.05},{"$f":"Données!$E976*C$4","v":1745.7},{"$f":"Données!$E976*D$4","v":1666.3500000000001},{"$f":"Données!$E976*E$4","v":1587},{"$f":"Données!$E976*F$4","v":1507.6499999999999},{"$f":"Données!$E976*G$4","v":1428.3},{"$f":"Données!$E976*H$4","v":1348.95},{"$f":"Données!$F976*B$4","v":1549.05},{"$f":"Données!$F976*C$4","v":1481.7},{"$f":"Données!$F976*D$4","v":1414.3500000000001},{"$f":"Données!$F976*E$4","v":1347},{"$f":"Données!$F976*F$4","v":1279.6499999999999},{"$f":"Données!$F976*G$4","v":1212.3},{"$f":"Données!$F976*H$4","v":1144.95}]
[null,6540,"Mont-Sainte-Geneviève","Lobbes",1587,1347,{"$f":"Données!$E977*B$4","v":1825.05},{"$f":"Données!$E977*C$4","v":1745.7},{"$f":"Données!$E977*D$4","v":1666.3500000000001},{"$f":"Données!$E977*E$4","v":1587},{"$f":"Données!$E977*F$4","v":1507.6499999999999},{"$f":"Données!$E977*G$4","v":1428.3},{"$f":"Données!$E977*H$4","v":1348.95},{"$f":"Données!$F977*B$4","v":1549.05},{"$f":"Données!$F977*C$4","v":1481.7},{"$f":"Données!$F977*D$4","v":1414.3500000000001},{"$f":"Données!$F977*E$4","v":1347},{"$f":"Données!$F977*F$4","v":1279.6499999999999},{"$f":"Données!$F977*G$4","v":1212.3},{"$f":"Données!$F977*H$4","v":1144.95}]
[null,6542,"Sars-La-Buissière","Lobbes",1587,1347,{"$f":"Données!$E978*B$4","v":1825.05},{"$f":"Données!$E978*C$4","v":1745.7},{"$f":"Données!$E978*D$4","v":1666.3500000000001},{"$f":"Données!$E978*E$4","v":1587},{"$f":"Données!$E978*F$4","v":1507.6499999999999},{"$f":"Données!$E978*G$4","v":1428.3},{"$f":"Données!$E978*H$4","v":1348.95},{"$f":"Données!$F978*B$4","v":1549.05},{"$f":"Données!$F978*C$4","v":1481.7},{"$f":"Données!$F978*D$4","v":1414.3500000000001},{"$f":"Données!$F978*E$4","v":1347},{"$f":"Données!$F978*F$4","v":1279.6499999999999},{"$f":"Données!$F978*G$4","v":1212.3},{"$f":"Données!$F978*H$4","v":1144.95}]
[null,6543,"Bienne-Lez-Happart","Lobbes",1587,1347,{"$f":"Données!$E979*B$4","v":1825.05},{"$f":"Données!$E979*C$4","v":1745.7},{"$f":"Données!$E979*D$4","v":1666.3500000000001},{"$f":"Données!$E979*E$4","v":1587},{"$f":"Données!$E979*F$4","v":1507.6499999999999},{"$f":"Données!$E979*G$4","v":1428.3},{"$f":"Données!$E979*H$4","v":1348.95},{"$f":"Données!$F979*B$4","v":1549.05},{"$f":"Données!$F979*C$4","v":1481.7},{"$f":"Données!$F979*D$4","v":1414.3500000000001},{"$f":"Données!$F979*E$4","v":1347},{"$f":"Données!$F979*F$4","v":1279.6499999999999},{"$f":"Données!$F979*G$4","v":1212.3},{"$f":"Données!$F979*H$4","v":1144.95}]
[null,6560,"Bersillies-L'abbaye","Erquelinnes",1648,1165,{"$f":"Données!$E980*B$4","v":1895.1999999999998},{"$f":"Données!$E980*C$4","v":1812.8000000000002},{"$f":"Données!$E980*D$4","v":1730.4},{"$f":"Données!$E980*E$4","v":1648},{"$f":"Données!$E980*F$4","v":1565.6},{"$f":"Données!$E980*G$4","v":1483.2},{"$f":"Données!$E980*H$4","v":1400.8},{"$f":"Données!$F980*B$4","v":1339.75},{"$f":"Données!$F980*C$4","v":1281.5},{"$f":"Données!$F980*D$4","v":1223.25},{"$f":"Données!$F980*E$4","v":1165},{"$f":"Données!$F980*F$4","v":1106.75},{"$f":"Données!$F980*G$4","v":1048.5},{"$f":"Données!$F980*H$4","v":990.25}]
[null,6560,"Hantes-Wihéries","Erquelinnes",1648,1165,{"$f":"Données!$E981*B$4","v":1895.1999999999998},{"$f":"Données!$E981*C$4","v":1812.8000000000002},{"$f":"Données!$E981*D$4","v":1730.4},{"$f":"Données!$E981*E$4","v":1648},{"$f":"Données!$E981*F$4","v":1565.6},{"$f":"Données!$E981*G$4","v":1483.2},{"$f":"Données!$E981*H$4","v":1400.8},{"$f":"Données!$F981*B$4","v":1339.75},{"$f":"Données!$F981*C$4","v":1281.5},{"$f":"Données!$F981*D$4","v":1223.25},{"$f":"Données!$F981*E$4","v":1165},{"$f":"Données!$F981*F$4","v":1106.75},{"$f":"Données!$F981*G$4","v":1048.5},{"$f":"Données!$F981*H$4","v":990.25}]
[null,6560,"Montignies-Saint-Christophe","Erquelinnes",1648,1165,{"$f":"Données!$E982*B$4","v":1895.1999999999998},{"$f":"Données!$E982*C$4","v":1812.8000000000002},{"$f":"Données!$E982*D$4","v":1730.4},{"$f":"Données!$E982*E$4","v":1648},{"$f":"Données!$E982*F$4","v":1565.6},{"$f":"Données!$E982*G$4","v":1483.2},{"$f":"Données!$E982*H$4","v":1400.8},{"$f":"Données!$F982*B$4","v":1339.75},{"$f":"Données!$F982*C$4","v":1281.5},{"$f":"Données!$F982*D$4","v":1223.25},{"$f":"Données!$F982*E$4","v":1165},{"$f":"Données!$F982*F$4","v":1106.75},{"$f":"Données!$F982*G$4","v":1048.5},{"$f":"Données!$F982*H$4","v":990.25}]
[null,6560,"Erquelinnes","Erquelinnes",1648,1165,{"$f":"Données!$E983*B$4","v":1895.1999999999998},{"$f":"Données!$E983*C$4","v":1812.8000000000002},{"$f":"Données!$E983*D$4","v":1730.4},{"$f":"Données!$E983*E$4","v":1648},{"$f":"Données!$E983*F$4","v":1565.6},{"$f":"Données!$E983*G$4","v":1483.2},{"$f":"Données!$E983*H$4","v":1400.8},{"$f":"Données!$F983*B$4","v":1339.75},{"$f":"Données!$F983*C$4","v":1281.5},{"$f":"Données!$F983*D$4","v":1223.25},{"$f":"Données!$F983*E$4","v":1165},{"$f":"Données!$F983*F$4","v":1106.75},{"$f":"Données!$F983*G$4","v":1048.5},{"$f":"Données!$F983*H$4","v":990.25}]
[null,6560,"Grand-Reng","Erquelinnes",1648,1165,{"$f":"Données!$E984*B$4","v":1895.1999999999998},{"$f":"Données!$E984*C$4","v":1812.8000000000002},{"$f":"Données!$E984*D$4","v":1730.4},{"$f":"Données!$E984*E$4","v":1648},{"$f":"Données!$E984*F$4","v":1565.6},{"$f":"Données!$E984*G$4","v":1483.2},{"$f":"Données!$E984*H$4","v":1400.8},{"$f":"Données!$F984*B$4","v":1339.75},{"$f":"Données!$F984*C$4","v":1281.5},{"$f":"Données!$F984*D$4","v":1223.25},{"$f":"Données!$F984*E$4","v":1165},{"$f":"Données!$F984*F$4","v":1106.75},{"$f":"Données!$F984*G$4","v":1048.5},{"$f":"Données!$F984*H$4","v":990.25}]
[null,6560,"Solre-Sur-Sambre","Erquelinnes",1648,1165,{"$f":"Données!$E985*B$4","v":1895.1999999999998},{"$f":"Données!$E985*C$4","v":1812.8000000000002},{"$f":"Données!$E985*D$4","v":1730.4},{"$f":"Données!$E985*E$4","v":1648},{"$f":"Données!$E985*F$4","v":1565.6},{"$f":"Données!$E985*G$4","v":1483.2},{"$f":"Données!$E985*H$4","v":1400.8},{"$f":"Données!$F985*B$4","v":1339.75},{"$f":"Données!$F985*C$4","v":1281.5},{"$f":"Données!$F985*D$4","v":1223.25},{"$f":"Données!$F985*E$4","v":1165},{"$f":"Données!$F985*F$4","v":1106.75},{"$f":"Données!$F985*G$4","v":1048.5},{"$f":"Données!$F985*H$4","v":990.25}]
[null,6567,"Fontaine-Valmont","Merbes-Le-Château",1716,1227,{"$f":"Données!$E986*B$4","v":1973.3999999999999},{"$f":"Données!$E986*C$4","v":1887.6000000000001},{"$f":"Données!$E986*D$4","v":1801.8000000000002},{"$f":"Données!$E986*E$4","v":1716},{"$f":"Données!$E986*F$4","v":1630.1999999999998},{"$f":"Données!$E986*G$4","v":1544.4},{"$f":"Données!$E986*H$4","v":1458.6},{"$f":"Données!$F986*B$4","v":1411.05},{"$f":"Données!$F986*C$4","v":1349.7},{"$f":"Données!$F986*D$4","v":1288.3500000000001},{"$f":"Données!$F986*E$4","v":1227},{"$f":"Données!$F986*F$4","v":1165.6499999999999},{"$f":"Données!$F986*G$4","v":1104.3},{"$f":"Données!$F986*H$4","v":1042.95}]
[null,6567,"Merbes-Sainte-Marie","Merbes-Le-Château",1716,1227,{"$f":"Données!$E987*B$4","v":1973.3999999999999},{"$f":"Données!$E987*C$4","v":1887.6000000000001},{"$f":"Données!$E987*D$4","v":1801.8000000000002},{"$f":"Données!$E987*E$4","v":1716},{"$f":"Données!$E987*F$4","v":1630.1999999999998},{"$f":"Données!$E987*G$4","v":1544.4},{"$f":"Données!$E987*H$4","v":1458.6},{"$f":"Données!$F987*B$4","v":1411.05},{"$f":"Données!$F987*C$4","v":1349.7},{"$f":"Données!$F987*D$4","v":1288.3500000000001},{"$f":"Données!$F987*E$4","v":1227},{"$f":"Données!$F987*F$4","v":1165.6499999999999},{"$f":"Données!$F987*G$4","v":1104.3},{"$f":"Données!$F987*H$4","v":1042.95}]
[null,6567,"Labuissière","Merbes-Le-Château",1716,1227,{"$f":"Données!$E988*B$4","v":1973.3999999999999},{"$f":"Données!$E988*C$4","v":1887.6000000000001},{"$f":"Données!$E988*D$4","v":1801.8000000000002},{"$f":"Données!$E988*E$4","v":1716},{"$f":"Données!$E988*F$4","v":1630.1999999999998},{"$f":"Données!$E988*G$4","v":1544.4},{"$f":"Données!$E988*H$4","v":1458.6},{"$f":"Données!$F988*B$4","v":1411.05},{"$f":"Données!$F988*C$4","v":1349.7},{"$f":"Données!$F988*D$4","v":1288.3500000000001},{"$f":"Données!$F988*E$4","v":1227},{"$f":"Données!$F988*F$4","v":1165.6499999999999},{"$f":"Données!$F988*G$4","v":1104.3},{"$f":"Données!$F988*H$4","v":1042.95}]
[null,6567,"Merbes-Le-Château","Merbes-Le-Château",1716,1227,{"$f":"Données!$E989*B$4","v":1973.3999999999999},{"$f":"Données!$E989*C$4","v":1887.6000000000001},{"$f":"Données!$E989*D$4","v":1801.8000000000002},{"$f":"Données!$E989*E$4","v":1716},{"$f":"Données!$E989*F$4","v":1630.1999999999998},{"$f":"Données!$E989*G$4","v":1544.4},{"$f":"Données!$E989*H$4","v":1458.6},{"$f":"Données!$F989*B$4","v":1411.05},{"$f":"Données!$F989*C$4","v":1349.7},{"$f":"Données!$F989*D$4","v":1288.3500000000001},{"$f":"Données!$F989*E$4","v":1227},{"$f":"Données!$F989*F$4","v":1165.6499999999999},{"$f":"Données!$F989*G$4","v":1104.3},{"$f":"Données!$F989*H$4","v":1042.95}]
[null,6590,"Momignies","Momignies",1556,972,{"$f":"Données!$E990*B$4","v":1789.3999999999999},{"$f":"Données!$E990*C$4","v":1711.6000000000001},{"$f":"Données!$E990*D$4","v":1633.8000000000002},{"$f":"Données!$E990*E$4","v":1556},{"$f":"Données!$E990*F$4","v":1478.1999999999998},{"$f":"Données!$E990*G$4","v":1400.4},{"$f":"Données!$E990*H$4","v":1322.6},{"$f":"Données!$F990*B$4","v":1117.8},{"$f":"Données!$F990*C$4","v":1069.2},{"$f":"Données!$F990*D$4","v":1020.6},{"$f":"Données!$F990*E$4","v":972},{"$f":"Données!$F990*F$4","v":923.4},{"$f":"Données!$F990*G$4","v":874.80000000000007},{"$f":"Données!$F990*H$4","v":826.19999999999993}]
[null,6591,"Macon","Momignies",1556,972,{"$f":"Données!$E991*B$4","v":1789.3999999999999},{"$f":"Données!$E991*C$4","v":1711.6000000000001},{"$f":"Données!$E991*D$4","v":1633.8000000000002},{"$f":"Données!$E991*E$4","v":1556},{"$f":"Données!$E991*F$4","v":1478.1999999999998},{"$f":"Données!$E991*G$4","v":1400.4},{"$f":"Données!$E991*H$4","v":1322.6},{"$f":"Données!$F991*B$4","v":1117.8},{"$f":"Données!$F991*C$4","v":1069.2},{"$f":"Données!$F991*D$4","v":1020.6},{"$f":"Données!$F991*E$4","v":972},{"$f":"Données!$F991*F$4","v":923.4},{"$f":"Données!$F991*G$4","v":874.80000000000007},{"$f":"Données!$F991*H$4","v":826.19999999999993}]
[null,6592,"Monceau-Imbrechies","Momignies",1556,972,{"$f":"Données!$E992*B$4","v":1789.3999999999999},{"$f":"Données!$E992*C$4","v":1711.6000000000001},{"$f":"Données!$E992*D$4","v":1633.8000000000002},{"$f":"Données!$E992*E$4","v":1556},{"$f":"Données!$E992*F$4","v":1478.1999999999998},{"$f":"Données!$E992*G$4","v":1400.4},{"$f":"Données!$E992*H$4","v":1322.6},{"$f":"Données!$F992*B$4","v":1117.8},{"$f":"Données!$F992*C$4","v":1069.2},{"$f":"Données!$F992*D$4","v":1020.6},{"$f":"Données!$F992*E$4","v":972},{"$f":"Données!$F992*F$4","v":923.4},{"$f":"Données!$F992*G$4","v":874.80000000000007},{"$f":"Données!$F992*H$4","v":826.19999999999993}]
[null,6593,"Macquenoise","Momignies",1556,972,{"$f":"Données!$E993*B$4","v":1789.3999999999999},{"$f":"Données!$E993*C$4","v":1711.6000000000001},{"$f":"Données!$E993*D$4","v":1633.8000000000002},{"$f":"Données!$E993*E$4","v":1556},{"$f":"Données!$E993*F$4","v":1478.1999999999998},{"$f":"Données!$E993*G$4","v":1400.4},{"$f":"Données!$E993*H$4","v":1322.6},{"$f":"Données!$F993*B$4","v":1117.8},{"$f":"Données!$F993*C$4","v":1069.2},{"$f":"Données!$F993*D$4","v":1020.6},{"$f":"Données!$F993*E$4","v":972},{"$f":"Données!$F993*F$4","v":923.4},{"$f":"Données!$F993*G$4","v":874.80000000000007},{"$f":"Données!$F993*H$4","v":826.19999999999993}]
[null,6594,"Beauwelz","Momignies",1556,972,{"$f":"Données!$E994*B$4","v":1789.3999999999999},{"$f":"Données!$E994*C$4","v":1711.6000000000001},{"$f":"Données!$E994*D$4","v":1633.8000000000002},{"$f":"Données!$E994*E$4","v":1556},{"$f":"Données!$E994*F$4","v":1478.1999999999998},{"$f":"Données!$E994*G$4","v":1400.4},{"$f":"Données!$E994*H$4","v":1322.6},{"$f":"Données!$F994*B$4","v":1117.8},{"$f":"Données!$F994*C$4","v":1069.2},{"$f":"Données!$F994*D$4","v":1020.6},{"$f":"Données!$F994*E$4","v":972},{"$f":"Données!$F994*F$4","v":923.4},{"$f":"Données!$F994*G$4","v":874.80000000000007},{"$f":"Données!$F994*H$4","v":826.19999999999993}]
[null,6596,"Forge-Philippe","Momignies",1556,972,{"$f":"Données!$E995*B$4","v":1789.3999999999999},{"$f":"Données!$E995*C$4","v":1711.6000000000001},{"$f":"Données!$E995*D$4","v":1633.8000000000002},{"$f":"Données!$E995*E$4","v":1556},{"$f":"Données!$E995*F$4","v":1478.1999999999998},{"$f":"Données!$E995*G$4","v":1400.4},{"$f":"Données!$E995*H$4","v":1322.6},{"$f":"Données!$F995*B$4","v":1117.8},{"$f":"Données!$F995*C$4","v":1069.2},{"$f":"Données!$F995*D$4","v":1020.6},{"$f":"Données!$F995*E$4","v":972},{"$f":"Données!$F995*F$4","v":923.4},{"$f":"Données!$F995*G$4","v":874.80000000000007},{"$f":"Données!$F995*H$4","v":826.19999999999993}]
[null,6596,"Seloignes","Momignies",1556,972,{"$f":"Données!$E996*B$4","v":1789.3999999999999},{"$f":"Données!$E996*C$4","v":1711.6000000000001},{"$f":"Données!$E996*D$4","v":1633.8000000000002},{"$f":"Données!$E996*E$4","v":1556},{"$f":"Données!$E996*F$4","v":1478.1999999999998},{"$f":"Données!$E996*G$4","v":1400.4},{"$f":"Données!$E996*H$4","v":1322.6},{"$f":"Données!$F996*B$4","v":1117.8},{"$f":"Données!$F996*C$4","v":1069.2},{"$f":"Données!$F996*D$4","v":1020.6},{"$f":"Données!$F996*E$4","v":972},{"$f":"Données!$F996*F$4","v":923.4},{"$f":"Données!$F996*G$4","v":874.80000000000007},{"$f":"Données!$F996*H$4","v":826.19999999999993}]
[null,6600,"Bastogne","Bastogne",2380,1644,{"$f":"Données!$E997*B$4","v":2737},{"$f":"Données!$E997*C$4","v":2618},{"$f":"Données!$E997*D$4","v":2499},{"$f":"Données!$E997*E$4","v":2380},{"$f":"Données!$E997*F$4","v":2261},{"$f":"Données!$E997*G$4","v":2142},{"$f":"Données!$E997*H$4","v":2023},{"$f":"Données!$F997*B$4","v":1890.6},{"$f":"Données!$F997*C$4","v":1808.4},{"$f":"Données!$F997*D$4","v":1726.2},{"$f":"Données!$F997*E$4","v":1644},{"$f":"Données!$F997*F$4","v":1561.8},{"$f":"Données!$F997*G$4","v":1479.6000000000001},{"$f":"Données!$F997*H$4","v":1397.3999999999999}]
[null,6600,"Wardin","Bastogne",2380,1644,{"$f":"Données!$E998*B$4","v":2737},{"$f":"Données!$E998*C$4","v":2618},{"$f":"Données!$E998*D$4","v":2499},{"$f":"Données!$E998*E$4","v":2380},{"$f":"Données!$E998*F$4","v":2261},{"$f":"Données!$E998*G$4","v":2142},{"$f":"Données!$E998*H$4","v":2023},{"$f":"Données!$F998*B$4","v":1890.6},{"$f":"Données!$F998*C$4","v":1808.4},{"$f":"Données!$F998*D$4","v":1726.2},{"$f":"Données!$F998*E$4","v":1644},{"$f":"Données!$F998*F$4","v":1561.8},{"$f":"Données!$F998*G$4","v":1479.6000000000001},{"$f":"Données!$F998*H$4","v":1397.3999999999999}]
[null,6600,"Longvilly","Bastogne",2380,1644,{"$f":"Données!$E999*B$4","v":2737},{"$f":"Données!$E999*C$4","v":2618},{"$f":"Données!$E999*D$4","v":2499},{"$f":"Données!$E999*E$4","v":2380},{"$f":"Données!$E999*F$4","v":2261},{"$f":"Données!$E999*G$4","v":2142},{"$f":"Données!$E999*H$4","v":2023},{"$f":"Données!$F999*B$4","v":1890.6},{"$f":"Données!$F999*C$4","v":1808.4},{"$f":"Données!$F999*D$4","v":1726.2},{"$f":"Données!$F999*E$4","v":1644},{"$f":"Données!$F999*F$4","v":1561.8},{"$f":"Données!$F999*G$4","v":1479.6000000000001},{"$f":"Données!$F999*H$4","v":1397.3999999999999}]
[null,6600,"Villers-La-Bonne-Eau","Bastogne",2380,1644,{"$f":"Données!$E1000*B$4","v":2737},{"$f":"Données!$E1000*C$4","v":2618},{"$f":"Données!$E1000*D$4","v":2499},{"$f":"Données!$E1000*E$4","v":2380},{"$f":"Données!$E1000*F$4","v":2261},{"$f":"Données!$E1000*G$4","v":2142},{"$f":"Données!$E1000*H$4","v":2023},{"$f":"Données!$F1000*B$4","v":1890.6},{"$f":"Données!$F1000*C$4","v":1808.4},{"$f":"Données!$F1000*D$4","v":1726.2},{"$f":"Données!$F1000*E$4","v":1644},{"$f":"Données!$F1000*F$4","v":1561.8},{"$f":"Données!$F1000*G$4","v":1479.6000000000001},{"$f":"Données!$F1000*H$4","v":1397.3999999999999}]
[null,6600,"Noville","Bastogne",2380,1644,{"$f":"Données!$E1001*B$4","v":2737},{"$f":"Données!$E1001*C$4","v":2618},{"$f":"Données!$E1001*D$4","v":2499},{"$f":"Données!$E1001*E$4","v":2380},{"$f":"Données!$E1001*F$4","v":2261},{"$f":"Données!$E1001*G$4","v":2142},{"$f":"Données!$E1001*H$4","v":2023},{"$f":"Données!$F1001*B$4","v":1890.6},{"$f":"Données!$F1001*C$4","v":1808.4},{"$f":"Données!$F1001*D$4","v":1726.2},{"$f":"Données!$F1001*E$4","v":1644},{"$f":"Données!$F1001*F$4","v":1561.8},{"$f":"Données!$F1001*G$4","v":1479.6000000000001},{"$f":"Données!$F1001*H$4","v":1397.3999999999999}]
[null,6630,"Martelange","Martelange",2263,1666,{"$f":"Données!$E1002*B$4","v":2602.4499999999998},{"$f":"Données!$E1002*C$4","v":2489.3000000000002},{"$f":"Données!$E1002*D$4","v":2376.15},{"$f":"Données!$E1002*E$4","v":2263},{"$f":"Données!$E1002*F$4","v":2149.85},{"$f":"Données!$E1002*G$4","v":2036.7},{"$f":"Données!$E1002*H$4","v":1923.55},{"$f":"Données!$F1002*B$4","v":1915.8999999999999},{"$f":"Données!$F1002*C$4","v":1832.6000000000001},{"$f":"Données!$F1002*D$4","v":1749.3000000000002},{"$f":"Données!$F1002*E$4","v":1666},{"$f":"Données!$F1002*F$4","v":1582.6999999999998},{"$f":"Données!$F1002*G$4","v":1499.4},{"$f":"Données!$F1002*H$4","v":1416.1}]
[null,6637,"Fauvillers","Fauvillers",2194,1451,{"$f":"Données!$E1003*B$4","v":2523.1},{"$f":"Données!$E1003*C$4","v":2413.4},{"$f":"Données!$E1003*D$4","v":2303.7000000000003},{"$f":"Données!$E1003*E$4","v":2194},{"$f":"Données!$E1003*F$4","v":2084.2999999999997},{"$f":"Données!$E1003*G$4","v":1974.6000000000001},{"$f":"Données!$E1003*H$4","v":1864.8999999999999},{"$f":"Données!$F1003*B$4","v":1668.6499999999999},{"$f":"Données!$F1003*C$4","v":1596.1000000000001},{"$f":"Données!$F1003*D$4","v":1523.55},{"$f":"Données!$F1003*E$4","v":1451},{"$f":"Données!$F1003*F$4","v":1378.45},{"$f":"Données!$F1003*G$4","v":1305.9000000000001},{"$f":"Données!$F1003*H$4","v":1233.3499999999999}]
[null,6637,"Hollange","Fauvillers",2194,1451,{"$f":"Données!$E1004*B$4","v":2523.1},{"$f":"Données!$E1004*C$4","v":2413.4},{"$f":"Données!$E1004*D$4","v":2303.7000000000003},{"$f":"Données!$E1004*E$4","v":2194},{"$f":"Données!$E1004*F$4","v":2084.2999999999997},{"$f":"Données!$E1004*G$4","v":1974.6000000000001},{"$f":"Données!$E1004*H$4","v":1864.8999999999999},{"$f":"Données!$F1004*B$4","v":1668.6499999999999},{"$f":"Données!$F1004*C$4","v":1596.1000000000001},{"$f":"Données!$F1004*D$4","v":1523.55},{"$f":"Données!$F1004*E$4","v":1451},{"$f":"Données!$F1004*F$4","v":1378.45},{"$f":"Données!$F1004*G$4","v":1305.9000000000001},{"$f":"Données!$F1004*H$4","v":1233.3499999999999}]
[null,6637,"Tintange","Fauvillers",2194,1451,{"$f":"Données!$E1005*B$4","v":2523.1},{"$f":"Données!$E1005*C$4","v":2413.4},{"$f":"Données!$E1005*D$4","v":2303.7000000000003},{"$f":"Données!$E1005*E$4","v":2194},{"$f":"Données!$E1005*F$4","v":2084.2999999999997},{"$f":"Données!$E1005*G$4","v":1974.6000000000001},{"$f":"Données!$E1005*H$4","v":1864.8999999999999},{"$f":"Données!$F1005*B$4","v":1668.6499999999999},{"$f":"Données!$F1005*C$4","v":1596.1000000000001},{"$f":"Données!$F1005*D$4","v":1523.55},{"$f":"Données!$F1005*E$4","v":1451},{"$f":"Données!$F1005*F$4","v":1378.45},{"$f":"Données!$F1005*G$4","v":1305.9000000000001},{"$f":"Données!$F1005*H$4","v":1233.3499999999999}]
[null,6640,"Nives","Vaux-Sur-Sûre",2064,1450,{"$f":"Données!$E1006*B$4","v":2373.6},{"$f":"Données!$E1006*C$4","v":2270.4},{"$f":"Données!$E1006*D$4","v":2167.2000000000003},{"$f":"Données!$E1006*E$4","v":2064},{"$f":"Données!$E1006*F$4","v":1960.8},{"$f":"Données!$E1006*G$4","v":1857.6000000000001},{"$f":"Données!$E1006*H$4","v":1754.3999999999999},{"$f":"Données!$F1006*B$4","v":1667.4999999999998},{"$f":"Données!$F1006*C$4","v":1595.0000000000002},{"$f":"Données!$F1006*D$4","v":1522.5},{"$f":"Données!$F1006*E$4","v":1450},{"$f":"Données!$F1006*F$4","v":1377.5},{"$f":"Données!$F1006*G$4","v":1305},{"$f":"Données!$F1006*H$4","v":1232.5}]
[null,6640,"Sibret","Vaux-Sur-Sûre",2064,1450,{"$f":"Données!$E1007*B$4","v":2373.6},{"$f":"Données!$E1007*C$4","v":2270.4},{"$f":"Données!$E1007*D$4","v":2167.2000000000003},{"$f":"Données!$E1007*E$4","v":2064},{"$f":"Données!$E1007*F$4","v":1960.8},{"$f":"Données!$E1007*G$4","v":1857.6000000000001},{"$f":"Données!$E1007*H$4","v":1754.3999999999999},{"$f":"Données!$F1007*B$4","v":1667.4999999999998},{"$f":"Données!$F1007*C$4","v":1595.0000000000002},{"$f":"Données!$F1007*D$4","v":1522.5},{"$f":"Données!$F1007*E$4","v":1450},{"$f":"Données!$F1007*F$4","v":1377.5},{"$f":"Données!$F1007*G$4","v":1305},{"$f":"Données!$F1007*H$4","v":1232.5}]
[null,6640,"Hompré","Vaux-Sur-Sûre",2064,1450,{"$f":"Données!$E1008*B$4","v":2373.6},{"$f":"Données!$E1008*C$4","v":2270.4},{"$f":"Données!$E1008*D$4","v":2167.2000000000003},{"$f":"Données!$E1008*E$4","v":2064},{"$f":"Données!$E1008*F$4","v":1960.8},{"$f":"Données!$E1008*G$4","v":1857.6000000000001},{"$f":"Données!$E1008*H$4","v":1754.3999999999999},{"$f":"Données!$F1008*B$4","v":1667.4999999999998},{"$f":"Données!$F1008*C$4","v":1595.0000000000002},{"$f":"Données!$F1008*D$4","v":1522.5},{"$f":"Données!$F1008*E$4","v":1450},{"$f":"Données!$F1008*F$4","v":1377.5},{"$f":"Données!$F1008*G$4","v":1305},{"$f":"Données!$F1008*H$4","v":1232.5}]
[null,6640,"Morhet","Vaux-Sur-Sûre",2064,1450,{"$f":"Données!$E1009*B$4","v":2373.6},{"$f":"Données!$E1009*C$4","v":2270.4},{"$f":"Données!$E1009*D$4","v":2167.2000000000003},{"$f":"Données!$E1009*E$4","v":2064},{"$f":"Données!$E1009*F$4","v":1960.8},{"$f":"Données!$E1009*G$4","v":1857.6000000000001},{"$f":"Données!$E1009*H$4","v":1754.3999999999999},{"$f":"Données!$F1009*B$4","v":1667.4999999999998},{"$f":"Données!$F1009*C$4","v":1595.0000000000002},{"$f":"Données!$F1009*D$4","v":1522.5},{"$f":"Données!$F1009*E$4","v":1450},{"$f":"Données!$F1009*F$4","v":1377.5},{"$f":"Données!$F1009*G$4","v":1305},{"$f":"Données!$F1009*H$4","v":1232.5}]
[null,6640,"Vaux-Lez-Rosières","Vaux-Sur-Sûre",2064,1450,{"$f":"Données!$E1010*B$4","v":2373.6},{"$f":"Données!$E1010*C$4","v":2270.4},{"$f":"Données!$E1010*D$4","v":2167.2000000000003},{"$f":"Données!$E1010*E$4","v":2064},{"$f":"Données!$E1010*F$4","v":1960.8},{"$f":"Données!$E1010*G$4","v":1857.6000000000001},{"$f":"Données!$E1010*H$4","v":1754.3999999999999},{"$f":"Données!$F1010*B$4","v":1667.4999999999998},{"$f":"Données!$F1010*C$4","v":1595.0000000000002},{"$f":"Données!$F1010*D$4","v":1522.5},{"$f":"Données!$F1010*E$4","v":1450},{"$f":"Données!$F1010*F$4","v":1377.5},{"$f":"Données!$F1010*G$4","v":1305},{"$f":"Données!$F1010*H$4","v":1232.5}]
[null,6640,"Vaux-Sur-Sûre","Vaux-Sur-Sûre",2064,1450,{"$f":"Données!$E1011*B$4","v":2373.6},{"$f":"Données!$E1011*C$4","v":2270.4},{"$f":"Données!$E1011*D$4","v":2167.2000000000003},{"$f":"Données!$E1011*E$4","v":2064},{"$f":"Données!$E1011*F$4","v":1960.8},{"$f":"Données!$E1011*G$4","v":1857.6000000000001},{"$f":"Données!$E1011*H$4","v":1754.3999999999999},{"$f":"Données!$F1011*B$4","v":1667.4999999999998},{"$f":"Données!$F1011*C$4","v":1595.0000000000002},{"$f":"Données!$F1011*D$4","v":1522.5},{"$f":"Données!$F1011*E$4","v":1450},{"$f":"Données!$F1011*F$4","v":1377.5},{"$f":"Données!$F1011*G$4","v":1305},{"$f":"Données!$F1011*H$4","v":1232.5}]
[null,6642,"Juseret","Vaux-Sur-Sûre",2064,1450,{"$f":"Données!$E1012*B$4","v":2373.6},{"$f":"Données!$E1012*C$4","v":2270.4},{"$f":"Données!$E1012*D$4","v":2167.2000000000003},{"$f":"Données!$E1012*E$4","v":2064},{"$f":"Données!$E1012*F$4","v":1960.8},{"$f":"Données!$E1012*G$4","v":1857.6000000000001},{"$f":"Données!$E1012*H$4","v":1754.3999999999999},{"$f":"Données!$F1012*B$4","v":1667.4999999999998},{"$f":"Données!$F1012*C$4","v":1595.0000000000002},{"$f":"Données!$F1012*D$4","v":1522.5},{"$f":"Données!$F1012*E$4","v":1450},{"$f":"Données!$F1012*F$4","v":1377.5},{"$f":"Données!$F1012*G$4","v":1305},{"$f":"Données!$F1012*H$4","v":1232.5}]
[null,6660,"Houffalize","Houffalize",2042,1502,{"$f":"Données!$E1013*B$4","v":2348.2999999999997},{"$f":"Données!$E1013*C$4","v":2246.2000000000003},{"$f":"Données!$E1013*D$4","v":2144.1},{"$f":"Données!$E1013*E$4","v":2042},{"$f":"Données!$E1013*F$4","v":1939.8999999999999},{"$f":"Données!$E1013*G$4","v":1837.8},{"$f":"Données!$E1013*H$4","v":1735.7},{"$f":"Données!$F1013*B$4","v":1727.3},{"$f":"Données!$F1013*C$4","v":1652.2},{"$f":"Données!$F1013*D$4","v":1577.1000000000001},{"$f":"Données!$F1013*E$4","v":1502},{"$f":"Données!$F1013*F$4","v":1426.8999999999999},{"$f":"Données!$F1013*G$4","v":1351.8},{"$f":"Données!$F1013*H$4","v":1276.7}]
[null,6660,"Nadrin","Houffalize",2042,1502,{"$f":"Données!$E1014*B$4","v":2348.2999999999997},{"$f":"Données!$E1014*C$4","v":2246.2000000000003},{"$f":"Données!$E1014*D$4","v":2144.1},{"$f":"Données!$E1014*E$4","v":2042},{"$f":"Données!$E1014*F$4","v":1939.8999999999999},{"$f":"Données!$E1014*G$4","v":1837.8},{"$f":"Données!$E1014*H$4","v":1735.7},{"$f":"Données!$F1014*B$4","v":1727.3},{"$f":"Données!$F1014*C$4","v":1652.2},{"$f":"Données!$F1014*D$4","v":1577.1000000000001},{"$f":"Données!$F1014*E$4","v":1502},{"$f":"Données!$F1014*F$4","v":1426.8999999999999},{"$f":"Données!$F1014*G$4","v":1351.8},{"$f":"Données!$F1014*H$4","v":1276.7}]
[null,6661,"Mont","Houffalize",2042,1502,{"$f":"Données!$E1015*B$4","v":2348.2999999999997},{"$f":"Données!$E1015*C$4","v":2246.2000000000003},{"$f":"Données!$E1015*D$4","v":2144.1},{"$f":"Données!$E1015*E$4","v":2042},{"$f":"Données!$E1015*F$4","v":1939.8999999999999},{"$f":"Données!$E1015*G$4","v":1837.8},{"$f":"Données!$E1015*H$4","v":1735.7},{"$f":"Données!$F1015*B$4","v":1727.3},{"$f":"Données!$F1015*C$4","v":1652.2},{"$f":"Données!$F1015*D$4","v":1577.1000000000001},{"$f":"Données!$F1015*E$4","v":1502},{"$f":"Données!$F1015*F$4","v":1426.8999999999999},{"$f":"Données!$F1015*G$4","v":1351.8},{"$f":"Données!$F1015*H$4","v":1276.7}]
[null,6661,"Tailles","Houffalize",2042,1502,{"$f":"Données!$E1016*B$4","v":2348.2999999999997},{"$f":"Données!$E1016*C$4","v":2246.2000000000003},{"$f":"Données!$E1016*D$4","v":2144.1},{"$f":"Données!$E1016*E$4","v":2042},{"$f":"Données!$E1016*F$4","v":1939.8999999999999},{"$f":"Données!$E1016*G$4","v":1837.8},{"$f":"Données!$E1016*H$4","v":1735.7},{"$f":"Données!$F1016*B$4","v":1727.3},{"$f":"Données!$F1016*C$4","v":1652.2},{"$f":"Données!$F1016*D$4","v":1577.1000000000001},{"$f":"Données!$F1016*E$4","v":1502},{"$f":"Données!$F1016*F$4","v":1426.8999999999999},{"$f":"Données!$F1016*G$4","v":1351.8},{"$f":"Données!$F1016*H$4","v":1276.7}]
[null,6662,"Tavigny","Houffalize",2042,1502,{"$f":"Données!$E1017*B$4","v":2348.2999999999997},{"$f":"Données!$E1017*C$4","v":2246.2000000000003},{"$f":"Données!$E1017*D$4","v":2144.1},{"$f":"Données!$E1017*E$4","v":2042},{"$f":"Données!$E1017*F$4","v":1939.8999999999999},{"$f":"Données!$E1017*G$4","v":1837.8},{"$f":"Données!$E1017*H$4","v":1735.7},{"$f":"Données!$F1017*B$4","v":1727.3},{"$f":"Données!$F1017*C$4","v":1652.2},{"$f":"Données!$F1017*D$4","v":1577.1000000000001},{"$f":"Données!$F1017*E$4","v":1502},{"$f":"Données!$F1017*F$4","v":1426.8999999999999},{"$f":"Données!$F1017*G$4","v":1351.8},{"$f":"Données!$F1017*H$4","v":1276.7}]
[null,6663,"Mabompré","Houffalize",2042,1502,{"$f":"Données!$E1018*B$4","v":2348.2999999999997},{"$f":"Données!$E1018*C$4","v":2246.2000000000003},{"$f":"Données!$E1018*D$4","v":2144.1},{"$f":"Données!$E1018*E$4","v":2042},{"$f":"Données!$E1018*F$4","v":1939.8999999999999},{"$f":"Données!$E1018*G$4","v":1837.8},{"$f":"Données!$E1018*H$4","v":1735.7},{"$f":"Données!$F1018*B$4","v":1727.3},{"$f":"Données!$F1018*C$4","v":1652.2},{"$f":"Données!$F1018*D$4","v":1577.1000000000001},{"$f":"Données!$F1018*E$4","v":1502},{"$f":"Données!$F1018*F$4","v":1426.8999999999999},{"$f":"Données!$F1018*G$4","v":1351.8},{"$f":"Données!$F1018*H$4","v":1276.7}]
[null,6666,"Wibrin","Houffalize",2042,1502,{"$f":"Données!$E1019*B$4","v":2348.2999999999997},{"$f":"Données!$E1019*C$4","v":2246.2000000000003},{"$f":"Données!$E1019*D$4","v":2144.1},{"$f":"Données!$E1019*E$4","v":2042},{"$f":"Données!$E1019*F$4","v":1939.8999999999999},{"$f":"Données!$E1019*G$4","v":1837.8},{"$f":"Données!$E1019*H$4","v":1735.7},{"$f":"Données!$F1019*B$4","v":1727.3},{"$f":"Données!$F1019*C$4","v":1652.2},{"$f":"Données!$F1019*D$4","v":1577.1000000000001},{"$f":"Données!$F1019*E$4","v":1502},{"$f":"Données!$F1019*F$4","v":1426.8999999999999},{"$f":"Données!$F1019*G$4","v":1351.8},{"$f":"Données!$F1019*H$4","v":1276.7}]
[null,6670,"Limerlé","Gouvy",2128,1513,{"$f":"Données!$E1020*B$4","v":2447.1999999999998},{"$f":"Données!$E1020*C$4","v":2340.8000000000002},{"$f":"Données!$E1020*D$4","v":2234.4},{"$f":"Données!$E1020*E$4","v":2128},{"$f":"Données!$E1020*F$4","v":2021.6},{"$f":"Données!$E1020*G$4","v":1915.2},{"$f":"Données!$E1020*H$4","v":1808.8},{"$f":"Données!$F1020*B$4","v":1739.9499999999998},{"$f":"Données!$F1020*C$4","v":1664.3000000000002},{"$f":"Données!$F1020*D$4","v":1588.65},{"$f":"Données!$F1020*E$4","v":1513},{"$f":"Données!$F1020*F$4","v":1437.35},{"$f":"Données!$F1020*G$4","v":1361.7},{"$f":"Données!$F1020*H$4","v":1286.05}]
[null,6670,"Gouvy","Gouvy",2128,1513,{"$f":"Données!$E1021*B$4","v":2447.1999999999998},{"$f":"Données!$E1021*C$4","v":2340.8000000000002},{"$f":"Données!$E1021*D$4","v":2234.4},{"$f":"Données!$E1021*E$4","v":2128},{"$f":"Données!$E1021*F$4","v":2021.6},{"$f":"Données!$E1021*G$4","v":1915.2},{"$f":"Données!$E1021*H$4","v":1808.8},{"$f":"Données!$F1021*B$4","v":1739.9499999999998},{"$f":"Données!$F1021*C$4","v":1664.3000000000002},{"$f":"Données!$F1021*D$4","v":1588.65},{"$f":"Données!$F1021*E$4","v":1513},{"$f":"Données!$F1021*F$4","v":1437.35},{"$f":"Données!$F1021*G$4","v":1361.7},{"$f":"Données!$F1021*H$4","v":1286.05}]
[null,6671,"Gouvy","Gouvy",2128,1513,{"$f":"Données!$E1022*B$4","v":2447.1999999999998},{"$f":"Données!$E1022*C$4","v":2340.8000000000002},{"$f":"Données!$E1022*D$4","v":2234.4},{"$f":"Données!$E1022*E$4","v":2128},{"$f":"Données!$E1022*F$4","v":2021.6},{"$f":"Données!$E1022*G$4","v":1915.2},{"$f":"Données!$E1022*H$4","v":1808.8},{"$f":"Données!$F1022*B$4","v":1739.9499999999998},{"$f":"Données!$F1022*C$4","v":1664.3000000000002},{"$f":"Données!$F1022*D$4","v":1588.65},{"$f":"Données!$F1022*E$4","v":1513},{"$f":"Données!$F1022*F$4","v":1437.35},{"$f":"Données!$F1022*G$4","v":1361.7},{"$f":"Données!$F1022*H$4","v":1286.05}]
[null,6672,"Gouvy","Gouvy",2128,1513,{"$f":"Données!$E1023*B$4","v":2447.1999999999998},{"$f":"Données!$E1023*C$4","v":2340.8000000000002},{"$f":"Données!$E1023*D$4","v":2234.4},{"$f":"Données!$E1023*E$4","v":2128},{"$f":"Données!$E1023*F$4","v":2021.6},{"$f":"Données!$E1023*G$4","v":1915.2},{"$f":"Données!$E1023*H$4","v":1808.8},{"$f":"Données!$F1023*B$4","v":1739.9499999999998},{"$f":"Données!$F1023*C$4","v":1664.3000000000002},{"$f":"Données!$F1023*D$4","v":1588.65},{"$f":"Données!$F1023*E$4","v":1513},{"$f":"Données!$F1023*F$4","v":1437.35},{"$f":"Données!$F1023*G$4","v":1361.7},{"$f":"Données!$F1023*H$4","v":1286.05}]
[null,6673,"Gouvy","Gouvy",2128,1513,{"$f":"Données!$E1024*B$4","v":2447.1999999999998},{"$f":"Données!$E1024*C$4","v":2340.8000000000002},{"$f":"Données!$E1024*D$4","v":2234.4},{"$f":"Données!$E1024*E$4","v":2128},{"$f":"Données!$E1024*F$4","v":2021.6},{"$f":"Données!$E1024*G$4","v":1915.2},{"$f":"Données!$E1024*H$4","v":1808.8},{"$f":"Données!$F1024*B$4","v":1739.9499999999998},{"$f":"Données!$F1024*C$4","v":1664.3000000000002},{"$f":"Données!$F1024*D$4","v":1588.65},{"$f":"Données!$F1024*E$4","v":1513},{"$f":"Données!$F1024*F$4","v":1437.35},{"$f":"Données!$F1024*G$4","v":1361.7},{"$f":"Données!$F1024*H$4","v":1286.05}]
[null,6674,"Gouvy","Gouvy",2128,1513,{"$f":"Données!$E1025*B$4","v":2447.1999999999998},{"$f":"Données!$E1025*C$4","v":2340.8000000000002},{"$f":"Données!$E1025*D$4","v":2234.4},{"$f":"Données!$E1025*E$4","v":2128},{"$f":"Données!$E1025*F$4","v":2021.6},{"$f":"Données!$E1025*G$4","v":1915.2},{"$f":"Données!$E1025*H$4","v":1808.8},{"$f":"Données!$F1025*B$4","v":1739.9499999999998},{"$f":"Données!$F1025*C$4","v":1664.3000000000002},{"$f":"Données!$F1025*D$4","v":1588.65},{"$f":"Données!$F1025*E$4","v":1513},{"$f":"Données!$F1025*F$4","v":1437.35},{"$f":"Données!$F1025*G$4","v":1361.7},{"$f":"Données!$F1025*H$4","v":1286.05}]
[null,6680,"Sainte-Ode","Sainte-Ode",2113,1398,{"$f":"Données!$E1026*B$4","v":2429.9499999999998},{"$f":"Données!$E1026*C$4","v":2324.3000000000002},{"$f":"Données!$E1026*D$4","v":2218.65},{"$f":"Données!$E1026*E$4","v":2113},{"$f":"Données!$E1026*F$4","v":2007.35},{"$f":"Données!$E1026*G$4","v":1901.7},{"$f":"Données!$E1026*H$4","v":1796.05},{"$f":"Données!$F1026*B$4","v":1607.6999999999998},{"$f":"Données!$F1026*C$4","v":1537.8000000000002},{"$f":"Données!$F1026*D$4","v":1467.9},{"$f":"Données!$F1026*E$4","v":1398},{"$f":"Données!$F1026*F$4","v":1328.1},{"$f":"Données!$F1026*G$4","v":1258.2},{"$f":"Données!$F1026*H$4","v":1188.3}]
[null,6680,"Amberloup","Sainte-Ode",2113,1398,{"$f":"Données!$E1027*B$4","v":2429.9499999999998},{"$f":"Données!$E1027*C$4","v":2324.3000000000002},{"$f":"Données!$E1027*D$4","v":2218.65},{"$f":"Données!$E1027*E$4","v":2113},{"$f":"Données!$E1027*F$4","v":2007.35},{"$f":"Données!$E1027*G$4","v":1901.7},{"$f":"Données!$E1027*H$4","v":1796.05},{"$f":"Données!$F1027*B$4","v":1607.6999999999998},{"$f":"Données!$F1027*C$4","v":1537.8000000000002},{"$f":"Données!$F1027*D$4","v":1467.9},{"$f":"Données!$F1027*E$4","v":1398},{"$f":"Données!$F1027*F$4","v":1328.1},{"$f":"Données!$F1027*G$4","v":1258.2},{"$f":"Données!$F1027*H$4","v":1188.3}]
[null,6680,"Tillet","Sainte-Ode",2113,1398,{"$f":"Données!$E1028*B$4","v":2429.9499999999998},{"$f":"Données!$E1028*C$4","v":2324.3000000000002},{"$f":"Données!$E1028*D$4","v":2218.65},{"$f":"Données!$E1028*E$4","v":2113},{"$f":"Données!$E1028*F$4","v":2007.35},{"$f":"Données!$E1028*G$4","v":1901.7},{"$f":"Données!$E1028*H$4","v":1796.05},{"$f":"Données!$F1028*B$4","v":1607.6999999999998},{"$f":"Données!$F1028*C$4","v":1537.8000000000002},{"$f":"Données!$F1028*D$4","v":1467.9},{"$f":"Données!$F1028*E$4","v":1398},{"$f":"Données!$F1028*F$4","v":1328.1},{"$f":"Données!$F1028*G$4","v":1258.2},{"$f":"Données!$F1028*H$4","v":1188.3}]
[null,6681,"Lavacherie","Sainte-Ode",2113,1398,{"$f":"Données!$E1029*B$4","v":2429.9499999999998},{"$f":"Données!$E1029*C$4","v":2324.3000000000002},{"$f":"Données!$E1029*D$4","v":2218.65},{"$f":"Données!$E1029*E$4","v":2113},{"$f":"Données!$E1029*F$4","v":2007.35},{"$f":"Données!$E1029*G$4","v":1901.7},{"$f":"Données!$E1029*H$4","v":1796.05},{"$f":"Données!$F1029*B$4","v":1607.6999999999998},{"$f":"Données!$F1029*C$4","v":1537.8000000000002},{"$f":"Données!$F1029*D$4","v":1467.9},{"$f":"Données!$F1029*E$4","v":1398},{"$f":"Données!$F1029*F$4","v":1328.1},{"$f":"Données!$F1029*G$4","v":1258.2},{"$f":"Données!$F1029*H$4","v":1188.3}]
[null,6686,"Flamierge","Bertogne",2378,1364,{"$f":"Données!$E1030*B$4","v":2734.7},{"$f":"Données!$E1030*C$4","v":2615.8000000000002},{"$f":"Données!$E1030*D$4","v":2496.9},{"$f":"Données!$E1030*E$4","v":2378},{"$f":"Données!$E1030*F$4","v":2259.1},{"$f":"Données!$E1030*G$4","v":2140.2000000000003},{"$f":"Données!$E1030*H$4","v":2021.3},{"$f":"Données!$F1030*B$4","v":1568.6},{"$f":"Données!$F1030*C$4","v":1500.4},{"$f":"Données!$F1030*D$4","v":1432.2},{"$f":"Données!$F1030*E$4","v":1364},{"$f":"Données!$F1030*F$4","v":1295.8},{"$f":"Données!$F1030*G$4","v":1227.6000000000001},{"$f":"Données!$F1030*H$4","v":1159.3999999999999}]
[null,6687,"Bertogne","Bertogne",2378,1364,{"$f":"Données!$E1031*B$4","v":2734.7},{"$f":"Données!$E1031*C$4","v":2615.8000000000002},{"$f":"Données!$E1031*D$4","v":2496.9},{"$f":"Données!$E1031*E$4","v":2378},{"$f":"Données!$E1031*F$4","v":2259.1},{"$f":"Données!$E1031*G$4","v":2140.2000000000003},{"$f":"Données!$E1031*H$4","v":2021.3},{"$f":"Données!$F1031*B$4","v":1568.6},{"$f":"Données!$F1031*C$4","v":1500.4},{"$f":"Données!$F1031*D$4","v":1432.2},{"$f":"Données!$F1031*E$4","v":1364},{"$f":"Données!$F1031*F$4","v":1295.8},{"$f":"Données!$F1031*G$4","v":1227.6000000000001},{"$f":"Données!$F1031*H$4","v":1159.3999999999999}]
[null,6688,"Longchamps","Bertogne",2378,1364,{"$f":"Données!$E1032*B$4","v":2734.7},{"$f":"Données!$E1032*C$4","v":2615.8000000000002},{"$f":"Données!$E1032*D$4","v":2496.9},{"$f":"Données!$E1032*E$4","v":2378},{"$f":"Données!$E1032*F$4","v":2259.1},{"$f":"Données!$E1032*G$4","v":2140.2000000000003},{"$f":"Données!$E1032*H$4","v":2021.3},{"$f":"Données!$F1032*B$4","v":1568.6},{"$f":"Données!$F1032*C$4","v":1500.4},{"$f":"Données!$F1032*D$4","v":1432.2},{"$f":"Données!$F1032*E$4","v":1364},{"$f":"Données!$F1032*F$4","v":1295.8},{"$f":"Données!$F1032*G$4","v":1227.6000000000001},{"$f":"Données!$F1032*H$4","v":1159.3999999999999}]
[null,6690,"Vielsalm","Vielsalm",1737,1403,{"$f":"Données!$E1033*B$4","v":1997.55},{"$f":"Données!$E1033*C$4","v":1910.7},{"$f":"Données!$E1033*D$4","v":1823.8500000000001},{"$f":"Données!$E1033*E$4","v":1737},{"$f":"Données!$E1033*F$4","v":1650.1499999999999},{"$f":"Données!$E1033*G$4","v":1563.3},{"$f":"Données!$E1033*H$4","v":1476.45},{"$f":"Données!$F1033*B$4","v":1613.4499999999998},{"$f":"Données!$F1033*C$4","v":1543.3000000000002},{"$f":"Données!$F1033*D$4","v":1473.15},{"$f":"Données!$F1033*E$4","v":1403},{"$f":"Données!$F1033*F$4","v":1332.85},{"$f":"Données!$F1033*G$4","v":1262.7},{"$f":"Données!$F1033*H$4","v":1192.55}]
[null,6690,"Bihain","Vielsalm",1737,1403,{"$f":"Données!$E1034*B$4","v":1997.55},{"$f":"Données!$E1034*C$4","v":1910.7},{"$f":"Données!$E1034*D$4","v":1823.8500000000001},{"$f":"Données!$E1034*E$4","v":1737},{"$f":"Données!$E1034*F$4","v":1650.1499999999999},{"$f":"Données!$E1034*G$4","v":1563.3},{"$f":"Données!$E1034*H$4","v":1476.45},{"$f":"Données!$F1034*B$4","v":1613.4499999999998},{"$f":"Données!$F1034*C$4","v":1543.3000000000002},{"$f":"Données!$F1034*D$4","v":1473.15},{"$f":"Données!$F1034*E$4","v":1403},{"$f":"Données!$F1034*F$4","v":1332.85},{"$f":"Données!$F1034*G$4","v":1262.7},{"$f":"Données!$F1034*H$4","v":1192.55}]
[null,6692,"Petit-Thier","Vielsalm",1737,1403,{"$f":"Données!$E1035*B$4","v":1997.55},{"$f":"Données!$E1035*C$4","v":1910.7},{"$f":"Données!$E1035*D$4","v":1823.8500000000001},{"$f":"Données!$E1035*E$4","v":1737},{"$f":"Données!$E1035*F$4","v":1650.1499999999999},{"$f":"Données!$E1035*G$4","v":1563.3},{"$f":"Données!$E1035*H$4","v":1476.45},{"$f":"Données!$F1035*B$4","v":1613.4499999999998},{"$f":"Données!$F1035*C$4","v":1543.3000000000002},{"$f":"Données!$F1035*D$4","v":1473.15},{"$f":"Données!$F1035*E$4","v":1403},{"$f":"Données!$F1035*F$4","v":1332.85},{"$f":"Données!$F1035*G$4","v":1262.7},{"$f":"Données!$F1035*H$4","v":1192.55}]
[null,6698,"Grand-Halleux","Vielsalm",1737,1403,{"$f":"Données!$E1036*B$4","v":1997.55},{"$f":"Données!$E1036*C$4","v":1910.7},{"$f":"Données!$E1036*D$4","v":1823.8500000000001},{"$f":"Données!$E1036*E$4","v":1737},{"$f":"Données!$E1036*F$4","v":1650.1499999999999},{"$f":"Données!$E1036*G$4","v":1563.3},{"$f":"Données!$E1036*H$4","v":1476.45},{"$f":"Données!$F1036*B$4","v":1613.4499999999998},{"$f":"Données!$F1036*C$4","v":1543.3000000000002},{"$f":"Données!$F1036*D$4","v":1473.15},{"$f":"Données!$F1036*E$4","v":1403},{"$f":"Données!$F1036*F$4","v":1332.85},{"$f":"Données!$F1036*G$4","v":1262.7},{"$f":"Données!$F1036*H$4","v":1192.55}]
[null,6700,"Heinsch","Arlon",2726,2215,{"$f":"Données!$E1037*B$4","v":3134.8999999999996},{"$f":"Données!$E1037*C$4","v":2998.6000000000004},{"$f":"Données!$E1037*D$4","v":2862.3},{"$f":"Données!$E1037*E$4","v":2726},{"$f":"Données!$E1037*F$4","v":2589.6999999999998},{"$f":"Données!$E1037*G$4","v":2453.4},{"$f":"Données!$E1037*H$4","v":2317.1},{"$f":"Données!$F1037*B$4","v":2547.25},{"$f":"Données!$F1037*C$4","v":2436.5},{"$f":"Données!$F1037*D$4","v":2325.75},{"$f":"Données!$F1037*E$4","v":2215},{"$f":"Données!$F1037*F$4","v":2104.25},{"$f":"Données!$F1037*G$4","v":1993.5},{"$f":"Données!$F1037*H$4","v":1882.75}]
[null,6700,"Toernich","Arlon",2726,2215,{"$f":"Données!$E1038*B$4","v":3134.8999999999996},{"$f":"Données!$E1038*C$4","v":2998.6000000000004},{"$f":"Données!$E1038*D$4","v":2862.3},{"$f":"Données!$E1038*E$4","v":2726},{"$f":"Données!$E1038*F$4","v":2589.6999999999998},{"$f":"Données!$E1038*G$4","v":2453.4},{"$f":"Données!$E1038*H$4","v":2317.1},{"$f":"Données!$F1038*B$4","v":2547.25},{"$f":"Données!$F1038*C$4","v":2436.5},{"$f":"Données!$F1038*D$4","v":2325.75},{"$f":"Données!$F1038*E$4","v":2215},{"$f":"Données!$F1038*F$4","v":2104.25},{"$f":"Données!$F1038*G$4","v":1993.5},{"$f":"Données!$F1038*H$4","v":1882.75}]
[null,6700,"Arlon","Arlon",2726,2215,{"$f":"Données!$E1039*B$4","v":3134.8999999999996},{"$f":"Données!$E1039*C$4","v":2998.6000000000004},{"$f":"Données!$E1039*D$4","v":2862.3},{"$f":"Données!$E1039*E$4","v":2726},{"$f":"Données!$E1039*F$4","v":2589.6999999999998},{"$f":"Données!$E1039*G$4","v":2453.4},{"$f":"Données!$E1039*H$4","v":2317.1},{"$f":"Données!$F1039*B$4","v":2547.25},{"$f":"Données!$F1039*C$4","v":2436.5},{"$f":"Données!$F1039*D$4","v":2325.75},{"$f":"Données!$F1039*E$4","v":2215},{"$f":"Données!$F1039*F$4","v":2104.25},{"$f":"Données!$F1039*G$4","v":1993.5},{"$f":"Données!$F1039*H$4","v":1882.75}]
[null,6700,"Bonnert","Arlon",2726,2215,{"$f":"Données!$E1040*B$4","v":3134.8999999999996},{"$f":"Données!$E1040*C$4","v":2998.6000000000004},{"$f":"Données!$E1040*D$4","v":2862.3},{"$f":"Données!$E1040*E$4","v":2726},{"$f":"Données!$E1040*F$4","v":2589.6999999999998},{"$f":"Données!$E1040*G$4","v":2453.4},{"$f":"Données!$E1040*H$4","v":2317.1},{"$f":"Données!$F1040*B$4","v":2547.25},{"$f":"Données!$F1040*C$4","v":2436.5},{"$f":"Données!$F1040*D$4","v":2325.75},{"$f":"Données!$F1040*E$4","v":2215},{"$f":"Données!$F1040*F$4","v":2104.25},{"$f":"Données!$F1040*G$4","v":1993.5},{"$f":"Données!$F1040*H$4","v":1882.75}]
[null,6704,"Bonnert","Arlon",2726,2215,{"$f":"Données!$E1041*B$4","v":3134.8999999999996},{"$f":"Données!$E1041*C$4","v":2998.6000000000004},{"$f":"Données!$E1041*D$4","v":2862.3},{"$f":"Données!$E1041*E$4","v":2726},{"$f":"Données!$E1041*F$4","v":2589.6999999999998},{"$f":"Données!$E1041*G$4","v":2453.4},{"$f":"Données!$E1041*H$4","v":2317.1},{"$f":"Données!$F1041*B$4","v":2547.25},{"$f":"Données!$F1041*C$4","v":2436.5},{"$f":"Données!$F1041*D$4","v":2325.75},{"$f":"Données!$F1041*E$4","v":2215},{"$f":"Données!$F1041*F$4","v":2104.25},{"$f":"Données!$F1041*G$4","v":1993.5},{"$f":"Données!$F1041*H$4","v":1882.75}]
[null,6706,"Bonnert","Arlon",2726,2215,{"$f":"Données!$E1042*B$4","v":3134.8999999999996},{"$f":"Données!$E1042*C$4","v":2998.6000000000004},{"$f":"Données!$E1042*D$4","v":2862.3},{"$f":"Données!$E1042*E$4","v":2726},{"$f":"Données!$E1042*F$4","v":2589.6999999999998},{"$f":"Données!$E1042*G$4","v":2453.4},{"$f":"Données!$E1042*H$4","v":2317.1},{"$f":"Données!$F1042*B$4","v":2547.25},{"$f":"Données!$F1042*C$4","v":2436.5},{"$f":"Données!$F1042*D$4","v":2325.75},{"$f":"Données!$F1042*E$4","v":2215},{"$f":"Données!$F1042*F$4","v":2104.25},{"$f":"Données!$F1042*G$4","v":1993.5},{"$f":"Données!$F1042*H$4","v":1882.75}]
[null,6717,"Attert","Attert",2634,2141,{"$f":"Données!$E1043*B$4","v":3029.1},{"$f":"Données!$E1043*C$4","v":2897.4},{"$f":"Données!$E1043*D$4","v":2765.7000000000003},{"$f":"Données!$E1043*E$4","v":2634},{"$f":"Données!$E1043*F$4","v":2502.2999999999997},{"$f":"Données!$E1043*G$4","v":2370.6},{"$f":"Données!$E1043*H$4","v":2238.9},{"$f":"Données!$F1043*B$4","v":2462.1499999999996},{"$f":"Données!$F1043*C$4","v":2355.1000000000004},{"$f":"Données!$F1043*D$4","v":2248.0500000000002},{"$f":"Données!$F1043*E$4","v":2141},{"$f":"Données!$F1043*F$4","v":2033.9499999999998},{"$f":"Données!$F1043*G$4","v":1926.9},{"$f":"Données!$F1043*H$4","v":1819.85}]
[null,6717,"Nothomb","Attert",2634,2141,{"$f":"Données!$E1044*B$4","v":3029.1},{"$f":"Données!$E1044*C$4","v":2897.4},{"$f":"Données!$E1044*D$4","v":2765.7000000000003},{"$f":"Données!$E1044*E$4","v":2634},{"$f":"Données!$E1044*F$4","v":2502.2999999999997},{"$f":"Données!$E1044*G$4","v":2370.6},{"$f":"Données!$E1044*H$4","v":2238.9},{"$f":"Données!$F1044*B$4","v":2462.1499999999996},{"$f":"Données!$F1044*C$4","v":2355.1000000000004},{"$f":"Données!$F1044*D$4","v":2248.0500000000002},{"$f":"Données!$F1044*E$4","v":2141},{"$f":"Données!$F1044*F$4","v":2033.9499999999998},{"$f":"Données!$F1044*G$4","v":1926.9},{"$f":"Données!$F1044*H$4","v":1819.85}]
[null,6717,"Thiaumont","Attert",2634,2141,{"$f":"Données!$E1045*B$4","v":3029.1},{"$f":"Données!$E1045*C$4","v":2897.4},{"$f":"Données!$E1045*D$4","v":2765.7000000000003},{"$f":"Données!$E1045*E$4","v":2634},{"$f":"Données!$E1045*F$4","v":2502.2999999999997},{"$f":"Données!$E1045*G$4","v":2370.6},{"$f":"Données!$E1045*H$4","v":2238.9},{"$f":"Données!$F1045*B$4","v":2462.1499999999996},{"$f":"Données!$F1045*C$4","v":2355.1000000000004},{"$f":"Données!$F1045*D$4","v":2248.0500000000002},{"$f":"Données!$F1045*E$4","v":2141},{"$f":"Données!$F1045*F$4","v":2033.9499999999998},{"$f":"Données!$F1045*G$4","v":1926.9},{"$f":"Données!$F1045*H$4","v":1819.85}]
[null,6717,"Tontelange","Attert",2634,2141,{"$f":"Données!$E1046*B$4","v":3029.1},{"$f":"Données!$E1046*C$4","v":2897.4},{"$f":"Données!$E1046*D$4","v":2765.7000000000003},{"$f":"Données!$E1046*E$4","v":2634},{"$f":"Données!$E1046*F$4","v":2502.2999999999997},{"$f":"Données!$E1046*G$4","v":2370.6},{"$f":"Données!$E1046*H$4","v":2238.9},{"$f":"Données!$F1046*B$4","v":2462.1499999999996},{"$f":"Données!$F1046*C$4","v":2355.1000000000004},{"$f":"Données!$F1046*D$4","v":2248.0500000000002},{"$f":"Données!$F1046*E$4","v":2141},{"$f":"Données!$F1046*F$4","v":2033.9499999999998},{"$f":"Données!$F1046*G$4","v":1926.9},{"$f":"Données!$F1046*H$4","v":1819.85}]
[null,6717,"Nobressart","Attert",2634,2141,{"$f":"Données!$E1047*B$4","v":3029.1},{"$f":"Données!$E1047*C$4","v":2897.4},{"$f":"Données!$E1047*D$4","v":2765.7000000000003},{"$f":"Données!$E1047*E$4","v":2634},{"$f":"Données!$E1047*F$4","v":2502.2999999999997},{"$f":"Données!$E1047*G$4","v":2370.6},{"$f":"Données!$E1047*H$4","v":2238.9},{"$f":"Données!$F1047*B$4","v":2462.1499999999996},{"$f":"Données!$F1047*C$4","v":2355.1000000000004},{"$f":"Données!$F1047*D$4","v":2248.0500000000002},{"$f":"Données!$F1047*E$4","v":2141},{"$f":"Données!$F1047*F$4","v":2033.9499999999998},{"$f":"Données!$F1047*G$4","v":1926.9},{"$f":"Données!$F1047*H$4","v":1819.85}]
[null,6720,"Habay","Habay",2469,1825,{"$f":"Données!$E1048*B$4","v":2839.35},{"$f":"Données!$E1048*C$4","v":2715.9},{"$f":"Données!$E1048*D$4","v":2592.4500000000003},{"$f":"Données!$E1048*E$4","v":2469},{"$f":"Données!$E1048*F$4","v":2345.5499999999997},{"$f":"Données!$E1048*G$4","v":2222.1},{"$f":"Données!$E1048*H$4","v":2098.65},{"$f":"Données!$F1048*B$4","v":2098.75},{"$f":"Données!$F1048*C$4","v":2007.5000000000002},{"$f":"Données!$F1048*D$4","v":1916.25},{"$f":"Données!$F1048*E$4","v":1825},{"$f":"Données!$F1048*F$4","v":1733.75},{"$f":"Données!$F1048*G$4","v":1642.5},{"$f":"Données!$F1048*H$4","v":1551.25}]
[null,6720,"Habay-La-Neuve","Habay",2469,1825,{"$f":"Données!$E1049*B$4","v":2839.35},{"$f":"Données!$E1049*C$4","v":2715.9},{"$f":"Données!$E1049*D$4","v":2592.4500000000003},{"$f":"Données!$E1049*E$4","v":2469},{"$f":"Données!$E1049*F$4","v":2345.5499999999997},{"$f":"Données!$E1049*G$4","v":2222.1},{"$f":"Données!$E1049*H$4","v":2098.65},{"$f":"Données!$F1049*B$4","v":2098.75},{"$f":"Données!$F1049*C$4","v":2007.5000000000002},{"$f":"Données!$F1049*D$4","v":1916.25},{"$f":"Données!$F1049*E$4","v":1825},{"$f":"Données!$F1049*F$4","v":1733.75},{"$f":"Données!$F1049*G$4","v":1642.5},{"$f":"Données!$F1049*H$4","v":1551.25}]
[null,6720,"Hachy","Habay",2469,1825,{"$f":"Données!$E1050*B$4","v":2839.35},{"$f":"Données!$E1050*C$4","v":2715.9},{"$f":"Données!$E1050*D$4","v":2592.4500000000003},{"$f":"Données!$E1050*E$4","v":2469},{"$f":"Données!$E1050*F$4","v":2345.5499999999997},{"$f":"Données!$E1050*G$4","v":2222.1},{"$f":"Données!$E1050*H$4","v":2098.65},{"$f":"Données!$F1050*B$4","v":2098.75},{"$f":"Données!$F1050*C$4","v":2007.5000000000002},{"$f":"Données!$F1050*D$4","v":1916.25},{"$f":"Données!$F1050*E$4","v":1825},{"$f":"Données!$F1050*F$4","v":1733.75},{"$f":"Données!$F1050*G$4","v":1642.5},{"$f":"Données!$F1050*H$4","v":1551.25}]
[null,6721,"Anlier","Habay",2469,1825,{"$f":"Données!$E1051*B$4","v":2839.35},{"$f":"Données!$E1051*C$4","v":2715.9},{"$f":"Données!$E1051*D$4","v":2592.4500000000003},{"$f":"Données!$E1051*E$4","v":2469},{"$f":"Données!$E1051*F$4","v":2345.5499999999997},{"$f":"Données!$E1051*G$4","v":2222.1},{"$f":"Données!$E1051*H$4","v":2098.65},{"$f":"Données!$F1051*B$4","v":2098.75},{"$f":"Données!$F1051*C$4","v":2007.5000000000002},{"$f":"Données!$F1051*D$4","v":1916.25},{"$f":"Données!$F1051*E$4","v":1825},{"$f":"Données!$F1051*F$4","v":1733.75},{"$f":"Données!$F1051*G$4","v":1642.5},{"$f":"Données!$F1051*H$4","v":1551.25}]
[null,6723,"Habay-La-Vieille","Habay",2469,1825,{"$f":"Données!$E1052*B$4","v":2839.35},{"$f":"Données!$E1052*C$4","v":2715.9},{"$f":"Données!$E1052*D$4","v":2592.4500000000003},{"$f":"Données!$E1052*E$4","v":2469},{"$f":"Données!$E1052*F$4","v":2345.5499999999997},{"$f":"Données!$E1052*G$4","v":2222.1},{"$f":"Données!$E1052*H$4","v":2098.65},{"$f":"Données!$F1052*B$4","v":2098.75},{"$f":"Données!$F1052*C$4","v":2007.5000000000002},{"$f":"Données!$F1052*D$4","v":1916.25},{"$f":"Données!$F1052*E$4","v":1825},{"$f":"Données!$F1052*F$4","v":1733.75},{"$f":"Données!$F1052*G$4","v":1642.5},{"$f":"Données!$F1052*H$4","v":1551.25}]
[null,6724,"Houdemont","Habay",2469,1825,{"$f":"Données!$E1053*B$4","v":2839.35},{"$f":"Données!$E1053*C$4","v":2715.9},{"$f":"Données!$E1053*D$4","v":2592.4500000000003},{"$f":"Données!$E1053*E$4","v":2469},{"$f":"Données!$E1053*F$4","v":2345.5499999999997},{"$f":"Données!$E1053*G$4","v":2222.1},{"$f":"Données!$E1053*H$4","v":2098.65},{"$f":"Données!$F1053*B$4","v":2098.75},{"$f":"Données!$F1053*C$4","v":2007.5000000000002},{"$f":"Données!$F1053*D$4","v":1916.25},{"$f":"Données!$F1053*E$4","v":1825},{"$f":"Données!$F1053*F$4","v":1733.75},{"$f":"Données!$F1053*G$4","v":1642.5},{"$f":"Données!$F1053*H$4","v":1551.25}]
[null,6724,"Rulles","Habay",2469,1825,{"$f":"Données!$E1054*B$4","v":2839.35},{"$f":"Données!$E1054*C$4","v":2715.9},{"$f":"Données!$E1054*D$4","v":2592.4500000000003},{"$f":"Données!$E1054*E$4","v":2469},{"$f":"Données!$E1054*F$4","v":2345.5499999999997},{"$f":"Données!$E1054*G$4","v":2222.1},{"$f":"Données!$E1054*H$4","v":2098.65},{"$f":"Données!$F1054*B$4","v":2098.75},{"$f":"Données!$F1054*C$4","v":2007.5000000000002},{"$f":"Données!$F1054*D$4","v":1916.25},{"$f":"Données!$F1054*E$4","v":1825},{"$f":"Données!$F1054*F$4","v":1733.75},{"$f":"Données!$F1054*G$4","v":1642.5},{"$f":"Données!$F1054*H$4","v":1551.25}]
[null,6730,"Saint-Vincent","Tintigny",2220,1550,{"$f":"Données!$E1055*B$4","v":2553},{"$f":"Données!$E1055*C$4","v":2442},{"$f":"Données!$E1055*D$4","v":2331},{"$f":"Données!$E1055*E$4","v":2220},{"$f":"Données!$E1055*F$4","v":2109},{"$f":"Données!$E1055*G$4","v":1998},{"$f":"Données!$E1055*H$4","v":1887},{"$f":"Données!$F1055*B$4","v":1782.4999999999998},{"$f":"Données!$F1055*C$4","v":1705.0000000000002},{"$f":"Données!$F1055*D$4","v":1627.5},{"$f":"Données!$F1055*E$4","v":1550},{"$f":"Données!$F1055*F$4","v":1472.5},{"$f":"Données!$F1055*G$4","v":1395},{"$f":"Données!$F1055*H$4","v":1317.5}]
[null,6730,"Rossignol","Tintigny",2220,1550,{"$f":"Données!$E1056*B$4","v":2553},{"$f":"Données!$E1056*C$4","v":2442},{"$f":"Données!$E1056*D$4","v":2331},{"$f":"Données!$E1056*E$4","v":2220},{"$f":"Données!$E1056*F$4","v":2109},{"$f":"Données!$E1056*G$4","v":1998},{"$f":"Données!$E1056*H$4","v":1887},{"$f":"Données!$F1056*B$4","v":1782.4999999999998},{"$f":"Données!$F1056*C$4","v":1705.0000000000002},{"$f":"Données!$F1056*D$4","v":1627.5},{"$f":"Données!$F1056*E$4","v":1550},{"$f":"Données!$F1056*F$4","v":1472.5},{"$f":"Données!$F1056*G$4","v":1395},{"$f":"Données!$F1056*H$4","v":1317.5}]
[null,6730,"Tintigny","Tintigny",2220,1550,{"$f":"Données!$E1057*B$4","v":2553},{"$f":"Données!$E1057*C$4","v":2442},{"$f":"Données!$E1057*D$4","v":2331},{"$f":"Données!$E1057*E$4","v":2220},{"$f":"Données!$E1057*F$4","v":2109},{"$f":"Données!$E1057*G$4","v":1998},{"$f":"Données!$E1057*H$4","v":1887},{"$f":"Données!$F1057*B$4","v":1782.4999999999998},{"$f":"Données!$F1057*C$4","v":1705.0000000000002},{"$f":"Données!$F1057*D$4","v":1627.5},{"$f":"Données!$F1057*E$4","v":1550},{"$f":"Données!$F1057*F$4","v":1472.5},{"$f":"Données!$F1057*G$4","v":1395},{"$f":"Données!$F1057*H$4","v":1317.5}]
[null,6730,"Bellefontaine","Tintigny",2220,1550,{"$f":"Données!$E1058*B$4","v":2553},{"$f":"Données!$E1058*C$4","v":2442},{"$f":"Données!$E1058*D$4","v":2331},{"$f":"Données!$E1058*E$4","v":2220},{"$f":"Données!$E1058*F$4","v":2109},{"$f":"Données!$E1058*G$4","v":1998},{"$f":"Données!$E1058*H$4","v":1887},{"$f":"Données!$F1058*B$4","v":1782.4999999999998},{"$f":"Données!$F1058*C$4","v":1705.0000000000002},{"$f":"Données!$F1058*D$4","v":1627.5},{"$f":"Données!$F1058*E$4","v":1550},{"$f":"Données!$F1058*F$4","v":1472.5},{"$f":"Données!$F1058*G$4","v":1395},{"$f":"Données!$F1058*H$4","v":1317.5}]
[null,6740,"Etalle","Etalle",2275,1826,{"$f":"Données!$E1059*B$4","v":2616.25},{"$f":"Données!$E1059*C$4","v":2502.5},{"$f":"Données!$E1059*D$4","v":2388.75},{"$f":"Données!$E1059*E$4","v":2275},{"$f":"Données!$E1059*F$4","v":2161.25},{"$f":"Données!$E1059*G$4","v":2047.5},{"$f":"Données!$E1059*H$4","v":1933.75},{"$f":"Données!$F1059*B$4","v":2099.8999999999996},{"$f":"Données!$F1059*C$4","v":2008.6000000000001},{"$f":"Données!$F1059*D$4","v":1917.3000000000002},{"$f":"Données!$F1059*E$4","v":1826},{"$f":"Données!$F1059*F$4","v":1734.6999999999998},{"$f":"Données!$F1059*G$4","v":1643.4},{"$f":"Données!$F1059*H$4","v":1552.1}]
[null,6740,"Sainte-Marie-Sur-Semois","Etalle",2275,1826,{"$f":"Données!$E1060*B$4","v":2616.25},{"$f":"Données!$E1060*C$4","v":2502.5},{"$f":"Données!$E1060*D$4","v":2388.75},{"$f":"Données!$E1060*E$4","v":2275},{"$f":"Données!$E1060*F$4","v":2161.25},{"$f":"Données!$E1060*G$4","v":2047.5},{"$f":"Données!$E1060*H$4","v":1933.75},{"$f":"Données!$F1060*B$4","v":2099.8999999999996},{"$f":"Données!$F1060*C$4","v":2008.6000000000001},{"$f":"Données!$F1060*D$4","v":1917.3000000000002},{"$f":"Données!$F1060*E$4","v":1826},{"$f":"Données!$F1060*F$4","v":1734.6999999999998},{"$f":"Données!$F1060*G$4","v":1643.4},{"$f":"Données!$F1060*H$4","v":1552.1}]
[null,6740,"Villers-Sur-Semois","Etalle",2275,1826,{"$f":"Données!$E1061*B$4","v":2616.25},{"$f":"Données!$E1061*C$4","v":2502.5},{"$f":"Données!$E1061*D$4","v":2388.75},{"$f":"Données!$E1061*E$4","v":2275},{"$f":"Données!$E1061*F$4","v":2161.25},{"$f":"Données!$E1061*G$4","v":2047.5},{"$f":"Données!$E1061*H$4","v":1933.75},{"$f":"Données!$F1061*B$4","v":2099.8999999999996},{"$f":"Données!$F1061*C$4","v":2008.6000000000001},{"$f":"Données!$F1061*D$4","v":1917.3000000000002},{"$f":"Données!$F1061*E$4","v":1826},{"$f":"Données!$F1061*F$4","v":1734.6999999999998},{"$f":"Données!$F1061*G$4","v":1643.4},{"$f":"Données!$F1061*H$4","v":1552.1}]
[null,6741,"Vance","Etalle",2275,1826,{"$f":"Données!$E1062*B$4","v":2616.25},{"$f":"Données!$E1062*C$4","v":2502.5},{"$f":"Données!$E1062*D$4","v":2388.75},{"$f":"Données!$E1062*E$4","v":2275},{"$f":"Données!$E1062*F$4","v":2161.25},{"$f":"Données!$E1062*G$4","v":2047.5},{"$f":"Données!$E1062*H$4","v":1933.75},{"$f":"Données!$F1062*B$4","v":2099.8999999999996},{"$f":"Données!$F1062*C$4","v":2008.6000000000001},{"$f":"Données!$F1062*D$4","v":1917.3000000000002},{"$f":"Données!$F1062*E$4","v":1826},{"$f":"Données!$F1062*F$4","v":1734.6999999999998},{"$f":"Données!$F1062*G$4","v":1643.4},{"$f":"Données!$F1062*H$4","v":1552.1}]
[null,6742,"Chantemelle","Etalle",2275,1826,{"$f":"Données!$E1063*B$4","v":2616.25},{"$f":"Données!$E1063*C$4","v":2502.5},{"$f":"Données!$E1063*D$4","v":2388.75},{"$f":"Données!$E1063*E$4","v":2275},{"$f":"Données!$E1063*F$4","v":2161.25},{"$f":"Données!$E1063*G$4","v":2047.5},{"$f":"Données!$E1063*H$4","v":1933.75},{"$f":"Données!$F1063*B$4","v":2099.8999999999996},{"$f":"Données!$F1063*C$4","v":2008.6000000000001},{"$f":"Données!$F1063*D$4","v":1917.3000000000002},{"$f":"Données!$F1063*E$4","v":1826},{"$f":"Données!$F1063*F$4","v":1734.6999999999998},{"$f":"Données!$F1063*G$4","v":1643.4},{"$f":"Données!$F1063*H$4","v":1552.1}]
[null,6743,"Buzenol","Etalle",2275,1826,{"$f":"Données!$E1064*B$4","v":2616.25},{"$f":"Données!$E1064*C$4","v":2502.5},{"$f":"Données!$E1064*D$4","v":2388.75},{"$f":"Données!$E1064*E$4","v":2275},{"$f":"Données!$E1064*F$4","v":2161.25},{"$f":"Données!$E1064*G$4","v":2047.5},{"$f":"Données!$E1064*H$4","v":1933.75},{"$f":"Données!$F1064*B$4","v":2099.8999999999996},{"$f":"Données!$F1064*C$4","v":2008.6000000000001},{"$f":"Données!$F1064*D$4","v":1917.3000000000002},{"$f":"Données!$F1064*E$4","v":1826},{"$f":"Données!$F1064*F$4","v":1734.6999999999998},{"$f":"Données!$F1064*G$4","v":1643.4},{"$f":"Données!$F1064*H$4","v":1552.1}]
[null,6747,"Saint-Léger","Saint-Léger",2111,1759,{"$f":"Données!$E1065*B$4","v":2427.6499999999996},{"$f":"Données!$E1065*C$4","v":2322.1000000000004},{"$f":"Données!$E1065*D$4","v":2216.5500000000002},{"$f":"Données!$E1065*E$4","v":2111},{"$f":"Données!$E1065*F$4","v":2005.4499999999998},{"$f":"Données!$E1065*G$4","v":1899.9},{"$f":"Données!$E1065*H$4","v":1794.35},{"$f":"Données!$F1065*B$4","v":2022.85},{"$f":"Données!$F1065*C$4","v":1934.9},{"$f":"Données!$F1065*D$4","v":1846.95},{"$f":"Données!$F1065*E$4","v":1759},{"$f":"Données!$F1065*F$4","v":1671.05},{"$f":"Données!$F1065*G$4","v":1583.1000000000001},{"$f":"Données!$F1065*H$4","v":1495.1499999999999}]
[null,6747,"Châtillon","Saint-Léger",2111,1759,{"$f":"Données!$E1066*B$4","v":2427.6499999999996},{"$f":"Données!$E1066*C$4","v":2322.1000000000004},{"$f":"Données!$E1066*D$4","v":2216.5500000000002},{"$f":"Données!$E1066*E$4","v":2111},{"$f":"Données!$E1066*F$4","v":2005.4499999999998},{"$f":"Données!$E1066*G$4","v":1899.9},{"$f":"Données!$E1066*H$4","v":1794.35},{"$f":"Données!$F1066*B$4","v":2022.85},{"$f":"Données!$F1066*C$4","v":1934.9},{"$f":"Données!$F1066*D$4","v":1846.95},{"$f":"Données!$F1066*E$4","v":1759},{"$f":"Données!$F1066*F$4","v":1671.05},{"$f":"Données!$F1066*G$4","v":1583.1000000000001},{"$f":"Données!$F1066*H$4","v":1495.1499999999999}]
[null,6747,"Meix-Le-Tige","Saint-Léger",2111,1759,{"$f":"Données!$E1067*B$4","v":2427.6499999999996},{"$f":"Données!$E1067*C$4","v":2322.1000000000004},{"$f":"Données!$E1067*D$4","v":2216.5500000000002},{"$f":"Données!$E1067*E$4","v":2111},{"$f":"Données!$E1067*F$4","v":2005.4499999999998},{"$f":"Données!$E1067*G$4","v":1899.9},{"$f":"Données!$E1067*H$4","v":1794.35},{"$f":"Données!$F1067*B$4","v":2022.85},{"$f":"Données!$F1067*C$4","v":1934.9},{"$f":"Données!$F1067*D$4","v":1846.95},{"$f":"Données!$F1067*E$4","v":1759},{"$f":"Données!$F1067*F$4","v":1671.05},{"$f":"Données!$F1067*G$4","v":1583.1000000000001},{"$f":"Données!$F1067*H$4","v":1495.1499999999999}]
[null,6750,"Signeulx","Musson",2062,1654,{"$f":"Données!$E1068*B$4","v":2371.2999999999997},{"$f":"Données!$E1068*C$4","v":2268.2000000000003},{"$f":"Données!$E1068*D$4","v":2165.1},{"$f":"Données!$E1068*E$4","v":2062},{"$f":"Données!$E1068*F$4","v":1958.8999999999999},{"$f":"Données!$E1068*G$4","v":1855.8},{"$f":"Données!$E1068*H$4","v":1752.7},{"$f":"Données!$F1068*B$4","v":1902.1},{"$f":"Données!$F1068*C$4","v":1819.4},{"$f":"Données!$F1068*D$4","v":1736.7},{"$f":"Données!$F1068*E$4","v":1654},{"$f":"Données!$F1068*F$4","v":1571.3},{"$f":"Données!$F1068*G$4","v":1488.6000000000001},{"$f":"Données!$F1068*H$4","v":1405.8999999999999}]
[null,6750,"Musson","Musson",2062,1654,{"$f":"Données!$E1069*B$4","v":2371.2999999999997},{"$f":"Données!$E1069*C$4","v":2268.2000000000003},{"$f":"Données!$E1069*D$4","v":2165.1},{"$f":"Données!$E1069*E$4","v":2062},{"$f":"Données!$E1069*F$4","v":1958.8999999999999},{"$f":"Données!$E1069*G$4","v":1855.8},{"$f":"Données!$E1069*H$4","v":1752.7},{"$f":"Données!$F1069*B$4","v":1902.1},{"$f":"Données!$F1069*C$4","v":1819.4},{"$f":"Données!$F1069*D$4","v":1736.7},{"$f":"Données!$F1069*E$4","v":1654},{"$f":"Données!$F1069*F$4","v":1571.3},{"$f":"Données!$F1069*G$4","v":1488.6000000000001},{"$f":"Données!$F1069*H$4","v":1405.8999999999999}]
[null,6750,"Mussy-La-Ville","Musson",2062,1654,{"$f":"Données!$E1070*B$4","v":2371.2999999999997},{"$f":"Données!$E1070*C$4","v":2268.2000000000003},{"$f":"Données!$E1070*D$4","v":2165.1},{"$f":"Données!$E1070*E$4","v":2062},{"$f":"Données!$E1070*F$4","v":1958.8999999999999},{"$f":"Données!$E1070*G$4","v":1855.8},{"$f":"Données!$E1070*H$4","v":1752.7},{"$f":"Données!$F1070*B$4","v":1902.1},{"$f":"Données!$F1070*C$4","v":1819.4},{"$f":"Données!$F1070*D$4","v":1736.7},{"$f":"Données!$F1070*E$4","v":1654},{"$f":"Données!$F1070*F$4","v":1571.3},{"$f":"Données!$F1070*G$4","v":1488.6000000000001},{"$f":"Données!$F1070*H$4","v":1405.8999999999999}]
[null,6760,"Bleid","Virton",1911,1481,{"$f":"Données!$E1071*B$4","v":2197.6499999999996},{"$f":"Données!$E1071*C$4","v":2102.1000000000004},{"$f":"Données!$E1071*D$4","v":2006.5500000000002},{"$f":"Données!$E1071*E$4","v":1911},{"$f":"Données!$E1071*F$4","v":1815.4499999999998},{"$f":"Données!$E1071*G$4","v":1719.9},{"$f":"Données!$E1071*H$4","v":1624.35},{"$f":"Données!$F1071*B$4","v":1703.1499999999999},{"$f":"Données!$F1071*C$4","v":1629.1000000000001},{"$f":"Données!$F1071*D$4","v":1555.05},{"$f":"Données!$F1071*E$4","v":1481},{"$f":"Données!$F1071*F$4","v":1406.95},{"$f":"Données!$F1071*G$4","v":1332.9},{"$f":"Données!$F1071*H$4","v":1258.8499999999999}]
[null,6760,"Ethe","Virton",1911,1481,{"$f":"Données!$E1072*B$4","v":2197.6499999999996},{"$f":"Données!$E1072*C$4","v":2102.1000000000004},{"$f":"Données!$E1072*D$4","v":2006.5500000000002},{"$f":"Données!$E1072*E$4","v":1911},{"$f":"Données!$E1072*F$4","v":1815.4499999999998},{"$f":"Données!$E1072*G$4","v":1719.9},{"$f":"Données!$E1072*H$4","v":1624.35},{"$f":"Données!$F1072*B$4","v":1703.1499999999999},{"$f":"Données!$F1072*C$4","v":1629.1000000000001},{"$f":"Données!$F1072*D$4","v":1555.05},{"$f":"Données!$F1072*E$4","v":1481},{"$f":"Données!$F1072*F$4","v":1406.95},{"$f":"Données!$F1072*G$4","v":1332.9},{"$f":"Données!$F1072*H$4","v":1258.8499999999999}]
[null,6760,"Ruette","Virton",1911,1481,{"$f":"Données!$E1073*B$4","v":2197.6499999999996},{"$f":"Données!$E1073*C$4","v":2102.1000000000004},{"$f":"Données!$E1073*D$4","v":2006.5500000000002},{"$f":"Données!$E1073*E$4","v":1911},{"$f":"Données!$E1073*F$4","v":1815.4499999999998},{"$f":"Données!$E1073*G$4","v":1719.9},{"$f":"Données!$E1073*H$4","v":1624.35},{"$f":"Données!$F1073*B$4","v":1703.1499999999999},{"$f":"Données!$F1073*C$4","v":1629.1000000000001},{"$f":"Données!$F1073*D$4","v":1555.05},{"$f":"Données!$F1073*E$4","v":1481},{"$f":"Données!$F1073*F$4","v":1406.95},{"$f":"Données!$F1073*G$4","v":1332.9},{"$f":"Données!$F1073*H$4","v":1258.8499999999999}]
[null,6760,"Virton","Virton",1911,1481,{"$f":"Données!$E1074*B$4","v":2197.6499999999996},{"$f":"Données!$E1074*C$4","v":2102.1000000000004},{"$f":"Données!$E1074*D$4","v":2006.5500000000002},{"$f":"Données!$E1074*E$4","v":1911},{"$f":"Données!$E1074*F$4","v":1815.4499999999998},{"$f":"Données!$E1074*G$4","v":1719.9},{"$f":"Données!$E1074*H$4","v":1624.35},{"$f":"Données!$F1074*B$4","v":1703.1499999999999},{"$f":"Données!$F1074*C$4","v":1629.1000000000001},{"$f":"Données!$F1074*D$4","v":1555.05},{"$f":"Données!$F1074*E$4","v":1481},{"$f":"Données!$F1074*F$4","v":1406.95},{"$f":"Données!$F1074*G$4","v":1332.9},{"$f":"Données!$F1074*H$4","v":1258.8499999999999}]
[null,6761,"Latour","Virton",1911,1481,{"$f":"Données!$E1075*B$4","v":2197.6499999999996},{"$f":"Données!$E1075*C$4","v":2102.1000000000004},{"$f":"Données!$E1075*D$4","v":2006.5500000000002},{"$f":"Données!$E1075*E$4","v":1911},{"$f":"Données!$E1075*F$4","v":1815.4499999999998},{"$f":"Données!$E1075*G$4","v":1719.9},{"$f":"Données!$E1075*H$4","v":1624.35},{"$f":"Données!$F1075*B$4","v":1703.1499999999999},{"$f":"Données!$F1075*C$4","v":1629.1000000000001},{"$f":"Données!$F1075*D$4","v":1555.05},{"$f":"Données!$F1075*E$4","v":1481},{"$f":"Données!$F1075*F$4","v":1406.95},{"$f":"Données!$F1075*G$4","v":1332.9},{"$f":"Données!$F1075*H$4","v":1258.8499999999999}]
[null,6762,"Saint-Mard","Virton",1911,1481,{"$f":"Données!$E1076*B$4","v":2197.6499999999996},{"$f":"Données!$E1076*C$4","v":2102.1000000000004},{"$f":"Données!$E1076*D$4","v":2006.5500000000002},{"$f":"Données!$E1076*E$4","v":1911},{"$f":"Données!$E1076*F$4","v":1815.4499999999998},{"$f":"Données!$E1076*G$4","v":1719.9},{"$f":"Données!$E1076*H$4","v":1624.35},{"$f":"Données!$F1076*B$4","v":1703.1499999999999},{"$f":"Données!$F1076*C$4","v":1629.1000000000001},{"$f":"Données!$F1076*D$4","v":1555.05},{"$f":"Données!$F1076*E$4","v":1481},{"$f":"Données!$F1076*F$4","v":1406.95},{"$f":"Données!$F1076*G$4","v":1332.9},{"$f":"Données!$F1076*H$4","v":1258.8499999999999}]
[null,6767,"Harnoncourt","Rouvroy",1743,1364,{"$f":"Données!$E1077*B$4","v":2004.4499999999998},{"$f":"Données!$E1077*C$4","v":1917.3000000000002},{"$f":"Données!$E1077*D$4","v":1830.15},{"$f":"Données!$E1077*E$4","v":1743},{"$f":"Données!$E1077*F$4","v":1655.85},{"$f":"Données!$E1077*G$4","v":1568.7},{"$f":"Données!$E1077*H$4","v":1481.55},{"$f":"Données!$F1077*B$4","v":1568.6},{"$f":"Données!$F1077*C$4","v":1500.4},{"$f":"Données!$F1077*D$4","v":1432.2},{"$f":"Données!$F1077*E$4","v":1364},{"$f":"Données!$F1077*F$4","v":1295.8},{"$f":"Données!$F1077*G$4","v":1227.6000000000001},{"$f":"Données!$F1077*H$4","v":1159.3999999999999}]
[null,6767,"Lamorteau","Rouvroy",1743,1364,{"$f":"Données!$E1078*B$4","v":2004.4499999999998},{"$f":"Données!$E1078*C$4","v":1917.3000000000002},{"$f":"Données!$E1078*D$4","v":1830.15},{"$f":"Données!$E1078*E$4","v":1743},{"$f":"Données!$E1078*F$4","v":1655.85},{"$f":"Données!$E1078*G$4","v":1568.7},{"$f":"Données!$E1078*H$4","v":1481.55},{"$f":"Données!$F1078*B$4","v":1568.6},{"$f":"Données!$F1078*C$4","v":1500.4},{"$f":"Données!$F1078*D$4","v":1432.2},{"$f":"Données!$F1078*E$4","v":1364},{"$f":"Données!$F1078*F$4","v":1295.8},{"$f":"Données!$F1078*G$4","v":1227.6000000000001},{"$f":"Données!$F1078*H$4","v":1159.3999999999999}]
[null,6767,"Dampicourt","Rouvroy",1743,1364,{"$f":"Données!$E1079*B$4","v":2004.4499999999998},{"$f":"Données!$E1079*C$4","v":1917.3000000000002},{"$f":"Données!$E1079*D$4","v":1830.15},{"$f":"Données!$E1079*E$4","v":1743},{"$f":"Données!$E1079*F$4","v":1655.85},{"$f":"Données!$E1079*G$4","v":1568.7},{"$f":"Données!$E1079*H$4","v":1481.55},{"$f":"Données!$F1079*B$4","v":1568.6},{"$f":"Données!$F1079*C$4","v":1500.4},{"$f":"Données!$F1079*D$4","v":1432.2},{"$f":"Données!$F1079*E$4","v":1364},{"$f":"Données!$F1079*F$4","v":1295.8},{"$f":"Données!$F1079*G$4","v":1227.6000000000001},{"$f":"Données!$F1079*H$4","v":1159.3999999999999}]
[null,6767,"Rouvroy","Rouvroy",1743,1364,{"$f":"Données!$E1080*B$4","v":2004.4499999999998},{"$f":"Données!$E1080*C$4","v":1917.3000000000002},{"$f":"Données!$E1080*D$4","v":1830.15},{"$f":"Données!$E1080*E$4","v":1743},{"$f":"Données!$E1080*F$4","v":1655.85},{"$f":"Données!$E1080*G$4","v":1568.7},{"$f":"Données!$E1080*H$4","v":1481.55},{"$f":"Données!$F1080*B$4","v":1568.6},{"$f":"Données!$F1080*C$4","v":1500.4},{"$f":"Données!$F1080*D$4","v":1432.2},{"$f":"Données!$F1080*E$4","v":1364},{"$f":"Données!$F1080*F$4","v":1295.8},{"$f":"Données!$F1080*G$4","v":1227.6000000000001},{"$f":"Données!$F1080*H$4","v":1159.3999999999999}]
[null,6767,"Torgny","Rouvroy",1743,1364,{"$f":"Données!$E1081*B$4","v":2004.4499999999998},{"$f":"Données!$E1081*C$4","v":1917.3000000000002},{"$f":"Données!$E1081*D$4","v":1830.15},{"$f":"Données!$E1081*E$4","v":1743},{"$f":"Données!$E1081*F$4","v":1655.85},{"$f":"Données!$E1081*G$4","v":1568.7},{"$f":"Données!$E1081*H$4","v":1481.55},{"$f":"Données!$F1081*B$4","v":1568.6},{"$f":"Données!$F1081*C$4","v":1500.4},{"$f":"Données!$F1081*D$4","v":1432.2},{"$f":"Données!$F1081*E$4","v":1364},{"$f":"Données!$F1081*F$4","v":1295.8},{"$f":"Données!$F1081*G$4","v":1227.6000000000001},{"$f":"Données!$F1081*H$4","v":1159.3999999999999}]
[null,6769,"Gérouville","Meix-Devant-Virton",1826,1236,{"$f":"Données!$E1082*B$4","v":2099.8999999999996},{"$f":"Données!$E1082*C$4","v":2008.6000000000001},{"$f":"Données!$E1082*D$4","v":1917.3000000000002},{"$f":"Données!$E1082*E$4","v":1826},{"$f":"Données!$E1082*F$4","v":1734.6999999999998},{"$f":"Données!$E1082*G$4","v":1643.4},{"$f":"Données!$E1082*H$4","v":1552.1},{"$f":"Données!$F1082*B$4","v":1421.3999999999999},{"$f":"Données!$F1082*C$4","v":1359.6000000000001},{"$f":"Données!$F1082*D$4","v":1297.8},{"$f":"Données!$F1082*E$4","v":1236},{"$f":"Données!$F1082*F$4","v":1174.2},{"$f":"Données!$F1082*G$4","v":1112.4000000000001},{"$f":"Données!$F1082*H$4","v":1050.5999999999999}]
[null,6769,"Villers-La-Loue","Meix-Devant-Virton",1826,1236,{"$f":"Données!$E1083*B$4","v":2099.8999999999996},{"$f":"Données!$E1083*C$4","v":2008.6000000000001},{"$f":"Données!$E1083*D$4","v":1917.3000000000002},{"$f":"Données!$E1083*E$4","v":1826},{"$f":"Données!$E1083*F$4","v":1734.6999999999998},{"$f":"Données!$E1083*G$4","v":1643.4},{"$f":"Données!$E1083*H$4","v":1552.1},{"$f":"Données!$F1083*B$4","v":1421.3999999999999},{"$f":"Données!$F1083*C$4","v":1359.6000000000001},{"$f":"Données!$F1083*D$4","v":1297.8},{"$f":"Données!$F1083*E$4","v":1236},{"$f":"Données!$F1083*F$4","v":1174.2},{"$f":"Données!$F1083*G$4","v":1112.4000000000001},{"$f":"Données!$F1083*H$4","v":1050.5999999999999}]
[null,6769,"Robelmont","Meix-Devant-Virton",1826,1236,{"$f":"Données!$E1084*B$4","v":2099.8999999999996},{"$f":"Données!$E1084*C$4","v":2008.6000000000001},{"$f":"Données!$E1084*D$4","v":1917.3000000000002},{"$f":"Données!$E1084*E$4","v":1826},{"$f":"Données!$E1084*F$4","v":1734.6999999999998},{"$f":"Données!$E1084*G$4","v":1643.4},{"$f":"Données!$E1084*H$4","v":1552.1},{"$f":"Données!$F1084*B$4","v":1421.3999999999999},{"$f":"Données!$F1084*C$4","v":1359.6000000000001},{"$f":"Données!$F1084*D$4","v":1297.8},{"$f":"Données!$F1084*E$4","v":1236},{"$f":"Données!$F1084*F$4","v":1174.2},{"$f":"Données!$F1084*G$4","v":1112.4000000000001},{"$f":"Données!$F1084*H$4","v":1050.5999999999999}]
[null,6769,"Sommethonne","Meix-Devant-Virton",1826,1236,{"$f":"Données!$E1085*B$4","v":2099.8999999999996},{"$f":"Données!$E1085*C$4","v":2008.6000000000001},{"$f":"Données!$E1085*D$4","v":1917.3000000000002},{"$f":"Données!$E1085*E$4","v":1826},{"$f":"Données!$E1085*F$4","v":1734.6999999999998},{"$f":"Données!$E1085*G$4","v":1643.4},{"$f":"Données!$E1085*H$4","v":1552.1},{"$f":"Données!$F1085*B$4","v":1421.3999999999999},{"$f":"Données!$F1085*C$4","v":1359.6000000000001},{"$f":"Données!$F1085*D$4","v":1297.8},{"$f":"Données!$F1085*E$4","v":1236},{"$f":"Données!$F1085*F$4","v":1174.2},{"$f":"Données!$F1085*G$4","v":1112.4000000000001},{"$f":"Données!$F1085*H$4","v":1050.5999999999999}]
[null,6769,"Meix-Devant-Virton","Meix-Devant-Virton",1826,1236,{"$f":"Données!$E1086*B$4","v":2099.8999999999996},{"$f":"Données!$E1086*C$4","v":2008.6000000000001},{"$f":"Données!$E1086*D$4","v":1917.3000000000002},{"$f":"Données!$E1086*E$4","v":1826},{"$f":"Données!$E1086*F$4","v":1734.6999999999998},{"$f":"Données!$E1086*G$4","v":1643.4},{"$f":"Données!$E1086*H$4","v":1552.1},{"$f":"Données!$F1086*B$4","v":1421.3999999999999},{"$f":"Données!$F1086*C$4","v":1359.6000000000001},{"$f":"Données!$F1086*D$4","v":1297.8},{"$f":"Données!$F1086*E$4","v":1236},{"$f":"Données!$F1086*F$4","v":1174.2},{"$f":"Données!$F1086*G$4","v":1112.4000000000001},{"$f":"Données!$F1086*H$4","v":1050.5999999999999}]
[null,6780,"Wolkrange","Messancy",2438,2115,{"$f":"Données!$E1087*B$4","v":2803.7},{"$f":"Données!$E1087*C$4","v":2681.8},{"$f":"Données!$E1087*D$4","v":2559.9},{"$f":"Données!$E1087*E$4","v":2438},{"$f":"Données!$E1087*F$4","v":2316.1},{"$f":"Données!$E1087*G$4","v":2194.2000000000003},{"$f":"Données!$E1087*H$4","v":2072.2999999999997},{"$f":"Données!$F1087*B$4","v":2432.25},{"$f":"Données!$F1087*C$4","v":2326.5},{"$f":"Données!$F1087*D$4","v":2220.75},{"$f":"Données!$F1087*E$4","v":2115},{"$f":"Données!$F1087*F$4","v":2009.25},{"$f":"Données!$F1087*G$4","v":1903.5},{"$f":"Données!$F1087*H$4","v":1797.75}]
[null,6780,"Hondelange","Messancy",2438,2115,{"$f":"Données!$E1088*B$4","v":2803.7},{"$f":"Données!$E1088*C$4","v":2681.8},{"$f":"Données!$E1088*D$4","v":2559.9},{"$f":"Données!$E1088*E$4","v":2438},{"$f":"Données!$E1088*F$4","v":2316.1},{"$f":"Données!$E1088*G$4","v":2194.2000000000003},{"$f":"Données!$E1088*H$4","v":2072.2999999999997},{"$f":"Données!$F1088*B$4","v":2432.25},{"$f":"Données!$F1088*C$4","v":2326.5},{"$f":"Données!$F1088*D$4","v":2220.75},{"$f":"Données!$F1088*E$4","v":2115},{"$f":"Données!$F1088*F$4","v":2009.25},{"$f":"Données!$F1088*G$4","v":1903.5},{"$f":"Données!$F1088*H$4","v":1797.75}]
[null,6780,"Messancy","Messancy",2438,2115,{"$f":"Données!$E1089*B$4","v":2803.7},{"$f":"Données!$E1089*C$4","v":2681.8},{"$f":"Données!$E1089*D$4","v":2559.9},{"$f":"Données!$E1089*E$4","v":2438},{"$f":"Données!$E1089*F$4","v":2316.1},{"$f":"Données!$E1089*G$4","v":2194.2000000000003},{"$f":"Données!$E1089*H$4","v":2072.2999999999997},{"$f":"Données!$F1089*B$4","v":2432.25},{"$f":"Données!$F1089*C$4","v":2326.5},{"$f":"Données!$F1089*D$4","v":2220.75},{"$f":"Données!$F1089*E$4","v":2115},{"$f":"Données!$F1089*F$4","v":2009.25},{"$f":"Données!$F1089*G$4","v":1903.5},{"$f":"Données!$F1089*H$4","v":1797.75}]
[null,6781,"Sélange","Messancy",2438,2115,{"$f":"Données!$E1090*B$4","v":2803.7},{"$f":"Données!$E1090*C$4","v":2681.8},{"$f":"Données!$E1090*D$4","v":2559.9},{"$f":"Données!$E1090*E$4","v":2438},{"$f":"Données!$E1090*F$4","v":2316.1},{"$f":"Données!$E1090*G$4","v":2194.2000000000003},{"$f":"Données!$E1090*H$4","v":2072.2999999999997},{"$f":"Données!$F1090*B$4","v":2432.25},{"$f":"Données!$F1090*C$4","v":2326.5},{"$f":"Données!$F1090*D$4","v":2220.75},{"$f":"Données!$F1090*E$4","v":2115},{"$f":"Données!$F1090*F$4","v":2009.25},{"$f":"Données!$F1090*G$4","v":1903.5},{"$f":"Données!$F1090*H$4","v":1797.75}]
[null,6782,"Habergy","Messancy",2438,2115,{"$f":"Données!$E1091*B$4","v":2803.7},{"$f":"Données!$E1091*C$4","v":2681.8},{"$f":"Données!$E1091*D$4","v":2559.9},{"$f":"Données!$E1091*E$4","v":2438},{"$f":"Données!$E1091*F$4","v":2316.1},{"$f":"Données!$E1091*G$4","v":2194.2000000000003},{"$f":"Données!$E1091*H$4","v":2072.2999999999997},{"$f":"Données!$F1091*B$4","v":2432.25},{"$f":"Données!$F1091*C$4","v":2326.5},{"$f":"Données!$F1091*D$4","v":2220.75},{"$f":"Données!$F1091*E$4","v":2115},{"$f":"Données!$F1091*F$4","v":2009.25},{"$f":"Données!$F1091*G$4","v":1903.5},{"$f":"Données!$F1091*H$4","v":1797.75}]
[null,6790,"Aubange","Aubange",2311,1911,{"$f":"Données!$E1092*B$4","v":2657.6499999999996},{"$f":"Données!$E1092*C$4","v":2542.1000000000004},{"$f":"Données!$E1092*D$4","v":2426.5500000000002},{"$f":"Données!$E1092*E$4","v":2311},{"$f":"Données!$E1092*F$4","v":2195.4499999999998},{"$f":"Données!$E1092*G$4","v":2079.9},{"$f":"Données!$E1092*H$4","v":1964.35},{"$f":"Données!$F1092*B$4","v":2197.6499999999996},{"$f":"Données!$F1092*C$4","v":2102.1000000000004},{"$f":"Données!$F1092*D$4","v":2006.5500000000002},{"$f":"Données!$F1092*E$4","v":1911},{"$f":"Données!$F1092*F$4","v":1815.4499999999998},{"$f":"Données!$F1092*G$4","v":1719.9},{"$f":"Données!$F1092*H$4","v":1624.35}]
[null,6791,"Athus","Aubange",2311,1911,{"$f":"Données!$E1093*B$4","v":2657.6499999999996},{"$f":"Données!$E1093*C$4","v":2542.1000000000004},{"$f":"Données!$E1093*D$4","v":2426.5500000000002},{"$f":"Données!$E1093*E$4","v":2311},{"$f":"Données!$E1093*F$4","v":2195.4499999999998},{"$f":"Données!$E1093*G$4","v":2079.9},{"$f":"Données!$E1093*H$4","v":1964.35},{"$f":"Données!$F1093*B$4","v":2197.6499999999996},{"$f":"Données!$F1093*C$4","v":2102.1000000000004},{"$f":"Données!$F1093*D$4","v":2006.5500000000002},{"$f":"Données!$F1093*E$4","v":1911},{"$f":"Données!$F1093*F$4","v":1815.4499999999998},{"$f":"Données!$F1093*G$4","v":1719.9},{"$f":"Données!$F1093*H$4","v":1624.35}]
[null,6792,"Rachecourt","Aubange",2311,1911,{"$f":"Données!$E1094*B$4","v":2657.6499999999996},{"$f":"Données!$E1094*C$4","v":2542.1000000000004},{"$f":"Données!$E1094*D$4","v":2426.5500000000002},{"$f":"Données!$E1094*E$4","v":2311},{"$f":"Données!$E1094*F$4","v":2195.4499999999998},{"$f":"Données!$E1094*G$4","v":2079.9},{"$f":"Données!$E1094*H$4","v":1964.35},{"$f":"Données!$F1094*B$4","v":2197.6499999999996},{"$f":"Données!$F1094*C$4","v":2102.1000000000004},{"$f":"Données!$F1094*D$4","v":2006.5500000000002},{"$f":"Données!$F1094*E$4","v":1911},{"$f":"Données!$F1094*F$4","v":1815.4499999999998},{"$f":"Données!$F1094*G$4","v":1719.9},{"$f":"Données!$F1094*H$4","v":1624.35}]
[null,6792,"Halanzy","Aubange",2311,1911,{"$f":"Données!$E1095*B$4","v":2657.6499999999996},{"$f":"Données!$E1095*C$4","v":2542.1000000000004},{"$f":"Données!$E1095*D$4","v":2426.5500000000002},{"$f":"Données!$E1095*E$4","v":2311},{"$f":"Données!$E1095*F$4","v":2195.4499999999998},{"$f":"Données!$E1095*G$4","v":2079.9},{"$f":"Données!$E1095*H$4","v":1964.35},{"$f":"Données!$F1095*B$4","v":2197.6499999999996},{"$f":"Données!$F1095*C$4","v":2102.1000000000004},{"$f":"Données!$F1095*D$4","v":2006.5500000000002},{"$f":"Données!$F1095*E$4","v":1911},{"$f":"Données!$F1095*F$4","v":1815.4499999999998},{"$f":"Données!$F1095*G$4","v":1719.9},{"$f":"Données!$F1095*H$4","v":1624.35}]
[null,6800,"Saint-Pierre","Libramont-Chevigny",2127,1629,{"$f":"Données!$E1096*B$4","v":2446.0499999999997},{"$f":"Données!$E1096*C$4","v":2339.7000000000003},{"$f":"Données!$E1096*D$4","v":2233.35},{"$f":"Données!$E1096*E$4","v":2127},{"$f":"Données!$E1096*F$4","v":2020.6499999999999},{"$f":"Données!$E1096*G$4","v":1914.3},{"$f":"Données!$E1096*H$4","v":1807.95},{"$f":"Données!$F1096*B$4","v":1873.35},{"$f":"Données!$F1096*C$4","v":1791.9},{"$f":"Données!$F1096*D$4","v":1710.45},{"$f":"Données!$F1096*E$4","v":1629},{"$f":"Données!$F1096*F$4","v":1547.55},{"$f":"Données!$F1096*G$4","v":1466.1000000000001},{"$f":"Données!$F1096*H$4","v":1384.6499999999999}]
[null,6800,"Remagne","Libramont-Chevigny",2127,1629,{"$f":"Données!$E1097*B$4","v":2446.0499999999997},{"$f":"Données!$E1097*C$4","v":2339.7000000000003},{"$f":"Données!$E1097*D$4","v":2233.35},{"$f":"Données!$E1097*E$4","v":2127},{"$f":"Données!$E1097*F$4","v":2020.6499999999999},{"$f":"Données!$E1097*G$4","v":1914.3},{"$f":"Données!$E1097*H$4","v":1807.95},{"$f":"Données!$F1097*B$4","v":1873.35},{"$f":"Données!$F1097*C$4","v":1791.9},{"$f":"Données!$F1097*D$4","v":1710.45},{"$f":"Données!$F1097*E$4","v":1629},{"$f":"Données!$F1097*F$4","v":1547.55},{"$f":"Données!$F1097*G$4","v":1466.1000000000001},{"$f":"Données!$F1097*H$4","v":1384.6499999999999}]
[null,6800,"Sainte-Marie-Chevigny","Libramont-Chevigny",2127,1629,{"$f":"Données!$E1098*B$4","v":2446.0499999999997},{"$f":"Données!$E1098*C$4","v":2339.7000000000003},{"$f":"Données!$E1098*D$4","v":2233.35},{"$f":"Données!$E1098*E$4","v":2127},{"$f":"Données!$E1098*F$4","v":2020.6499999999999},{"$f":"Données!$E1098*G$4","v":1914.3},{"$f":"Données!$E1098*H$4","v":1807.95},{"$f":"Données!$F1098*B$4","v":1873.35},{"$f":"Données!$F1098*C$4","v":1791.9},{"$f":"Données!$F1098*D$4","v":1710.45},{"$f":"Données!$F1098*E$4","v":1629},{"$f":"Données!$F1098*F$4","v":1547.55},{"$f":"Données!$F1098*G$4","v":1466.1000000000001},{"$f":"Données!$F1098*H$4","v":1384.6499999999999}]
[null,6800,"Bras","Libramont-Chevigny",2127,1629,{"$f":"Données!$E1099*B$4","v":2446.0499999999997},{"$f":"Données!$E1099*C$4","v":2339.7000000000003},{"$f":"Données!$E1099*D$4","v":2233.35},{"$f":"Données!$E1099*E$4","v":2127},{"$f":"Données!$E1099*F$4","v":2020.6499999999999},{"$f":"Données!$E1099*G$4","v":1914.3},{"$f":"Données!$E1099*H$4","v":1807.95},{"$f":"Données!$F1099*B$4","v":1873.35},{"$f":"Données!$F1099*C$4","v":1791.9},{"$f":"Données!$F1099*D$4","v":1710.45},{"$f":"Données!$F1099*E$4","v":1629},{"$f":"Données!$F1099*F$4","v":1547.55},{"$f":"Données!$F1099*G$4","v":1466.1000000000001},{"$f":"Données!$F1099*H$4","v":1384.6499999999999}]
[null,6800,"Moircy","Libramont-Chevigny",2127,1629,{"$f":"Données!$E1100*B$4","v":2446.0499999999997},{"$f":"Données!$E1100*C$4","v":2339.7000000000003},{"$f":"Données!$E1100*D$4","v":2233.35},{"$f":"Données!$E1100*E$4","v":2127},{"$f":"Données!$E1100*F$4","v":2020.6499999999999},{"$f":"Données!$E1100*G$4","v":1914.3},{"$f":"Données!$E1100*H$4","v":1807.95},{"$f":"Données!$F1100*B$4","v":1873.35},{"$f":"Données!$F1100*C$4","v":1791.9},{"$f":"Données!$F1100*D$4","v":1710.45},{"$f":"Données!$F1100*E$4","v":1629},{"$f":"Données!$F1100*F$4","v":1547.55},{"$f":"Données!$F1100*G$4","v":1466.1000000000001},{"$f":"Données!$F1100*H$4","v":1384.6499999999999}]
[null,6800,"Recogne","Libramont-Chevigny",2127,1629,{"$f":"Données!$E1101*B$4","v":2446.0499999999997},{"$f":"Données!$E1101*C$4","v":2339.7000000000003},{"$f":"Données!$E1101*D$4","v":2233.35},{"$f":"Données!$E1101*E$4","v":2127},{"$f":"Données!$E1101*F$4","v":2020.6499999999999},{"$f":"Données!$E1101*G$4","v":1914.3},{"$f":"Données!$E1101*H$4","v":1807.95},{"$f":"Données!$F1101*B$4","v":1873.35},{"$f":"Données!$F1101*C$4","v":1791.9},{"$f":"Données!$F1101*D$4","v":1710.45},{"$f":"Données!$F1101*E$4","v":1629},{"$f":"Données!$F1101*F$4","v":1547.55},{"$f":"Données!$F1101*G$4","v":1466.1000000000001},{"$f":"Données!$F1101*H$4","v":1384.6499999999999}]
[null,6800,"Freux","Libramont-Chevigny",2127,1629,{"$f":"Données!$E1102*B$4","v":2446.0499999999997},{"$f":"Données!$E1102*C$4","v":2339.7000000000003},{"$f":"Données!$E1102*D$4","v":2233.35},{"$f":"Données!$E1102*E$4","v":2127},{"$f":"Données!$E1102*F$4","v":2020.6499999999999},{"$f":"Données!$E1102*G$4","v":1914.3},{"$f":"Données!$E1102*H$4","v":1807.95},{"$f":"Données!$F1102*B$4","v":1873.35},{"$f":"Données!$F1102*C$4","v":1791.9},{"$f":"Données!$F1102*D$4","v":1710.45},{"$f":"Données!$F1102*E$4","v":1629},{"$f":"Données!$F1102*F$4","v":1547.55},{"$f":"Données!$F1102*G$4","v":1466.1000000000001},{"$f":"Données!$F1102*H$4","v":1384.6499999999999}]
[null,6800,"Libramont-Chevigny","Libramont-Chevigny",2127,1629,{"$f":"Données!$E1103*B$4","v":2446.0499999999997},{"$f":"Données!$E1103*C$4","v":2339.7000000000003},{"$f":"Données!$E1103*D$4","v":2233.35},{"$f":"Données!$E1103*E$4","v":2127},{"$f":"Données!$E1103*F$4","v":2020.6499999999999},{"$f":"Données!$E1103*G$4","v":1914.3},{"$f":"Données!$E1103*H$4","v":1807.95},{"$f":"Données!$F1103*B$4","v":1873.35},{"$f":"Données!$F1103*C$4","v":1791.9},{"$f":"Données!$F1103*D$4","v":1710.45},{"$f":"Données!$F1103*E$4","v":1629},{"$f":"Données!$F1103*F$4","v":1547.55},{"$f":"Données!$F1103*G$4","v":1466.1000000000001},{"$f":"Données!$F1103*H$4","v":1384.6499999999999}]
[null,6810,"Chiny","Chiny",1830,1420,{"$f":"Données!$E1104*B$4","v":2104.5},{"$f":"Données!$E1104*C$4","v":2013.0000000000002},{"$f":"Données!$E1104*D$4","v":1921.5},{"$f":"Données!$E1104*E$4","v":1830},{"$f":"Données!$E1104*F$4","v":1738.5},{"$f":"Données!$E1104*G$4","v":1647},{"$f":"Données!$E1104*H$4","v":1555.5},{"$f":"Données!$F1104*B$4","v":1632.9999999999998},{"$f":"Données!$F1104*C$4","v":1562.0000000000002},{"$f":"Données!$F1104*D$4","v":1491},{"$f":"Données!$F1104*E$4","v":1420},{"$f":"Données!$F1104*F$4","v":1349},{"$f":"Données!$F1104*G$4","v":1278},{"$f":"Données!$F1104*H$4","v":1207}]
[null,6810,"Izel","Chiny",1830,1420,{"$f":"Données!$E1105*B$4","v":2104.5},{"$f":"Données!$E1105*C$4","v":2013.0000000000002},{"$f":"Données!$E1105*D$4","v":1921.5},{"$f":"Données!$E1105*E$4","v":1830},{"$f":"Données!$E1105*F$4","v":1738.5},{"$f":"Données!$E1105*G$4","v":1647},{"$f":"Données!$E1105*H$4","v":1555.5},{"$f":"Données!$F1105*B$4","v":1632.9999999999998},{"$f":"Données!$F1105*C$4","v":1562.0000000000002},{"$f":"Données!$F1105*D$4","v":1491},{"$f":"Données!$F1105*E$4","v":1420},{"$f":"Données!$F1105*F$4","v":1349},{"$f":"Données!$F1105*G$4","v":1278},{"$f":"Données!$F1105*H$4","v":1207}]
[null,6810,"Jamoigne","Chiny",1830,1420,{"$f":"Données!$E1106*B$4","v":2104.5},{"$f":"Données!$E1106*C$4","v":2013.0000000000002},{"$f":"Données!$E1106*D$4","v":1921.5},{"$f":"Données!$E1106*E$4","v":1830},{"$f":"Données!$E1106*F$4","v":1738.5},{"$f":"Données!$E1106*G$4","v":1647},{"$f":"Données!$E1106*H$4","v":1555.5},{"$f":"Données!$F1106*B$4","v":1632.9999999999998},{"$f":"Données!$F1106*C$4","v":1562.0000000000002},{"$f":"Données!$F1106*D$4","v":1491},{"$f":"Données!$F1106*E$4","v":1420},{"$f":"Données!$F1106*F$4","v":1349},{"$f":"Données!$F1106*G$4","v":1278},{"$f":"Données!$F1106*H$4","v":1207}]
[null,6811,"LesBulles","Chiny",1830,1420,{"$f":"Données!$E1107*B$4","v":2104.5},{"$f":"Données!$E1107*C$4","v":2013.0000000000002},{"$f":"Données!$E1107*D$4","v":1921.5},{"$f":"Données!$E1107*E$4","v":1830},{"$f":"Données!$E1107*F$4","v":1738.5},{"$f":"Données!$E1107*G$4","v":1647},{"$f":"Données!$E1107*H$4","v":1555.5},{"$f":"Données!$F1107*B$4","v":1632.9999999999998},{"$f":"Données!$F1107*C$4","v":1562.0000000000002},{"$f":"Données!$F1107*D$4","v":1491},{"$f":"Données!$F1107*E$4","v":1420},{"$f":"Données!$F1107*F$4","v":1349},{"$f":"Données!$F1107*G$4","v":1278},{"$f":"Données!$F1107*H$4","v":1207}]
[null,6812,"Suxy","Chiny",1830,1420,{"$f":"Données!$E1108*B$4","v":2104.5},{"$f":"Données!$E1108*C$4","v":2013.0000000000002},{"$f":"Données!$E1108*D$4","v":1921.5},{"$f":"Données!$E1108*E$4","v":1830},{"$f":"Données!$E1108*F$4","v":1738.5},{"$f":"Données!$E1108*G$4","v":1647},{"$f":"Données!$E1108*H$4","v":1555.5},{"$f":"Données!$F1108*B$4","v":1632.9999999999998},{"$f":"Données!$F1108*C$4","v":1562.0000000000002},{"$f":"Données!$F1108*D$4","v":1491},{"$f":"Données!$F1108*E$4","v":1420},{"$f":"Données!$F1108*F$4","v":1349},{"$f":"Données!$F1108*G$4","v":1278},{"$f":"Données!$F1108*H$4","v":1207}]
[null,6813,"Termes","Chiny",1830,1420,{"$f":"Données!$E1109*B$4","v":2104.5},{"$f":"Données!$E1109*C$4","v":2013.0000000000002},{"$f":"Données!$E1109*D$4","v":1921.5},{"$f":"Données!$E1109*E$4","v":1830},{"$f":"Données!$E1109*F$4","v":1738.5},{"$f":"Données!$E1109*G$4","v":1647},{"$f":"Données!$E1109*H$4","v":1555.5},{"$f":"Données!$F1109*B$4","v":1632.9999999999998},{"$f":"Données!$F1109*C$4","v":1562.0000000000002},{"$f":"Données!$F1109*D$4","v":1491},{"$f":"Données!$F1109*E$4","v":1420},{"$f":"Données!$F1109*F$4","v":1349},{"$f":"Données!$F1109*G$4","v":1278},{"$f":"Données!$F1109*H$4","v":1207}]
[null,6820,"Florenville","Florenville",2245,1324,{"$f":"Données!$E1110*B$4","v":2581.75},{"$f":"Données!$E1110*C$4","v":2469.5},{"$f":"Données!$E1110*D$4","v":2357.25},{"$f":"Données!$E1110*E$4","v":2245},{"$f":"Données!$E1110*F$4","v":2132.75},{"$f":"Données!$E1110*G$4","v":2020.5},{"$f":"Données!$E1110*H$4","v":1908.25},{"$f":"Données!$F1110*B$4","v":1522.6},{"$f":"Données!$F1110*C$4","v":1456.4},{"$f":"Données!$F1110*D$4","v":1390.2},{"$f":"Données!$F1110*E$4","v":1324},{"$f":"Données!$F1110*F$4","v":1257.8},{"$f":"Données!$F1110*G$4","v":1191.6000000000001},{"$f":"Données!$F1110*H$4","v":1125.3999999999999}]
[null,6820,"Fontenoille","Florenville",2245,1324,{"$f":"Données!$E1111*B$4","v":2581.75},{"$f":"Données!$E1111*C$4","v":2469.5},{"$f":"Données!$E1111*D$4","v":2357.25},{"$f":"Données!$E1111*E$4","v":2245},{"$f":"Données!$E1111*F$4","v":2132.75},{"$f":"Données!$E1111*G$4","v":2020.5},{"$f":"Données!$E1111*H$4","v":1908.25},{"$f":"Données!$F1111*B$4","v":1522.6},{"$f":"Données!$F1111*C$4","v":1456.4},{"$f":"Données!$F1111*D$4","v":1390.2},{"$f":"Données!$F1111*E$4","v":1324},{"$f":"Données!$F1111*F$4","v":1257.8},{"$f":"Données!$F1111*G$4","v":1191.6000000000001},{"$f":"Données!$F1111*H$4","v":1125.3999999999999}]
[null,6820,"Muno","Florenville",2245,1324,{"$f":"Données!$E1112*B$4","v":2581.75},{"$f":"Données!$E1112*C$4","v":2469.5},{"$f":"Données!$E1112*D$4","v":2357.25},{"$f":"Données!$E1112*E$4","v":2245},{"$f":"Données!$E1112*F$4","v":2132.75},{"$f":"Données!$E1112*G$4","v":2020.5},{"$f":"Données!$E1112*H$4","v":1908.25},{"$f":"Données!$F1112*B$4","v":1522.6},{"$f":"Données!$F1112*C$4","v":1456.4},{"$f":"Données!$F1112*D$4","v":1390.2},{"$f":"Données!$F1112*E$4","v":1324},{"$f":"Données!$F1112*F$4","v":1257.8},{"$f":"Données!$F1112*G$4","v":1191.6000000000001},{"$f":"Données!$F1112*H$4","v":1125.3999999999999}]
[null,6820,"Sainte-Cécile","Florenville",2245,1324,{"$f":"Données!$E1113*B$4","v":2581.75},{"$f":"Données!$E1113*C$4","v":2469.5},{"$f":"Données!$E1113*D$4","v":2357.25},{"$f":"Données!$E1113*E$4","v":2245},{"$f":"Données!$E1113*F$4","v":2132.75},{"$f":"Données!$E1113*G$4","v":2020.5},{"$f":"Données!$E1113*H$4","v":1908.25},{"$f":"Données!$F1113*B$4","v":1522.6},{"$f":"Données!$F1113*C$4","v":1456.4},{"$f":"Données!$F1113*D$4","v":1390.2},{"$f":"Données!$F1113*E$4","v":1324},{"$f":"Données!$F1113*F$4","v":1257.8},{"$f":"Données!$F1113*G$4","v":1191.6000000000001},{"$f":"Données!$F1113*H$4","v":1125.3999999999999}]
[null,6821,"Lacuisine","Florenville",2245,1324,{"$f":"Données!$E1114*B$4","v":2581.75},{"$f":"Données!$E1114*C$4","v":2469.5},{"$f":"Données!$E1114*D$4","v":2357.25},{"$f":"Données!$E1114*E$4","v":2245},{"$f":"Données!$E1114*F$4","v":2132.75},{"$f":"Données!$E1114*G$4","v":2020.5},{"$f":"Données!$E1114*H$4","v":1908.25},{"$f":"Données!$F1114*B$4","v":1522.6},{"$f":"Données!$F1114*C$4","v":1456.4},{"$f":"Données!$F1114*D$4","v":1390.2},{"$f":"Données!$F1114*E$4","v":1324},{"$f":"Données!$F1114*F$4","v":1257.8},{"$f":"Données!$F1114*G$4","v":1191.6000000000001},{"$f":"Données!$F1114*H$4","v":1125.3999999999999}]
[null,6823,"Villers-Devant-Orval","Florenville",2245,1324,{"$f":"Données!$E1115*B$4","v":2581.75},{"$f":"Données!$E1115*C$4","v":2469.5},{"$f":"Données!$E1115*D$4","v":2357.25},{"$f":"Données!$E1115*E$4","v":2245},{"$f":"Données!$E1115*F$4","v":2132.75},{"$f":"Données!$E1115*G$4","v":2020.5},{"$f":"Données!$E1115*H$4","v":1908.25},{"$f":"Données!$F1115*B$4","v":1522.6},{"$f":"Données!$F1115*C$4","v":1456.4},{"$f":"Données!$F1115*D$4","v":1390.2},{"$f":"Données!$F1115*E$4","v":1324},{"$f":"Données!$F1115*F$4","v":1257.8},{"$f":"Données!$F1115*G$4","v":1191.6000000000001},{"$f":"Données!$F1115*H$4","v":1125.3999999999999}]
[null,6824,"Chassepierre","Florenville",2245,1324,{"$f":"Données!$E1116*B$4","v":2581.75},{"$f":"Données!$E1116*C$4","v":2469.5},{"$f":"Données!$E1116*D$4","v":2357.25},{"$f":"Données!$E1116*E$4","v":2245},{"$f":"Données!$E1116*F$4","v":2132.75},{"$f":"Données!$E1116*G$4","v":2020.5},{"$f":"Données!$E1116*H$4","v":1908.25},{"$f":"Données!$F1116*B$4","v":1522.6},{"$f":"Données!$F1116*C$4","v":1456.4},{"$f":"Données!$F1116*D$4","v":1390.2},{"$f":"Données!$F1116*E$4","v":1324},{"$f":"Données!$F1116*F$4","v":1257.8},{"$f":"Données!$F1116*G$4","v":1191.6000000000001},{"$f":"Données!$F1116*H$4","v":1125.3999999999999}]
[null,6830,"Bouillon","Bouillon",1762,1435,{"$f":"Données!$E1117*B$4","v":2026.3},{"$f":"Données!$E1117*C$4","v":1938.2},{"$f":"Données!$E1117*D$4","v":1850.1000000000001},{"$f":"Données!$E1117*E$4","v":1762},{"$f":"Données!$E1117*F$4","v":1673.8999999999999},{"$f":"Données!$E1117*G$4","v":1585.8},{"$f":"Données!$E1117*H$4","v":1497.7},{"$f":"Données!$F1117*B$4","v":1650.2499999999998},{"$f":"Données!$F1117*C$4","v":1578.5000000000002},{"$f":"Données!$F1117*D$4","v":1506.75},{"$f":"Données!$F1117*E$4","v":1435},{"$f":"Données!$F1117*F$4","v":1363.25},{"$f":"Données!$F1117*G$4","v":1291.5},{"$f":"Données!$F1117*H$4","v":1219.75}]
[null,6830,"Rochehaut","Bouillon",1762,1435,{"$f":"Données!$E1118*B$4","v":2026.3},{"$f":"Données!$E1118*C$4","v":1938.2},{"$f":"Données!$E1118*D$4","v":1850.1000000000001},{"$f":"Données!$E1118*E$4","v":1762},{"$f":"Données!$E1118*F$4","v":1673.8999999999999},{"$f":"Données!$E1118*G$4","v":1585.8},{"$f":"Données!$E1118*H$4","v":1497.7},{"$f":"Données!$F1118*B$4","v":1650.2499999999998},{"$f":"Données!$F1118*C$4","v":1578.5000000000002},{"$f":"Données!$F1118*D$4","v":1506.75},{"$f":"Données!$F1118*E$4","v":1435},{"$f":"Données!$F1118*F$4","v":1363.25},{"$f":"Données!$F1118*G$4","v":1291.5},{"$f":"Données!$F1118*H$4","v":1219.75}]
[null,6830,"Les Hayons","Bouillon",1762,1435,{"$f":"Données!$E1119*B$4","v":2026.3},{"$f":"Données!$E1119*C$4","v":1938.2},{"$f":"Données!$E1119*D$4","v":1850.1000000000001},{"$f":"Données!$E1119*E$4","v":1762},{"$f":"Données!$E1119*F$4","v":1673.8999999999999},{"$f":"Données!$E1119*G$4","v":1585.8},{"$f":"Données!$E1119*H$4","v":1497.7},{"$f":"Données!$F1119*B$4","v":1650.2499999999998},{"$f":"Données!$F1119*C$4","v":1578.5000000000002},{"$f":"Données!$F1119*D$4","v":1506.75},{"$f":"Données!$F1119*E$4","v":1435},{"$f":"Données!$F1119*F$4","v":1363.25},{"$f":"Données!$F1119*G$4","v":1291.5},{"$f":"Données!$F1119*H$4","v":1219.75}]
[null,6830,"Poupehan","Bouillon",1762,1435,{"$f":"Données!$E1120*B$4","v":2026.3},{"$f":"Données!$E1120*C$4","v":1938.2},{"$f":"Données!$E1120*D$4","v":1850.1000000000001},{"$f":"Données!$E1120*E$4","v":1762},{"$f":"Données!$E1120*F$4","v":1673.8999999999999},{"$f":"Données!$E1120*G$4","v":1585.8},{"$f":"Données!$E1120*H$4","v":1497.7},{"$f":"Données!$F1120*B$4","v":1650.2499999999998},{"$f":"Données!$F1120*C$4","v":1578.5000000000002},{"$f":"Données!$F1120*D$4","v":1506.75},{"$f":"Données!$F1120*E$4","v":1435},{"$f":"Données!$F1120*F$4","v":1363.25},{"$f":"Données!$F1120*G$4","v":1291.5},{"$f":"Données!$F1120*H$4","v":1219.75}]
[null,6831,"Noirfontaine","Bouillon",1762,1435,{"$f":"Données!$E1121*B$4","v":2026.3},{"$f":"Données!$E1121*C$4","v":1938.2},{"$f":"Données!$E1121*D$4","v":1850.1000000000001},{"$f":"Données!$E1121*E$4","v":1762},{"$f":"Données!$E1121*F$4","v":1673.8999999999999},{"$f":"Données!$E1121*G$4","v":1585.8},{"$f":"Données!$E1121*H$4","v":1497.7},{"$f":"Données!$F1121*B$4","v":1650.2499999999998},{"$f":"Données!$F1121*C$4","v":1578.5000000000002},{"$f":"Données!$F1121*D$4","v":1506.75},{"$f":"Données!$F1121*E$4","v":1435},{"$f":"Données!$F1121*F$4","v":1363.25},{"$f":"Données!$F1121*G$4","v":1291.5},{"$f":"Données!$F1121*H$4","v":1219.75}]
[null,6832,"Sensenruth","Bouillon",1762,1435,{"$f":"Données!$E1122*B$4","v":2026.3},{"$f":"Données!$E1122*C$4","v":1938.2},{"$f":"Données!$E1122*D$4","v":1850.1000000000001},{"$f":"Données!$E1122*E$4","v":1762},{"$f":"Données!$E1122*F$4","v":1673.8999999999999},{"$f":"Données!$E1122*G$4","v":1585.8},{"$f":"Données!$E1122*H$4","v":1497.7},{"$f":"Données!$F1122*B$4","v":1650.2499999999998},{"$f":"Données!$F1122*C$4","v":1578.5000000000002},{"$f":"Données!$F1122*D$4","v":1506.75},{"$f":"Données!$F1122*E$4","v":1435},{"$f":"Données!$F1122*F$4","v":1363.25},{"$f":"Données!$F1122*G$4","v":1291.5},{"$f":"Données!$F1122*H$4","v":1219.75}]
[null,6833,"Vivy","Bouillon",1762,1435,{"$f":"Données!$E1123*B$4","v":2026.3},{"$f":"Données!$E1123*C$4","v":1938.2},{"$f":"Données!$E1123*D$4","v":1850.1000000000001},{"$f":"Données!$E1123*E$4","v":1762},{"$f":"Données!$E1123*F$4","v":1673.8999999999999},{"$f":"Données!$E1123*G$4","v":1585.8},{"$f":"Données!$E1123*H$4","v":1497.7},{"$f":"Données!$F1123*B$4","v":1650.2499999999998},{"$f":"Données!$F1123*C$4","v":1578.5000000000002},{"$f":"Données!$F1123*D$4","v":1506.75},{"$f":"Données!$F1123*E$4","v":1435},{"$f":"Données!$F1123*F$4","v":1363.25},{"$f":"Données!$F1123*G$4","v":1291.5},{"$f":"Données!$F1123*H$4","v":1219.75}]
[null,6833,"Ucimont","Bouillon",1762,1435,{"$f":"Données!$E1124*B$4","v":2026.3},{"$f":"Données!$E1124*C$4","v":1938.2},{"$f":"Données!$E1124*D$4","v":1850.1000000000001},{"$f":"Données!$E1124*E$4","v":1762},{"$f":"Données!$E1124*F$4","v":1673.8999999999999},{"$f":"Données!$E1124*G$4","v":1585.8},{"$f":"Données!$E1124*H$4","v":1497.7},{"$f":"Données!$F1124*B$4","v":1650.2499999999998},{"$f":"Données!$F1124*C$4","v":1578.5000000000002},{"$f":"Données!$F1124*D$4","v":1506.75},{"$f":"Données!$F1124*E$4","v":1435},{"$f":"Données!$F1124*F$4","v":1363.25},{"$f":"Données!$F1124*G$4","v":1291.5},{"$f":"Données!$F1124*H$4","v":1219.75}]
[null,6834,"Bellevaux","Bouillon",1762,1435,{"$f":"Données!$E1125*B$4","v":2026.3},{"$f":"Données!$E1125*C$4","v":1938.2},{"$f":"Données!$E1125*D$4","v":1850.1000000000001},{"$f":"Données!$E1125*E$4","v":1762},{"$f":"Données!$E1125*F$4","v":1673.8999999999999},{"$f":"Données!$E1125*G$4","v":1585.8},{"$f":"Données!$E1125*H$4","v":1497.7},{"$f":"Données!$F1125*B$4","v":1650.2499999999998},{"$f":"Données!$F1125*C$4","v":1578.5000000000002},{"$f":"Données!$F1125*D$4","v":1506.75},{"$f":"Données!$F1125*E$4","v":1435},{"$f":"Données!$F1125*F$4","v":1363.25},{"$f":"Données!$F1125*G$4","v":1291.5},{"$f":"Données!$F1125*H$4","v":1219.75}]
[null,6836,"Dohan","Bouillon",1762,1435,{"$f":"Données!$E1126*B$4","v":2026.3},{"$f":"Données!$E1126*C$4","v":1938.2},{"$f":"Données!$E1126*D$4","v":1850.1000000000001},{"$f":"Données!$E1126*E$4","v":1762},{"$f":"Données!$E1126*F$4","v":1673.8999999999999},{"$f":"Données!$E1126*G$4","v":1585.8},{"$f":"Données!$E1126*H$4","v":1497.7},{"$f":"Données!$F1126*B$4","v":1650.2499999999998},{"$f":"Données!$F1126*C$4","v":1578.5000000000002},{"$f":"Données!$F1126*D$4","v":1506.75},{"$f":"Données!$F1126*E$4","v":1435},{"$f":"Données!$F1126*F$4","v":1363.25},{"$f":"Données!$F1126*G$4","v":1291.5},{"$f":"Données!$F1126*H$4","v":1219.75}]
[null,6838,"Corbion","Bouillon",1762,1435,{"$f":"Données!$E1127*B$4","v":2026.3},{"$f":"Données!$E1127*C$4","v":1938.2},{"$f":"Données!$E1127*D$4","v":1850.1000000000001},{"$f":"Données!$E1127*E$4","v":1762},{"$f":"Données!$E1127*F$4","v":1673.8999999999999},{"$f":"Données!$E1127*G$4","v":1585.8},{"$f":"Données!$E1127*H$4","v":1497.7},{"$f":"Données!$F1127*B$4","v":1650.2499999999998},{"$f":"Données!$F1127*C$4","v":1578.5000000000002},{"$f":"Données!$F1127*D$4","v":1506.75},{"$f":"Données!$F1127*E$4","v":1435},{"$f":"Données!$F1127*F$4","v":1363.25},{"$f":"Données!$F1127*G$4","v":1291.5},{"$f":"Données!$F1127*H$4","v":1219.75}]
[null,6840,"Grandvoir","Neufchâteau",1980,1346,{"$f":"Données!$E1128*B$4","v":2277},{"$f":"Données!$E1128*C$4","v":2178},{"$f":"Données!$E1128*D$4","v":2079},{"$f":"Données!$E1128*E$4","v":1980},{"$f":"Données!$E1128*F$4","v":1881},{"$f":"Données!$E1128*G$4","v":1782},{"$f":"Données!$E1128*H$4","v":1683},{"$f":"Données!$F1128*B$4","v":1547.8999999999999},{"$f":"Données!$F1128*C$4","v":1480.6000000000001},{"$f":"Données!$F1128*D$4","v":1413.3},{"$f":"Données!$F1128*E$4","v":1346},{"$f":"Données!$F1128*F$4","v":1278.7},{"$f":"Données!$F1128*G$4","v":1211.4000000000001},{"$f":"Données!$F1128*H$4","v":1144.0999999999999}]
[null,6840,"Grapfontaine","Neufchâteau",1980,1346,{"$f":"Données!$E1129*B$4","v":2277},{"$f":"Données!$E1129*C$4","v":2178},{"$f":"Données!$E1129*D$4","v":2079},{"$f":"Données!$E1129*E$4","v":1980},{"$f":"Données!$E1129*F$4","v":1881},{"$f":"Données!$E1129*G$4","v":1782},{"$f":"Données!$E1129*H$4","v":1683},{"$f":"Données!$F1129*B$4","v":1547.8999999999999},{"$f":"Données!$F1129*C$4","v":1480.6000000000001},{"$f":"Données!$F1129*D$4","v":1413.3},{"$f":"Données!$F1129*E$4","v":1346},{"$f":"Données!$F1129*F$4","v":1278.7},{"$f":"Données!$F1129*G$4","v":1211.4000000000001},{"$f":"Données!$F1129*H$4","v":1144.0999999999999}]
[null,6840,"Longlier","Neufchâteau",1980,1346,{"$f":"Données!$E1130*B$4","v":2277},{"$f":"Données!$E1130*C$4","v":2178},{"$f":"Données!$E1130*D$4","v":2079},{"$f":"Données!$E1130*E$4","v":1980},{"$f":"Données!$E1130*F$4","v":1881},{"$f":"Données!$E1130*G$4","v":1782},{"$f":"Données!$E1130*H$4","v":1683},{"$f":"Données!$F1130*B$4","v":1547.8999999999999},{"$f":"Données!$F1130*C$4","v":1480.6000000000001},{"$f":"Données!$F1130*D$4","v":1413.3},{"$f":"Données!$F1130*E$4","v":1346},{"$f":"Données!$F1130*F$4","v":1278.7},{"$f":"Données!$F1130*G$4","v":1211.4000000000001},{"$f":"Données!$F1130*H$4","v":1144.0999999999999}]
[null,6840,"Tournay","Neufchâteau",1980,1346,{"$f":"Données!$E1131*B$4","v":2277},{"$f":"Données!$E1131*C$4","v":2178},{"$f":"Données!$E1131*D$4","v":2079},{"$f":"Données!$E1131*E$4","v":1980},{"$f":"Données!$E1131*F$4","v":1881},{"$f":"Données!$E1131*G$4","v":1782},{"$f":"Données!$E1131*H$4","v":1683},{"$f":"Données!$F1131*B$4","v":1547.8999999999999},{"$f":"Données!$F1131*C$4","v":1480.6000000000001},{"$f":"Données!$F1131*D$4","v":1413.3},{"$f":"Données!$F1131*E$4","v":1346},{"$f":"Données!$F1131*F$4","v":1278.7},{"$f":"Données!$F1131*G$4","v":1211.4000000000001},{"$f":"Données!$F1131*H$4","v":1144.0999999999999}]
[null,6840,"Neufchâteau","Neufchâteau",1980,1346,{"$f":"Données!$E1132*B$4","v":2277},{"$f":"Données!$E1132*C$4","v":2178},{"$f":"Données!$E1132*D$4","v":2079},{"$f":"Données!$E1132*E$4","v":1980},{"$f":"Données!$E1132*F$4","v":1881},{"$f":"Données!$E1132*G$4","v":1782},{"$f":"Données!$E1132*H$4","v":1683},{"$f":"Données!$F1132*B$4","v":1547.8999999999999},{"$f":"Données!$F1132*C$4","v":1480.6000000000001},{"$f":"Données!$F1132*D$4","v":1413.3},{"$f":"Données!$F1132*E$4","v":1346},{"$f":"Données!$F1132*F$4","v":1278.7},{"$f":"Données!$F1132*G$4","v":1211.4000000000001},{"$f":"Données!$F1132*H$4","v":1144.0999999999999}]
[null,6840,"Hamipré","Neufchâteau",1980,1346,{"$f":"Données!$E1133*B$4","v":2277},{"$f":"Données!$E1133*C$4","v":2178},{"$f":"Données!$E1133*D$4","v":2079},{"$f":"Données!$E1133*E$4","v":1980},{"$f":"Données!$E1133*F$4","v":1881},{"$f":"Données!$E1133*G$4","v":1782},{"$f":"Données!$E1133*H$4","v":1683},{"$f":"Données!$F1133*B$4","v":1547.8999999999999},{"$f":"Données!$F1133*C$4","v":1480.6000000000001},{"$f":"Données!$F1133*D$4","v":1413.3},{"$f":"Données!$F1133*E$4","v":1346},{"$f":"Données!$F1133*F$4","v":1278.7},{"$f":"Données!$F1133*G$4","v":1211.4000000000001},{"$f":"Données!$F1133*H$4","v":1144.0999999999999}]
[null,6850,"Offagne","Paliseul",1633,1354,{"$f":"Données!$E1134*B$4","v":1877.9499999999998},{"$f":"Données!$E1134*C$4","v":1796.3000000000002},{"$f":"Données!$E1134*D$4","v":1714.65},{"$f":"Données!$E1134*E$4","v":1633},{"$f":"Données!$E1134*F$4","v":1551.35},{"$f":"Données!$E1134*G$4","v":1469.7},{"$f":"Données!$E1134*H$4","v":1388.05},{"$f":"Données!$F1134*B$4","v":1557.1},{"$f":"Données!$F1134*C$4","v":1489.4},{"$f":"Données!$F1134*D$4","v":1421.7},{"$f":"Données!$F1134*E$4","v":1354},{"$f":"Données!$F1134*F$4","v":1286.3},{"$f":"Données!$F1134*G$4","v":1218.6000000000001},{"$f":"Données!$F1134*H$4","v":1150.8999999999999}]
[null,6850,"Paliseul","Paliseul",1633,1354,{"$f":"Données!$E1135*B$4","v":1877.9499999999998},{"$f":"Données!$E1135*C$4","v":1796.3000000000002},{"$f":"Données!$E1135*D$4","v":1714.65},{"$f":"Données!$E1135*E$4","v":1633},{"$f":"Données!$E1135*F$4","v":1551.35},{"$f":"Données!$E1135*G$4","v":1469.7},{"$f":"Données!$E1135*H$4","v":1388.05},{"$f":"Données!$F1135*B$4","v":1557.1},{"$f":"Données!$F1135*C$4","v":1489.4},{"$f":"Données!$F1135*D$4","v":1421.7},{"$f":"Données!$F1135*E$4","v":1354},{"$f":"Données!$F1135*F$4","v":1286.3},{"$f":"Données!$F1135*G$4","v":1218.6000000000001},{"$f":"Données!$F1135*H$4","v":1150.8999999999999}]
[null,6850,"Carlsbourg","Paliseul",1633,1354,{"$f":"Données!$E1136*B$4","v":1877.9499999999998},{"$f":"Données!$E1136*C$4","v":1796.3000000000002},{"$f":"Données!$E1136*D$4","v":1714.65},{"$f":"Données!$E1136*E$4","v":1633},{"$f":"Données!$E1136*F$4","v":1551.35},{"$f":"Données!$E1136*G$4","v":1469.7},{"$f":"Données!$E1136*H$4","v":1388.05},{"$f":"Données!$F1136*B$4","v":1557.1},{"$f":"Données!$F1136*C$4","v":1489.4},{"$f":"Données!$F1136*D$4","v":1421.7},{"$f":"Données!$F1136*E$4","v":1354},{"$f":"Données!$F1136*F$4","v":1286.3},{"$f":"Données!$F1136*G$4","v":1218.6000000000001},{"$f":"Données!$F1136*H$4","v":1150.8999999999999}]
[null,6851,"Nollevaux","Paliseul",1633,1354,{"$f":"Données!$E1137*B$4","v":1877.9499999999998},{"$f":"Données!$E1137*C$4","v":1796.3000000000002},{"$f":"Données!$E1137*D$4","v":1714.65},{"$f":"Données!$E1137*E$4","v":1633},{"$f":"Données!$E1137*F$4","v":1551.35},{"$f":"Données!$E1137*G$4","v":1469.7},{"$f":"Données!$E1137*H$4","v":1388.05},{"$f":"Données!$F1137*B$4","v":1557.1},{"$f":"Données!$F1137*C$4","v":1489.4},{"$f":"Données!$F1137*D$4","v":1421.7},{"$f":"Données!$F1137*E$4","v":1354},{"$f":"Données!$F1137*F$4","v":1286.3},{"$f":"Données!$F1137*G$4","v":1218.6000000000001},{"$f":"Données!$F1137*H$4","v":1150.8999999999999}]
[null,6852,"Opont","Paliseul",1633,1354,{"$f":"Données!$E1138*B$4","v":1877.9499999999998},{"$f":"Données!$E1138*C$4","v":1796.3000000000002},{"$f":"Données!$E1138*D$4","v":1714.65},{"$f":"Données!$E1138*E$4","v":1633},{"$f":"Données!$E1138*F$4","v":1551.35},{"$f":"Données!$E1138*G$4","v":1469.7},{"$f":"Données!$E1138*H$4","v":1388.05},{"$f":"Données!$F1138*B$4","v":1557.1},{"$f":"Données!$F1138*C$4","v":1489.4},{"$f":"Données!$F1138*D$4","v":1421.7},{"$f":"Données!$F1138*E$4","v":1354},{"$f":"Données!$F1138*F$4","v":1286.3},{"$f":"Données!$F1138*G$4","v":1218.6000000000001},{"$f":"Données!$F1138*H$4","v":1150.8999999999999}]
[null,6852,"Maissin","Paliseul",1633,1354,{"$f":"Données!$E1139*B$4","v":1877.9499999999998},{"$f":"Données!$E1139*C$4","v":1796.3000000000002},{"$f":"Données!$E1139*D$4","v":1714.65},{"$f":"Données!$E1139*E$4","v":1633},{"$f":"Données!$E1139*F$4","v":1551.35},{"$f":"Données!$E1139*G$4","v":1469.7},{"$f":"Données!$E1139*H$4","v":1388.05},{"$f":"Données!$F1139*B$4","v":1557.1},{"$f":"Données!$F1139*C$4","v":1489.4},{"$f":"Données!$F1139*D$4","v":1421.7},{"$f":"Données!$F1139*E$4","v":1354},{"$f":"Données!$F1139*F$4","v":1286.3},{"$f":"Données!$F1139*G$4","v":1218.6000000000001},{"$f":"Données!$F1139*H$4","v":1150.8999999999999}]
[null,6853,"Framont","Paliseul",1633,1354,{"$f":"Données!$E1140*B$4","v":1877.9499999999998},{"$f":"Données!$E1140*C$4","v":1796.3000000000002},{"$f":"Données!$E1140*D$4","v":1714.65},{"$f":"Données!$E1140*E$4","v":1633},{"$f":"Données!$E1140*F$4","v":1551.35},{"$f":"Données!$E1140*G$4","v":1469.7},{"$f":"Données!$E1140*H$4","v":1388.05},{"$f":"Données!$F1140*B$4","v":1557.1},{"$f":"Données!$F1140*C$4","v":1489.4},{"$f":"Données!$F1140*D$4","v":1421.7},{"$f":"Données!$F1140*E$4","v":1354},{"$f":"Données!$F1140*F$4","v":1286.3},{"$f":"Données!$F1140*G$4","v":1218.6000000000001},{"$f":"Données!$F1140*H$4","v":1150.8999999999999}]
[null,6856,"Fays-Les-Veneurs","Paliseul",1633,1354,{"$f":"Données!$E1141*B$4","v":1877.9499999999998},{"$f":"Données!$E1141*C$4","v":1796.3000000000002},{"$f":"Données!$E1141*D$4","v":1714.65},{"$f":"Données!$E1141*E$4","v":1633},{"$f":"Données!$E1141*F$4","v":1551.35},{"$f":"Données!$E1141*G$4","v":1469.7},{"$f":"Données!$E1141*H$4","v":1388.05},{"$f":"Données!$F1141*B$4","v":1557.1},{"$f":"Données!$F1141*C$4","v":1489.4},{"$f":"Données!$F1141*D$4","v":1421.7},{"$f":"Données!$F1141*E$4","v":1354},{"$f":"Données!$F1141*F$4","v":1286.3},{"$f":"Données!$F1141*G$4","v":1218.6000000000001},{"$f":"Données!$F1141*H$4","v":1150.8999999999999}]
[null,6860,"Léglise","Léglise",2150,1550,{"$f":"Données!$E1142*B$4","v":2472.5},{"$f":"Données!$E1142*C$4","v":2365},{"$f":"Données!$E1142*D$4","v":2257.5},{"$f":"Données!$E1142*E$4","v":2150},{"$f":"Données!$E1142*F$4","v":2042.5},{"$f":"Données!$E1142*G$4","v":1935},{"$f":"Données!$E1142*H$4","v":1827.5},{"$f":"Données!$F1142*B$4","v":1782.4999999999998},{"$f":"Données!$F1142*C$4","v":1705.0000000000002},{"$f":"Données!$F1142*D$4","v":1627.5},{"$f":"Données!$F1142*E$4","v":1550},{"$f":"Données!$F1142*F$4","v":1472.5},{"$f":"Données!$F1142*G$4","v":1395},{"$f":"Données!$F1142*H$4","v":1317.5}]
[null,6860,"Assenois","Léglise",2150,1550,{"$f":"Données!$E1143*B$4","v":2472.5},{"$f":"Données!$E1143*C$4","v":2365},{"$f":"Données!$E1143*D$4","v":2257.5},{"$f":"Données!$E1143*E$4","v":2150},{"$f":"Données!$E1143*F$4","v":2042.5},{"$f":"Données!$E1143*G$4","v":1935},{"$f":"Données!$E1143*H$4","v":1827.5},{"$f":"Données!$F1143*B$4","v":1782.4999999999998},{"$f":"Données!$F1143*C$4","v":1705.0000000000002},{"$f":"Données!$F1143*D$4","v":1627.5},{"$f":"Données!$F1143*E$4","v":1550},{"$f":"Données!$F1143*F$4","v":1472.5},{"$f":"Données!$F1143*G$4","v":1395},{"$f":"Données!$F1143*H$4","v":1317.5}]
[null,6860,"Ebly","Léglise",2150,1550,{"$f":"Données!$E1144*B$4","v":2472.5},{"$f":"Données!$E1144*C$4","v":2365},{"$f":"Données!$E1144*D$4","v":2257.5},{"$f":"Données!$E1144*E$4","v":2150},{"$f":"Données!$E1144*F$4","v":2042.5},{"$f":"Données!$E1144*G$4","v":1935},{"$f":"Données!$E1144*H$4","v":1827.5},{"$f":"Données!$F1144*B$4","v":1782.4999999999998},{"$f":"Données!$F1144*C$4","v":1705.0000000000002},{"$f":"Données!$F1144*D$4","v":1627.5},{"$f":"Données!$F1144*E$4","v":1550},{"$f":"Données!$F1144*F$4","v":1472.5},{"$f":"Données!$F1144*G$4","v":1395},{"$f":"Données!$F1144*H$4","v":1317.5}]
[null,6860,"Witry","Léglise",2150,1550,{"$f":"Données!$E1145*B$4","v":2472.5},{"$f":"Données!$E1145*C$4","v":2365},{"$f":"Données!$E1145*D$4","v":2257.5},{"$f":"Données!$E1145*E$4","v":2150},{"$f":"Données!$E1145*F$4","v":2042.5},{"$f":"Données!$E1145*G$4","v":1935},{"$f":"Données!$E1145*H$4","v":1827.5},{"$f":"Données!$F1145*B$4","v":1782.4999999999998},{"$f":"Données!$F1145*C$4","v":1705.0000000000002},{"$f":"Données!$F1145*D$4","v":1627.5},{"$f":"Données!$F1145*E$4","v":1550},{"$f":"Données!$F1145*F$4","v":1472.5},{"$f":"Données!$F1145*G$4","v":1395},{"$f":"Données!$F1145*H$4","v":1317.5}]
[null,6860,"Mellier","Léglise",2150,1550,{"$f":"Données!$E1146*B$4","v":2472.5},{"$f":"Données!$E1146*C$4","v":2365},{"$f":"Données!$E1146*D$4","v":2257.5},{"$f":"Données!$E1146*E$4","v":2150},{"$f":"Données!$E1146*F$4","v":2042.5},{"$f":"Données!$E1146*G$4","v":1935},{"$f":"Données!$E1146*H$4","v":1827.5},{"$f":"Données!$F1146*B$4","v":1782.4999999999998},{"$f":"Données!$F1146*C$4","v":1705.0000000000002},{"$f":"Données!$F1146*D$4","v":1627.5},{"$f":"Données!$F1146*E$4","v":1550},{"$f":"Données!$F1146*F$4","v":1472.5},{"$f":"Données!$F1146*G$4","v":1395},{"$f":"Données!$F1146*H$4","v":1317.5}]
[null,6870,"Mirwart","Saint-Hubert",2106,1342,{"$f":"Données!$E1147*B$4","v":2421.8999999999996},{"$f":"Données!$E1147*C$4","v":2316.6000000000004},{"$f":"Données!$E1147*D$4","v":2211.3000000000002},{"$f":"Données!$E1147*E$4","v":2106},{"$f":"Données!$E1147*F$4","v":2000.6999999999998},{"$f":"Données!$E1147*G$4","v":1895.4},{"$f":"Données!$E1147*H$4","v":1790.1},{"$f":"Données!$F1147*B$4","v":1543.3},{"$f":"Données!$F1147*C$4","v":1476.2},{"$f":"Données!$F1147*D$4","v":1409.1000000000001},{"$f":"Données!$F1147*E$4","v":1342},{"$f":"Données!$F1147*F$4","v":1274.8999999999999},{"$f":"Données!$F1147*G$4","v":1207.8},{"$f":"Données!$F1147*H$4","v":1140.7}]
[null,6870,"Vesqueville","Saint-Hubert",2106,1342,{"$f":"Données!$E1148*B$4","v":2421.8999999999996},{"$f":"Données!$E1148*C$4","v":2316.6000000000004},{"$f":"Données!$E1148*D$4","v":2211.3000000000002},{"$f":"Données!$E1148*E$4","v":2106},{"$f":"Données!$E1148*F$4","v":2000.6999999999998},{"$f":"Données!$E1148*G$4","v":1895.4},{"$f":"Données!$E1148*H$4","v":1790.1},{"$f":"Données!$F1148*B$4","v":1543.3},{"$f":"Données!$F1148*C$4","v":1476.2},{"$f":"Données!$F1148*D$4","v":1409.1000000000001},{"$f":"Données!$F1148*E$4","v":1342},{"$f":"Données!$F1148*F$4","v":1274.8999999999999},{"$f":"Données!$F1148*G$4","v":1207.8},{"$f":"Données!$F1148*H$4","v":1140.7}]
[null,6870,"Saint-Hubert","Saint-Hubert",2106,1342,{"$f":"Données!$E1149*B$4","v":2421.8999999999996},{"$f":"Données!$E1149*C$4","v":2316.6000000000004},{"$f":"Données!$E1149*D$4","v":2211.3000000000002},{"$f":"Données!$E1149*E$4","v":2106},{"$f":"Données!$E1149*F$4","v":2000.6999999999998},{"$f":"Données!$E1149*G$4","v":1895.4},{"$f":"Données!$E1149*H$4","v":1790.1},{"$f":"Données!$F1149*B$4","v":1543.3},{"$f":"Données!$F1149*C$4","v":1476.2},{"$f":"Données!$F1149*D$4","v":1409.1000000000001},{"$f":"Données!$F1149*E$4","v":1342},{"$f":"Données!$F1149*F$4","v":1274.8999999999999},{"$f":"Données!$F1149*G$4","v":1207.8},{"$f":"Données!$F1149*H$4","v":1140.7}]
[null,6870,"Arville","Saint-Hubert",2106,1342,{"$f":"Données!$E1150*B$4","v":2421.8999999999996},{"$f":"Données!$E1150*C$4","v":2316.6000000000004},{"$f":"Données!$E1150*D$4","v":2211.3000000000002},{"$f":"Données!$E1150*E$4","v":2106},{"$f":"Données!$E1150*F$4","v":2000.6999999999998},{"$f":"Données!$E1150*G$4","v":1895.4},{"$f":"Données!$E1150*H$4","v":1790.1},{"$f":"Données!$F1150*B$4","v":1543.3},{"$f":"Données!$F1150*C$4","v":1476.2},{"$f":"Données!$F1150*D$4","v":1409.1000000000001},{"$f":"Données!$F1150*E$4","v":1342},{"$f":"Données!$F1150*F$4","v":1274.8999999999999},{"$f":"Données!$F1150*G$4","v":1207.8},{"$f":"Données!$F1150*H$4","v":1140.7}]
[null,6870,"Awenne","Saint-Hubert",2106,1342,{"$f":"Données!$E1151*B$4","v":2421.8999999999996},{"$f":"Données!$E1151*C$4","v":2316.6000000000004},{"$f":"Données!$E1151*D$4","v":2211.3000000000002},{"$f":"Données!$E1151*E$4","v":2106},{"$f":"Données!$E1151*F$4","v":2000.6999999999998},{"$f":"Données!$E1151*G$4","v":1895.4},{"$f":"Données!$E1151*H$4","v":1790.1},{"$f":"Données!$F1151*B$4","v":1543.3},{"$f":"Données!$F1151*C$4","v":1476.2},{"$f":"Données!$F1151*D$4","v":1409.1000000000001},{"$f":"Données!$F1151*E$4","v":1342},{"$f":"Données!$F1151*F$4","v":1274.8999999999999},{"$f":"Données!$F1151*G$4","v":1207.8},{"$f":"Données!$F1151*H$4","v":1140.7}]
[null,6870,"Hatrival","Saint-Hubert",2106,1342,{"$f":"Données!$E1152*B$4","v":2421.8999999999996},{"$f":"Données!$E1152*C$4","v":2316.6000000000004},{"$f":"Données!$E1152*D$4","v":2211.3000000000002},{"$f":"Données!$E1152*E$4","v":2106},{"$f":"Données!$E1152*F$4","v":2000.6999999999998},{"$f":"Données!$E1152*G$4","v":1895.4},{"$f":"Données!$E1152*H$4","v":1790.1},{"$f":"Données!$F1152*B$4","v":1543.3},{"$f":"Données!$F1152*C$4","v":1476.2},{"$f":"Données!$F1152*D$4","v":1409.1000000000001},{"$f":"Données!$F1152*E$4","v":1342},{"$f":"Données!$F1152*F$4","v":1274.8999999999999},{"$f":"Données!$F1152*G$4","v":1207.8},{"$f":"Données!$F1152*H$4","v":1140.7}]
[null,6880,"Bertrix","Bertrix",1980,1423,{"$f":"Données!$E1153*B$4","v":2277},{"$f":"Données!$E1153*C$4","v":2178},{"$f":"Données!$E1153*D$4","v":2079},{"$f":"Données!$E1153*E$4","v":1980},{"$f":"Données!$E1153*F$4","v":1881},{"$f":"Données!$E1153*G$4","v":1782},{"$f":"Données!$E1153*H$4","v":1683},{"$f":"Données!$F1153*B$4","v":1636.4499999999998},{"$f":"Données!$F1153*C$4","v":1565.3000000000002},{"$f":"Données!$F1153*D$4","v":1494.15},{"$f":"Données!$F1153*E$4","v":1423},{"$f":"Données!$F1153*F$4","v":1351.85},{"$f":"Données!$F1153*G$4","v":1280.7},{"$f":"Données!$F1153*H$4","v":1209.55}]
[null,6880,"Cugnon","Bertrix",1980,1423,{"$f":"Données!$E1154*B$4","v":2277},{"$f":"Données!$E1154*C$4","v":2178},{"$f":"Données!$E1154*D$4","v":2079},{"$f":"Données!$E1154*E$4","v":1980},{"$f":"Données!$E1154*F$4","v":1881},{"$f":"Données!$E1154*G$4","v":1782},{"$f":"Données!$E1154*H$4","v":1683},{"$f":"Données!$F1154*B$4","v":1636.4499999999998},{"$f":"Données!$F1154*C$4","v":1565.3000000000002},{"$f":"Données!$F1154*D$4","v":1494.15},{"$f":"Données!$F1154*E$4","v":1423},{"$f":"Données!$F1154*F$4","v":1351.85},{"$f":"Données!$F1154*G$4","v":1280.7},{"$f":"Données!$F1154*H$4","v":1209.55}]
[null,6880,"Orgeo","Bertrix",1980,1423,{"$f":"Données!$E1155*B$4","v":2277},{"$f":"Données!$E1155*C$4","v":2178},{"$f":"Données!$E1155*D$4","v":2079},{"$f":"Données!$E1155*E$4","v":1980},{"$f":"Données!$E1155*F$4","v":1881},{"$f":"Données!$E1155*G$4","v":1782},{"$f":"Données!$E1155*H$4","v":1683},{"$f":"Données!$F1155*B$4","v":1636.4499999999998},{"$f":"Données!$F1155*C$4","v":1565.3000000000002},{"$f":"Données!$F1155*D$4","v":1494.15},{"$f":"Données!$F1155*E$4","v":1423},{"$f":"Données!$F1155*F$4","v":1351.85},{"$f":"Données!$F1155*G$4","v":1280.7},{"$f":"Données!$F1155*H$4","v":1209.55}]
[null,6880,"Auby-Sur-Semois","Bertrix",1980,1423,{"$f":"Données!$E1156*B$4","v":2277},{"$f":"Données!$E1156*C$4","v":2178},{"$f":"Données!$E1156*D$4","v":2079},{"$f":"Données!$E1156*E$4","v":1980},{"$f":"Données!$E1156*F$4","v":1881},{"$f":"Données!$E1156*G$4","v":1782},{"$f":"Données!$E1156*H$4","v":1683},{"$f":"Données!$F1156*B$4","v":1636.4499999999998},{"$f":"Données!$F1156*C$4","v":1565.3000000000002},{"$f":"Données!$F1156*D$4","v":1494.15},{"$f":"Données!$F1156*E$4","v":1423},{"$f":"Données!$F1156*F$4","v":1351.85},{"$f":"Données!$F1156*G$4","v":1280.7},{"$f":"Données!$F1156*H$4","v":1209.55}]
[null,6880,"Jehonville","Bertrix",1980,1423,{"$f":"Données!$E1157*B$4","v":2277},{"$f":"Données!$E1157*C$4","v":2178},{"$f":"Données!$E1157*D$4","v":2079},{"$f":"Données!$E1157*E$4","v":1980},{"$f":"Données!$E1157*F$4","v":1881},{"$f":"Données!$E1157*G$4","v":1782},{"$f":"Données!$E1157*H$4","v":1683},{"$f":"Données!$F1157*B$4","v":1636.4499999999998},{"$f":"Données!$F1157*C$4","v":1565.3000000000002},{"$f":"Données!$F1157*D$4","v":1494.15},{"$f":"Données!$F1157*E$4","v":1423},{"$f":"Données!$F1157*F$4","v":1351.85},{"$f":"Données!$F1157*G$4","v":1280.7},{"$f":"Données!$F1157*H$4","v":1209.55}]
[null,6887,"Herbeumont","Herbeumont",1879,1284,{"$f":"Données!$E1158*B$4","v":2160.85},{"$f":"Données!$E1158*C$4","v":2066.9},{"$f":"Données!$E1158*D$4","v":1972.95},{"$f":"Données!$E1158*E$4","v":1879},{"$f":"Données!$E1158*F$4","v":1785.05},{"$f":"Données!$E1158*G$4","v":1691.1000000000001},{"$f":"Données!$E1158*H$4","v":1597.1499999999999},{"$f":"Données!$F1158*B$4","v":1476.6},{"$f":"Données!$F1158*C$4","v":1412.4},{"$f":"Données!$F1158*D$4","v":1348.2},{"$f":"Données!$F1158*E$4","v":1284},{"$f":"Données!$F1158*F$4","v":1219.8},{"$f":"Données!$F1158*G$4","v":1155.6000000000001},{"$f":"Données!$F1158*H$4","v":1091.3999999999999}]
[null,6887,"Saint-Médard","Herbeumont",1879,1284,{"$f":"Données!$E1159*B$4","v":2160.85},{"$f":"Données!$E1159*C$4","v":2066.9},{"$f":"Données!$E1159*D$4","v":1972.95},{"$f":"Données!$E1159*E$4","v":1879},{"$f":"Données!$E1159*F$4","v":1785.05},{"$f":"Données!$E1159*G$4","v":1691.1000000000001},{"$f":"Données!$E1159*H$4","v":1597.1499999999999},{"$f":"Données!$F1159*B$4","v":1476.6},{"$f":"Données!$F1159*C$4","v":1412.4},{"$f":"Données!$F1159*D$4","v":1348.2},{"$f":"Données!$F1159*E$4","v":1284},{"$f":"Données!$F1159*F$4","v":1219.8},{"$f":"Données!$F1159*G$4","v":1155.6000000000001},{"$f":"Données!$F1159*H$4","v":1091.3999999999999}]
[null,6887,"Straimont","Herbeumont",1879,1284,{"$f":"Données!$E1160*B$4","v":2160.85},{"$f":"Données!$E1160*C$4","v":2066.9},{"$f":"Données!$E1160*D$4","v":1972.95},{"$f":"Données!$E1160*E$4","v":1879},{"$f":"Données!$E1160*F$4","v":1785.05},{"$f":"Données!$E1160*G$4","v":1691.1000000000001},{"$f":"Données!$E1160*H$4","v":1597.1499999999999},{"$f":"Données!$F1160*B$4","v":1476.6},{"$f":"Données!$F1160*C$4","v":1412.4},{"$f":"Données!$F1160*D$4","v":1348.2},{"$f":"Données!$F1160*E$4","v":1284},{"$f":"Données!$F1160*F$4","v":1219.8},{"$f":"Données!$F1160*G$4","v":1155.6000000000001},{"$f":"Données!$F1160*H$4","v":1091.3999999999999}]
[null,6890,"Villance","Libin",2160,1460,{"$f":"Données!$E1161*B$4","v":2484},{"$f":"Données!$E1161*C$4","v":2376},{"$f":"Données!$E1161*D$4","v":2268},{"$f":"Données!$E1161*E$4","v":2160},{"$f":"Données!$E1161*F$4","v":2052},{"$f":"Données!$E1161*G$4","v":1944},{"$f":"Données!$E1161*H$4","v":1836},{"$f":"Données!$F1161*B$4","v":1678.9999999999998},{"$f":"Données!$F1161*C$4","v":1606.0000000000002},{"$f":"Données!$F1161*D$4","v":1533},{"$f":"Données!$F1161*E$4","v":1460},{"$f":"Données!$F1161*F$4","v":1387},{"$f":"Données!$F1161*G$4","v":1314},{"$f":"Données!$F1161*H$4","v":1241}]
[null,6890,"Anloy","Libin",2160,1460,{"$f":"Données!$E1162*B$4","v":2484},{"$f":"Données!$E1162*C$4","v":2376},{"$f":"Données!$E1162*D$4","v":2268},{"$f":"Données!$E1162*E$4","v":2160},{"$f":"Données!$E1162*F$4","v":2052},{"$f":"Données!$E1162*G$4","v":1944},{"$f":"Données!$E1162*H$4","v":1836},{"$f":"Données!$F1162*B$4","v":1678.9999999999998},{"$f":"Données!$F1162*C$4","v":1606.0000000000002},{"$f":"Données!$F1162*D$4","v":1533},{"$f":"Données!$F1162*E$4","v":1460},{"$f":"Données!$F1162*F$4","v":1387},{"$f":"Données!$F1162*G$4","v":1314},{"$f":"Données!$F1162*H$4","v":1241}]
[null,6890,"Transinne","Libin",2160,1460,{"$f":"Données!$E1163*B$4","v":2484},{"$f":"Données!$E1163*C$4","v":2376},{"$f":"Données!$E1163*D$4","v":2268},{"$f":"Données!$E1163*E$4","v":2160},{"$f":"Données!$E1163*F$4","v":2052},{"$f":"Données!$E1163*G$4","v":1944},{"$f":"Données!$E1163*H$4","v":1836},{"$f":"Données!$F1163*B$4","v":1678.9999999999998},{"$f":"Données!$F1163*C$4","v":1606.0000000000002},{"$f":"Données!$F1163*D$4","v":1533},{"$f":"Données!$F1163*E$4","v":1460},{"$f":"Données!$F1163*F$4","v":1387},{"$f":"Données!$F1163*G$4","v":1314},{"$f":"Données!$F1163*H$4","v":1241}]
[null,6890,"Ochamps","Libin",2160,1460,{"$f":"Données!$E1164*B$4","v":2484},{"$f":"Données!$E1164*C$4","v":2376},{"$f":"Données!$E1164*D$4","v":2268},{"$f":"Données!$E1164*E$4","v":2160},{"$f":"Données!$E1164*F$4","v":2052},{"$f":"Données!$E1164*G$4","v":1944},{"$f":"Données!$E1164*H$4","v":1836},{"$f":"Données!$F1164*B$4","v":1678.9999999999998},{"$f":"Données!$F1164*C$4","v":1606.0000000000002},{"$f":"Données!$F1164*D$4","v":1533},{"$f":"Données!$F1164*E$4","v":1460},{"$f":"Données!$F1164*F$4","v":1387},{"$f":"Données!$F1164*G$4","v":1314},{"$f":"Données!$F1164*H$4","v":1241}]
[null,6890,"Redu","Libin",2160,1460,{"$f":"Données!$E1165*B$4","v":2484},{"$f":"Données!$E1165*C$4","v":2376},{"$f":"Données!$E1165*D$4","v":2268},{"$f":"Données!$E1165*E$4","v":2160},{"$f":"Données!$E1165*F$4","v":2052},{"$f":"Données!$E1165*G$4","v":1944},{"$f":"Données!$E1165*H$4","v":1836},{"$f":"Données!$F1165*B$4","v":1678.9999999999998},{"$f":"Données!$F1165*C$4","v":1606.0000000000002},{"$f":"Données!$F1165*D$4","v":1533},{"$f":"Données!$F1165*E$4","v":1460},{"$f":"Données!$F1165*F$4","v":1387},{"$f":"Données!$F1165*G$4","v":1314},{"$f":"Données!$F1165*H$4","v":1241}]
[null,6890,"Libin","Libin",2160,1460,{"$f":"Données!$E1166*B$4","v":2484},{"$f":"Données!$E1166*C$4","v":2376},{"$f":"Données!$E1166*D$4","v":2268},{"$f":"Données!$E1166*E$4","v":2160},{"$f":"Données!$E1166*F$4","v":2052},{"$f":"Données!$E1166*G$4","v":1944},{"$f":"Données!$E1166*H$4","v":1836},{"$f":"Données!$F1166*B$4","v":1678.9999999999998},{"$f":"Données!$F1166*C$4","v":1606.0000000000002},{"$f":"Données!$F1166*D$4","v":1533},{"$f":"Données!$F1166*E$4","v":1460},{"$f":"Données!$F1166*F$4","v":1387},{"$f":"Données!$F1166*G$4","v":1314},{"$f":"Données!$F1166*H$4","v":1241}]
[null,6890,"Smuid","Libin",2160,1460,{"$f":"Données!$E1167*B$4","v":2484},{"$f":"Données!$E1167*C$4","v":2376},{"$f":"Données!$E1167*D$4","v":2268},{"$f":"Données!$E1167*E$4","v":2160},{"$f":"Données!$E1167*F$4","v":2052},{"$f":"Données!$E1167*G$4","v":1944},{"$f":"Données!$E1167*H$4","v":1836},{"$f":"Données!$F1167*B$4","v":1678.9999999999998},{"$f":"Données!$F1167*C$4","v":1606.0000000000002},{"$f":"Données!$F1167*D$4","v":1533},{"$f":"Données!$F1167*E$4","v":1460},{"$f":"Données!$F1167*F$4","v":1387},{"$f":"Données!$F1167*G$4","v":1314},{"$f":"Données!$F1167*H$4","v":1241}]
[null,6900,"Marche-En-Famenne","Marche-En-Famenne",2358,1555,{"$f":"Données!$E1168*B$4","v":2711.7},{"$f":"Données!$E1168*C$4","v":2593.8000000000002},{"$f":"Données!$E1168*D$4","v":2475.9},{"$f":"Données!$E1168*E$4","v":2358},{"$f":"Données!$E1168*F$4","v":2240.1},{"$f":"Données!$E1168*G$4","v":2122.2000000000003},{"$f":"Données!$E1168*H$4","v":2004.3},{"$f":"Données!$F1168*B$4","v":1788.2499999999998},{"$f":"Données!$F1168*C$4","v":1710.5000000000002},{"$f":"Données!$F1168*D$4","v":1632.75},{"$f":"Données!$F1168*E$4","v":1555},{"$f":"Données!$F1168*F$4","v":1477.25},{"$f":"Données!$F1168*G$4","v":1399.5},{"$f":"Données!$F1168*H$4","v":1321.75}]
[null,6900,"Roy","Marche-En-Famenne",2358,1555,{"$f":"Données!$E1169*B$4","v":2711.7},{"$f":"Données!$E1169*C$4","v":2593.8000000000002},{"$f":"Données!$E1169*D$4","v":2475.9},{"$f":"Données!$E1169*E$4","v":2358},{"$f":"Données!$E1169*F$4","v":2240.1},{"$f":"Données!$E1169*G$4","v":2122.2000000000003},{"$f":"Données!$E1169*H$4","v":2004.3},{"$f":"Données!$F1169*B$4","v":1788.2499999999998},{"$f":"Données!$F1169*C$4","v":1710.5000000000002},{"$f":"Données!$F1169*D$4","v":1632.75},{"$f":"Données!$F1169*E$4","v":1555},{"$f":"Données!$F1169*F$4","v":1477.25},{"$f":"Données!$F1169*G$4","v":1399.5},{"$f":"Données!$F1169*H$4","v":1321.75}]
[null,6900,"Hargimont","Marche-En-Famenne",2358,1555,{"$f":"Données!$E1170*B$4","v":2711.7},{"$f":"Données!$E1170*C$4","v":2593.8000000000002},{"$f":"Données!$E1170*D$4","v":2475.9},{"$f":"Données!$E1170*E$4","v":2358},{"$f":"Données!$E1170*F$4","v":2240.1},{"$f":"Données!$E1170*G$4","v":2122.2000000000003},{"$f":"Données!$E1170*H$4","v":2004.3},{"$f":"Données!$F1170*B$4","v":1788.2499999999998},{"$f":"Données!$F1170*C$4","v":1710.5000000000002},{"$f":"Données!$F1170*D$4","v":1632.75},{"$f":"Données!$F1170*E$4","v":1555},{"$f":"Données!$F1170*F$4","v":1477.25},{"$f":"Données!$F1170*G$4","v":1399.5},{"$f":"Données!$F1170*H$4","v":1321.75}]
[null,6900,"On","Marche-En-Famenne",2358,1555,{"$f":"Données!$E1171*B$4","v":2711.7},{"$f":"Données!$E1171*C$4","v":2593.8000000000002},{"$f":"Données!$E1171*D$4","v":2475.9},{"$f":"Données!$E1171*E$4","v":2358},{"$f":"Données!$E1171*F$4","v":2240.1},{"$f":"Données!$E1171*G$4","v":2122.2000000000003},{"$f":"Données!$E1171*H$4","v":2004.3},{"$f":"Données!$F1171*B$4","v":1788.2499999999998},{"$f":"Données!$F1171*C$4","v":1710.5000000000002},{"$f":"Données!$F1171*D$4","v":1632.75},{"$f":"Données!$F1171*E$4","v":1555},{"$f":"Données!$F1171*F$4","v":1477.25},{"$f":"Données!$F1171*G$4","v":1399.5},{"$f":"Données!$F1171*H$4","v":1321.75}]
[null,6900,"Waha","Marche-En-Famenne",2358,1555,{"$f":"Données!$E1172*B$4","v":2711.7},{"$f":"Données!$E1172*C$4","v":2593.8000000000002},{"$f":"Données!$E1172*D$4","v":2475.9},{"$f":"Données!$E1172*E$4","v":2358},{"$f":"Données!$E1172*F$4","v":2240.1},{"$f":"Données!$E1172*G$4","v":2122.2000000000003},{"$f":"Données!$E1172*H$4","v":2004.3},{"$f":"Données!$F1172*B$4","v":1788.2499999999998},{"$f":"Données!$F1172*C$4","v":1710.5000000000002},{"$f":"Données!$F1172*D$4","v":1632.75},{"$f":"Données!$F1172*E$4","v":1555},{"$f":"Données!$F1172*F$4","v":1477.25},{"$f":"Données!$F1172*G$4","v":1399.5},{"$f":"Données!$F1172*H$4","v":1321.75}]
[null,6900,"Aye","Marche-En-Famenne",2358,1555,{"$f":"Données!$E1173*B$4","v":2711.7},{"$f":"Données!$E1173*C$4","v":2593.8000000000002},{"$f":"Données!$E1173*D$4","v":2475.9},{"$f":"Données!$E1173*E$4","v":2358},{"$f":"Données!$E1173*F$4","v":2240.1},{"$f":"Données!$E1173*G$4","v":2122.2000000000003},{"$f":"Données!$E1173*H$4","v":2004.3},{"$f":"Données!$F1173*B$4","v":1788.2499999999998},{"$f":"Données!$F1173*C$4","v":1710.5000000000002},{"$f":"Données!$F1173*D$4","v":1632.75},{"$f":"Données!$F1173*E$4","v":1555},{"$f":"Données!$F1173*F$4","v":1477.25},{"$f":"Données!$F1173*G$4","v":1399.5},{"$f":"Données!$F1173*H$4","v":1321.75}]
[null,6900,"Humain","Marche-En-Famenne",2358,1555,{"$f":"Données!$E1174*B$4","v":2711.7},{"$f":"Données!$E1174*C$4","v":2593.8000000000002},{"$f":"Données!$E1174*D$4","v":2475.9},{"$f":"Données!$E1174*E$4","v":2358},{"$f":"Données!$E1174*F$4","v":2240.1},{"$f":"Données!$E1174*G$4","v":2122.2000000000003},{"$f":"Données!$E1174*H$4","v":2004.3},{"$f":"Données!$F1174*B$4","v":1788.2499999999998},{"$f":"Données!$F1174*C$4","v":1710.5000000000002},{"$f":"Données!$F1174*D$4","v":1632.75},{"$f":"Données!$F1174*E$4","v":1555},{"$f":"Données!$F1174*F$4","v":1477.25},{"$f":"Données!$F1174*G$4","v":1399.5},{"$f":"Données!$F1174*H$4","v":1321.75}]
[null,6920,"Sohier","Wellin",2078,1436,{"$f":"Données!$E1175*B$4","v":2389.6999999999998},{"$f":"Données!$E1175*C$4","v":2285.8000000000002},{"$f":"Données!$E1175*D$4","v":2181.9},{"$f":"Données!$E1175*E$4","v":2078},{"$f":"Données!$E1175*F$4","v":1974.1},{"$f":"Données!$E1175*G$4","v":1870.2},{"$f":"Données!$E1175*H$4","v":1766.3},{"$f":"Données!$F1175*B$4","v":1651.3999999999999},{"$f":"Données!$F1175*C$4","v":1579.6000000000001},{"$f":"Données!$F1175*D$4","v":1507.8},{"$f":"Données!$F1175*E$4","v":1436},{"$f":"Données!$F1175*F$4","v":1364.2},{"$f":"Données!$F1175*G$4","v":1292.4000000000001},{"$f":"Données!$F1175*H$4","v":1220.5999999999999}]
[null,6920,"Wellin","Wellin",2078,1436,{"$f":"Données!$E1176*B$4","v":2389.6999999999998},{"$f":"Données!$E1176*C$4","v":2285.8000000000002},{"$f":"Données!$E1176*D$4","v":2181.9},{"$f":"Données!$E1176*E$4","v":2078},{"$f":"Données!$E1176*F$4","v":1974.1},{"$f":"Données!$E1176*G$4","v":1870.2},{"$f":"Données!$E1176*H$4","v":1766.3},{"$f":"Données!$F1176*B$4","v":1651.3999999999999},{"$f":"Données!$F1176*C$4","v":1579.6000000000001},{"$f":"Données!$F1176*D$4","v":1507.8},{"$f":"Données!$F1176*E$4","v":1436},{"$f":"Données!$F1176*F$4","v":1364.2},{"$f":"Données!$F1176*G$4","v":1292.4000000000001},{"$f":"Données!$F1176*H$4","v":1220.5999999999999}]
[null,6921,"Chanly","Wellin",2078,1436,{"$f":"Données!$E1177*B$4","v":2389.6999999999998},{"$f":"Données!$E1177*C$4","v":2285.8000000000002},{"$f":"Données!$E1177*D$4","v":2181.9},{"$f":"Données!$E1177*E$4","v":2078},{"$f":"Données!$E1177*F$4","v":1974.1},{"$f":"Données!$E1177*G$4","v":1870.2},{"$f":"Données!$E1177*H$4","v":1766.3},{"$f":"Données!$F1177*B$4","v":1651.3999999999999},{"$f":"Données!$F1177*C$4","v":1579.6000000000001},{"$f":"Données!$F1177*D$4","v":1507.8},{"$f":"Données!$F1177*E$4","v":1436},{"$f":"Données!$F1177*F$4","v":1364.2},{"$f":"Données!$F1177*G$4","v":1292.4000000000001},{"$f":"Données!$F1177*H$4","v":1220.5999999999999}]
[null,6922,"Halma","Wellin",2078,1436,{"$f":"Données!$E1178*B$4","v":2389.6999999999998},{"$f":"Données!$E1178*C$4","v":2285.8000000000002},{"$f":"Données!$E1178*D$4","v":2181.9},{"$f":"Données!$E1178*E$4","v":2078},{"$f":"Données!$E1178*F$4","v":1974.1},{"$f":"Données!$E1178*G$4","v":1870.2},{"$f":"Données!$E1178*H$4","v":1766.3},{"$f":"Données!$F1178*B$4","v":1651.3999999999999},{"$f":"Données!$F1178*C$4","v":1579.6000000000001},{"$f":"Données!$F1178*D$4","v":1507.8},{"$f":"Données!$F1178*E$4","v":1436},{"$f":"Données!$F1178*F$4","v":1364.2},{"$f":"Données!$F1178*G$4","v":1292.4000000000001},{"$f":"Données!$F1178*H$4","v":1220.5999999999999}]
[null,6924,"Lomprez","Wellin",2078,1436,{"$f":"Données!$E1179*B$4","v":2389.6999999999998},{"$f":"Données!$E1179*C$4","v":2285.8000000000002},{"$f":"Données!$E1179*D$4","v":2181.9},{"$f":"Données!$E1179*E$4","v":2078},{"$f":"Données!$E1179*F$4","v":1974.1},{"$f":"Données!$E1179*G$4","v":1870.2},{"$f":"Données!$E1179*H$4","v":1766.3},{"$f":"Données!$F1179*B$4","v":1651.3999999999999},{"$f":"Données!$F1179*C$4","v":1579.6000000000001},{"$f":"Données!$F1179*D$4","v":1507.8},{"$f":"Données!$F1179*E$4","v":1436},{"$f":"Données!$F1179*F$4","v":1364.2},{"$f":"Données!$F1179*G$4","v":1292.4000000000001},{"$f":"Données!$F1179*H$4","v":1220.5999999999999}]
[null,6927,"Bure","Tellin",2102,1453,{"$f":"Données!$E1180*B$4","v":2417.2999999999997},{"$f":"Données!$E1180*C$4","v":2312.2000000000003},{"$f":"Données!$E1180*D$4","v":2207.1},{"$f":"Données!$E1180*E$4","v":2102},{"$f":"Données!$E1180*F$4","v":1996.8999999999999},{"$f":"Données!$E1180*G$4","v":1891.8},{"$f":"Données!$E1180*H$4","v":1786.7},{"$f":"Données!$F1180*B$4","v":1670.9499999999998},{"$f":"Données!$F1180*C$4","v":1598.3000000000002},{"$f":"Données!$F1180*D$4","v":1525.65},{"$f":"Données!$F1180*E$4","v":1453},{"$f":"Données!$F1180*F$4","v":1380.35},{"$f":"Données!$F1180*G$4","v":1307.7},{"$f":"Données!$F1180*H$4","v":1235.05}]
[null,6927,"Grupont","Tellin",2102,1453,{"$f":"Données!$E1181*B$4","v":2417.2999999999997},{"$f":"Données!$E1181*C$4","v":2312.2000000000003},{"$f":"Données!$E1181*D$4","v":2207.1},{"$f":"Données!$E1181*E$4","v":2102},{"$f":"Données!$E1181*F$4","v":1996.8999999999999},{"$f":"Données!$E1181*G$4","v":1891.8},{"$f":"Données!$E1181*H$4","v":1786.7},{"$f":"Données!$F1181*B$4","v":1670.9499999999998},{"$f":"Données!$F1181*C$4","v":1598.3000000000002},{"$f":"Données!$F1181*D$4","v":1525.65},{"$f":"Données!$F1181*E$4","v":1453},{"$f":"Données!$F1181*F$4","v":1380.35},{"$f":"Données!$F1181*G$4","v":1307.7},{"$f":"Données!$F1181*H$4","v":1235.05}]
[null,6927,"Resteigne","Tellin",2102,1453,{"$f":"Données!$E1182*B$4","v":2417.2999999999997},{"$f":"Données!$E1182*C$4","v":2312.2000000000003},{"$f":"Données!$E1182*D$4","v":2207.1},{"$f":"Données!$E1182*E$4","v":2102},{"$f":"Données!$E1182*F$4","v":1996.8999999999999},{"$f":"Données!$E1182*G$4","v":1891.8},{"$f":"Données!$E1182*H$4","v":1786.7},{"$f":"Données!$F1182*B$4","v":1670.9499999999998},{"$f":"Données!$F1182*C$4","v":1598.3000000000002},{"$f":"Données!$F1182*D$4","v":1525.65},{"$f":"Données!$F1182*E$4","v":1453},{"$f":"Données!$F1182*F$4","v":1380.35},{"$f":"Données!$F1182*G$4","v":1307.7},{"$f":"Données!$F1182*H$4","v":1235.05}]
[null,6927,"Tellin","Tellin",2102,1453,{"$f":"Données!$E1183*B$4","v":2417.2999999999997},{"$f":"Données!$E1183*C$4","v":2312.2000000000003},{"$f":"Données!$E1183*D$4","v":2207.1},{"$f":"Données!$E1183*E$4","v":2102},{"$f":"Données!$E1183*F$4","v":1996.8999999999999},{"$f":"Données!$E1183*G$4","v":1891.8},{"$f":"Données!$E1183*H$4","v":1786.7},{"$f":"Données!$F1183*B$4","v":1670.9499999999998},{"$f":"Données!$F1183*C$4","v":1598.3000000000002},{"$f":"Données!$F1183*D$4","v":1525.65},{"$f":"Données!$F1183*E$4","v":1453},{"$f":"Données!$F1183*F$4","v":1380.35},{"$f":"Données!$F1183*G$4","v":1307.7},{"$f":"Données!$F1183*H$4","v":1235.05}]
[null,6929,"Daverdisse","Daverdisse",1803,1428,{"$f":"Données!$E1184*B$4","v":2073.4499999999998},{"$f":"Données!$E1184*C$4","v":1983.3000000000002},{"$f":"Données!$E1184*D$4","v":1893.15},{"$f":"Données!$E1184*E$4","v":1803},{"$f":"Données!$E1184*F$4","v":1712.85},{"$f":"Données!$E1184*G$4","v":1622.7},{"$f":"Données!$E1184*H$4","v":1532.55},{"$f":"Données!$F1184*B$4","v":1642.1999999999998},{"$f":"Données!$F1184*C$4","v":1570.8000000000002},{"$f":"Données!$F1184*D$4","v":1499.4},{"$f":"Données!$F1184*E$4","v":1428},{"$f":"Données!$F1184*F$4","v":1356.6},{"$f":"Données!$F1184*G$4","v":1285.2},{"$f":"Données!$F1184*H$4","v":1213.8}]
[null,6929,"Gembes","Daverdisse",1803,1428,{"$f":"Données!$E1185*B$4","v":2073.4499999999998},{"$f":"Données!$E1185*C$4","v":1983.3000000000002},{"$f":"Données!$E1185*D$4","v":1893.15},{"$f":"Données!$E1185*E$4","v":1803},{"$f":"Données!$E1185*F$4","v":1712.85},{"$f":"Données!$E1185*G$4","v":1622.7},{"$f":"Données!$E1185*H$4","v":1532.55},{"$f":"Données!$F1185*B$4","v":1642.1999999999998},{"$f":"Données!$F1185*C$4","v":1570.8000000000002},{"$f":"Données!$F1185*D$4","v":1499.4},{"$f":"Données!$F1185*E$4","v":1428},{"$f":"Données!$F1185*F$4","v":1356.6},{"$f":"Données!$F1185*G$4","v":1285.2},{"$f":"Données!$F1185*H$4","v":1213.8}]
[null,6929,"Haut-Fays","Daverdisse",1803,1428,{"$f":"Données!$E1186*B$4","v":2073.4499999999998},{"$f":"Données!$E1186*C$4","v":1983.3000000000002},{"$f":"Données!$E1186*D$4","v":1893.15},{"$f":"Données!$E1186*E$4","v":1803},{"$f":"Données!$E1186*F$4","v":1712.85},{"$f":"Données!$E1186*G$4","v":1622.7},{"$f":"Données!$E1186*H$4","v":1532.55},{"$f":"Données!$F1186*B$4","v":1642.1999999999998},{"$f":"Données!$F1186*C$4","v":1570.8000000000002},{"$f":"Données!$F1186*D$4","v":1499.4},{"$f":"Données!$F1186*E$4","v":1428},{"$f":"Données!$F1186*F$4","v":1356.6},{"$f":"Données!$F1186*G$4","v":1285.2},{"$f":"Données!$F1186*H$4","v":1213.8}]
[null,6929,"Porcheresse","Daverdisse",1803,1428,{"$f":"Données!$E1187*B$4","v":2073.4499999999998},{"$f":"Données!$E1187*C$4","v":1983.3000000000002},{"$f":"Données!$E1187*D$4","v":1893.15},{"$f":"Données!$E1187*E$4","v":1803},{"$f":"Données!$E1187*F$4","v":1712.85},{"$f":"Données!$E1187*G$4","v":1622.7},{"$f":"Données!$E1187*H$4","v":1532.55},{"$f":"Données!$F1187*B$4","v":1642.1999999999998},{"$f":"Données!$F1187*C$4","v":1570.8000000000002},{"$f":"Données!$F1187*D$4","v":1499.4},{"$f":"Données!$F1187*E$4","v":1428},{"$f":"Données!$F1187*F$4","v":1356.6},{"$f":"Données!$F1187*G$4","v":1285.2},{"$f":"Données!$F1187*H$4","v":1213.8}]
[null,6940,"Durbuy","Durbuy",2029,1542,{"$f":"Données!$E1188*B$4","v":2333.35},{"$f":"Données!$E1188*C$4","v":2231.9},{"$f":"Données!$E1188*D$4","v":2130.4500000000003},{"$f":"Données!$E1188*E$4","v":2029},{"$f":"Données!$E1188*F$4","v":1927.55},{"$f":"Données!$E1188*G$4","v":1826.1000000000001},{"$f":"Données!$E1188*H$4","v":1724.6499999999999},{"$f":"Données!$F1188*B$4","v":1773.3},{"$f":"Données!$F1188*C$4","v":1696.2},{"$f":"Données!$F1188*D$4","v":1619.1000000000001},{"$f":"Données!$F1188*E$4","v":1542},{"$f":"Données!$F1188*F$4","v":1464.8999999999999},{"$f":"Données!$F1188*G$4","v":1387.8},{"$f":"Données!$F1188*H$4","v":1310.7}]
[null,6940,"Wéris","Durbuy",2029,1542,{"$f":"Données!$E1189*B$4","v":2333.35},{"$f":"Données!$E1189*C$4","v":2231.9},{"$f":"Données!$E1189*D$4","v":2130.4500000000003},{"$f":"Données!$E1189*E$4","v":2029},{"$f":"Données!$E1189*F$4","v":1927.55},{"$f":"Données!$E1189*G$4","v":1826.1000000000001},{"$f":"Données!$E1189*H$4","v":1724.6499999999999},{"$f":"Données!$F1189*B$4","v":1773.3},{"$f":"Données!$F1189*C$4","v":1696.2},{"$f":"Données!$F1189*D$4","v":1619.1000000000001},{"$f":"Données!$F1189*E$4","v":1542},{"$f":"Données!$F1189*F$4","v":1464.8999999999999},{"$f":"Données!$F1189*G$4","v":1387.8},{"$f":"Données!$F1189*H$4","v":1310.7}]
[null,6940,"Grandhan","Durbuy",2029,1542,{"$f":"Données!$E1190*B$4","v":2333.35},{"$f":"Données!$E1190*C$4","v":2231.9},{"$f":"Données!$E1190*D$4","v":2130.4500000000003},{"$f":"Données!$E1190*E$4","v":2029},{"$f":"Données!$E1190*F$4","v":1927.55},{"$f":"Données!$E1190*G$4","v":1826.1000000000001},{"$f":"Données!$E1190*H$4","v":1724.6499999999999},{"$f":"Données!$F1190*B$4","v":1773.3},{"$f":"Données!$F1190*C$4","v":1696.2},{"$f":"Données!$F1190*D$4","v":1619.1000000000001},{"$f":"Données!$F1190*E$4","v":1542},{"$f":"Données!$F1190*F$4","v":1464.8999999999999},{"$f":"Données!$F1190*G$4","v":1387.8},{"$f":"Données!$F1190*H$4","v":1310.7}]
[null,6940,"Septon","Durbuy",2029,1542,{"$f":"Données!$E1191*B$4","v":2333.35},{"$f":"Données!$E1191*C$4","v":2231.9},{"$f":"Données!$E1191*D$4","v":2130.4500000000003},{"$f":"Données!$E1191*E$4","v":2029},{"$f":"Données!$E1191*F$4","v":1927.55},{"$f":"Données!$E1191*G$4","v":1826.1000000000001},{"$f":"Données!$E1191*H$4","v":1724.6499999999999},{"$f":"Données!$F1191*B$4","v":1773.3},{"$f":"Données!$F1191*C$4","v":1696.2},{"$f":"Données!$F1191*D$4","v":1619.1000000000001},{"$f":"Données!$F1191*E$4","v":1542},{"$f":"Données!$F1191*F$4","v":1464.8999999999999},{"$f":"Données!$F1191*G$4","v":1387.8},{"$f":"Données!$F1191*H$4","v":1310.7}]
[null,6941,"Bomal-Sur-Ourthe","Durbuy",2029,1542,{"$f":"Données!$E1192*B$4","v":2333.35},{"$f":"Données!$E1192*C$4","v":2231.9},{"$f":"Données!$E1192*D$4","v":2130.4500000000003},{"$f":"Données!$E1192*E$4","v":2029},{"$f":"Données!$E1192*F$4","v":1927.55},{"$f":"Données!$E1192*G$4","v":1826.1000000000001},{"$f":"Données!$E1192*H$4","v":1724.6499999999999},{"$f":"Données!$F1192*B$4","v":1773.3},{"$f":"Données!$F1192*C$4","v":1696.2},{"$f":"Données!$F1192*D$4","v":1619.1000000000001},{"$f":"Données!$F1192*E$4","v":1542},{"$f":"Données!$F1192*F$4","v":1464.8999999999999},{"$f":"Données!$F1192*G$4","v":1387.8},{"$f":"Données!$F1192*H$4","v":1310.7}]
[null,6941,"Izier","Durbuy",2029,1542,{"$f":"Données!$E1193*B$4","v":2333.35},{"$f":"Données!$E1193*C$4","v":2231.9},{"$f":"Données!$E1193*D$4","v":2130.4500000000003},{"$f":"Données!$E1193*E$4","v":2029},{"$f":"Données!$E1193*F$4","v":1927.55},{"$f":"Données!$E1193*G$4","v":1826.1000000000001},{"$f":"Données!$E1193*H$4","v":1724.6499999999999},{"$f":"Données!$F1193*B$4","v":1773.3},{"$f":"Données!$F1193*C$4","v":1696.2},{"$f":"Données!$F1193*D$4","v":1619.1000000000001},{"$f":"Données!$F1193*E$4","v":1542},{"$f":"Données!$F1193*F$4","v":1464.8999999999999},{"$f":"Données!$F1193*G$4","v":1387.8},{"$f":"Données!$F1193*H$4","v":1310.7}]
[null,6941,"Borlon","Durbuy",2029,1542,{"$f":"Données!$E1194*B$4","v":2333.35},{"$f":"Données!$E1194*C$4","v":2231.9},{"$f":"Données!$E1194*D$4","v":2130.4500000000003},{"$f":"Données!$E1194*E$4","v":2029},{"$f":"Données!$E1194*F$4","v":1927.55},{"$f":"Données!$E1194*G$4","v":1826.1000000000001},{"$f":"Données!$E1194*H$4","v":1724.6499999999999},{"$f":"Données!$F1194*B$4","v":1773.3},{"$f":"Données!$F1194*C$4","v":1696.2},{"$f":"Données!$F1194*D$4","v":1619.1000000000001},{"$f":"Données!$F1194*E$4","v":1542},{"$f":"Données!$F1194*F$4","v":1464.8999999999999},{"$f":"Données!$F1194*G$4","v":1387.8},{"$f":"Données!$F1194*H$4","v":1310.7}]
[null,6941,"Bende","Durbuy",2029,1542,{"$f":"Données!$E1195*B$4","v":2333.35},{"$f":"Données!$E1195*C$4","v":2231.9},{"$f":"Données!$E1195*D$4","v":2130.4500000000003},{"$f":"Données!$E1195*E$4","v":2029},{"$f":"Données!$E1195*F$4","v":1927.55},{"$f":"Données!$E1195*G$4","v":1826.1000000000001},{"$f":"Données!$E1195*H$4","v":1724.6499999999999},{"$f":"Données!$F1195*B$4","v":1773.3},{"$f":"Données!$F1195*C$4","v":1696.2},{"$f":"Données!$F1195*D$4","v":1619.1000000000001},{"$f":"Données!$F1195*E$4","v":1542},{"$f":"Données!$F1195*F$4","v":1464.8999999999999},{"$f":"Données!$F1195*G$4","v":1387.8},{"$f":"Données!$F1195*H$4","v":1310.7}]
[null,6941,"Tohogne","Durbuy",2029,1542,{"$f":"Données!$E1196*B$4","v":2333.35},{"$f":"Données!$E1196*C$4","v":2231.9},{"$f":"Données!$E1196*D$4","v":2130.4500000000003},{"$f":"Données!$E1196*E$4","v":2029},{"$f":"Données!$E1196*F$4","v":1927.55},{"$f":"Données!$E1196*G$4","v":1826.1000000000001},{"$f":"Données!$E1196*H$4","v":1724.6499999999999},{"$f":"Données!$F1196*B$4","v":1773.3},{"$f":"Données!$F1196*C$4","v":1696.2},{"$f":"Données!$F1196*D$4","v":1619.1000000000001},{"$f":"Données!$F1196*E$4","v":1542},{"$f":"Données!$F1196*F$4","v":1464.8999999999999},{"$f":"Données!$F1196*G$4","v":1387.8},{"$f":"Données!$F1196*H$4","v":1310.7}]
[null,6941,"Villers-Sainte-Gertrude","Durbuy",2029,1542,{"$f":"Données!$E1197*B$4","v":2333.35},{"$f":"Données!$E1197*C$4","v":2231.9},{"$f":"Données!$E1197*D$4","v":2130.4500000000003},{"$f":"Données!$E1197*E$4","v":2029},{"$f":"Données!$E1197*F$4","v":1927.55},{"$f":"Données!$E1197*G$4","v":1826.1000000000001},{"$f":"Données!$E1197*H$4","v":1724.6499999999999},{"$f":"Données!$F1197*B$4","v":1773.3},{"$f":"Données!$F1197*C$4","v":1696.2},{"$f":"Données!$F1197*D$4","v":1619.1000000000001},{"$f":"Données!$F1197*E$4","v":1542},{"$f":"Données!$F1197*F$4","v":1464.8999999999999},{"$f":"Données!$F1197*G$4","v":1387.8},{"$f":"Données!$F1197*H$4","v":1310.7}]
[null,6941,"Heyd","Durbuy",2029,1542,{"$f":"Données!$E1198*B$4","v":2333.35},{"$f":"Données!$E1198*C$4","v":2231.9},{"$f":"Données!$E1198*D$4","v":2130.4500000000003},{"$f":"Données!$E1198*E$4","v":2029},{"$f":"Données!$E1198*F$4","v":1927.55},{"$f":"Données!$E1198*G$4","v":1826.1000000000001},{"$f":"Données!$E1198*H$4","v":1724.6499999999999},{"$f":"Données!$F1198*B$4","v":1773.3},{"$f":"Données!$F1198*C$4","v":1696.2},{"$f":"Données!$F1198*D$4","v":1619.1000000000001},{"$f":"Données!$F1198*E$4","v":1542},{"$f":"Données!$F1198*F$4","v":1464.8999999999999},{"$f":"Données!$F1198*G$4","v":1387.8},{"$f":"Données!$F1198*H$4","v":1310.7}]
[null,6950,"Harsin","Nassogne",2101,1378,{"$f":"Données!$E1199*B$4","v":2416.1499999999996},{"$f":"Données!$E1199*C$4","v":2311.1000000000004},{"$f":"Données!$E1199*D$4","v":2206.0500000000002},{"$f":"Données!$E1199*E$4","v":2101},{"$f":"Données!$E1199*F$4","v":1995.9499999999998},{"$f":"Données!$E1199*G$4","v":1890.9},{"$f":"Données!$E1199*H$4","v":1785.85},{"$f":"Données!$F1199*B$4","v":1584.6999999999998},{"$f":"Données!$F1199*C$4","v":1515.8000000000002},{"$f":"Données!$F1199*D$4","v":1446.9},{"$f":"Données!$F1199*E$4","v":1378},{"$f":"Données!$F1199*F$4","v":1309.0999999999999},{"$f":"Données!$F1199*G$4","v":1240.2},{"$f":"Données!$F1199*H$4","v":1171.3}]
[null,6950,"Nassogne","Nassogne",2101,1378,{"$f":"Données!$E1200*B$4","v":2416.1499999999996},{"$f":"Données!$E1200*C$4","v":2311.1000000000004},{"$f":"Données!$E1200*D$4","v":2206.0500000000002},{"$f":"Données!$E1200*E$4","v":2101},{"$f":"Données!$E1200*F$4","v":1995.9499999999998},{"$f":"Données!$E1200*G$4","v":1890.9},{"$f":"Données!$E1200*H$4","v":1785.85},{"$f":"Données!$F1200*B$4","v":1584.6999999999998},{"$f":"Données!$F1200*C$4","v":1515.8000000000002},{"$f":"Données!$F1200*D$4","v":1446.9},{"$f":"Données!$F1200*E$4","v":1378},{"$f":"Données!$F1200*F$4","v":1309.0999999999999},{"$f":"Données!$F1200*G$4","v":1240.2},{"$f":"Données!$F1200*H$4","v":1171.3}]
[null,6951,"Bande","Nassogne",2101,1378,{"$f":"Données!$E1201*B$4","v":2416.1499999999996},{"$f":"Données!$E1201*C$4","v":2311.1000000000004},{"$f":"Données!$E1201*D$4","v":2206.0500000000002},{"$f":"Données!$E1201*E$4","v":2101},{"$f":"Données!$E1201*F$4","v":1995.9499999999998},{"$f":"Données!$E1201*G$4","v":1890.9},{"$f":"Données!$E1201*H$4","v":1785.85},{"$f":"Données!$F1201*B$4","v":1584.6999999999998},{"$f":"Données!$F1201*C$4","v":1515.8000000000002},{"$f":"Données!$F1201*D$4","v":1446.9},{"$f":"Données!$F1201*E$4","v":1378},{"$f":"Données!$F1201*F$4","v":1309.0999999999999},{"$f":"Données!$F1201*G$4","v":1240.2},{"$f":"Données!$F1201*H$4","v":1171.3}]
[null,6952,"Grune","Nassogne",2101,1378,{"$f":"Données!$E1202*B$4","v":2416.1499999999996},{"$f":"Données!$E1202*C$4","v":2311.1000000000004},{"$f":"Données!$E1202*D$4","v":2206.0500000000002},{"$f":"Données!$E1202*E$4","v":2101},{"$f":"Données!$E1202*F$4","v":1995.9499999999998},{"$f":"Données!$E1202*G$4","v":1890.9},{"$f":"Données!$E1202*H$4","v":1785.85},{"$f":"Données!$F1202*B$4","v":1584.6999999999998},{"$f":"Données!$F1202*C$4","v":1515.8000000000002},{"$f":"Données!$F1202*D$4","v":1446.9},{"$f":"Données!$F1202*E$4","v":1378},{"$f":"Données!$F1202*F$4","v":1309.0999999999999},{"$f":"Données!$F1202*G$4","v":1240.2},{"$f":"Données!$F1202*H$4","v":1171.3}]
[null,6953,"Ambly","Nassogne",2101,1378,{"$f":"Données!$E1203*B$4","v":2416.1499999999996},{"$f":"Données!$E1203*C$4","v":2311.1000000000004},{"$f":"Données!$E1203*D$4","v":2206.0500000000002},{"$f":"Données!$E1203*E$4","v":2101},{"$f":"Données!$E1203*F$4","v":1995.9499999999998},{"$f":"Données!$E1203*G$4","v":1890.9},{"$f":"Données!$E1203*H$4","v":1785.85},{"$f":"Données!$F1203*B$4","v":1584.6999999999998},{"$f":"Données!$F1203*C$4","v":1515.8000000000002},{"$f":"Données!$F1203*D$4","v":1446.9},{"$f":"Données!$F1203*E$4","v":1378},{"$f":"Données!$F1203*F$4","v":1309.0999999999999},{"$f":"Données!$F1203*G$4","v":1240.2},{"$f":"Données!$F1203*H$4","v":1171.3}]
[null,6953,"Lesterny","Nassogne",2101,1378,{"$f":"Données!$E1204*B$4","v":2416.1499999999996},{"$f":"Données!$E1204*C$4","v":2311.1000000000004},{"$f":"Données!$E1204*D$4","v":2206.0500000000002},{"$f":"Données!$E1204*E$4","v":2101},{"$f":"Données!$E1204*F$4","v":1995.9499999999998},{"$f":"Données!$E1204*G$4","v":1890.9},{"$f":"Données!$E1204*H$4","v":1785.85},{"$f":"Données!$F1204*B$4","v":1584.6999999999998},{"$f":"Données!$F1204*C$4","v":1515.8000000000002},{"$f":"Données!$F1204*D$4","v":1446.9},{"$f":"Données!$F1204*E$4","v":1378},{"$f":"Données!$F1204*F$4","v":1309.0999999999999},{"$f":"Données!$F1204*G$4","v":1240.2},{"$f":"Données!$F1204*H$4","v":1171.3}]
[null,6953,"Forrières","Nassogne",2101,1378,{"$f":"Données!$E1205*B$4","v":2416.1499999999996},{"$f":"Données!$E1205*C$4","v":2311.1000000000004},{"$f":"Données!$E1205*D$4","v":2206.0500000000002},{"$f":"Données!$E1205*E$4","v":2101},{"$f":"Données!$E1205*F$4","v":1995.9499999999998},{"$f":"Données!$E1205*G$4","v":1890.9},{"$f":"Données!$E1205*H$4","v":1785.85},{"$f":"Données!$F1205*B$4","v":1584.6999999999998},{"$f":"Données!$F1205*C$4","v":1515.8000000000002},{"$f":"Données!$F1205*D$4","v":1446.9},{"$f":"Données!$F1205*E$4","v":1378},{"$f":"Données!$F1205*F$4","v":1309.0999999999999},{"$f":"Données!$F1205*G$4","v":1240.2},{"$f":"Données!$F1205*H$4","v":1171.3}]
[null,6953,"Masbourg","Nassogne",2101,1378,{"$f":"Données!$E1206*B$4","v":2416.1499999999996},{"$f":"Données!$E1206*C$4","v":2311.1000000000004},{"$f":"Données!$E1206*D$4","v":2206.0500000000002},{"$f":"Données!$E1206*E$4","v":2101},{"$f":"Données!$E1206*F$4","v":1995.9499999999998},{"$f":"Données!$E1206*G$4","v":1890.9},{"$f":"Données!$E1206*H$4","v":1785.85},{"$f":"Données!$F1206*B$4","v":1584.6999999999998},{"$f":"Données!$F1206*C$4","v":1515.8000000000002},{"$f":"Données!$F1206*D$4","v":1446.9},{"$f":"Données!$F1206*E$4","v":1378},{"$f":"Données!$F1206*F$4","v":1309.0999999999999},{"$f":"Données!$F1206*G$4","v":1240.2},{"$f":"Données!$F1206*H$4","v":1171.3}]
[null,6960,"Harre","Manhay",1818,1443,{"$f":"Données!$E1207*B$4","v":2090.6999999999998},{"$f":"Données!$E1207*C$4","v":1999.8000000000002},{"$f":"Données!$E1207*D$4","v":1908.9},{"$f":"Données!$E1207*E$4","v":1818},{"$f":"Données!$E1207*F$4","v":1727.1},{"$f":"Données!$E1207*G$4","v":1636.2},{"$f":"Données!$E1207*H$4","v":1545.3},{"$f":"Données!$F1207*B$4","v":1659.4499999999998},{"$f":"Données!$F1207*C$4","v":1587.3000000000002},{"$f":"Données!$F1207*D$4","v":1515.15},{"$f":"Données!$F1207*E$4","v":1443},{"$f":"Données!$F1207*F$4","v":1370.85},{"$f":"Données!$F1207*G$4","v":1298.7},{"$f":"Données!$F1207*H$4","v":1226.55}]
[null,6960,"Odeigne","Manhay",1818,1443,{"$f":"Données!$E1208*B$4","v":2090.6999999999998},{"$f":"Données!$E1208*C$4","v":1999.8000000000002},{"$f":"Données!$E1208*D$4","v":1908.9},{"$f":"Données!$E1208*E$4","v":1818},{"$f":"Données!$E1208*F$4","v":1727.1},{"$f":"Données!$E1208*G$4","v":1636.2},{"$f":"Données!$E1208*H$4","v":1545.3},{"$f":"Données!$F1208*B$4","v":1659.4499999999998},{"$f":"Données!$F1208*C$4","v":1587.3000000000002},{"$f":"Données!$F1208*D$4","v":1515.15},{"$f":"Données!$F1208*E$4","v":1443},{"$f":"Données!$F1208*F$4","v":1370.85},{"$f":"Données!$F1208*G$4","v":1298.7},{"$f":"Données!$F1208*H$4","v":1226.55}]
[null,6960,"Grandmenil","Manhay",1818,1443,{"$f":"Données!$E1209*B$4","v":2090.6999999999998},{"$f":"Données!$E1209*C$4","v":1999.8000000000002},{"$f":"Données!$E1209*D$4","v":1908.9},{"$f":"Données!$E1209*E$4","v":1818},{"$f":"Données!$E1209*F$4","v":1727.1},{"$f":"Données!$E1209*G$4","v":1636.2},{"$f":"Données!$E1209*H$4","v":1545.3},{"$f":"Données!$F1209*B$4","v":1659.4499999999998},{"$f":"Données!$F1209*C$4","v":1587.3000000000002},{"$f":"Données!$F1209*D$4","v":1515.15},{"$f":"Données!$F1209*E$4","v":1443},{"$f":"Données!$F1209*F$4","v":1370.85},{"$f":"Données!$F1209*G$4","v":1298.7},{"$f":"Données!$F1209*H$4","v":1226.55}]
[null,6960,"Malempré","Manhay",1818,1443,{"$f":"Données!$E1210*B$4","v":2090.6999999999998},{"$f":"Données!$E1210*C$4","v":1999.8000000000002},{"$f":"Données!$E1210*D$4","v":1908.9},{"$f":"Données!$E1210*E$4","v":1818},{"$f":"Données!$E1210*F$4","v":1727.1},{"$f":"Données!$E1210*G$4","v":1636.2},{"$f":"Données!$E1210*H$4","v":1545.3},{"$f":"Données!$F1210*B$4","v":1659.4499999999998},{"$f":"Données!$F1210*C$4","v":1587.3000000000002},{"$f":"Données!$F1210*D$4","v":1515.15},{"$f":"Données!$F1210*E$4","v":1443},{"$f":"Données!$F1210*F$4","v":1370.85},{"$f":"Données!$F1210*G$4","v":1298.7},{"$f":"Données!$F1210*H$4","v":1226.55}]
[null,6960,"Manhay","Manhay",1818,1443,{"$f":"Données!$E1211*B$4","v":2090.6999999999998},{"$f":"Données!$E1211*C$4","v":1999.8000000000002},{"$f":"Données!$E1211*D$4","v":1908.9},{"$f":"Données!$E1211*E$4","v":1818},{"$f":"Données!$E1211*F$4","v":1727.1},{"$f":"Données!$E1211*G$4","v":1636.2},{"$f":"Données!$E1211*H$4","v":1545.3},{"$f":"Données!$F1211*B$4","v":1659.4499999999998},{"$f":"Données!$F1211*C$4","v":1587.3000000000002},{"$f":"Données!$F1211*D$4","v":1515.15},{"$f":"Données!$F1211*E$4","v":1443},{"$f":"Données!$F1211*F$4","v":1370.85},{"$f":"Données!$F1211*G$4","v":1298.7},{"$f":"Données!$F1211*H$4","v":1226.55}]
[null,6960,"Dochamps","Manhay",1818,1443,{"$f":"Données!$E1212*B$4","v":2090.6999999999998},{"$f":"Données!$E1212*C$4","v":1999.8000000000002},{"$f":"Données!$E1212*D$4","v":1908.9},{"$f":"Données!$E1212*E$4","v":1818},{"$f":"Données!$E1212*F$4","v":1727.1},{"$f":"Données!$E1212*G$4","v":1636.2},{"$f":"Données!$E1212*H$4","v":1545.3},{"$f":"Données!$F1212*B$4","v":1659.4499999999998},{"$f":"Données!$F1212*C$4","v":1587.3000000000002},{"$f":"Données!$F1212*D$4","v":1515.15},{"$f":"Données!$F1212*E$4","v":1443},{"$f":"Données!$F1212*F$4","v":1370.85},{"$f":"Données!$F1212*G$4","v":1298.7},{"$f":"Données!$F1212*H$4","v":1226.55}]
[null,6960,"Vaux-Chavanne","Manhay",1818,1443,{"$f":"Données!$E1213*B$4","v":2090.6999999999998},{"$f":"Données!$E1213*C$4","v":1999.8000000000002},{"$f":"Données!$E1213*D$4","v":1908.9},{"$f":"Données!$E1213*E$4","v":1818},{"$f":"Données!$E1213*F$4","v":1727.1},{"$f":"Données!$E1213*G$4","v":1636.2},{"$f":"Données!$E1213*H$4","v":1545.3},{"$f":"Données!$F1213*B$4","v":1659.4499999999998},{"$f":"Données!$F1213*C$4","v":1587.3000000000002},{"$f":"Données!$F1213*D$4","v":1515.15},{"$f":"Données!$F1213*E$4","v":1443},{"$f":"Données!$F1213*F$4","v":1370.85},{"$f":"Données!$F1213*G$4","v":1298.7},{"$f":"Données!$F1213*H$4","v":1226.55}]
[null,6970,"Tenneville","Tenneville",2082,1433,{"$f":"Données!$E1214*B$4","v":2394.2999999999997},{"$f":"Données!$E1214*C$4","v":2290.2000000000003},{"$f":"Données!$E1214*D$4","v":2186.1},{"$f":"Données!$E1214*E$4","v":2082},{"$f":"Données!$E1214*F$4","v":1977.8999999999999},{"$f":"Données!$E1214*G$4","v":1873.8},{"$f":"Données!$E1214*H$4","v":1769.7},{"$f":"Données!$F1214*B$4","v":1647.9499999999998},{"$f":"Données!$F1214*C$4","v":1576.3000000000002},{"$f":"Données!$F1214*D$4","v":1504.65},{"$f":"Données!$F1214*E$4","v":1433},{"$f":"Données!$F1214*F$4","v":1361.35},{"$f":"Données!$F1214*G$4","v":1289.7},{"$f":"Données!$F1214*H$4","v":1218.05}]
[null,6971,"Champlon","Tenneville",2082,1433,{"$f":"Données!$E1215*B$4","v":2394.2999999999997},{"$f":"Données!$E1215*C$4","v":2290.2000000000003},{"$f":"Données!$E1215*D$4","v":2186.1},{"$f":"Données!$E1215*E$4","v":2082},{"$f":"Données!$E1215*F$4","v":1977.8999999999999},{"$f":"Données!$E1215*G$4","v":1873.8},{"$f":"Données!$E1215*H$4","v":1769.7},{"$f":"Données!$F1215*B$4","v":1647.9499999999998},{"$f":"Données!$F1215*C$4","v":1576.3000000000002},{"$f":"Données!$F1215*D$4","v":1504.65},{"$f":"Données!$F1215*E$4","v":1433},{"$f":"Données!$F1215*F$4","v":1361.35},{"$f":"Données!$F1215*G$4","v":1289.7},{"$f":"Données!$F1215*H$4","v":1218.05}]
[null,6972,"Erneuville","Tenneville",2082,1433,{"$f":"Données!$E1216*B$4","v":2394.2999999999997},{"$f":"Données!$E1216*C$4","v":2290.2000000000003},{"$f":"Données!$E1216*D$4","v":2186.1},{"$f":"Données!$E1216*E$4","v":2082},{"$f":"Données!$E1216*F$4","v":1977.8999999999999},{"$f":"Données!$E1216*G$4","v":1873.8},{"$f":"Données!$E1216*H$4","v":1769.7},{"$f":"Données!$F1216*B$4","v":1647.9499999999998},{"$f":"Données!$F1216*C$4","v":1576.3000000000002},{"$f":"Données!$F1216*D$4","v":1504.65},{"$f":"Données!$F1216*E$4","v":1433},{"$f":"Données!$F1216*F$4","v":1361.35},{"$f":"Données!$F1216*G$4","v":1289.7},{"$f":"Données!$F1216*H$4","v":1218.05}]
[null,6980,"La Roche-En-Ardenne","La Roche-En-Ardenne",1969,1422,{"$f":"Données!$E1217*B$4","v":2264.35},{"$f":"Données!$E1217*C$4","v":2165.9},{"$f":"Données!$E1217*D$4","v":2067.4500000000003},{"$f":"Données!$E1217*E$4","v":1969},{"$f":"Données!$E1217*F$4","v":1870.55},{"$f":"Données!$E1217*G$4","v":1772.1000000000001},{"$f":"Données!$E1217*H$4","v":1673.6499999999999},{"$f":"Données!$F1217*B$4","v":1635.3},{"$f":"Données!$F1217*C$4","v":1564.2},{"$f":"Données!$F1217*D$4","v":1493.1000000000001},{"$f":"Données!$F1217*E$4","v":1422},{"$f":"Données!$F1217*F$4","v":1350.8999999999999},{"$f":"Données!$F1217*G$4","v":1279.8},{"$f":"Données!$F1217*H$4","v":1208.7}]
[null,6980,"Beausaint","La Roche-En-Ardenne",1969,1422,{"$f":"Données!$E1218*B$4","v":2264.35},{"$f":"Données!$E1218*C$4","v":2165.9},{"$f":"Données!$E1218*D$4","v":2067.4500000000003},{"$f":"Données!$E1218*E$4","v":1969},{"$f":"Données!$E1218*F$4","v":1870.55},{"$f":"Données!$E1218*G$4","v":1772.1000000000001},{"$f":"Données!$E1218*H$4","v":1673.6499999999999},{"$f":"Données!$F1218*B$4","v":1635.3},{"$f":"Données!$F1218*C$4","v":1564.2},{"$f":"Données!$F1218*D$4","v":1493.1000000000001},{"$f":"Données!$F1218*E$4","v":1422},{"$f":"Données!$F1218*F$4","v":1350.8999999999999},{"$f":"Données!$F1218*G$4","v":1279.8},{"$f":"Données!$F1218*H$4","v":1208.7}]
[null,6982,"Samrée","La Roche-En-Ardenne",1969,1422,{"$f":"Données!$E1219*B$4","v":2264.35},{"$f":"Données!$E1219*C$4","v":2165.9},{"$f":"Données!$E1219*D$4","v":2067.4500000000003},{"$f":"Données!$E1219*E$4","v":1969},{"$f":"Données!$E1219*F$4","v":1870.55},{"$f":"Données!$E1219*G$4","v":1772.1000000000001},{"$f":"Données!$E1219*H$4","v":1673.6499999999999},{"$f":"Données!$F1219*B$4","v":1635.3},{"$f":"Données!$F1219*C$4","v":1564.2},{"$f":"Données!$F1219*D$4","v":1493.1000000000001},{"$f":"Données!$F1219*E$4","v":1422},{"$f":"Données!$F1219*F$4","v":1350.8999999999999},{"$f":"Données!$F1219*G$4","v":1279.8},{"$f":"Données!$F1219*H$4","v":1208.7}]
[null,6983,"Ortho","La Roche-En-Ardenne",1969,1422,{"$f":"Données!$E1220*B$4","v":2264.35},{"$f":"Données!$E1220*C$4","v":2165.9},{"$f":"Données!$E1220*D$4","v":2067.4500000000003},{"$f":"Données!$E1220*E$4","v":1969},{"$f":"Données!$E1220*F$4","v":1870.55},{"$f":"Données!$E1220*G$4","v":1772.1000000000001},{"$f":"Données!$E1220*H$4","v":1673.6499999999999},{"$f":"Données!$F1220*B$4","v":1635.3},{"$f":"Données!$F1220*C$4","v":1564.2},{"$f":"Données!$F1220*D$4","v":1493.1000000000001},{"$f":"Données!$F1220*E$4","v":1422},{"$f":"Données!$F1220*F$4","v":1350.8999999999999},{"$f":"Données!$F1220*G$4","v":1279.8},{"$f":"Données!$F1220*H$4","v":1208.7}]
[null,6984,"Hives","La Roche-En-Ardenne",1969,1422,{"$f":"Données!$E1221*B$4","v":2264.35},{"$f":"Données!$E1221*C$4","v":2165.9},{"$f":"Données!$E1221*D$4","v":2067.4500000000003},{"$f":"Données!$E1221*E$4","v":1969},{"$f":"Données!$E1221*F$4","v":1870.55},{"$f":"Données!$E1221*G$4","v":1772.1000000000001},{"$f":"Données!$E1221*H$4","v":1673.6499999999999},{"$f":"Données!$F1221*B$4","v":1635.3},{"$f":"Données!$F1221*C$4","v":1564.2},{"$f":"Données!$F1221*D$4","v":1493.1000000000001},{"$f":"Données!$F1221*E$4","v":1422},{"$f":"Données!$F1221*F$4","v":1350.8999999999999},{"$f":"Données!$F1221*G$4","v":1279.8},{"$f":"Données!$F1221*H$4","v":1208.7}]
[null,6986,"Halleux","La Roche-En-Ardenne",1969,1422,{"$f":"Données!$E1222*B$4","v":2264.35},{"$f":"Données!$E1222*C$4","v":2165.9},{"$f":"Données!$E1222*D$4","v":2067.4500000000003},{"$f":"Données!$E1222*E$4","v":1969},{"$f":"Données!$E1222*F$4","v":1870.55},{"$f":"Données!$E1222*G$4","v":1772.1000000000001},{"$f":"Données!$E1222*H$4","v":1673.6499999999999},{"$f":"Données!$F1222*B$4","v":1635.3},{"$f":"Données!$F1222*C$4","v":1564.2},{"$f":"Données!$F1222*D$4","v":1493.1000000000001},{"$f":"Données!$F1222*E$4","v":1422},{"$f":"Données!$F1222*F$4","v":1350.8999999999999},{"$f":"Données!$F1222*G$4","v":1279.8},{"$f":"Données!$F1222*H$4","v":1208.7}]
[null,6987,"Beffe","Rendeux",1804,1393,{"$f":"Données!$E1223*B$4","v":2074.6},{"$f":"Données!$E1223*C$4","v":1984.4},{"$f":"Données!$E1223*D$4","v":1894.2},{"$f":"Données!$E1223*E$4","v":1804},{"$f":"Données!$E1223*F$4","v":1713.8},{"$f":"Données!$E1223*G$4","v":1623.6000000000001},{"$f":"Données!$E1223*H$4","v":1533.3999999999999},{"$f":"Données!$F1223*B$4","v":1601.9499999999998},{"$f":"Données!$F1223*C$4","v":1532.3000000000002},{"$f":"Données!$F1223*D$4","v":1462.65},{"$f":"Données!$F1223*E$4","v":1393},{"$f":"Données!$F1223*F$4","v":1323.35},{"$f":"Données!$F1223*G$4","v":1253.7},{"$f":"Données!$F1223*H$4","v":1184.05}]
[null,6987,"Hodister","Rendeux",1804,1393,{"$f":"Données!$E1224*B$4","v":2074.6},{"$f":"Données!$E1224*C$4","v":1984.4},{"$f":"Données!$E1224*D$4","v":1894.2},{"$f":"Données!$E1224*E$4","v":1804},{"$f":"Données!$E1224*F$4","v":1713.8},{"$f":"Données!$E1224*G$4","v":1623.6000000000001},{"$f":"Données!$E1224*H$4","v":1533.3999999999999},{"$f":"Données!$F1224*B$4","v":1601.9499999999998},{"$f":"Données!$F1224*C$4","v":1532.3000000000002},{"$f":"Données!$F1224*D$4","v":1462.65},{"$f":"Données!$F1224*E$4","v":1393},{"$f":"Données!$F1224*F$4","v":1323.35},{"$f":"Données!$F1224*G$4","v":1253.7},{"$f":"Données!$F1224*H$4","v":1184.05}]
[null,6987,"Marcourt","Rendeux",1804,1393,{"$f":"Données!$E1225*B$4","v":2074.6},{"$f":"Données!$E1225*C$4","v":1984.4},{"$f":"Données!$E1225*D$4","v":1894.2},{"$f":"Données!$E1225*E$4","v":1804},{"$f":"Données!$E1225*F$4","v":1713.8},{"$f":"Données!$E1225*G$4","v":1623.6000000000001},{"$f":"Données!$E1225*H$4","v":1533.3999999999999},{"$f":"Données!$F1225*B$4","v":1601.9499999999998},{"$f":"Données!$F1225*C$4","v":1532.3000000000002},{"$f":"Données!$F1225*D$4","v":1462.65},{"$f":"Données!$F1225*E$4","v":1393},{"$f":"Données!$F1225*F$4","v":1323.35},{"$f":"Données!$F1225*G$4","v":1253.7},{"$f":"Données!$F1225*H$4","v":1184.05}]
[null,6987,"Rendeux","Rendeux",1804,1393,{"$f":"Données!$E1226*B$4","v":2074.6},{"$f":"Données!$E1226*C$4","v":1984.4},{"$f":"Données!$E1226*D$4","v":1894.2},{"$f":"Données!$E1226*E$4","v":1804},{"$f":"Données!$E1226*F$4","v":1713.8},{"$f":"Données!$E1226*G$4","v":1623.6000000000001},{"$f":"Données!$E1226*H$4","v":1533.3999999999999},{"$f":"Données!$F1226*B$4","v":1601.9499999999998},{"$f":"Données!$F1226*C$4","v":1532.3000000000002},{"$f":"Données!$F1226*D$4","v":1462.65},{"$f":"Données!$F1226*E$4","v":1393},{"$f":"Données!$F1226*F$4","v":1323.35},{"$f":"Données!$F1226*G$4","v":1253.7},{"$f":"Données!$F1226*H$4","v":1184.05}]
[null,6990,"Marenne","Hotton",1718,1373,{"$f":"Données!$E1227*B$4","v":1975.6999999999998},{"$f":"Données!$E1227*C$4","v":1889.8000000000002},{"$f":"Données!$E1227*D$4","v":1803.9},{"$f":"Données!$E1227*E$4","v":1718},{"$f":"Données!$E1227*F$4","v":1632.1},{"$f":"Données!$E1227*G$4","v":1546.2},{"$f":"Données!$E1227*H$4","v":1460.3},{"$f":"Données!$F1227*B$4","v":1578.9499999999998},{"$f":"Données!$F1227*C$4","v":1510.3000000000002},{"$f":"Données!$F1227*D$4","v":1441.65},{"$f":"Données!$F1227*E$4","v":1373},{"$f":"Données!$F1227*F$4","v":1304.3499999999999},{"$f":"Données!$F1227*G$4","v":1235.7},{"$f":"Données!$F1227*H$4","v":1167.05}]
[null,6990,"Hampteau","Hotton",1718,1373,{"$f":"Données!$E1228*B$4","v":1975.6999999999998},{"$f":"Données!$E1228*C$4","v":1889.8000000000002},{"$f":"Données!$E1228*D$4","v":1803.9},{"$f":"Données!$E1228*E$4","v":1718},{"$f":"Données!$E1228*F$4","v":1632.1},{"$f":"Données!$E1228*G$4","v":1546.2},{"$f":"Données!$E1228*H$4","v":1460.3},{"$f":"Données!$F1228*B$4","v":1578.9499999999998},{"$f":"Données!$F1228*C$4","v":1510.3000000000002},{"$f":"Données!$F1228*D$4","v":1441.65},{"$f":"Données!$F1228*E$4","v":1373},{"$f":"Données!$F1228*F$4","v":1304.3499999999999},{"$f":"Données!$F1228*G$4","v":1235.7},{"$f":"Données!$F1228*H$4","v":1167.05}]
[null,6990,"Hotton","Hotton",1718,1373,{"$f":"Données!$E1229*B$4","v":1975.6999999999998},{"$f":"Données!$E1229*C$4","v":1889.8000000000002},{"$f":"Données!$E1229*D$4","v":1803.9},{"$f":"Données!$E1229*E$4","v":1718},{"$f":"Données!$E1229*F$4","v":1632.1},{"$f":"Données!$E1229*G$4","v":1546.2},{"$f":"Données!$E1229*H$4","v":1460.3},{"$f":"Données!$F1229*B$4","v":1578.9499999999998},{"$f":"Données!$F1229*C$4","v":1510.3000000000002},{"$f":"Données!$F1229*D$4","v":1441.65},{"$f":"Données!$F1229*E$4","v":1373},{"$f":"Données!$F1229*F$4","v":1304.3499999999999},{"$f":"Données!$F1229*G$4","v":1235.7},{"$f":"Données!$F1229*H$4","v":1167.05}]
[null,6990,"Fronville","Hotton",1718,1373,{"$f":"Données!$E1230*B$4","v":1975.6999999999998},{"$f":"Données!$E1230*C$4","v":1889.8000000000002},{"$f":"Données!$E1230*D$4","v":1803.9},{"$f":"Données!$E1230*E$4","v":1718},{"$f":"Données!$E1230*F$4","v":1632.1},{"$f":"Données!$E1230*G$4","v":1546.2},{"$f":"Données!$E1230*H$4","v":1460.3},{"$f":"Données!$F1230*B$4","v":1578.9499999999998},{"$f":"Données!$F1230*C$4","v":1510.3000000000002},{"$f":"Données!$F1230*D$4","v":1441.65},{"$f":"Données!$F1230*E$4","v":1373},{"$f":"Données!$F1230*F$4","v":1304.3499999999999},{"$f":"Données!$F1230*G$4","v":1235.7},{"$f":"Données!$F1230*H$4","v":1167.05}]
[null,6997,"Soy","Erezée",2017,1426,{"$f":"Données!$E1231*B$4","v":2319.5499999999997},{"$f":"Données!$E1231*C$4","v":2218.7000000000003},{"$f":"Données!$E1231*D$4","v":2117.85},{"$f":"Données!$E1231*E$4","v":2017},{"$f":"Données!$E1231*F$4","v":1916.1499999999999},{"$f":"Données!$E1231*G$4","v":1815.3},{"$f":"Données!$E1231*H$4","v":1714.45},{"$f":"Données!$F1231*B$4","v":1639.8999999999999},{"$f":"Données!$F1231*C$4","v":1568.6000000000001},{"$f":"Données!$F1231*D$4","v":1497.3},{"$f":"Données!$F1231*E$4","v":1426},{"$f":"Données!$F1231*F$4","v":1354.7},{"$f":"Données!$F1231*G$4","v":1283.4000000000001},{"$f":"Données!$F1231*H$4","v":1212.0999999999999}]
[null,6997,"Erezée","Erezée",2017,1426,{"$f":"Données!$E1232*B$4","v":2319.5499999999997},{"$f":"Données!$E1232*C$4","v":2218.7000000000003},{"$f":"Données!$E1232*D$4","v":2117.85},{"$f":"Données!$E1232*E$4","v":2017},{"$f":"Données!$E1232*F$4","v":1916.1499999999999},{"$f":"Données!$E1232*G$4","v":1815.3},{"$f":"Données!$E1232*H$4","v":1714.45},{"$f":"Données!$F1232*B$4","v":1639.8999999999999},{"$f":"Données!$F1232*C$4","v":1568.6000000000001},{"$f":"Données!$F1232*D$4","v":1497.3},{"$f":"Données!$F1232*E$4","v":1426},{"$f":"Données!$F1232*F$4","v":1354.7},{"$f":"Données!$F1232*G$4","v":1283.4000000000001},{"$f":"Données!$F1232*H$4","v":1212.0999999999999}]
[null,6997,"Amonines","Erezée",2017,1426,{"$f":"Données!$E1233*B$4","v":2319.5499999999997},{"$f":"Données!$E1233*C$4","v":2218.7000000000003},{"$f":"Données!$E1233*D$4","v":2117.85},{"$f":"Données!$E1233*E$4","v":2017},{"$f":"Données!$E1233*F$4","v":1916.1499999999999},{"$f":"Données!$E1233*G$4","v":1815.3},{"$f":"Données!$E1233*H$4","v":1714.45},{"$f":"Données!$F1233*B$4","v":1639.8999999999999},{"$f":"Données!$F1233*C$4","v":1568.6000000000001},{"$f":"Données!$F1233*D$4","v":1497.3},{"$f":"Données!$F1233*E$4","v":1426},{"$f":"Données!$F1233*F$4","v":1354.7},{"$f":"Données!$F1233*G$4","v":1283.4000000000001},{"$f":"Données!$F1233*H$4","v":1212.0999999999999}]
[null,6997,"Mormont","Erezée",2017,1426,{"$f":"Données!$E1234*B$4","v":2319.5499999999997},{"$f":"Données!$E1234*C$4","v":2218.7000000000003},{"$f":"Données!$E1234*D$4","v":2117.85},{"$f":"Données!$E1234*E$4","v":2017},{"$f":"Données!$E1234*F$4","v":1916.1499999999999},{"$f":"Données!$E1234*G$4","v":1815.3},{"$f":"Données!$E1234*H$4","v":1714.45},{"$f":"Données!$F1234*B$4","v":1639.8999999999999},{"$f":"Données!$F1234*C$4","v":1568.6000000000001},{"$f":"Données!$F1234*D$4","v":1497.3},{"$f":"Données!$F1234*E$4","v":1426},{"$f":"Données!$F1234*F$4","v":1354.7},{"$f":"Données!$F1234*G$4","v":1283.4000000000001},{"$f":"Données!$F1234*H$4","v":1212.0999999999999}]
[null,7000,"Mons","Mons",1790,1410,{"$f":"Données!$E1235*B$4","v":2058.5},{"$f":"Données!$E1235*C$4","v":1969.0000000000002},{"$f":"Données!$E1235*D$4","v":1879.5},{"$f":"Données!$E1235*E$4","v":1790},{"$f":"Données!$E1235*F$4","v":1700.5},{"$f":"Données!$E1235*G$4","v":1611},{"$f":"Données!$E1235*H$4","v":1521.5},{"$f":"Données!$F1235*B$4","v":1621.4999999999998},{"$f":"Données!$F1235*C$4","v":1551.0000000000002},{"$f":"Données!$F1235*D$4","v":1480.5},{"$f":"Données!$F1235*E$4","v":1410},{"$f":"Données!$F1235*F$4","v":1339.5},{"$f":"Données!$F1235*G$4","v":1269},{"$f":"Données!$F1235*H$4","v":1198.5}]
[null,7011,"Ghlin","Mons",1790,1410,{"$f":"Données!$E1236*B$4","v":2058.5},{"$f":"Données!$E1236*C$4","v":1969.0000000000002},{"$f":"Données!$E1236*D$4","v":1879.5},{"$f":"Données!$E1236*E$4","v":1790},{"$f":"Données!$E1236*F$4","v":1700.5},{"$f":"Données!$E1236*G$4","v":1611},{"$f":"Données!$E1236*H$4","v":1521.5},{"$f":"Données!$F1236*B$4","v":1621.4999999999998},{"$f":"Données!$F1236*C$4","v":1551.0000000000002},{"$f":"Données!$F1236*D$4","v":1480.5},{"$f":"Données!$F1236*E$4","v":1410},{"$f":"Données!$F1236*F$4","v":1339.5},{"$f":"Données!$F1236*G$4","v":1269},{"$f":"Données!$F1236*H$4","v":1198.5}]
[null,7012,"Jemappes","Mons",1790,1410,{"$f":"Données!$E1237*B$4","v":2058.5},{"$f":"Données!$E1237*C$4","v":1969.0000000000002},{"$f":"Données!$E1237*D$4","v":1879.5},{"$f":"Données!$E1237*E$4","v":1790},{"$f":"Données!$E1237*F$4","v":1700.5},{"$f":"Données!$E1237*G$4","v":1611},{"$f":"Données!$E1237*H$4","v":1521.5},{"$f":"Données!$F1237*B$4","v":1621.4999999999998},{"$f":"Données!$F1237*C$4","v":1551.0000000000002},{"$f":"Données!$F1237*D$4","v":1480.5},{"$f":"Données!$F1237*E$4","v":1410},{"$f":"Données!$F1237*F$4","v":1339.5},{"$f":"Données!$F1237*G$4","v":1269},{"$f":"Données!$F1237*H$4","v":1198.5}]
[null,7012,"Flénu","Mons",1790,1410,{"$f":"Données!$E1238*B$4","v":2058.5},{"$f":"Données!$E1238*C$4","v":1969.0000000000002},{"$f":"Données!$E1238*D$4","v":1879.5},{"$f":"Données!$E1238*E$4","v":1790},{"$f":"Données!$E1238*F$4","v":1700.5},{"$f":"Données!$E1238*G$4","v":1611},{"$f":"Données!$E1238*H$4","v":1521.5},{"$f":"Données!$F1238*B$4","v":1621.4999999999998},{"$f":"Données!$F1238*C$4","v":1551.0000000000002},{"$f":"Données!$F1238*D$4","v":1480.5},{"$f":"Données!$F1238*E$4","v":1410},{"$f":"Données!$F1238*F$4","v":1339.5},{"$f":"Données!$F1238*G$4","v":1269},{"$f":"Données!$F1238*H$4","v":1198.5}]
[null,7020,"Maisières","Mons",1790,1410,{"$f":"Données!$E1239*B$4","v":2058.5},{"$f":"Données!$E1239*C$4","v":1969.0000000000002},{"$f":"Données!$E1239*D$4","v":1879.5},{"$f":"Données!$E1239*E$4","v":1790},{"$f":"Données!$E1239*F$4","v":1700.5},{"$f":"Données!$E1239*G$4","v":1611},{"$f":"Données!$E1239*H$4","v":1521.5},{"$f":"Données!$F1239*B$4","v":1621.4999999999998},{"$f":"Données!$F1239*C$4","v":1551.0000000000002},{"$f":"Données!$F1239*D$4","v":1480.5},{"$f":"Données!$F1239*E$4","v":1410},{"$f":"Données!$F1239*F$4","v":1339.5},{"$f":"Données!$F1239*G$4","v":1269},{"$f":"Données!$F1239*H$4","v":1198.5}]
[null,7020,"Nimy","Mons",1790,1410,{"$f":"Données!$E1240*B$4","v":2058.5},{"$f":"Données!$E1240*C$4","v":1969.0000000000002},{"$f":"Données!$E1240*D$4","v":1879.5},{"$f":"Données!$E1240*E$4","v":1790},{"$f":"Données!$E1240*F$4","v":1700.5},{"$f":"Données!$E1240*G$4","v":1611},{"$f":"Données!$E1240*H$4","v":1521.5},{"$f":"Données!$F1240*B$4","v":1621.4999999999998},{"$f":"Données!$F1240*C$4","v":1551.0000000000002},{"$f":"Données!$F1240*D$4","v":1480.5},{"$f":"Données!$F1240*E$4","v":1410},{"$f":"Données!$F1240*F$4","v":1339.5},{"$f":"Données!$F1240*G$4","v":1269},{"$f":"Données!$F1240*H$4","v":1198.5}]
[null,7021,"Havre","Mons",1790,1410,{"$f":"Données!$E1241*B$4","v":2058.5},{"$f":"Données!$E1241*C$4","v":1969.0000000000002},{"$f":"Données!$E1241*D$4","v":1879.5},{"$f":"Données!$E1241*E$4","v":1790},{"$f":"Données!$E1241*F$4","v":1700.5},{"$f":"Données!$E1241*G$4","v":1611},{"$f":"Données!$E1241*H$4","v":1521.5},{"$f":"Données!$F1241*B$4","v":1621.4999999999998},{"$f":"Données!$F1241*C$4","v":1551.0000000000002},{"$f":"Données!$F1241*D$4","v":1480.5},{"$f":"Données!$F1241*E$4","v":1410},{"$f":"Données!$F1241*F$4","v":1339.5},{"$f":"Données!$F1241*G$4","v":1269},{"$f":"Données!$F1241*H$4","v":1198.5}]
[null,7022,"Mesvin","Mons",1790,1410,{"$f":"Données!$E1242*B$4","v":2058.5},{"$f":"Données!$E1242*C$4","v":1969.0000000000002},{"$f":"Données!$E1242*D$4","v":1879.5},{"$f":"Données!$E1242*E$4","v":1790},{"$f":"Données!$E1242*F$4","v":1700.5},{"$f":"Données!$E1242*G$4","v":1611},{"$f":"Données!$E1242*H$4","v":1521.5},{"$f":"Données!$F1242*B$4","v":1621.4999999999998},{"$f":"Données!$F1242*C$4","v":1551.0000000000002},{"$f":"Données!$F1242*D$4","v":1480.5},{"$f":"Données!$F1242*E$4","v":1410},{"$f":"Données!$F1242*F$4","v":1339.5},{"$f":"Données!$F1242*G$4","v":1269},{"$f":"Données!$F1242*H$4","v":1198.5}]
[null,7022,"Nouvelles","Mons",1790,1410,{"$f":"Données!$E1243*B$4","v":2058.5},{"$f":"Données!$E1243*C$4","v":1969.0000000000002},{"$f":"Données!$E1243*D$4","v":1879.5},{"$f":"Données!$E1243*E$4","v":1790},{"$f":"Données!$E1243*F$4","v":1700.5},{"$f":"Données!$E1243*G$4","v":1611},{"$f":"Données!$E1243*H$4","v":1521.5},{"$f":"Données!$F1243*B$4","v":1621.4999999999998},{"$f":"Données!$F1243*C$4","v":1551.0000000000002},{"$f":"Données!$F1243*D$4","v":1480.5},{"$f":"Données!$F1243*E$4","v":1410},{"$f":"Données!$F1243*F$4","v":1339.5},{"$f":"Données!$F1243*G$4","v":1269},{"$f":"Données!$F1243*H$4","v":1198.5}]
[null,7022,"Harmignies","Mons",1790,1410,{"$f":"Données!$E1244*B$4","v":2058.5},{"$f":"Données!$E1244*C$4","v":1969.0000000000002},{"$f":"Données!$E1244*D$4","v":1879.5},{"$f":"Données!$E1244*E$4","v":1790},{"$f":"Données!$E1244*F$4","v":1700.5},{"$f":"Données!$E1244*G$4","v":1611},{"$f":"Données!$E1244*H$4","v":1521.5},{"$f":"Données!$F1244*B$4","v":1621.4999999999998},{"$f":"Données!$F1244*C$4","v":1551.0000000000002},{"$f":"Données!$F1244*D$4","v":1480.5},{"$f":"Données!$F1244*E$4","v":1410},{"$f":"Données!$F1244*F$4","v":1339.5},{"$f":"Données!$F1244*G$4","v":1269},{"$f":"Données!$F1244*H$4","v":1198.5}]
[null,7022,"Harveng","Mons",1790,1410,{"$f":"Données!$E1245*B$4","v":2058.5},{"$f":"Données!$E1245*C$4","v":1969.0000000000002},{"$f":"Données!$E1245*D$4","v":1879.5},{"$f":"Données!$E1245*E$4","v":1790},{"$f":"Données!$E1245*F$4","v":1700.5},{"$f":"Données!$E1245*G$4","v":1611},{"$f":"Données!$E1245*H$4","v":1521.5},{"$f":"Données!$F1245*B$4","v":1621.4999999999998},{"$f":"Données!$F1245*C$4","v":1551.0000000000002},{"$f":"Données!$F1245*D$4","v":1480.5},{"$f":"Données!$F1245*E$4","v":1410},{"$f":"Données!$F1245*F$4","v":1339.5},{"$f":"Données!$F1245*G$4","v":1269},{"$f":"Données!$F1245*H$4","v":1198.5}]
[null,7022,"Hyon","Mons",1790,1410,{"$f":"Données!$E1246*B$4","v":2058.5},{"$f":"Données!$E1246*C$4","v":1969.0000000000002},{"$f":"Données!$E1246*D$4","v":1879.5},{"$f":"Données!$E1246*E$4","v":1790},{"$f":"Données!$E1246*F$4","v":1700.5},{"$f":"Données!$E1246*G$4","v":1611},{"$f":"Données!$E1246*H$4","v":1521.5},{"$f":"Données!$F1246*B$4","v":1621.4999999999998},{"$f":"Données!$F1246*C$4","v":1551.0000000000002},{"$f":"Données!$F1246*D$4","v":1480.5},{"$f":"Données!$F1246*E$4","v":1410},{"$f":"Données!$F1246*F$4","v":1339.5},{"$f":"Données!$F1246*G$4","v":1269},{"$f":"Données!$F1246*H$4","v":1198.5}]
[null,7024,"Ciply","Mons",1790,1410,{"$f":"Données!$E1247*B$4","v":2058.5},{"$f":"Données!$E1247*C$4","v":1969.0000000000002},{"$f":"Données!$E1247*D$4","v":1879.5},{"$f":"Données!$E1247*E$4","v":1790},{"$f":"Données!$E1247*F$4","v":1700.5},{"$f":"Données!$E1247*G$4","v":1611},{"$f":"Données!$E1247*H$4","v":1521.5},{"$f":"Données!$F1247*B$4","v":1621.4999999999998},{"$f":"Données!$F1247*C$4","v":1551.0000000000002},{"$f":"Données!$F1247*D$4","v":1480.5},{"$f":"Données!$F1247*E$4","v":1410},{"$f":"Données!$F1247*F$4","v":1339.5},{"$f":"Données!$F1247*G$4","v":1269},{"$f":"Données!$F1247*H$4","v":1198.5}]
[null,7030,"Saint-Symphorien","Mons",1790,1410,{"$f":"Données!$E1248*B$4","v":2058.5},{"$f":"Données!$E1248*C$4","v":1969.0000000000002},{"$f":"Données!$E1248*D$4","v":1879.5},{"$f":"Données!$E1248*E$4","v":1790},{"$f":"Données!$E1248*F$4","v":1700.5},{"$f":"Données!$E1248*G$4","v":1611},{"$f":"Données!$E1248*H$4","v":1521.5},{"$f":"Données!$F1248*B$4","v":1621.4999999999998},{"$f":"Données!$F1248*C$4","v":1551.0000000000002},{"$f":"Données!$F1248*D$4","v":1480.5},{"$f":"Données!$F1248*E$4","v":1410},{"$f":"Données!$F1248*F$4","v":1339.5},{"$f":"Données!$F1248*G$4","v":1269},{"$f":"Données!$F1248*H$4","v":1198.5}]
[null,7031,"Villers-Saint-Ghislain","Mons",1790,1410,{"$f":"Données!$E1249*B$4","v":2058.5},{"$f":"Données!$E1249*C$4","v":1969.0000000000002},{"$f":"Données!$E1249*D$4","v":1879.5},{"$f":"Données!$E1249*E$4","v":1790},{"$f":"Données!$E1249*F$4","v":1700.5},{"$f":"Données!$E1249*G$4","v":1611},{"$f":"Données!$E1249*H$4","v":1521.5},{"$f":"Données!$F1249*B$4","v":1621.4999999999998},{"$f":"Données!$F1249*C$4","v":1551.0000000000002},{"$f":"Données!$F1249*D$4","v":1480.5},{"$f":"Données!$F1249*E$4","v":1410},{"$f":"Données!$F1249*F$4","v":1339.5},{"$f":"Données!$F1249*G$4","v":1269},{"$f":"Données!$F1249*H$4","v":1198.5}]
[null,7032,"Spiennes","Mons",1790,1410,{"$f":"Données!$E1250*B$4","v":2058.5},{"$f":"Données!$E1250*C$4","v":1969.0000000000002},{"$f":"Données!$E1250*D$4","v":1879.5},{"$f":"Données!$E1250*E$4","v":1790},{"$f":"Données!$E1250*F$4","v":1700.5},{"$f":"Données!$E1250*G$4","v":1611},{"$f":"Données!$E1250*H$4","v":1521.5},{"$f":"Données!$F1250*B$4","v":1621.4999999999998},{"$f":"Données!$F1250*C$4","v":1551.0000000000002},{"$f":"Données!$F1250*D$4","v":1480.5},{"$f":"Données!$F1250*E$4","v":1410},{"$f":"Données!$F1250*F$4","v":1339.5},{"$f":"Données!$F1250*G$4","v":1269},{"$f":"Données!$F1250*H$4","v":1198.5}]
[null,7033,"Cuesmes","Mons",1790,1410,{"$f":"Données!$E1251*B$4","v":2058.5},{"$f":"Données!$E1251*C$4","v":1969.0000000000002},{"$f":"Données!$E1251*D$4","v":1879.5},{"$f":"Données!$E1251*E$4","v":1790},{"$f":"Données!$E1251*F$4","v":1700.5},{"$f":"Données!$E1251*G$4","v":1611},{"$f":"Données!$E1251*H$4","v":1521.5},{"$f":"Données!$F1251*B$4","v":1621.4999999999998},{"$f":"Données!$F1251*C$4","v":1551.0000000000002},{"$f":"Données!$F1251*D$4","v":1480.5},{"$f":"Données!$F1251*E$4","v":1410},{"$f":"Données!$F1251*F$4","v":1339.5},{"$f":"Données!$F1251*G$4","v":1269},{"$f":"Données!$F1251*H$4","v":1198.5}]
[null,7034,"Obourg","Mons",1790,1410,{"$f":"Données!$E1252*B$4","v":2058.5},{"$f":"Données!$E1252*C$4","v":1969.0000000000002},{"$f":"Données!$E1252*D$4","v":1879.5},{"$f":"Données!$E1252*E$4","v":1790},{"$f":"Données!$E1252*F$4","v":1700.5},{"$f":"Données!$E1252*G$4","v":1611},{"$f":"Données!$E1252*H$4","v":1521.5},{"$f":"Données!$F1252*B$4","v":1621.4999999999998},{"$f":"Données!$F1252*C$4","v":1551.0000000000002},{"$f":"Données!$F1252*D$4","v":1480.5},{"$f":"Données!$F1252*E$4","v":1410},{"$f":"Données!$F1252*F$4","v":1339.5},{"$f":"Données!$F1252*G$4","v":1269},{"$f":"Données!$F1252*H$4","v":1198.5}]
[null,7034,"Saint-Denis","Mons",1790,1410,{"$f":"Données!$E1253*B$4","v":2058.5},{"$f":"Données!$E1253*C$4","v":1969.0000000000002},{"$f":"Données!$E1253*D$4","v":1879.5},{"$f":"Données!$E1253*E$4","v":1790},{"$f":"Données!$E1253*F$4","v":1700.5},{"$f":"Données!$E1253*G$4","v":1611},{"$f":"Données!$E1253*H$4","v":1521.5},{"$f":"Données!$F1253*B$4","v":1621.4999999999998},{"$f":"Données!$F1253*C$4","v":1551.0000000000002},{"$f":"Données!$F1253*D$4","v":1480.5},{"$f":"Données!$F1253*E$4","v":1410},{"$f":"Données!$F1253*F$4","v":1339.5},{"$f":"Données!$F1253*G$4","v":1269},{"$f":"Données!$F1253*H$4","v":1198.5}]
[null,7040,"Blaregnies","Quévy",1678,1294,{"$f":"Données!$E1254*B$4","v":1929.6999999999998},{"$f":"Données!$E1254*C$4","v":1845.8000000000002},{"$f":"Données!$E1254*D$4","v":1761.9},{"$f":"Données!$E1254*E$4","v":1678},{"$f":"Données!$E1254*F$4","v":1594.1},{"$f":"Données!$E1254*G$4","v":1510.2},{"$f":"Données!$E1254*H$4","v":1426.3},{"$f":"Données!$F1254*B$4","v":1488.1},{"$f":"Données!$F1254*C$4","v":1423.4},{"$f":"Données!$F1254*D$4","v":1358.7},{"$f":"Données!$F1254*E$4","v":1294},{"$f":"Données!$F1254*F$4","v":1229.3},{"$f":"Données!$F1254*G$4","v":1164.6000000000001},{"$f":"Données!$F1254*H$4","v":1099.8999999999999}]
[null,7040,"Bougnies","Quévy",1678,1294,{"$f":"Données!$E1255*B$4","v":1929.6999999999998},{"$f":"Données!$E1255*C$4","v":1845.8000000000002},{"$f":"Données!$E1255*D$4","v":1761.9},{"$f":"Données!$E1255*E$4","v":1678},{"$f":"Données!$E1255*F$4","v":1594.1},{"$f":"Données!$E1255*G$4","v":1510.2},{"$f":"Données!$E1255*H$4","v":1426.3},{"$f":"Données!$F1255*B$4","v":1488.1},{"$f":"Données!$F1255*C$4","v":1423.4},{"$f":"Données!$F1255*D$4","v":1358.7},{"$f":"Données!$F1255*E$4","v":1294},{"$f":"Données!$F1255*F$4","v":1229.3},{"$f":"Données!$F1255*G$4","v":1164.6000000000001},{"$f":"Données!$F1255*H$4","v":1099.8999999999999}]
[null,7040,"Genly","Quévy",1678,1294,{"$f":"Données!$E1256*B$4","v":1929.6999999999998},{"$f":"Données!$E1256*C$4","v":1845.8000000000002},{"$f":"Données!$E1256*D$4","v":1761.9},{"$f":"Données!$E1256*E$4","v":1678},{"$f":"Données!$E1256*F$4","v":1594.1},{"$f":"Données!$E1256*G$4","v":1510.2},{"$f":"Données!$E1256*H$4","v":1426.3},{"$f":"Données!$F1256*B$4","v":1488.1},{"$f":"Données!$F1256*C$4","v":1423.4},{"$f":"Données!$F1256*D$4","v":1358.7},{"$f":"Données!$F1256*E$4","v":1294},{"$f":"Données!$F1256*F$4","v":1229.3},{"$f":"Données!$F1256*G$4","v":1164.6000000000001},{"$f":"Données!$F1256*H$4","v":1099.8999999999999}]
[null,7040,"Quévy","Quévy",1678,1294,{"$f":"Données!$E1257*B$4","v":1929.6999999999998},{"$f":"Données!$E1257*C$4","v":1845.8000000000002},{"$f":"Données!$E1257*D$4","v":1761.9},{"$f":"Données!$E1257*E$4","v":1678},{"$f":"Données!$E1257*F$4","v":1594.1},{"$f":"Données!$E1257*G$4","v":1510.2},{"$f":"Données!$E1257*H$4","v":1426.3},{"$f":"Données!$F1257*B$4","v":1488.1},{"$f":"Données!$F1257*C$4","v":1423.4},{"$f":"Données!$F1257*D$4","v":1358.7},{"$f":"Données!$F1257*E$4","v":1294},{"$f":"Données!$F1257*F$4","v":1229.3},{"$f":"Données!$F1257*G$4","v":1164.6000000000001},{"$f":"Données!$F1257*H$4","v":1099.8999999999999}]
[null,7040,"Aulnois","Quévy",1678,1294,{"$f":"Données!$E1258*B$4","v":1929.6999999999998},{"$f":"Données!$E1258*C$4","v":1845.8000000000002},{"$f":"Données!$E1258*D$4","v":1761.9},{"$f":"Données!$E1258*E$4","v":1678},{"$f":"Données!$E1258*F$4","v":1594.1},{"$f":"Données!$E1258*G$4","v":1510.2},{"$f":"Données!$E1258*H$4","v":1426.3},{"$f":"Données!$F1258*B$4","v":1488.1},{"$f":"Données!$F1258*C$4","v":1423.4},{"$f":"Données!$F1258*D$4","v":1358.7},{"$f":"Données!$F1258*E$4","v":1294},{"$f":"Données!$F1258*F$4","v":1229.3},{"$f":"Données!$F1258*G$4","v":1164.6000000000001},{"$f":"Données!$F1258*H$4","v":1099.8999999999999}]
[null,7040,"Goegnies-Chaussée","Quévy",1678,1294,{"$f":"Données!$E1259*B$4","v":1929.6999999999998},{"$f":"Données!$E1259*C$4","v":1845.8000000000002},{"$f":"Données!$E1259*D$4","v":1761.9},{"$f":"Données!$E1259*E$4","v":1678},{"$f":"Données!$E1259*F$4","v":1594.1},{"$f":"Données!$E1259*G$4","v":1510.2},{"$f":"Données!$E1259*H$4","v":1426.3},{"$f":"Données!$F1259*B$4","v":1488.1},{"$f":"Données!$F1259*C$4","v":1423.4},{"$f":"Données!$F1259*D$4","v":1358.7},{"$f":"Données!$F1259*E$4","v":1294},{"$f":"Données!$F1259*F$4","v":1229.3},{"$f":"Données!$F1259*G$4","v":1164.6000000000001},{"$f":"Données!$F1259*H$4","v":1099.8999999999999}]
[null,7040,"Quévy-Le-Grand","Quévy",1678,1294,{"$f":"Données!$E1260*B$4","v":1929.6999999999998},{"$f":"Données!$E1260*C$4","v":1845.8000000000002},{"$f":"Données!$E1260*D$4","v":1761.9},{"$f":"Données!$E1260*E$4","v":1678},{"$f":"Données!$E1260*F$4","v":1594.1},{"$f":"Données!$E1260*G$4","v":1510.2},{"$f":"Données!$E1260*H$4","v":1426.3},{"$f":"Données!$F1260*B$4","v":1488.1},{"$f":"Données!$F1260*C$4","v":1423.4},{"$f":"Données!$F1260*D$4","v":1358.7},{"$f":"Données!$F1260*E$4","v":1294},{"$f":"Données!$F1260*F$4","v":1229.3},{"$f":"Données!$F1260*G$4","v":1164.6000000000001},{"$f":"Données!$F1260*H$4","v":1099.8999999999999}]
[null,7040,"Quévy-Le-Petit","Quévy",1678,1294,{"$f":"Données!$E1261*B$4","v":1929.6999999999998},{"$f":"Données!$E1261*C$4","v":1845.8000000000002},{"$f":"Données!$E1261*D$4","v":1761.9},{"$f":"Données!$E1261*E$4","v":1678},{"$f":"Données!$E1261*F$4","v":1594.1},{"$f":"Données!$E1261*G$4","v":1510.2},{"$f":"Données!$E1261*H$4","v":1426.3},{"$f":"Données!$F1261*B$4","v":1488.1},{"$f":"Données!$F1261*C$4","v":1423.4},{"$f":"Données!$F1261*D$4","v":1358.7},{"$f":"Données!$F1261*E$4","v":1294},{"$f":"Données!$F1261*F$4","v":1229.3},{"$f":"Données!$F1261*G$4","v":1164.6000000000001},{"$f":"Données!$F1261*H$4","v":1099.8999999999999}]
[null,7040,"Asquillies","Quévy",1678,1294,{"$f":"Données!$E1262*B$4","v":1929.6999999999998},{"$f":"Données!$E1262*C$4","v":1845.8000000000002},{"$f":"Données!$E1262*D$4","v":1761.9},{"$f":"Données!$E1262*E$4","v":1678},{"$f":"Données!$E1262*F$4","v":1594.1},{"$f":"Données!$E1262*G$4","v":1510.2},{"$f":"Données!$E1262*H$4","v":1426.3},{"$f":"Données!$F1262*B$4","v":1488.1},{"$f":"Données!$F1262*C$4","v":1423.4},{"$f":"Données!$F1262*D$4","v":1358.7},{"$f":"Données!$F1262*E$4","v":1294},{"$f":"Données!$F1262*F$4","v":1229.3},{"$f":"Données!$F1262*G$4","v":1164.6000000000001},{"$f":"Données!$F1262*H$4","v":1099.8999999999999}]
[null,7041,"Havay","Quévy",1678,1294,{"$f":"Données!$E1263*B$4","v":1929.6999999999998},{"$f":"Données!$E1263*C$4","v":1845.8000000000002},{"$f":"Données!$E1263*D$4","v":1761.9},{"$f":"Données!$E1263*E$4","v":1678},{"$f":"Données!$E1263*F$4","v":1594.1},{"$f":"Données!$E1263*G$4","v":1510.2},{"$f":"Données!$E1263*H$4","v":1426.3},{"$f":"Données!$F1263*B$4","v":1488.1},{"$f":"Données!$F1263*C$4","v":1423.4},{"$f":"Données!$F1263*D$4","v":1358.7},{"$f":"Données!$F1263*E$4","v":1294},{"$f":"Données!$F1263*F$4","v":1229.3},{"$f":"Données!$F1263*G$4","v":1164.6000000000001},{"$f":"Données!$F1263*H$4","v":1099.8999999999999}]
[null,7041,"Givry","Quévy",1678,1294,{"$f":"Données!$E1264*B$4","v":1929.6999999999998},{"$f":"Données!$E1264*C$4","v":1845.8000000000002},{"$f":"Données!$E1264*D$4","v":1761.9},{"$f":"Données!$E1264*E$4","v":1678},{"$f":"Données!$E1264*F$4","v":1594.1},{"$f":"Données!$E1264*G$4","v":1510.2},{"$f":"Données!$E1264*H$4","v":1426.3},{"$f":"Données!$F1264*B$4","v":1488.1},{"$f":"Données!$F1264*C$4","v":1423.4},{"$f":"Données!$F1264*D$4","v":1358.7},{"$f":"Données!$F1264*E$4","v":1294},{"$f":"Données!$F1264*F$4","v":1229.3},{"$f":"Données!$F1264*G$4","v":1164.6000000000001},{"$f":"Données!$F1264*H$4","v":1099.8999999999999}]
[null,7050,"Masnuy-Saint-Jean","Jurbise",1956,1548,{"$f":"Données!$E1265*B$4","v":2249.3999999999996},{"$f":"Données!$E1265*C$4","v":2151.6000000000004},{"$f":"Données!$E1265*D$4","v":2053.8000000000002},{"$f":"Données!$E1265*E$4","v":1956},{"$f":"Données!$E1265*F$4","v":1858.1999999999998},{"$f":"Données!$E1265*G$4","v":1760.4},{"$f":"Données!$E1265*H$4","v":1662.6},{"$f":"Données!$F1265*B$4","v":1780.1999999999998},{"$f":"Données!$F1265*C$4","v":1702.8000000000002},{"$f":"Données!$F1265*D$4","v":1625.4},{"$f":"Données!$F1265*E$4","v":1548},{"$f":"Données!$F1265*F$4","v":1470.6},{"$f":"Données!$F1265*G$4","v":1393.2},{"$f":"Données!$F1265*H$4","v":1315.8}]
[null,7050,"Erbisoeul","Jurbise",1956,1548,{"$f":"Données!$E1266*B$4","v":2249.3999999999996},{"$f":"Données!$E1266*C$4","v":2151.6000000000004},{"$f":"Données!$E1266*D$4","v":2053.8000000000002},{"$f":"Données!$E1266*E$4","v":1956},{"$f":"Données!$E1266*F$4","v":1858.1999999999998},{"$f":"Données!$E1266*G$4","v":1760.4},{"$f":"Données!$E1266*H$4","v":1662.6},{"$f":"Données!$F1266*B$4","v":1780.1999999999998},{"$f":"Données!$F1266*C$4","v":1702.8000000000002},{"$f":"Données!$F1266*D$4","v":1625.4},{"$f":"Données!$F1266*E$4","v":1548},{"$f":"Données!$F1266*F$4","v":1470.6},{"$f":"Données!$F1266*G$4","v":1393.2},{"$f":"Données!$F1266*H$4","v":1315.8}]
[null,7050,"Jurbise","Jurbise",1956,1548,{"$f":"Données!$E1267*B$4","v":2249.3999999999996},{"$f":"Données!$E1267*C$4","v":2151.6000000000004},{"$f":"Données!$E1267*D$4","v":2053.8000000000002},{"$f":"Données!$E1267*E$4","v":1956},{"$f":"Données!$E1267*F$4","v":1858.1999999999998},{"$f":"Données!$E1267*G$4","v":1760.4},{"$f":"Données!$E1267*H$4","v":1662.6},{"$f":"Données!$F1267*B$4","v":1780.1999999999998},{"$f":"Données!$F1267*C$4","v":1702.8000000000002},{"$f":"Données!$F1267*D$4","v":1625.4},{"$f":"Données!$F1267*E$4","v":1548},{"$f":"Données!$F1267*F$4","v":1470.6},{"$f":"Données!$F1267*G$4","v":1393.2},{"$f":"Données!$F1267*H$4","v":1315.8}]
[null,7050,"Masnuy-Saint-Pierre","Jurbise",1956,1548,{"$f":"Données!$E1268*B$4","v":2249.3999999999996},{"$f":"Données!$E1268*C$4","v":2151.6000000000004},{"$f":"Données!$E1268*D$4","v":2053.8000000000002},{"$f":"Données!$E1268*E$4","v":1956},{"$f":"Données!$E1268*F$4","v":1858.1999999999998},{"$f":"Données!$E1268*G$4","v":1760.4},{"$f":"Données!$E1268*H$4","v":1662.6},{"$f":"Données!$F1268*B$4","v":1780.1999999999998},{"$f":"Données!$F1268*C$4","v":1702.8000000000002},{"$f":"Données!$F1268*D$4","v":1625.4},{"$f":"Données!$F1268*E$4","v":1548},{"$f":"Données!$F1268*F$4","v":1470.6},{"$f":"Données!$F1268*G$4","v":1393.2},{"$f":"Données!$F1268*H$4","v":1315.8}]
[null,7050,"Erbaut","Jurbise",1956,1548,{"$f":"Données!$E1269*B$4","v":2249.3999999999996},{"$f":"Données!$E1269*C$4","v":2151.6000000000004},{"$f":"Données!$E1269*D$4","v":2053.8000000000002},{"$f":"Données!$E1269*E$4","v":1956},{"$f":"Données!$E1269*F$4","v":1858.1999999999998},{"$f":"Données!$E1269*G$4","v":1760.4},{"$f":"Données!$E1269*H$4","v":1662.6},{"$f":"Données!$F1269*B$4","v":1780.1999999999998},{"$f":"Données!$F1269*C$4","v":1702.8000000000002},{"$f":"Données!$F1269*D$4","v":1625.4},{"$f":"Données!$F1269*E$4","v":1548},{"$f":"Données!$F1269*F$4","v":1470.6},{"$f":"Données!$F1269*G$4","v":1393.2},{"$f":"Données!$F1269*H$4","v":1315.8}]
[null,7050,"Herchies","Jurbise",1956,1548,{"$f":"Données!$E1270*B$4","v":2249.3999999999996},{"$f":"Données!$E1270*C$4","v":2151.6000000000004},{"$f":"Données!$E1270*D$4","v":2053.8000000000002},{"$f":"Données!$E1270*E$4","v":1956},{"$f":"Données!$E1270*F$4","v":1858.1999999999998},{"$f":"Données!$E1270*G$4","v":1760.4},{"$f":"Données!$E1270*H$4","v":1662.6},{"$f":"Données!$F1270*B$4","v":1780.1999999999998},{"$f":"Données!$F1270*C$4","v":1702.8000000000002},{"$f":"Données!$F1270*D$4","v":1625.4},{"$f":"Données!$F1270*E$4","v":1548},{"$f":"Données!$F1270*F$4","v":1470.6},{"$f":"Données!$F1270*G$4","v":1393.2},{"$f":"Données!$F1270*H$4","v":1315.8}]
[null,7060,"Soignies","Soignies",1926,1614,{"$f":"Données!$E1271*B$4","v":2214.8999999999996},{"$f":"Données!$E1271*C$4","v":2118.6000000000004},{"$f":"Données!$E1271*D$4","v":2022.3000000000002},{"$f":"Données!$E1271*E$4","v":1926},{"$f":"Données!$E1271*F$4","v":1829.6999999999998},{"$f":"Données!$E1271*G$4","v":1733.4},{"$f":"Données!$E1271*H$4","v":1637.1},{"$f":"Données!$F1271*B$4","v":1856.1},{"$f":"Données!$F1271*C$4","v":1775.4},{"$f":"Données!$F1271*D$4","v":1694.7},{"$f":"Données!$F1271*E$4","v":1614},{"$f":"Données!$F1271*F$4","v":1533.3},{"$f":"Données!$F1271*G$4","v":1452.6000000000001},{"$f":"Données!$F1271*H$4","v":1371.8999999999999}]
[null,7060,"Horrues","Soignies",1926,1614,{"$f":"Données!$E1272*B$4","v":2214.8999999999996},{"$f":"Données!$E1272*C$4","v":2118.6000000000004},{"$f":"Données!$E1272*D$4","v":2022.3000000000002},{"$f":"Données!$E1272*E$4","v":1926},{"$f":"Données!$E1272*F$4","v":1829.6999999999998},{"$f":"Données!$E1272*G$4","v":1733.4},{"$f":"Données!$E1272*H$4","v":1637.1},{"$f":"Données!$F1272*B$4","v":1856.1},{"$f":"Données!$F1272*C$4","v":1775.4},{"$f":"Données!$F1272*D$4","v":1694.7},{"$f":"Données!$F1272*E$4","v":1614},{"$f":"Données!$F1272*F$4","v":1533.3},{"$f":"Données!$F1272*G$4","v":1452.6000000000001},{"$f":"Données!$F1272*H$4","v":1371.8999999999999}]
[null,7061,"Casteau","Soignies",1926,1614,{"$f":"Données!$E1273*B$4","v":2214.8999999999996},{"$f":"Données!$E1273*C$4","v":2118.6000000000004},{"$f":"Données!$E1273*D$4","v":2022.3000000000002},{"$f":"Données!$E1273*E$4","v":1926},{"$f":"Données!$E1273*F$4","v":1829.6999999999998},{"$f":"Données!$E1273*G$4","v":1733.4},{"$f":"Données!$E1273*H$4","v":1637.1},{"$f":"Données!$F1273*B$4","v":1856.1},{"$f":"Données!$F1273*C$4","v":1775.4},{"$f":"Données!$F1273*D$4","v":1694.7},{"$f":"Données!$F1273*E$4","v":1614},{"$f":"Données!$F1273*F$4","v":1533.3},{"$f":"Données!$F1273*G$4","v":1452.6000000000001},{"$f":"Données!$F1273*H$4","v":1371.8999999999999}]
[null,7061,"Thieusies","Soignies",1926,1614,{"$f":"Données!$E1274*B$4","v":2214.8999999999996},{"$f":"Données!$E1274*C$4","v":2118.6000000000004},{"$f":"Données!$E1274*D$4","v":2022.3000000000002},{"$f":"Données!$E1274*E$4","v":1926},{"$f":"Données!$E1274*F$4","v":1829.6999999999998},{"$f":"Données!$E1274*G$4","v":1733.4},{"$f":"Données!$E1274*H$4","v":1637.1},{"$f":"Données!$F1274*B$4","v":1856.1},{"$f":"Données!$F1274*C$4","v":1775.4},{"$f":"Données!$F1274*D$4","v":1694.7},{"$f":"Données!$F1274*E$4","v":1614},{"$f":"Données!$F1274*F$4","v":1533.3},{"$f":"Données!$F1274*G$4","v":1452.6000000000001},{"$f":"Données!$F1274*H$4","v":1371.8999999999999}]
[null,7062,"Naast","Soignies",1926,1614,{"$f":"Données!$E1275*B$4","v":2214.8999999999996},{"$f":"Données!$E1275*C$4","v":2118.6000000000004},{"$f":"Données!$E1275*D$4","v":2022.3000000000002},{"$f":"Données!$E1275*E$4","v":1926},{"$f":"Données!$E1275*F$4","v":1829.6999999999998},{"$f":"Données!$E1275*G$4","v":1733.4},{"$f":"Données!$E1275*H$4","v":1637.1},{"$f":"Données!$F1275*B$4","v":1856.1},{"$f":"Données!$F1275*C$4","v":1775.4},{"$f":"Données!$F1275*D$4","v":1694.7},{"$f":"Données!$F1275*E$4","v":1614},{"$f":"Données!$F1275*F$4","v":1533.3},{"$f":"Données!$F1275*G$4","v":1452.6000000000001},{"$f":"Données!$F1275*H$4","v":1371.8999999999999}]
[null,7063,"Neufvilles","Soignies",1926,1614,{"$f":"Données!$E1276*B$4","v":2214.8999999999996},{"$f":"Données!$E1276*C$4","v":2118.6000000000004},{"$f":"Données!$E1276*D$4","v":2022.3000000000002},{"$f":"Données!$E1276*E$4","v":1926},{"$f":"Données!$E1276*F$4","v":1829.6999999999998},{"$f":"Données!$E1276*G$4","v":1733.4},{"$f":"Données!$E1276*H$4","v":1637.1},{"$f":"Données!$F1276*B$4","v":1856.1},{"$f":"Données!$F1276*C$4","v":1775.4},{"$f":"Données!$F1276*D$4","v":1694.7},{"$f":"Données!$F1276*E$4","v":1614},{"$f":"Données!$F1276*F$4","v":1533.3},{"$f":"Données!$F1276*G$4","v":1452.6000000000001},{"$f":"Données!$F1276*H$4","v":1371.8999999999999}]
[null,7063,"Chaussée-Notre-Dame-Louvignies","Soignies",1926,1614,{"$f":"Données!$E1277*B$4","v":2214.8999999999996},{"$f":"Données!$E1277*C$4","v":2118.6000000000004},{"$f":"Données!$E1277*D$4","v":2022.3000000000002},{"$f":"Données!$E1277*E$4","v":1926},{"$f":"Données!$E1277*F$4","v":1829.6999999999998},{"$f":"Données!$E1277*G$4","v":1733.4},{"$f":"Données!$E1277*H$4","v":1637.1},{"$f":"Données!$F1277*B$4","v":1856.1},{"$f":"Données!$F1277*C$4","v":1775.4},{"$f":"Données!$F1277*D$4","v":1694.7},{"$f":"Données!$F1277*E$4","v":1614},{"$f":"Données!$F1277*F$4","v":1533.3},{"$f":"Données!$F1277*G$4","v":1452.6000000000001},{"$f":"Données!$F1277*H$4","v":1371.8999999999999}]
[null,7070,"Gottignies","Le Roeulx",1868,1458,{"$f":"Données!$E1278*B$4","v":2148.1999999999998},{"$f":"Données!$E1278*C$4","v":2054.8000000000002},{"$f":"Données!$E1278*D$4","v":1961.4},{"$f":"Données!$E1278*E$4","v":1868},{"$f":"Données!$E1278*F$4","v":1774.6},{"$f":"Données!$E1278*G$4","v":1681.2},{"$f":"Données!$E1278*H$4","v":1587.8},{"$f":"Données!$F1278*B$4","v":1676.6999999999998},{"$f":"Données!$F1278*C$4","v":1603.8000000000002},{"$f":"Données!$F1278*D$4","v":1530.9},{"$f":"Données!$F1278*E$4","v":1458},{"$f":"Données!$F1278*F$4","v":1385.1},{"$f":"Données!$F1278*G$4","v":1312.2},{"$f":"Données!$F1278*H$4","v":1239.3}]
[null,7070,"Ville-Sur-Haine","Le Roeulx",1868,1458,{"$f":"Données!$E1279*B$4","v":2148.1999999999998},{"$f":"Données!$E1279*C$4","v":2054.8000000000002},{"$f":"Données!$E1279*D$4","v":1961.4},{"$f":"Données!$E1279*E$4","v":1868},{"$f":"Données!$E1279*F$4","v":1774.6},{"$f":"Données!$E1279*G$4","v":1681.2},{"$f":"Données!$E1279*H$4","v":1587.8},{"$f":"Données!$F1279*B$4","v":1676.6999999999998},{"$f":"Données!$F1279*C$4","v":1603.8000000000002},{"$f":"Données!$F1279*D$4","v":1530.9},{"$f":"Données!$F1279*E$4","v":1458},{"$f":"Données!$F1279*F$4","v":1385.1},{"$f":"Données!$F1279*G$4","v":1312.2},{"$f":"Données!$F1279*H$4","v":1239.3}]
[null,7070,"Le Roeulx","Le Roeulx",1868,1458,{"$f":"Données!$E1280*B$4","v":2148.1999999999998},{"$f":"Données!$E1280*C$4","v":2054.8000000000002},{"$f":"Données!$E1280*D$4","v":1961.4},{"$f":"Données!$E1280*E$4","v":1868},{"$f":"Données!$E1280*F$4","v":1774.6},{"$f":"Données!$E1280*G$4","v":1681.2},{"$f":"Données!$E1280*H$4","v":1587.8},{"$f":"Données!$F1280*B$4","v":1676.6999999999998},{"$f":"Données!$F1280*C$4","v":1603.8000000000002},{"$f":"Données!$F1280*D$4","v":1530.9},{"$f":"Données!$F1280*E$4","v":1458},{"$f":"Données!$F1280*F$4","v":1385.1},{"$f":"Données!$F1280*G$4","v":1312.2},{"$f":"Données!$F1280*H$4","v":1239.3}]
[null,7070,"Mignault","Le Roeulx",1868,1458,{"$f":"Données!$E1281*B$4","v":2148.1999999999998},{"$f":"Données!$E1281*C$4","v":2054.8000000000002},{"$f":"Données!$E1281*D$4","v":1961.4},{"$f":"Données!$E1281*E$4","v":1868},{"$f":"Données!$E1281*F$4","v":1774.6},{"$f":"Données!$E1281*G$4","v":1681.2},{"$f":"Données!$E1281*H$4","v":1587.8},{"$f":"Données!$F1281*B$4","v":1676.6999999999998},{"$f":"Données!$F1281*C$4","v":1603.8000000000002},{"$f":"Données!$F1281*D$4","v":1530.9},{"$f":"Données!$F1281*E$4","v":1458},{"$f":"Données!$F1281*F$4","v":1385.1},{"$f":"Données!$F1281*G$4","v":1312.2},{"$f":"Données!$F1281*H$4","v":1239.3}]
[null,7070,"Thieu","Le Roeulx",1868,1458,{"$f":"Données!$E1282*B$4","v":2148.1999999999998},{"$f":"Données!$E1282*C$4","v":2054.8000000000002},{"$f":"Données!$E1282*D$4","v":1961.4},{"$f":"Données!$E1282*E$4","v":1868},{"$f":"Données!$E1282*F$4","v":1774.6},{"$f":"Données!$E1282*G$4","v":1681.2},{"$f":"Données!$E1282*H$4","v":1587.8},{"$f":"Données!$F1282*B$4","v":1676.6999999999998},{"$f":"Données!$F1282*C$4","v":1603.8000000000002},{"$f":"Données!$F1282*D$4","v":1530.9},{"$f":"Données!$F1282*E$4","v":1458},{"$f":"Données!$F1282*F$4","v":1385.1},{"$f":"Données!$F1282*G$4","v":1312.2},{"$f":"Données!$F1282*H$4","v":1239.3}]
[null,7080,"Eugies","Frameries",1600,1223,{"$f":"Données!$E1283*B$4","v":1839.9999999999998},{"$f":"Données!$E1283*C$4","v":1760.0000000000002},{"$f":"Données!$E1283*D$4","v":1680},{"$f":"Données!$E1283*E$4","v":1600},{"$f":"Données!$E1283*F$4","v":1520},{"$f":"Données!$E1283*G$4","v":1440},{"$f":"Données!$E1283*H$4","v":1360},{"$f":"Données!$F1283*B$4","v":1406.4499999999998},{"$f":"Données!$F1283*C$4","v":1345.3000000000002},{"$f":"Données!$F1283*D$4","v":1284.1500000000001},{"$f":"Données!$F1283*E$4","v":1223},{"$f":"Données!$F1283*F$4","v":1161.8499999999999},{"$f":"Données!$F1283*G$4","v":1100.7},{"$f":"Données!$F1283*H$4","v":1039.55}]
[null,7080,"Noirchain","Frameries",1600,1223,{"$f":"Données!$E1284*B$4","v":1839.9999999999998},{"$f":"Données!$E1284*C$4","v":1760.0000000000002},{"$f":"Données!$E1284*D$4","v":1680},{"$f":"Données!$E1284*E$4","v":1600},{"$f":"Données!$E1284*F$4","v":1520},{"$f":"Données!$E1284*G$4","v":1440},{"$f":"Données!$E1284*H$4","v":1360},{"$f":"Données!$F1284*B$4","v":1406.4499999999998},{"$f":"Données!$F1284*C$4","v":1345.3000000000002},{"$f":"Données!$F1284*D$4","v":1284.1500000000001},{"$f":"Données!$F1284*E$4","v":1223},{"$f":"Données!$F1284*F$4","v":1161.8499999999999},{"$f":"Données!$F1284*G$4","v":1100.7},{"$f":"Données!$F1284*H$4","v":1039.55}]
[null,7080,"LaBouverie","Frameries",1600,1223,{"$f":"Données!$E1285*B$4","v":1839.9999999999998},{"$f":"Données!$E1285*C$4","v":1760.0000000000002},{"$f":"Données!$E1285*D$4","v":1680},{"$f":"Données!$E1285*E$4","v":1600},{"$f":"Données!$E1285*F$4","v":1520},{"$f":"Données!$E1285*G$4","v":1440},{"$f":"Données!$E1285*H$4","v":1360},{"$f":"Données!$F1285*B$4","v":1406.4499999999998},{"$f":"Données!$F1285*C$4","v":1345.3000000000002},{"$f":"Données!$F1285*D$4","v":1284.1500000000001},{"$f":"Données!$F1285*E$4","v":1223},{"$f":"Données!$F1285*F$4","v":1161.8499999999999},{"$f":"Données!$F1285*G$4","v":1100.7},{"$f":"Données!$F1285*H$4","v":1039.55}]
[null,7080,"Sars-La-Bruyère","Frameries",1600,1223,{"$f":"Données!$E1286*B$4","v":1839.9999999999998},{"$f":"Données!$E1286*C$4","v":1760.0000000000002},{"$f":"Données!$E1286*D$4","v":1680},{"$f":"Données!$E1286*E$4","v":1600},{"$f":"Données!$E1286*F$4","v":1520},{"$f":"Données!$E1286*G$4","v":1440},{"$f":"Données!$E1286*H$4","v":1360},{"$f":"Données!$F1286*B$4","v":1406.4499999999998},{"$f":"Données!$F1286*C$4","v":1345.3000000000002},{"$f":"Données!$F1286*D$4","v":1284.1500000000001},{"$f":"Données!$F1286*E$4","v":1223},{"$f":"Données!$F1286*F$4","v":1161.8499999999999},{"$f":"Données!$F1286*G$4","v":1100.7},{"$f":"Données!$F1286*H$4","v":1039.55}]
[null,7080,"Frameries","Frameries",1600,1223,{"$f":"Données!$E1287*B$4","v":1839.9999999999998},{"$f":"Données!$E1287*C$4","v":1760.0000000000002},{"$f":"Données!$E1287*D$4","v":1680},{"$f":"Données!$E1287*E$4","v":1600},{"$f":"Données!$E1287*F$4","v":1520},{"$f":"Données!$E1287*G$4","v":1440},{"$f":"Données!$E1287*H$4","v":1360},{"$f":"Données!$F1287*B$4","v":1406.4499999999998},{"$f":"Données!$F1287*C$4","v":1345.3000000000002},{"$f":"Données!$F1287*D$4","v":1284.1500000000001},{"$f":"Données!$F1287*E$4","v":1223},{"$f":"Données!$F1287*F$4","v":1161.8499999999999},{"$f":"Données!$F1287*G$4","v":1100.7},{"$f":"Données!$F1287*H$4","v":1039.55}]
[null,7090,"Braine-Le-Comte","Braine-Le-Comte",2021,1746,{"$f":"Données!$E1288*B$4","v":2324.1499999999996},{"$f":"Données!$E1288*C$4","v":2223.1000000000004},{"$f":"Données!$E1288*D$4","v":2122.0500000000002},{"$f":"Données!$E1288*E$4","v":2021},{"$f":"Données!$E1288*F$4","v":1919.9499999999998},{"$f":"Données!$E1288*G$4","v":1818.9},{"$f":"Données!$E1288*H$4","v":1717.85},{"$f":"Données!$F1288*B$4","v":2007.8999999999999},{"$f":"Données!$F1288*C$4","v":1920.6000000000001},{"$f":"Données!$F1288*D$4","v":1833.3000000000002},{"$f":"Données!$F1288*E$4","v":1746},{"$f":"Données!$F1288*F$4","v":1658.6999999999998},{"$f":"Données!$F1288*G$4","v":1571.4},{"$f":"Données!$F1288*H$4","v":1484.1}]
[null,7090,"Henripont","Braine-Le-Comte",2021,1746,{"$f":"Données!$E1289*B$4","v":2324.1499999999996},{"$f":"Données!$E1289*C$4","v":2223.1000000000004},{"$f":"Données!$E1289*D$4","v":2122.0500000000002},{"$f":"Données!$E1289*E$4","v":2021},{"$f":"Données!$E1289*F$4","v":1919.9499999999998},{"$f":"Données!$E1289*G$4","v":1818.9},{"$f":"Données!$E1289*H$4","v":1717.85},{"$f":"Données!$F1289*B$4","v":2007.8999999999999},{"$f":"Données!$F1289*C$4","v":1920.6000000000001},{"$f":"Données!$F1289*D$4","v":1833.3000000000002},{"$f":"Données!$F1289*E$4","v":1746},{"$f":"Données!$F1289*F$4","v":1658.6999999999998},{"$f":"Données!$F1289*G$4","v":1571.4},{"$f":"Données!$F1289*H$4","v":1484.1}]
[null,7090,"Hennuyères","Braine-Le-Comte",2021,1746,{"$f":"Données!$E1290*B$4","v":2324.1499999999996},{"$f":"Données!$E1290*C$4","v":2223.1000000000004},{"$f":"Données!$E1290*D$4","v":2122.0500000000002},{"$f":"Données!$E1290*E$4","v":2021},{"$f":"Données!$E1290*F$4","v":1919.9499999999998},{"$f":"Données!$E1290*G$4","v":1818.9},{"$f":"Données!$E1290*H$4","v":1717.85},{"$f":"Données!$F1290*B$4","v":2007.8999999999999},{"$f":"Données!$F1290*C$4","v":1920.6000000000001},{"$f":"Données!$F1290*D$4","v":1833.3000000000002},{"$f":"Données!$F1290*E$4","v":1746},{"$f":"Données!$F1290*F$4","v":1658.6999999999998},{"$f":"Données!$F1290*G$4","v":1571.4},{"$f":"Données!$F1290*H$4","v":1484.1}]
[null,7090,"Petit-Roeulx-Lez-Braine","Braine-Le-Comte",2021,1746,{"$f":"Données!$E1291*B$4","v":2324.1499999999996},{"$f":"Données!$E1291*C$4","v":2223.1000000000004},{"$f":"Données!$E1291*D$4","v":2122.0500000000002},{"$f":"Données!$E1291*E$4","v":2021},{"$f":"Données!$E1291*F$4","v":1919.9499999999998},{"$f":"Données!$E1291*G$4","v":1818.9},{"$f":"Données!$E1291*H$4","v":1717.85},{"$f":"Données!$F1291*B$4","v":2007.8999999999999},{"$f":"Données!$F1291*C$4","v":1920.6000000000001},{"$f":"Données!$F1291*D$4","v":1833.3000000000002},{"$f":"Données!$F1291*E$4","v":1746},{"$f":"Données!$F1291*F$4","v":1658.6999999999998},{"$f":"Données!$F1291*G$4","v":1571.4},{"$f":"Données!$F1291*H$4","v":1484.1}]
[null,7090,"Ronquières","Braine-Le-Comte",2021,1746,{"$f":"Données!$E1292*B$4","v":2324.1499999999996},{"$f":"Données!$E1292*C$4","v":2223.1000000000004},{"$f":"Données!$E1292*D$4","v":2122.0500000000002},{"$f":"Données!$E1292*E$4","v":2021},{"$f":"Données!$E1292*F$4","v":1919.9499999999998},{"$f":"Données!$E1292*G$4","v":1818.9},{"$f":"Données!$E1292*H$4","v":1717.85},{"$f":"Données!$F1292*B$4","v":2007.8999999999999},{"$f":"Données!$F1292*C$4","v":1920.6000000000001},{"$f":"Données!$F1292*D$4","v":1833.3000000000002},{"$f":"Données!$F1292*E$4","v":1746},{"$f":"Données!$F1292*F$4","v":1658.6999999999998},{"$f":"Données!$F1292*G$4","v":1571.4},{"$f":"Données!$F1292*H$4","v":1484.1}]
[null,7090,"Steenkerque","Braine-Le-Comte",2021,1746,{"$f":"Données!$E1293*B$4","v":2324.1499999999996},{"$f":"Données!$E1293*C$4","v":2223.1000000000004},{"$f":"Données!$E1293*D$4","v":2122.0500000000002},{"$f":"Données!$E1293*E$4","v":2021},{"$f":"Données!$E1293*F$4","v":1919.9499999999998},{"$f":"Données!$E1293*G$4","v":1818.9},{"$f":"Données!$E1293*H$4","v":1717.85},{"$f":"Données!$F1293*B$4","v":2007.8999999999999},{"$f":"Données!$F1293*C$4","v":1920.6000000000001},{"$f":"Données!$F1293*D$4","v":1833.3000000000002},{"$f":"Données!$F1293*E$4","v":1746},{"$f":"Données!$F1293*F$4","v":1658.6999999999998},{"$f":"Données!$F1293*G$4","v":1571.4},{"$f":"Données!$F1293*H$4","v":1484.1}]
[null,7100,"Trivières","La Louvière",1630,1339,{"$f":"Données!$E1294*B$4","v":1874.4999999999998},{"$f":"Données!$E1294*C$4","v":1793.0000000000002},{"$f":"Données!$E1294*D$4","v":1711.5},{"$f":"Données!$E1294*E$4","v":1630},{"$f":"Données!$E1294*F$4","v":1548.5},{"$f":"Données!$E1294*G$4","v":1467},{"$f":"Données!$E1294*H$4","v":1385.5},{"$f":"Données!$F1294*B$4","v":1539.85},{"$f":"Données!$F1294*C$4","v":1472.9},{"$f":"Données!$F1294*D$4","v":1405.95},{"$f":"Données!$F1294*E$4","v":1339},{"$f":"Données!$F1294*F$4","v":1272.05},{"$f":"Données!$F1294*G$4","v":1205.1000000000001},{"$f":"Données!$F1294*H$4","v":1138.1499999999999}]
[null,7100,"Haine-Saint-Paul","La Louvière",1630,1339,{"$f":"Données!$E1295*B$4","v":1874.4999999999998},{"$f":"Données!$E1295*C$4","v":1793.0000000000002},{"$f":"Données!$E1295*D$4","v":1711.5},{"$f":"Données!$E1295*E$4","v":1630},{"$f":"Données!$E1295*F$4","v":1548.5},{"$f":"Données!$E1295*G$4","v":1467},{"$f":"Données!$E1295*H$4","v":1385.5},{"$f":"Données!$F1295*B$4","v":1539.85},{"$f":"Données!$F1295*C$4","v":1472.9},{"$f":"Données!$F1295*D$4","v":1405.95},{"$f":"Données!$F1295*E$4","v":1339},{"$f":"Données!$F1295*F$4","v":1272.05},{"$f":"Données!$F1295*G$4","v":1205.1000000000001},{"$f":"Données!$F1295*H$4","v":1138.1499999999999}]
[null,7100,"Haine-Saint-Pierre","La Louvière",1630,1339,{"$f":"Données!$E1296*B$4","v":1874.4999999999998},{"$f":"Données!$E1296*C$4","v":1793.0000000000002},{"$f":"Données!$E1296*D$4","v":1711.5},{"$f":"Données!$E1296*E$4","v":1630},{"$f":"Données!$E1296*F$4","v":1548.5},{"$f":"Données!$E1296*G$4","v":1467},{"$f":"Données!$E1296*H$4","v":1385.5},{"$f":"Données!$F1296*B$4","v":1539.85},{"$f":"Données!$F1296*C$4","v":1472.9},{"$f":"Données!$F1296*D$4","v":1405.95},{"$f":"Données!$F1296*E$4","v":1339},{"$f":"Données!$F1296*F$4","v":1272.05},{"$f":"Données!$F1296*G$4","v":1205.1000000000001},{"$f":"Données!$F1296*H$4","v":1138.1499999999999}]
[null,7100,"La Louvière","La Louvière",1630,1339,{"$f":"Données!$E1297*B$4","v":1874.4999999999998},{"$f":"Données!$E1297*C$4","v":1793.0000000000002},{"$f":"Données!$E1297*D$4","v":1711.5},{"$f":"Données!$E1297*E$4","v":1630},{"$f":"Données!$E1297*F$4","v":1548.5},{"$f":"Données!$E1297*G$4","v":1467},{"$f":"Données!$E1297*H$4","v":1385.5},{"$f":"Données!$F1297*B$4","v":1539.85},{"$f":"Données!$F1297*C$4","v":1472.9},{"$f":"Données!$F1297*D$4","v":1405.95},{"$f":"Données!$F1297*E$4","v":1339},{"$f":"Données!$F1297*F$4","v":1272.05},{"$f":"Données!$F1297*G$4","v":1205.1000000000001},{"$f":"Données!$F1297*H$4","v":1138.1499999999999}]
[null,7100,"Saint-Vaast","La Louvière",1630,1339,{"$f":"Données!$E1298*B$4","v":1874.4999999999998},{"$f":"Données!$E1298*C$4","v":1793.0000000000002},{"$f":"Données!$E1298*D$4","v":1711.5},{"$f":"Données!$E1298*E$4","v":1630},{"$f":"Données!$E1298*F$4","v":1548.5},{"$f":"Données!$E1298*G$4","v":1467},{"$f":"Données!$E1298*H$4","v":1385.5},{"$f":"Données!$F1298*B$4","v":1539.85},{"$f":"Données!$F1298*C$4","v":1472.9},{"$f":"Données!$F1298*D$4","v":1405.95},{"$f":"Données!$F1298*E$4","v":1339},{"$f":"Données!$F1298*F$4","v":1272.05},{"$f":"Données!$F1298*G$4","v":1205.1000000000001},{"$f":"Données!$F1298*H$4","v":1138.1499999999999}]
[null,7110,"Maurage","La Louvière",1630,1339,{"$f":"Données!$E1299*B$4","v":1874.4999999999998},{"$f":"Données!$E1299*C$4","v":1793.0000000000002},{"$f":"Données!$E1299*D$4","v":1711.5},{"$f":"Données!$E1299*E$4","v":1630},{"$f":"Données!$E1299*F$4","v":1548.5},{"$f":"Données!$E1299*G$4","v":1467},{"$f":"Données!$E1299*H$4","v":1385.5},{"$f":"Données!$F1299*B$4","v":1539.85},{"$f":"Données!$F1299*C$4","v":1472.9},{"$f":"Données!$F1299*D$4","v":1405.95},{"$f":"Données!$F1299*E$4","v":1339},{"$f":"Données!$F1299*F$4","v":1272.05},{"$f":"Données!$F1299*G$4","v":1205.1000000000001},{"$f":"Données!$F1299*H$4","v":1138.1499999999999}]
[null,7110,"Houdeng-Goegnies","La Louvière",1630,1339,{"$f":"Données!$E1300*B$4","v":1874.4999999999998},{"$f":"Données!$E1300*C$4","v":1793.0000000000002},{"$f":"Données!$E1300*D$4","v":1711.5},{"$f":"Données!$E1300*E$4","v":1630},{"$f":"Données!$E1300*F$4","v":1548.5},{"$f":"Données!$E1300*G$4","v":1467},{"$f":"Données!$E1300*H$4","v":1385.5},{"$f":"Données!$F1300*B$4","v":1539.85},{"$f":"Données!$F1300*C$4","v":1472.9},{"$f":"Données!$F1300*D$4","v":1405.95},{"$f":"Données!$F1300*E$4","v":1339},{"$f":"Données!$F1300*F$4","v":1272.05},{"$f":"Données!$F1300*G$4","v":1205.1000000000001},{"$f":"Données!$F1300*H$4","v":1138.1499999999999}]
[null,7110,"Boussoit","La Louvière",1630,1339,{"$f":"Données!$E1301*B$4","v":1874.4999999999998},{"$f":"Données!$E1301*C$4","v":1793.0000000000002},{"$f":"Données!$E1301*D$4","v":1711.5},{"$f":"Données!$E1301*E$4","v":1630},{"$f":"Données!$E1301*F$4","v":1548.5},{"$f":"Données!$E1301*G$4","v":1467},{"$f":"Données!$E1301*H$4","v":1385.5},{"$f":"Données!$F1301*B$4","v":1539.85},{"$f":"Données!$F1301*C$4","v":1472.9},{"$f":"Données!$F1301*D$4","v":1405.95},{"$f":"Données!$F1301*E$4","v":1339},{"$f":"Données!$F1301*F$4","v":1272.05},{"$f":"Données!$F1301*G$4","v":1205.1000000000001},{"$f":"Données!$F1301*H$4","v":1138.1499999999999}]
[null,7110,"Strépy-Bracquegnies","La Louvière",1630,1339,{"$f":"Données!$E1302*B$4","v":1874.4999999999998},{"$f":"Données!$E1302*C$4","v":1793.0000000000002},{"$f":"Données!$E1302*D$4","v":1711.5},{"$f":"Données!$E1302*E$4","v":1630},{"$f":"Données!$E1302*F$4","v":1548.5},{"$f":"Données!$E1302*G$4","v":1467},{"$f":"Données!$E1302*H$4","v":1385.5},{"$f":"Données!$F1302*B$4","v":1539.85},{"$f":"Données!$F1302*C$4","v":1472.9},{"$f":"Données!$F1302*D$4","v":1405.95},{"$f":"Données!$F1302*E$4","v":1339},{"$f":"Données!$F1302*F$4","v":1272.05},{"$f":"Données!$F1302*G$4","v":1205.1000000000001},{"$f":"Données!$F1302*H$4","v":1138.1499999999999}]
[null,7110,"Houdeng-Aimeries","La Louvière",1630,1339,{"$f":"Données!$E1303*B$4","v":1874.4999999999998},{"$f":"Données!$E1303*C$4","v":1793.0000000000002},{"$f":"Données!$E1303*D$4","v":1711.5},{"$f":"Données!$E1303*E$4","v":1630},{"$f":"Données!$E1303*F$4","v":1548.5},{"$f":"Données!$E1303*G$4","v":1467},{"$f":"Données!$E1303*H$4","v":1385.5},{"$f":"Données!$F1303*B$4","v":1539.85},{"$f":"Données!$F1303*C$4","v":1472.9},{"$f":"Données!$F1303*D$4","v":1405.95},{"$f":"Données!$F1303*E$4","v":1339},{"$f":"Données!$F1303*F$4","v":1272.05},{"$f":"Données!$F1303*G$4","v":1205.1000000000001},{"$f":"Données!$F1303*H$4","v":1138.1499999999999}]
[null,7120,"Peissant","Estinnes",1642,1343,{"$f":"Données!$E1304*B$4","v":1888.3},{"$f":"Données!$E1304*C$4","v":1806.2},{"$f":"Données!$E1304*D$4","v":1724.1000000000001},{"$f":"Données!$E1304*E$4","v":1642},{"$f":"Données!$E1304*F$4","v":1559.8999999999999},{"$f":"Données!$E1304*G$4","v":1477.8},{"$f":"Données!$E1304*H$4","v":1395.7},{"$f":"Données!$F1304*B$4","v":1544.4499999999998},{"$f":"Données!$F1304*C$4","v":1477.3000000000002},{"$f":"Données!$F1304*D$4","v":1410.15},{"$f":"Données!$F1304*E$4","v":1343},{"$f":"Données!$F1304*F$4","v":1275.8499999999999},{"$f":"Données!$F1304*G$4","v":1208.7},{"$f":"Données!$F1304*H$4","v":1141.55}]
[null,7120,"Rouveroy","Estinnes",1642,1343,{"$f":"Données!$E1305*B$4","v":1888.3},{"$f":"Données!$E1305*C$4","v":1806.2},{"$f":"Données!$E1305*D$4","v":1724.1000000000001},{"$f":"Données!$E1305*E$4","v":1642},{"$f":"Données!$E1305*F$4","v":1559.8999999999999},{"$f":"Données!$E1305*G$4","v":1477.8},{"$f":"Données!$E1305*H$4","v":1395.7},{"$f":"Données!$F1305*B$4","v":1544.4499999999998},{"$f":"Données!$F1305*C$4","v":1477.3000000000002},{"$f":"Données!$F1305*D$4","v":1410.15},{"$f":"Données!$F1305*E$4","v":1343},{"$f":"Données!$F1305*F$4","v":1275.8499999999999},{"$f":"Données!$F1305*G$4","v":1208.7},{"$f":"Données!$F1305*H$4","v":1141.55}]
[null,7120,"Estinnes-Au-Val","Estinnes",1642,1343,{"$f":"Données!$E1306*B$4","v":1888.3},{"$f":"Données!$E1306*C$4","v":1806.2},{"$f":"Données!$E1306*D$4","v":1724.1000000000001},{"$f":"Données!$E1306*E$4","v":1642},{"$f":"Données!$E1306*F$4","v":1559.8999999999999},{"$f":"Données!$E1306*G$4","v":1477.8},{"$f":"Données!$E1306*H$4","v":1395.7},{"$f":"Données!$F1306*B$4","v":1544.4499999999998},{"$f":"Données!$F1306*C$4","v":1477.3000000000002},{"$f":"Données!$F1306*D$4","v":1410.15},{"$f":"Données!$F1306*E$4","v":1343},{"$f":"Données!$F1306*F$4","v":1275.8499999999999},{"$f":"Données!$F1306*G$4","v":1208.7},{"$f":"Données!$F1306*H$4","v":1141.55}]
[null,7120,"Haulchin","Estinnes",1642,1343,{"$f":"Données!$E1307*B$4","v":1888.3},{"$f":"Données!$E1307*C$4","v":1806.2},{"$f":"Données!$E1307*D$4","v":1724.1000000000001},{"$f":"Données!$E1307*E$4","v":1642},{"$f":"Données!$E1307*F$4","v":1559.8999999999999},{"$f":"Données!$E1307*G$4","v":1477.8},{"$f":"Données!$E1307*H$4","v":1395.7},{"$f":"Données!$F1307*B$4","v":1544.4499999999998},{"$f":"Données!$F1307*C$4","v":1477.3000000000002},{"$f":"Données!$F1307*D$4","v":1410.15},{"$f":"Données!$F1307*E$4","v":1343},{"$f":"Données!$F1307*F$4","v":1275.8499999999999},{"$f":"Données!$F1307*G$4","v":1208.7},{"$f":"Données!$F1307*H$4","v":1141.55}]
[null,7120,"Croix-Lez-Rouveroy","Estinnes",1642,1343,{"$f":"Données!$E1308*B$4","v":1888.3},{"$f":"Données!$E1308*C$4","v":1806.2},{"$f":"Données!$E1308*D$4","v":1724.1000000000001},{"$f":"Données!$E1308*E$4","v":1642},{"$f":"Données!$E1308*F$4","v":1559.8999999999999},{"$f":"Données!$E1308*G$4","v":1477.8},{"$f":"Données!$E1308*H$4","v":1395.7},{"$f":"Données!$F1308*B$4","v":1544.4499999999998},{"$f":"Données!$F1308*C$4","v":1477.3000000000002},{"$f":"Données!$F1308*D$4","v":1410.15},{"$f":"Données!$F1308*E$4","v":1343},{"$f":"Données!$F1308*F$4","v":1275.8499999999999},{"$f":"Données!$F1308*G$4","v":1208.7},{"$f":"Données!$F1308*H$4","v":1141.55}]
[null,7120,"Fauroeulx","Estinnes",1642,1343,{"$f":"Données!$E1309*B$4","v":1888.3},{"$f":"Données!$E1309*C$4","v":1806.2},{"$f":"Données!$E1309*D$4","v":1724.1000000000001},{"$f":"Données!$E1309*E$4","v":1642},{"$f":"Données!$E1309*F$4","v":1559.8999999999999},{"$f":"Données!$E1309*G$4","v":1477.8},{"$f":"Données!$E1309*H$4","v":1395.7},{"$f":"Données!$F1309*B$4","v":1544.4499999999998},{"$f":"Données!$F1309*C$4","v":1477.3000000000002},{"$f":"Données!$F1309*D$4","v":1410.15},{"$f":"Données!$F1309*E$4","v":1343},{"$f":"Données!$F1309*F$4","v":1275.8499999999999},{"$f":"Données!$F1309*G$4","v":1208.7},{"$f":"Données!$F1309*H$4","v":1141.55}]
[null,7120,"Vellereille-Les-Brayeux","Estinnes",1642,1343,{"$f":"Données!$E1310*B$4","v":1888.3},{"$f":"Données!$E1310*C$4","v":1806.2},{"$f":"Données!$E1310*D$4","v":1724.1000000000001},{"$f":"Données!$E1310*E$4","v":1642},{"$f":"Données!$E1310*F$4","v":1559.8999999999999},{"$f":"Données!$E1310*G$4","v":1477.8},{"$f":"Données!$E1310*H$4","v":1395.7},{"$f":"Données!$F1310*B$4","v":1544.4499999999998},{"$f":"Données!$F1310*C$4","v":1477.3000000000002},{"$f":"Données!$F1310*D$4","v":1410.15},{"$f":"Données!$F1310*E$4","v":1343},{"$f":"Données!$F1310*F$4","v":1275.8499999999999},{"$f":"Données!$F1310*G$4","v":1208.7},{"$f":"Données!$F1310*H$4","v":1141.55}]
[null,7120,"Estinnes","Estinnes",1642,1343,{"$f":"Données!$E1311*B$4","v":1888.3},{"$f":"Données!$E1311*C$4","v":1806.2},{"$f":"Données!$E1311*D$4","v":1724.1000000000001},{"$f":"Données!$E1311*E$4","v":1642},{"$f":"Données!$E1311*F$4","v":1559.8999999999999},{"$f":"Données!$E1311*G$4","v":1477.8},{"$f":"Données!$E1311*H$4","v":1395.7},{"$f":"Données!$F1311*B$4","v":1544.4499999999998},{"$f":"Données!$F1311*C$4","v":1477.3000000000002},{"$f":"Données!$F1311*D$4","v":1410.15},{"$f":"Données!$F1311*E$4","v":1343},{"$f":"Données!$F1311*F$4","v":1275.8499999999999},{"$f":"Données!$F1311*G$4","v":1208.7},{"$f":"Données!$F1311*H$4","v":1141.55}]
[null,7120,"Vellereille-Le-Sec","Estinnes",1642,1343,{"$f":"Données!$E1312*B$4","v":1888.3},{"$f":"Données!$E1312*C$4","v":1806.2},{"$f":"Données!$E1312*D$4","v":1724.1000000000001},{"$f":"Données!$E1312*E$4","v":1642},{"$f":"Données!$E1312*F$4","v":1559.8999999999999},{"$f":"Données!$E1312*G$4","v":1477.8},{"$f":"Données!$E1312*H$4","v":1395.7},{"$f":"Données!$F1312*B$4","v":1544.4499999999998},{"$f":"Données!$F1312*C$4","v":1477.3000000000002},{"$f":"Données!$F1312*D$4","v":1410.15},{"$f":"Données!$F1312*E$4","v":1343},{"$f":"Données!$F1312*F$4","v":1275.8499999999999},{"$f":"Données!$F1312*G$4","v":1208.7},{"$f":"Données!$F1312*H$4","v":1141.55}]
[null,7120,"Estinnes-Au-Mont","Estinnes",1642,1343,{"$f":"Données!$E1313*B$4","v":1888.3},{"$f":"Données!$E1313*C$4","v":1806.2},{"$f":"Données!$E1313*D$4","v":1724.1000000000001},{"$f":"Données!$E1313*E$4","v":1642},{"$f":"Données!$E1313*F$4","v":1559.8999999999999},{"$f":"Données!$E1313*G$4","v":1477.8},{"$f":"Données!$E1313*H$4","v":1395.7},{"$f":"Données!$F1313*B$4","v":1544.4499999999998},{"$f":"Données!$F1313*C$4","v":1477.3000000000002},{"$f":"Données!$F1313*D$4","v":1410.15},{"$f":"Données!$F1313*E$4","v":1343},{"$f":"Données!$F1313*F$4","v":1275.8499999999999},{"$f":"Données!$F1313*G$4","v":1208.7},{"$f":"Données!$F1313*H$4","v":1141.55}]
[null,7130,"Binche","Binche",1656,1311,{"$f":"Données!$E1314*B$4","v":1904.3999999999999},{"$f":"Données!$E1314*C$4","v":1821.6000000000001},{"$f":"Données!$E1314*D$4","v":1738.8000000000002},{"$f":"Données!$E1314*E$4","v":1656},{"$f":"Données!$E1314*F$4","v":1573.1999999999998},{"$f":"Données!$E1314*G$4","v":1490.4},{"$f":"Données!$E1314*H$4","v":1407.6},{"$f":"Données!$F1314*B$4","v":1507.6499999999999},{"$f":"Données!$F1314*C$4","v":1442.1000000000001},{"$f":"Données!$F1314*D$4","v":1376.55},{"$f":"Données!$F1314*E$4","v":1311},{"$f":"Données!$F1314*F$4","v":1245.45},{"$f":"Données!$F1314*G$4","v":1179.9000000000001},{"$f":"Données!$F1314*H$4","v":1114.3499999999999}]
[null,7130,"Battignies","Binche",1656,1311,{"$f":"Données!$E1315*B$4","v":1904.3999999999999},{"$f":"Données!$E1315*C$4","v":1821.6000000000001},{"$f":"Données!$E1315*D$4","v":1738.8000000000002},{"$f":"Données!$E1315*E$4","v":1656},{"$f":"Données!$E1315*F$4","v":1573.1999999999998},{"$f":"Données!$E1315*G$4","v":1490.4},{"$f":"Données!$E1315*H$4","v":1407.6},{"$f":"Données!$F1315*B$4","v":1507.6499999999999},{"$f":"Données!$F1315*C$4","v":1442.1000000000001},{"$f":"Données!$F1315*D$4","v":1376.55},{"$f":"Données!$F1315*E$4","v":1311},{"$f":"Données!$F1315*F$4","v":1245.45},{"$f":"Données!$F1315*G$4","v":1179.9000000000001},{"$f":"Données!$F1315*H$4","v":1114.3499999999999}]
[null,7130,"Bray","Binche",1656,1311,{"$f":"Données!$E1316*B$4","v":1904.3999999999999},{"$f":"Données!$E1316*C$4","v":1821.6000000000001},{"$f":"Données!$E1316*D$4","v":1738.8000000000002},{"$f":"Données!$E1316*E$4","v":1656},{"$f":"Données!$E1316*F$4","v":1573.1999999999998},{"$f":"Données!$E1316*G$4","v":1490.4},{"$f":"Données!$E1316*H$4","v":1407.6},{"$f":"Données!$F1316*B$4","v":1507.6499999999999},{"$f":"Données!$F1316*C$4","v":1442.1000000000001},{"$f":"Données!$F1316*D$4","v":1376.55},{"$f":"Données!$F1316*E$4","v":1311},{"$f":"Données!$F1316*F$4","v":1245.45},{"$f":"Données!$F1316*G$4","v":1179.9000000000001},{"$f":"Données!$F1316*H$4","v":1114.3499999999999}]
[null,7131,"Waudrez","Binche",1656,1311,{"$f":"Données!$E1317*B$4","v":1904.3999999999999},{"$f":"Données!$E1317*C$4","v":1821.6000000000001},{"$f":"Données!$E1317*D$4","v":1738.8000000000002},{"$f":"Données!$E1317*E$4","v":1656},{"$f":"Données!$E1317*F$4","v":1573.1999999999998},{"$f":"Données!$E1317*G$4","v":1490.4},{"$f":"Données!$E1317*H$4","v":1407.6},{"$f":"Données!$F1317*B$4","v":1507.6499999999999},{"$f":"Données!$F1317*C$4","v":1442.1000000000001},{"$f":"Données!$F1317*D$4","v":1376.55},{"$f":"Données!$F1317*E$4","v":1311},{"$f":"Données!$F1317*F$4","v":1245.45},{"$f":"Données!$F1317*G$4","v":1179.9000000000001},{"$f":"Données!$F1317*H$4","v":1114.3499999999999}]
[null,7133,"Buvrinnes","Binche",1656,1311,{"$f":"Données!$E1318*B$4","v":1904.3999999999999},{"$f":"Données!$E1318*C$4","v":1821.6000000000001},{"$f":"Données!$E1318*D$4","v":1738.8000000000002},{"$f":"Données!$E1318*E$4","v":1656},{"$f":"Données!$E1318*F$4","v":1573.1999999999998},{"$f":"Données!$E1318*G$4","v":1490.4},{"$f":"Données!$E1318*H$4","v":1407.6},{"$f":"Données!$F1318*B$4","v":1507.6499999999999},{"$f":"Données!$F1318*C$4","v":1442.1000000000001},{"$f":"Données!$F1318*D$4","v":1376.55},{"$f":"Données!$F1318*E$4","v":1311},{"$f":"Données!$F1318*F$4","v":1245.45},{"$f":"Données!$F1318*G$4","v":1179.9000000000001},{"$f":"Données!$F1318*H$4","v":1114.3499999999999}]
[null,7134,"Péronnes-Lez-Binche","Binche",1656,1311,{"$f":"Données!$E1319*B$4","v":1904.3999999999999},{"$f":"Données!$E1319*C$4","v":1821.6000000000001},{"$f":"Données!$E1319*D$4","v":1738.8000000000002},{"$f":"Données!$E1319*E$4","v":1656},{"$f":"Données!$E1319*F$4","v":1573.1999999999998},{"$f":"Données!$E1319*G$4","v":1490.4},{"$f":"Données!$E1319*H$4","v":1407.6},{"$f":"Données!$F1319*B$4","v":1507.6499999999999},{"$f":"Données!$F1319*C$4","v":1442.1000000000001},{"$f":"Données!$F1319*D$4","v":1376.55},{"$f":"Données!$F1319*E$4","v":1311},{"$f":"Données!$F1319*F$4","v":1245.45},{"$f":"Données!$F1319*G$4","v":1179.9000000000001},{"$f":"Données!$F1319*H$4","v":1114.3499999999999}]
[null,7134,"Leval-Trahegnies","Binche",1656,1311,{"$f":"Données!$E1320*B$4","v":1904.3999999999999},{"$f":"Données!$E1320*C$4","v":1821.6000000000001},{"$f":"Données!$E1320*D$4","v":1738.8000000000002},{"$f":"Données!$E1320*E$4","v":1656},{"$f":"Données!$E1320*F$4","v":1573.1999999999998},{"$f":"Données!$E1320*G$4","v":1490.4},{"$f":"Données!$E1320*H$4","v":1407.6},{"$f":"Données!$F1320*B$4","v":1507.6499999999999},{"$f":"Données!$F1320*C$4","v":1442.1000000000001},{"$f":"Données!$F1320*D$4","v":1376.55},{"$f":"Données!$F1320*E$4","v":1311},{"$f":"Données!$F1320*F$4","v":1245.45},{"$f":"Données!$F1320*G$4","v":1179.9000000000001},{"$f":"Données!$F1320*H$4","v":1114.3499999999999}]
[null,7134,"Ressaix","Binche",1656,1311,{"$f":"Données!$E1321*B$4","v":1904.3999999999999},{"$f":"Données!$E1321*C$4","v":1821.6000000000001},{"$f":"Données!$E1321*D$4","v":1738.8000000000002},{"$f":"Données!$E1321*E$4","v":1656},{"$f":"Données!$E1321*F$4","v":1573.1999999999998},{"$f":"Données!$E1321*G$4","v":1490.4},{"$f":"Données!$E1321*H$4","v":1407.6},{"$f":"Données!$F1321*B$4","v":1507.6499999999999},{"$f":"Données!$F1321*C$4","v":1442.1000000000001},{"$f":"Données!$F1321*D$4","v":1376.55},{"$f":"Données!$F1321*E$4","v":1311},{"$f":"Données!$F1321*F$4","v":1245.45},{"$f":"Données!$F1321*G$4","v":1179.9000000000001},{"$f":"Données!$F1321*H$4","v":1114.3499999999999}]
[null,7134,"Epinois","Binche",1656,1311,{"$f":"Données!$E1322*B$4","v":1904.3999999999999},{"$f":"Données!$E1322*C$4","v":1821.6000000000001},{"$f":"Données!$E1322*D$4","v":1738.8000000000002},{"$f":"Données!$E1322*E$4","v":1656},{"$f":"Données!$E1322*F$4","v":1573.1999999999998},{"$f":"Données!$E1322*G$4","v":1490.4},{"$f":"Données!$E1322*H$4","v":1407.6},{"$f":"Données!$F1322*B$4","v":1507.6499999999999},{"$f":"Données!$F1322*C$4","v":1442.1000000000001},{"$f":"Données!$F1322*D$4","v":1376.55},{"$f":"Données!$F1322*E$4","v":1311},{"$f":"Données!$F1322*F$4","v":1245.45},{"$f":"Données!$F1322*G$4","v":1179.9000000000001},{"$f":"Données!$F1322*H$4","v":1114.3499999999999}]
[null,7140,"Morlanwelz-Mariemont","Morlanwelz",1536,1263,{"$f":"Données!$E1323*B$4","v":1766.3999999999999},{"$f":"Données!$E1323*C$4","v":1689.6000000000001},{"$f":"Données!$E1323*D$4","v":1612.8000000000002},{"$f":"Données!$E1323*E$4","v":1536},{"$f":"Données!$E1323*F$4","v":1459.1999999999998},{"$f":"Données!$E1323*G$4","v":1382.4},{"$f":"Données!$E1323*H$4","v":1305.5999999999999},{"$f":"Données!$F1323*B$4","v":1452.4499999999998},{"$f":"Données!$F1323*C$4","v":1389.3000000000002},{"$f":"Données!$F1323*D$4","v":1326.15},{"$f":"Données!$F1323*E$4","v":1263},{"$f":"Données!$F1323*F$4","v":1199.8499999999999},{"$f":"Données!$F1323*G$4","v":1136.7},{"$f":"Données!$F1323*H$4","v":1073.55}]
[null,7140,"Morlanwelz","Morlanwelz",1536,1263,{"$f":"Données!$E1324*B$4","v":1766.3999999999999},{"$f":"Données!$E1324*C$4","v":1689.6000000000001},{"$f":"Données!$E1324*D$4","v":1612.8000000000002},{"$f":"Données!$E1324*E$4","v":1536},{"$f":"Données!$E1324*F$4","v":1459.1999999999998},{"$f":"Données!$E1324*G$4","v":1382.4},{"$f":"Données!$E1324*H$4","v":1305.5999999999999},{"$f":"Données!$F1324*B$4","v":1452.4499999999998},{"$f":"Données!$F1324*C$4","v":1389.3000000000002},{"$f":"Données!$F1324*D$4","v":1326.15},{"$f":"Données!$F1324*E$4","v":1263},{"$f":"Données!$F1324*F$4","v":1199.8499999999999},{"$f":"Données!$F1324*G$4","v":1136.7},{"$f":"Données!$F1324*H$4","v":1073.55}]
[null,7141,"Carnières","Morlanwelz",1536,1263,{"$f":"Données!$E1325*B$4","v":1766.3999999999999},{"$f":"Données!$E1325*C$4","v":1689.6000000000001},{"$f":"Données!$E1325*D$4","v":1612.8000000000002},{"$f":"Données!$E1325*E$4","v":1536},{"$f":"Données!$E1325*F$4","v":1459.1999999999998},{"$f":"Données!$E1325*G$4","v":1382.4},{"$f":"Données!$E1325*H$4","v":1305.5999999999999},{"$f":"Données!$F1325*B$4","v":1452.4499999999998},{"$f":"Données!$F1325*C$4","v":1389.3000000000002},{"$f":"Données!$F1325*D$4","v":1326.15},{"$f":"Données!$F1325*E$4","v":1263},{"$f":"Données!$F1325*F$4","v":1199.8499999999999},{"$f":"Données!$F1325*G$4","v":1136.7},{"$f":"Données!$F1325*H$4","v":1073.55}]
[null,7141,"Mont-Sainte-Aldegonde","Morlanwelz",1536,1263,{"$f":"Données!$E1326*B$4","v":1766.3999999999999},{"$f":"Données!$E1326*C$4","v":1689.6000000000001},{"$f":"Données!$E1326*D$4","v":1612.8000000000002},{"$f":"Données!$E1326*E$4","v":1536},{"$f":"Données!$E1326*F$4","v":1459.1999999999998},{"$f":"Données!$E1326*G$4","v":1382.4},{"$f":"Données!$E1326*H$4","v":1305.5999999999999},{"$f":"Données!$F1326*B$4","v":1452.4499999999998},{"$f":"Données!$F1326*C$4","v":1389.3000000000002},{"$f":"Données!$F1326*D$4","v":1326.15},{"$f":"Données!$F1326*E$4","v":1263},{"$f":"Données!$F1326*F$4","v":1199.8499999999999},{"$f":"Données!$F1326*G$4","v":1136.7},{"$f":"Données!$F1326*H$4","v":1073.55}]
[null,7160,"Chapelle-Lez-Herlaimont","Chapelle-Lez-Herlaimont",1824,1377,{"$f":"Données!$E1327*B$4","v":2097.6},{"$f":"Données!$E1327*C$4","v":2006.4},{"$f":"Données!$E1327*D$4","v":1915.2},{"$f":"Données!$E1327*E$4","v":1824},{"$f":"Données!$E1327*F$4","v":1732.8},{"$f":"Données!$E1327*G$4","v":1641.6000000000001},{"$f":"Données!$E1327*H$4","v":1550.3999999999999},{"$f":"Données!$F1327*B$4","v":1583.55},{"$f":"Données!$F1327*C$4","v":1514.7},{"$f":"Données!$F1327*D$4","v":1445.8500000000001},{"$f":"Données!$F1327*E$4","v":1377},{"$f":"Données!$F1327*F$4","v":1308.1499999999999},{"$f":"Données!$F1327*G$4","v":1239.3},{"$f":"Données!$F1327*H$4","v":1170.45}]
[null,7160,"Piéton","Chapelle-Lez-Herlaimont",1824,1377,{"$f":"Données!$E1328*B$4","v":2097.6},{"$f":"Données!$E1328*C$4","v":2006.4},{"$f":"Données!$E1328*D$4","v":1915.2},{"$f":"Données!$E1328*E$4","v":1824},{"$f":"Données!$E1328*F$4","v":1732.8},{"$f":"Données!$E1328*G$4","v":1641.6000000000001},{"$f":"Données!$E1328*H$4","v":1550.3999999999999},{"$f":"Données!$F1328*B$4","v":1583.55},{"$f":"Données!$F1328*C$4","v":1514.7},{"$f":"Données!$F1328*D$4","v":1445.8500000000001},{"$f":"Données!$F1328*E$4","v":1377},{"$f":"Données!$F1328*F$4","v":1308.1499999999999},{"$f":"Données!$F1328*G$4","v":1239.3},{"$f":"Données!$F1328*H$4","v":1170.45}]
[null,7160,"Godarville","Chapelle-Lez-Herlaimont",1824,1377,{"$f":"Données!$E1329*B$4","v":2097.6},{"$f":"Données!$E1329*C$4","v":2006.4},{"$f":"Données!$E1329*D$4","v":1915.2},{"$f":"Données!$E1329*E$4","v":1824},{"$f":"Données!$E1329*F$4","v":1732.8},{"$f":"Données!$E1329*G$4","v":1641.6000000000001},{"$f":"Données!$E1329*H$4","v":1550.3999999999999},{"$f":"Données!$F1329*B$4","v":1583.55},{"$f":"Données!$F1329*C$4","v":1514.7},{"$f":"Données!$F1329*D$4","v":1445.8500000000001},{"$f":"Données!$F1329*E$4","v":1377},{"$f":"Données!$F1329*F$4","v":1308.1499999999999},{"$f":"Données!$F1329*G$4","v":1239.3},{"$f":"Données!$F1329*H$4","v":1170.45}]
[null,7170,"Bellecourt","Manage",1727,1364,{"$f":"Données!$E1330*B$4","v":1986.05},{"$f":"Données!$E1330*C$4","v":1899.7},{"$f":"Données!$E1330*D$4","v":1813.3500000000001},{"$f":"Données!$E1330*E$4","v":1727},{"$f":"Données!$E1330*F$4","v":1640.6499999999999},{"$f":"Données!$E1330*G$4","v":1554.3},{"$f":"Données!$E1330*H$4","v":1467.95},{"$f":"Données!$F1330*B$4","v":1568.6},{"$f":"Données!$F1330*C$4","v":1500.4},{"$f":"Données!$F1330*D$4","v":1432.2},{"$f":"Données!$F1330*E$4","v":1364},{"$f":"Données!$F1330*F$4","v":1295.8},{"$f":"Données!$F1330*G$4","v":1227.6000000000001},{"$f":"Données!$F1330*H$4","v":1159.3999999999999}]
[null,7170,"Bois-D'haine","Manage",1727,1364,{"$f":"Données!$E1331*B$4","v":1986.05},{"$f":"Données!$E1331*C$4","v":1899.7},{"$f":"Données!$E1331*D$4","v":1813.3500000000001},{"$f":"Données!$E1331*E$4","v":1727},{"$f":"Données!$E1331*F$4","v":1640.6499999999999},{"$f":"Données!$E1331*G$4","v":1554.3},{"$f":"Données!$E1331*H$4","v":1467.95},{"$f":"Données!$F1331*B$4","v":1568.6},{"$f":"Données!$F1331*C$4","v":1500.4},{"$f":"Données!$F1331*D$4","v":1432.2},{"$f":"Données!$F1331*E$4","v":1364},{"$f":"Données!$F1331*F$4","v":1295.8},{"$f":"Données!$F1331*G$4","v":1227.6000000000001},{"$f":"Données!$F1331*H$4","v":1159.3999999999999}]
[null,7170,"Fayt-Lez-Manage","Manage",1727,1364,{"$f":"Données!$E1332*B$4","v":1986.05},{"$f":"Données!$E1332*C$4","v":1899.7},{"$f":"Données!$E1332*D$4","v":1813.3500000000001},{"$f":"Données!$E1332*E$4","v":1727},{"$f":"Données!$E1332*F$4","v":1640.6499999999999},{"$f":"Données!$E1332*G$4","v":1554.3},{"$f":"Données!$E1332*H$4","v":1467.95},{"$f":"Données!$F1332*B$4","v":1568.6},{"$f":"Données!$F1332*C$4","v":1500.4},{"$f":"Données!$F1332*D$4","v":1432.2},{"$f":"Données!$F1332*E$4","v":1364},{"$f":"Données!$F1332*F$4","v":1295.8},{"$f":"Données!$F1332*G$4","v":1227.6000000000001},{"$f":"Données!$F1332*H$4","v":1159.3999999999999}]
[null,7170,"LaHestre","Manage",1727,1364,{"$f":"Données!$E1333*B$4","v":1986.05},{"$f":"Données!$E1333*C$4","v":1899.7},{"$f":"Données!$E1333*D$4","v":1813.3500000000001},{"$f":"Données!$E1333*E$4","v":1727},{"$f":"Données!$E1333*F$4","v":1640.6499999999999},{"$f":"Données!$E1333*G$4","v":1554.3},{"$f":"Données!$E1333*H$4","v":1467.95},{"$f":"Données!$F1333*B$4","v":1568.6},{"$f":"Données!$F1333*C$4","v":1500.4},{"$f":"Données!$F1333*D$4","v":1432.2},{"$f":"Données!$F1333*E$4","v":1364},{"$f":"Données!$F1333*F$4","v":1295.8},{"$f":"Données!$F1333*G$4","v":1227.6000000000001},{"$f":"Données!$F1333*H$4","v":1159.3999999999999}]
[null,7170,"Manage","Manage",1727,1364,{"$f":"Données!$E1334*B$4","v":1986.05},{"$f":"Données!$E1334*C$4","v":1899.7},{"$f":"Données!$E1334*D$4","v":1813.3500000000001},{"$f":"Données!$E1334*E$4","v":1727},{"$f":"Données!$E1334*F$4","v":1640.6499999999999},{"$f":"Données!$E1334*G$4","v":1554.3},{"$f":"Données!$E1334*H$4","v":1467.95},{"$f":"Données!$F1334*B$4","v":1568.6},{"$f":"Données!$F1334*C$4","v":1500.4},{"$f":"Données!$F1334*D$4","v":1432.2},{"$f":"Données!$F1334*E$4","v":1364},{"$f":"Données!$F1334*F$4","v":1295.8},{"$f":"Données!$F1334*G$4","v":1227.6000000000001},{"$f":"Données!$F1334*H$4","v":1159.3999999999999}]
[null,7180,"Seneffe","Seneffe",2023,1803,{"$f":"Données!$E1335*B$4","v":2326.4499999999998},{"$f":"Données!$E1335*C$4","v":2225.3000000000002},{"$f":"Données!$E1335*D$4","v":2124.15},{"$f":"Données!$E1335*E$4","v":2023},{"$f":"Données!$E1335*F$4","v":1921.85},{"$f":"Données!$E1335*G$4","v":1820.7},{"$f":"Données!$E1335*H$4","v":1719.55},{"$f":"Données!$F1335*B$4","v":2073.4499999999998},{"$f":"Données!$F1335*C$4","v":1983.3000000000002},{"$f":"Données!$F1335*D$4","v":1893.15},{"$f":"Données!$F1335*E$4","v":1803},{"$f":"Données!$F1335*F$4","v":1712.85},{"$f":"Données!$F1335*G$4","v":1622.7},{"$f":"Données!$F1335*H$4","v":1532.55}]
[null,7181,"Arquennes","Seneffe",2023,1803,{"$f":"Données!$E1336*B$4","v":2326.4499999999998},{"$f":"Données!$E1336*C$4","v":2225.3000000000002},{"$f":"Données!$E1336*D$4","v":2124.15},{"$f":"Données!$E1336*E$4","v":2023},{"$f":"Données!$E1336*F$4","v":1921.85},{"$f":"Données!$E1336*G$4","v":1820.7},{"$f":"Données!$E1336*H$4","v":1719.55},{"$f":"Données!$F1336*B$4","v":2073.4499999999998},{"$f":"Données!$F1336*C$4","v":1983.3000000000002},{"$f":"Données!$F1336*D$4","v":1893.15},{"$f":"Données!$F1336*E$4","v":1803},{"$f":"Données!$F1336*F$4","v":1712.85},{"$f":"Données!$F1336*G$4","v":1622.7},{"$f":"Données!$F1336*H$4","v":1532.55}]
[null,7181,"Familleureux","Seneffe",2023,1803,{"$f":"Données!$E1337*B$4","v":2326.4499999999998},{"$f":"Données!$E1337*C$4","v":2225.3000000000002},{"$f":"Données!$E1337*D$4","v":2124.15},{"$f":"Données!$E1337*E$4","v":2023},{"$f":"Données!$E1337*F$4","v":1921.85},{"$f":"Données!$E1337*G$4","v":1820.7},{"$f":"Données!$E1337*H$4","v":1719.55},{"$f":"Données!$F1337*B$4","v":2073.4499999999998},{"$f":"Données!$F1337*C$4","v":1983.3000000000002},{"$f":"Données!$F1337*D$4","v":1893.15},{"$f":"Données!$F1337*E$4","v":1803},{"$f":"Données!$F1337*F$4","v":1712.85},{"$f":"Données!$F1337*G$4","v":1622.7},{"$f":"Données!$F1337*H$4","v":1532.55}]
[null,7181,"Petit-Roeulx-Lez-Nivelles","Seneffe",2023,1803,{"$f":"Données!$E1338*B$4","v":2326.4499999999998},{"$f":"Données!$E1338*C$4","v":2225.3000000000002},{"$f":"Données!$E1338*D$4","v":2124.15},{"$f":"Données!$E1338*E$4","v":2023},{"$f":"Données!$E1338*F$4","v":1921.85},{"$f":"Données!$E1338*G$4","v":1820.7},{"$f":"Données!$E1338*H$4","v":1719.55},{"$f":"Données!$F1338*B$4","v":2073.4499999999998},{"$f":"Données!$F1338*C$4","v":1983.3000000000002},{"$f":"Données!$F1338*D$4","v":1893.15},{"$f":"Données!$F1338*E$4","v":1803},{"$f":"Données!$F1338*F$4","v":1712.85},{"$f":"Données!$F1338*G$4","v":1622.7},{"$f":"Données!$F1338*H$4","v":1532.55}]
[null,7181,"Feluy","Seneffe",2023,1803,{"$f":"Données!$E1339*B$4","v":2326.4499999999998},{"$f":"Données!$E1339*C$4","v":2225.3000000000002},{"$f":"Données!$E1339*D$4","v":2124.15},{"$f":"Données!$E1339*E$4","v":2023},{"$f":"Données!$E1339*F$4","v":1921.85},{"$f":"Données!$E1339*G$4","v":1820.7},{"$f":"Données!$E1339*H$4","v":1719.55},{"$f":"Données!$F1339*B$4","v":2073.4499999999998},{"$f":"Données!$F1339*C$4","v":1983.3000000000002},{"$f":"Données!$F1339*D$4","v":1893.15},{"$f":"Données!$F1339*E$4","v":1803},{"$f":"Données!$F1339*F$4","v":1712.85},{"$f":"Données!$F1339*G$4","v":1622.7},{"$f":"Données!$F1339*H$4","v":1532.55}]
[null,7190,"Ecaussinnes","Ecaussinnes",1959,1651,{"$f":"Données!$E1340*B$4","v":2252.85},{"$f":"Données!$E1340*C$4","v":2154.9},{"$f":"Données!$E1340*D$4","v":2056.9500000000003},{"$f":"Données!$E1340*E$4","v":1959},{"$f":"Données!$E1340*F$4","v":1861.05},{"$f":"Données!$E1340*G$4","v":1763.1000000000001},{"$f":"Données!$E1340*H$4","v":1665.1499999999999},{"$f":"Données!$F1340*B$4","v":1898.6499999999999},{"$f":"Données!$F1340*C$4","v":1816.1000000000001},{"$f":"Données!$F1340*D$4","v":1733.5500000000002},{"$f":"Données!$F1340*E$4","v":1651},{"$f":"Données!$F1340*F$4","v":1568.4499999999998},{"$f":"Données!$F1340*G$4","v":1485.9},{"$f":"Données!$F1340*H$4","v":1403.35}]
[null,7190,"Ecaussinnes-D'enghien","Ecaussinnes",1959,1651,{"$f":"Données!$E1341*B$4","v":2252.85},{"$f":"Données!$E1341*C$4","v":2154.9},{"$f":"Données!$E1341*D$4","v":2056.9500000000003},{"$f":"Données!$E1341*E$4","v":1959},{"$f":"Données!$E1341*F$4","v":1861.05},{"$f":"Données!$E1341*G$4","v":1763.1000000000001},{"$f":"Données!$E1341*H$4","v":1665.1499999999999},{"$f":"Données!$F1341*B$4","v":1898.6499999999999},{"$f":"Données!$F1341*C$4","v":1816.1000000000001},{"$f":"Données!$F1341*D$4","v":1733.5500000000002},{"$f":"Données!$F1341*E$4","v":1651},{"$f":"Données!$F1341*F$4","v":1568.4499999999998},{"$f":"Données!$F1341*G$4","v":1485.9},{"$f":"Données!$F1341*H$4","v":1403.35}]
[null,7190,"Marche-Lez-Ecaussinnes","Ecaussinnes",1959,1651,{"$f":"Données!$E1342*B$4","v":2252.85},{"$f":"Données!$E1342*C$4","v":2154.9},{"$f":"Données!$E1342*D$4","v":2056.9500000000003},{"$f":"Données!$E1342*E$4","v":1959},{"$f":"Données!$E1342*F$4","v":1861.05},{"$f":"Données!$E1342*G$4","v":1763.1000000000001},{"$f":"Données!$E1342*H$4","v":1665.1499999999999},{"$f":"Données!$F1342*B$4","v":1898.6499999999999},{"$f":"Données!$F1342*C$4","v":1816.1000000000001},{"$f":"Données!$F1342*D$4","v":1733.5500000000002},{"$f":"Données!$F1342*E$4","v":1651},{"$f":"Données!$F1342*F$4","v":1568.4499999999998},{"$f":"Données!$F1342*G$4","v":1485.9},{"$f":"Données!$F1342*H$4","v":1403.35}]
[null,7191,"Ecaussinnes-Lalaing","Ecaussinnes",1959,1651,{"$f":"Données!$E1343*B$4","v":2252.85},{"$f":"Données!$E1343*C$4","v":2154.9},{"$f":"Données!$E1343*D$4","v":2056.9500000000003},{"$f":"Données!$E1343*E$4","v":1959},{"$f":"Données!$E1343*F$4","v":1861.05},{"$f":"Données!$E1343*G$4","v":1763.1000000000001},{"$f":"Données!$E1343*H$4","v":1665.1499999999999},{"$f":"Données!$F1343*B$4","v":1898.6499999999999},{"$f":"Données!$F1343*C$4","v":1816.1000000000001},{"$f":"Données!$F1343*D$4","v":1733.5500000000002},{"$f":"Données!$F1343*E$4","v":1651},{"$f":"Données!$F1343*F$4","v":1568.4499999999998},{"$f":"Données!$F1343*G$4","v":1485.9},{"$f":"Données!$F1343*H$4","v":1403.35}]
[null,7300,"Boussu","Boussu",1416,1225,{"$f":"Données!$E1344*B$4","v":1628.3999999999999},{"$f":"Données!$E1344*C$4","v":1557.6000000000001},{"$f":"Données!$E1344*D$4","v":1486.8},{"$f":"Données!$E1344*E$4","v":1416},{"$f":"Données!$E1344*F$4","v":1345.2},{"$f":"Données!$E1344*G$4","v":1274.4000000000001},{"$f":"Données!$E1344*H$4","v":1203.5999999999999},{"$f":"Données!$F1344*B$4","v":1408.75},{"$f":"Données!$F1344*C$4","v":1347.5},{"$f":"Données!$F1344*D$4","v":1286.25},{"$f":"Données!$F1344*E$4","v":1225},{"$f":"Données!$F1344*F$4","v":1163.75},{"$f":"Données!$F1344*G$4","v":1102.5},{"$f":"Données!$F1344*H$4","v":1041.25}]
[null,7301,"Hornu","Boussu",1416,1225,{"$f":"Données!$E1345*B$4","v":1628.3999999999999},{"$f":"Données!$E1345*C$4","v":1557.6000000000001},{"$f":"Données!$E1345*D$4","v":1486.8},{"$f":"Données!$E1345*E$4","v":1416},{"$f":"Données!$E1345*F$4","v":1345.2},{"$f":"Données!$E1345*G$4","v":1274.4000000000001},{"$f":"Données!$E1345*H$4","v":1203.5999999999999},{"$f":"Données!$F1345*B$4","v":1408.75},{"$f":"Données!$F1345*C$4","v":1347.5},{"$f":"Données!$F1345*D$4","v":1286.25},{"$f":"Données!$F1345*E$4","v":1225},{"$f":"Données!$F1345*F$4","v":1163.75},{"$f":"Données!$F1345*G$4","v":1102.5},{"$f":"Données!$F1345*H$4","v":1041.25}]
[null,7320,"Bernissart","Bernissart",1603,1253,{"$f":"Données!$E1346*B$4","v":1843.4499999999998},{"$f":"Données!$E1346*C$4","v":1763.3000000000002},{"$f":"Données!$E1346*D$4","v":1683.15},{"$f":"Données!$E1346*E$4","v":1603},{"$f":"Données!$E1346*F$4","v":1522.85},{"$f":"Données!$E1346*G$4","v":1442.7},{"$f":"Données!$E1346*H$4","v":1362.55},{"$f":"Données!$F1346*B$4","v":1440.9499999999998},{"$f":"Données!$F1346*C$4","v":1378.3000000000002},{"$f":"Données!$F1346*D$4","v":1315.65},{"$f":"Données!$F1346*E$4","v":1253},{"$f":"Données!$F1346*F$4","v":1190.3499999999999},{"$f":"Données!$F1346*G$4","v":1127.7},{"$f":"Données!$F1346*H$4","v":1065.05}]
[null,7321,"Harchies","Bernissart",1603,1253,{"$f":"Données!$E1347*B$4","v":1843.4499999999998},{"$f":"Données!$E1347*C$4","v":1763.3000000000002},{"$f":"Données!$E1347*D$4","v":1683.15},{"$f":"Données!$E1347*E$4","v":1603},{"$f":"Données!$E1347*F$4","v":1522.85},{"$f":"Données!$E1347*G$4","v":1442.7},{"$f":"Données!$E1347*H$4","v":1362.55},{"$f":"Données!$F1347*B$4","v":1440.9499999999998},{"$f":"Données!$F1347*C$4","v":1378.3000000000002},{"$f":"Données!$F1347*D$4","v":1315.65},{"$f":"Données!$F1347*E$4","v":1253},{"$f":"Données!$F1347*F$4","v":1190.3499999999999},{"$f":"Données!$F1347*G$4","v":1127.7},{"$f":"Données!$F1347*H$4","v":1065.05}]
[null,7321,"Blaton","Bernissart",1603,1253,{"$f":"Données!$E1348*B$4","v":1843.4499999999998},{"$f":"Données!$E1348*C$4","v":1763.3000000000002},{"$f":"Données!$E1348*D$4","v":1683.15},{"$f":"Données!$E1348*E$4","v":1603},{"$f":"Données!$E1348*F$4","v":1522.85},{"$f":"Données!$E1348*G$4","v":1442.7},{"$f":"Données!$E1348*H$4","v":1362.55},{"$f":"Données!$F1348*B$4","v":1440.9499999999998},{"$f":"Données!$F1348*C$4","v":1378.3000000000002},{"$f":"Données!$F1348*D$4","v":1315.65},{"$f":"Données!$F1348*E$4","v":1253},{"$f":"Données!$F1348*F$4","v":1190.3499999999999},{"$f":"Données!$F1348*G$4","v":1127.7},{"$f":"Données!$F1348*H$4","v":1065.05}]
[null,7322,"Pommeroeul","Bernissart",1603,1253,{"$f":"Données!$E1349*B$4","v":1843.4499999999998},{"$f":"Données!$E1349*C$4","v":1763.3000000000002},{"$f":"Données!$E1349*D$4","v":1683.15},{"$f":"Données!$E1349*E$4","v":1603},{"$f":"Données!$E1349*F$4","v":1522.85},{"$f":"Données!$E1349*G$4","v":1442.7},{"$f":"Données!$E1349*H$4","v":1362.55},{"$f":"Données!$F1349*B$4","v":1440.9499999999998},{"$f":"Données!$F1349*C$4","v":1378.3000000000002},{"$f":"Données!$F1349*D$4","v":1315.65},{"$f":"Données!$F1349*E$4","v":1253},{"$f":"Données!$F1349*F$4","v":1190.3499999999999},{"$f":"Données!$F1349*G$4","v":1127.7},{"$f":"Données!$F1349*H$4","v":1065.05}]
[null,7322,"Ville-Pommeroeul","Bernissart",1603,1253,{"$f":"Données!$E1350*B$4","v":1843.4499999999998},{"$f":"Données!$E1350*C$4","v":1763.3000000000002},{"$f":"Données!$E1350*D$4","v":1683.15},{"$f":"Données!$E1350*E$4","v":1603},{"$f":"Données!$E1350*F$4","v":1522.85},{"$f":"Données!$E1350*G$4","v":1442.7},{"$f":"Données!$E1350*H$4","v":1362.55},{"$f":"Données!$F1350*B$4","v":1440.9499999999998},{"$f":"Données!$F1350*C$4","v":1378.3000000000002},{"$f":"Données!$F1350*D$4","v":1315.65},{"$f":"Données!$F1350*E$4","v":1253},{"$f":"Données!$F1350*F$4","v":1190.3499999999999},{"$f":"Données!$F1350*G$4","v":1127.7},{"$f":"Données!$F1350*H$4","v":1065.05}]
[null,7330,"Saint-Ghislain","Saint-Ghislain",1666,1362,{"$f":"Données!$E1351*B$4","v":1915.8999999999999},{"$f":"Données!$E1351*C$4","v":1832.6000000000001},{"$f":"Données!$E1351*D$4","v":1749.3000000000002},{"$f":"Données!$E1351*E$4","v":1666},{"$f":"Données!$E1351*F$4","v":1582.6999999999998},{"$f":"Données!$E1351*G$4","v":1499.4},{"$f":"Données!$E1351*H$4","v":1416.1},{"$f":"Données!$F1351*B$4","v":1566.3},{"$f":"Données!$F1351*C$4","v":1498.2},{"$f":"Données!$F1351*D$4","v":1430.1000000000001},{"$f":"Données!$F1351*E$4","v":1362},{"$f":"Données!$F1351*F$4","v":1293.8999999999999},{"$f":"Données!$F1351*G$4","v":1225.8},{"$f":"Données!$F1351*H$4","v":1157.7}]
[null,7331,"Baudour","Saint-Ghislain",1666,1362,{"$f":"Données!$E1352*B$4","v":1915.8999999999999},{"$f":"Données!$E1352*C$4","v":1832.6000000000001},{"$f":"Données!$E1352*D$4","v":1749.3000000000002},{"$f":"Données!$E1352*E$4","v":1666},{"$f":"Données!$E1352*F$4","v":1582.6999999999998},{"$f":"Données!$E1352*G$4","v":1499.4},{"$f":"Données!$E1352*H$4","v":1416.1},{"$f":"Données!$F1352*B$4","v":1566.3},{"$f":"Données!$F1352*C$4","v":1498.2},{"$f":"Données!$F1352*D$4","v":1430.1000000000001},{"$f":"Données!$F1352*E$4","v":1362},{"$f":"Données!$F1352*F$4","v":1293.8999999999999},{"$f":"Données!$F1352*G$4","v":1225.8},{"$f":"Données!$F1352*H$4","v":1157.7}]
[null,7332,"Sirault","Saint-Ghislain",1666,1362,{"$f":"Données!$E1353*B$4","v":1915.8999999999999},{"$f":"Données!$E1353*C$4","v":1832.6000000000001},{"$f":"Données!$E1353*D$4","v":1749.3000000000002},{"$f":"Données!$E1353*E$4","v":1666},{"$f":"Données!$E1353*F$4","v":1582.6999999999998},{"$f":"Données!$E1353*G$4","v":1499.4},{"$f":"Données!$E1353*H$4","v":1416.1},{"$f":"Données!$F1353*B$4","v":1566.3},{"$f":"Données!$F1353*C$4","v":1498.2},{"$f":"Données!$F1353*D$4","v":1430.1000000000001},{"$f":"Données!$F1353*E$4","v":1362},{"$f":"Données!$F1353*F$4","v":1293.8999999999999},{"$f":"Données!$F1353*G$4","v":1225.8},{"$f":"Données!$F1353*H$4","v":1157.7}]
[null,7332,"Neufmaison","Saint-Ghislain",1666,1362,{"$f":"Données!$E1354*B$4","v":1915.8999999999999},{"$f":"Données!$E1354*C$4","v":1832.6000000000001},{"$f":"Données!$E1354*D$4","v":1749.3000000000002},{"$f":"Données!$E1354*E$4","v":1666},{"$f":"Données!$E1354*F$4","v":1582.6999999999998},{"$f":"Données!$E1354*G$4","v":1499.4},{"$f":"Données!$E1354*H$4","v":1416.1},{"$f":"Données!$F1354*B$4","v":1566.3},{"$f":"Données!$F1354*C$4","v":1498.2},{"$f":"Données!$F1354*D$4","v":1430.1000000000001},{"$f":"Données!$F1354*E$4","v":1362},{"$f":"Données!$F1354*F$4","v":1293.8999999999999},{"$f":"Données!$F1354*G$4","v":1225.8},{"$f":"Données!$F1354*H$4","v":1157.7}]
[null,7333,"Tertre","Saint-Ghislain",1666,1362,{"$f":"Données!$E1355*B$4","v":1915.8999999999999},{"$f":"Données!$E1355*C$4","v":1832.6000000000001},{"$f":"Données!$E1355*D$4","v":1749.3000000000002},{"$f":"Données!$E1355*E$4","v":1666},{"$f":"Données!$E1355*F$4","v":1582.6999999999998},{"$f":"Données!$E1355*G$4","v":1499.4},{"$f":"Données!$E1355*H$4","v":1416.1},{"$f":"Données!$F1355*B$4","v":1566.3},{"$f":"Données!$F1355*C$4","v":1498.2},{"$f":"Données!$F1355*D$4","v":1430.1000000000001},{"$f":"Données!$F1355*E$4","v":1362},{"$f":"Données!$F1355*F$4","v":1293.8999999999999},{"$f":"Données!$F1355*G$4","v":1225.8},{"$f":"Données!$F1355*H$4","v":1157.7}]
[null,7334,"Hautrage","Saint-Ghislain",1666,1362,{"$f":"Données!$E1356*B$4","v":1915.8999999999999},{"$f":"Données!$E1356*C$4","v":1832.6000000000001},{"$f":"Données!$E1356*D$4","v":1749.3000000000002},{"$f":"Données!$E1356*E$4","v":1666},{"$f":"Données!$E1356*F$4","v":1582.6999999999998},{"$f":"Données!$E1356*G$4","v":1499.4},{"$f":"Données!$E1356*H$4","v":1416.1},{"$f":"Données!$F1356*B$4","v":1566.3},{"$f":"Données!$F1356*C$4","v":1498.2},{"$f":"Données!$F1356*D$4","v":1430.1000000000001},{"$f":"Données!$F1356*E$4","v":1362},{"$f":"Données!$F1356*F$4","v":1293.8999999999999},{"$f":"Données!$F1356*G$4","v":1225.8},{"$f":"Données!$F1356*H$4","v":1157.7}]
[null,7334,"Villerot","Saint-Ghislain",1666,1362,{"$f":"Données!$E1357*B$4","v":1915.8999999999999},{"$f":"Données!$E1357*C$4","v":1832.6000000000001},{"$f":"Données!$E1357*D$4","v":1749.3000000000002},{"$f":"Données!$E1357*E$4","v":1666},{"$f":"Données!$E1357*F$4","v":1582.6999999999998},{"$f":"Données!$E1357*G$4","v":1499.4},{"$f":"Données!$E1357*H$4","v":1416.1},{"$f":"Données!$F1357*B$4","v":1566.3},{"$f":"Données!$F1357*C$4","v":1498.2},{"$f":"Données!$F1357*D$4","v":1430.1000000000001},{"$f":"Données!$F1357*E$4","v":1362},{"$f":"Données!$F1357*F$4","v":1293.8999999999999},{"$f":"Données!$F1357*G$4","v":1225.8},{"$f":"Données!$F1357*H$4","v":1157.7}]
[null,7340,"Colfontaine","Colfontaine",1331,1120,{"$f":"Données!$E1358*B$4","v":1530.6499999999999},{"$f":"Données!$E1358*C$4","v":1464.1000000000001},{"$f":"Données!$E1358*D$4","v":1397.55},{"$f":"Données!$E1358*E$4","v":1331},{"$f":"Données!$E1358*F$4","v":1264.45},{"$f":"Données!$E1358*G$4","v":1197.9000000000001},{"$f":"Données!$E1358*H$4","v":1131.3499999999999},{"$f":"Données!$F1358*B$4","v":1288},{"$f":"Données!$F1358*C$4","v":1232},{"$f":"Données!$F1358*D$4","v":1176},{"$f":"Données!$F1358*E$4","v":1120},{"$f":"Données!$F1358*F$4","v":1064},{"$f":"Données!$F1358*G$4","v":1008},{"$f":"Données!$F1358*H$4","v":952}]
[null,7340,"Warquignies","Colfontaine",1331,1120,{"$f":"Données!$E1359*B$4","v":1530.6499999999999},{"$f":"Données!$E1359*C$4","v":1464.1000000000001},{"$f":"Données!$E1359*D$4","v":1397.55},{"$f":"Données!$E1359*E$4","v":1331},{"$f":"Données!$E1359*F$4","v":1264.45},{"$f":"Données!$E1359*G$4","v":1197.9000000000001},{"$f":"Données!$E1359*H$4","v":1131.3499999999999},{"$f":"Données!$F1359*B$4","v":1288},{"$f":"Données!$F1359*C$4","v":1232},{"$f":"Données!$F1359*D$4","v":1176},{"$f":"Données!$F1359*E$4","v":1120},{"$f":"Données!$F1359*F$4","v":1064},{"$f":"Données!$F1359*G$4","v":1008},{"$f":"Données!$F1359*H$4","v":952}]
[null,7340,"Paturages","Colfontaine",1331,1120,{"$f":"Données!$E1360*B$4","v":1530.6499999999999},{"$f":"Données!$E1360*C$4","v":1464.1000000000001},{"$f":"Données!$E1360*D$4","v":1397.55},{"$f":"Données!$E1360*E$4","v":1331},{"$f":"Données!$E1360*F$4","v":1264.45},{"$f":"Données!$E1360*G$4","v":1197.9000000000001},{"$f":"Données!$E1360*H$4","v":1131.3499999999999},{"$f":"Données!$F1360*B$4","v":1288},{"$f":"Données!$F1360*C$4","v":1232},{"$f":"Données!$F1360*D$4","v":1176},{"$f":"Données!$F1360*E$4","v":1120},{"$f":"Données!$F1360*F$4","v":1064},{"$f":"Données!$F1360*G$4","v":1008},{"$f":"Données!$F1360*H$4","v":952}]
[null,7340,"Wasmes","Colfontaine",1331,1120,{"$f":"Données!$E1361*B$4","v":1530.6499999999999},{"$f":"Données!$E1361*C$4","v":1464.1000000000001},{"$f":"Données!$E1361*D$4","v":1397.55},{"$f":"Données!$E1361*E$4","v":1331},{"$f":"Données!$E1361*F$4","v":1264.45},{"$f":"Données!$E1361*G$4","v":1197.9000000000001},{"$f":"Données!$E1361*H$4","v":1131.3499999999999},{"$f":"Données!$F1361*B$4","v":1288},{"$f":"Données!$F1361*C$4","v":1232},{"$f":"Données!$F1361*D$4","v":1176},{"$f":"Données!$F1361*E$4","v":1120},{"$f":"Données!$F1361*F$4","v":1064},{"$f":"Données!$F1361*G$4","v":1008},{"$f":"Données!$F1361*H$4","v":952}]
[null,7350,"Montroeul-Sur-Haine","Hensies",1561,1207,{"$f":"Données!$E1362*B$4","v":1795.1499999999999},{"$f":"Données!$E1362*C$4","v":1717.1000000000001},{"$f":"Données!$E1362*D$4","v":1639.0500000000002},{"$f":"Données!$E1362*E$4","v":1561},{"$f":"Données!$E1362*F$4","v":1482.9499999999998},{"$f":"Données!$E1362*G$4","v":1404.9},{"$f":"Données!$E1362*H$4","v":1326.85},{"$f":"Données!$F1362*B$4","v":1388.05},{"$f":"Données!$F1362*C$4","v":1327.7},{"$f":"Données!$F1362*D$4","v":1267.3500000000001},{"$f":"Données!$F1362*E$4","v":1207},{"$f":"Données!$F1362*F$4","v":1146.6499999999999},{"$f":"Données!$F1362*G$4","v":1086.3},{"$f":"Données!$F1362*H$4","v":1025.95}]
[null,7350,"Thulin","Hensies",1561,1207,{"$f":"Données!$E1363*B$4","v":1795.1499999999999},{"$f":"Données!$E1363*C$4","v":1717.1000000000001},{"$f":"Données!$E1363*D$4","v":1639.0500000000002},{"$f":"Données!$E1363*E$4","v":1561},{"$f":"Données!$E1363*F$4","v":1482.9499999999998},{"$f":"Données!$E1363*G$4","v":1404.9},{"$f":"Données!$E1363*H$4","v":1326.85},{"$f":"Données!$F1363*B$4","v":1388.05},{"$f":"Données!$F1363*C$4","v":1327.7},{"$f":"Données!$F1363*D$4","v":1267.3500000000001},{"$f":"Données!$F1363*E$4","v":1207},{"$f":"Données!$F1363*F$4","v":1146.6499999999999},{"$f":"Données!$F1363*G$4","v":1086.3},{"$f":"Données!$F1363*H$4","v":1025.95}]
[null,7350,"Hainin","Hensies",1561,1207,{"$f":"Données!$E1364*B$4","v":1795.1499999999999},{"$f":"Données!$E1364*C$4","v":1717.1000000000001},{"$f":"Données!$E1364*D$4","v":1639.0500000000002},{"$f":"Données!$E1364*E$4","v":1561},{"$f":"Données!$E1364*F$4","v":1482.9499999999998},{"$f":"Données!$E1364*G$4","v":1404.9},{"$f":"Données!$E1364*H$4","v":1326.85},{"$f":"Données!$F1364*B$4","v":1388.05},{"$f":"Données!$F1364*C$4","v":1327.7},{"$f":"Données!$F1364*D$4","v":1267.3500000000001},{"$f":"Données!$F1364*E$4","v":1207},{"$f":"Données!$F1364*F$4","v":1146.6499999999999},{"$f":"Données!$F1364*G$4","v":1086.3},{"$f":"Données!$F1364*H$4","v":1025.95}]
[null,7350,"Hensies","Hensies",1561,1207,{"$f":"Données!$E1365*B$4","v":1795.1499999999999},{"$f":"Données!$E1365*C$4","v":1717.1000000000001},{"$f":"Données!$E1365*D$4","v":1639.0500000000002},{"$f":"Données!$E1365*E$4","v":1561},{"$f":"Données!$E1365*F$4","v":1482.9499999999998},{"$f":"Données!$E1365*G$4","v":1404.9},{"$f":"Données!$E1365*H$4","v":1326.85},{"$f":"Données!$F1365*B$4","v":1388.05},{"$f":"Données!$F1365*C$4","v":1327.7},{"$f":"Données!$F1365*D$4","v":1267.3500000000001},{"$f":"Données!$F1365*E$4","v":1207},{"$f":"Données!$F1365*F$4","v":1146.6499999999999},{"$f":"Données!$F1365*G$4","v":1086.3},{"$f":"Données!$F1365*H$4","v":1025.95}]
[null,7370,"Dour","Dour",1539,1143,{"$f":"Données!$E1366*B$4","v":1769.85},{"$f":"Données!$E1366*C$4","v":1692.9},{"$f":"Données!$E1366*D$4","v":1615.95},{"$f":"Données!$E1366*E$4","v":1539},{"$f":"Données!$E1366*F$4","v":1462.05},{"$f":"Données!$E1366*G$4","v":1385.1000000000001},{"$f":"Données!$E1366*H$4","v":1308.1499999999999},{"$f":"Données!$F1366*B$4","v":1314.4499999999998},{"$f":"Données!$F1366*C$4","v":1257.3000000000002},{"$f":"Données!$F1366*D$4","v":1200.1500000000001},{"$f":"Données!$F1366*E$4","v":1143},{"$f":"Données!$F1366*F$4","v":1085.8499999999999},{"$f":"Données!$F1366*G$4","v":1028.7},{"$f":"Données!$F1366*H$4","v":971.55}]
[null,7370,"Wihéries","Dour",1539,1143,{"$f":"Données!$E1367*B$4","v":1769.85},{"$f":"Données!$E1367*C$4","v":1692.9},{"$f":"Données!$E1367*D$4","v":1615.95},{"$f":"Données!$E1367*E$4","v":1539},{"$f":"Données!$E1367*F$4","v":1462.05},{"$f":"Données!$E1367*G$4","v":1385.1000000000001},{"$f":"Données!$E1367*H$4","v":1308.1499999999999},{"$f":"Données!$F1367*B$4","v":1314.4499999999998},{"$f":"Données!$F1367*C$4","v":1257.3000000000002},{"$f":"Données!$F1367*D$4","v":1200.1500000000001},{"$f":"Données!$F1367*E$4","v":1143},{"$f":"Données!$F1367*F$4","v":1085.8499999999999},{"$f":"Données!$F1367*G$4","v":1028.7},{"$f":"Données!$F1367*H$4","v":971.55}]
[null,7370,"Elouges","Dour",1539,1143,{"$f":"Données!$E1368*B$4","v":1769.85},{"$f":"Données!$E1368*C$4","v":1692.9},{"$f":"Données!$E1368*D$4","v":1615.95},{"$f":"Données!$E1368*E$4","v":1539},{"$f":"Données!$E1368*F$4","v":1462.05},{"$f":"Données!$E1368*G$4","v":1385.1000000000001},{"$f":"Données!$E1368*H$4","v":1308.1499999999999},{"$f":"Données!$F1368*B$4","v":1314.4499999999998},{"$f":"Données!$F1368*C$4","v":1257.3000000000002},{"$f":"Données!$F1368*D$4","v":1200.1500000000001},{"$f":"Données!$F1368*E$4","v":1143},{"$f":"Données!$F1368*F$4","v":1085.8499999999999},{"$f":"Données!$F1368*G$4","v":1028.7},{"$f":"Données!$F1368*H$4","v":971.55}]
[null,7370,"Blaugies","Dour",1539,1143,{"$f":"Données!$E1369*B$4","v":1769.85},{"$f":"Données!$E1369*C$4","v":1692.9},{"$f":"Données!$E1369*D$4","v":1615.95},{"$f":"Données!$E1369*E$4","v":1539},{"$f":"Données!$E1369*F$4","v":1462.05},{"$f":"Données!$E1369*G$4","v":1385.1000000000001},{"$f":"Données!$E1369*H$4","v":1308.1499999999999},{"$f":"Données!$F1369*B$4","v":1314.4499999999998},{"$f":"Données!$F1369*C$4","v":1257.3000000000002},{"$f":"Données!$F1369*D$4","v":1200.1500000000001},{"$f":"Données!$F1369*E$4","v":1143},{"$f":"Données!$F1369*F$4","v":1085.8499999999999},{"$f":"Données!$F1369*G$4","v":1028.7},{"$f":"Données!$F1369*H$4","v":971.55}]
[null,7380,"Baisieux","Quiévrain",1611,1178,{"$f":"Données!$E1370*B$4","v":1852.6499999999999},{"$f":"Données!$E1370*C$4","v":1772.1000000000001},{"$f":"Données!$E1370*D$4","v":1691.5500000000002},{"$f":"Données!$E1370*E$4","v":1611},{"$f":"Données!$E1370*F$4","v":1530.4499999999998},{"$f":"Données!$E1370*G$4","v":1449.9},{"$f":"Données!$E1370*H$4","v":1369.35},{"$f":"Données!$F1370*B$4","v":1354.6999999999998},{"$f":"Données!$F1370*C$4","v":1295.8000000000002},{"$f":"Données!$F1370*D$4","v":1236.9000000000001},{"$f":"Données!$F1370*E$4","v":1178},{"$f":"Données!$F1370*F$4","v":1119.0999999999999},{"$f":"Données!$F1370*G$4","v":1060.2},{"$f":"Données!$F1370*H$4","v":1001.3}]
[null,7380,"Quiévrain","Quiévrain",1611,1178,{"$f":"Données!$E1371*B$4","v":1852.6499999999999},{"$f":"Données!$E1371*C$4","v":1772.1000000000001},{"$f":"Données!$E1371*D$4","v":1691.5500000000002},{"$f":"Données!$E1371*E$4","v":1611},{"$f":"Données!$E1371*F$4","v":1530.4499999999998},{"$f":"Données!$E1371*G$4","v":1449.9},{"$f":"Données!$E1371*H$4","v":1369.35},{"$f":"Données!$F1371*B$4","v":1354.6999999999998},{"$f":"Données!$F1371*C$4","v":1295.8000000000002},{"$f":"Données!$F1371*D$4","v":1236.9000000000001},{"$f":"Données!$F1371*E$4","v":1178},{"$f":"Données!$F1371*F$4","v":1119.0999999999999},{"$f":"Données!$F1371*G$4","v":1060.2},{"$f":"Données!$F1371*H$4","v":1001.3}]
[null,7382,"Audregnies","Quiévrain",1611,1178,{"$f":"Données!$E1372*B$4","v":1852.6499999999999},{"$f":"Données!$E1372*C$4","v":1772.1000000000001},{"$f":"Données!$E1372*D$4","v":1691.5500000000002},{"$f":"Données!$E1372*E$4","v":1611},{"$f":"Données!$E1372*F$4","v":1530.4499999999998},{"$f":"Données!$E1372*G$4","v":1449.9},{"$f":"Données!$E1372*H$4","v":1369.35},{"$f":"Données!$F1372*B$4","v":1354.6999999999998},{"$f":"Données!$F1372*C$4","v":1295.8000000000002},{"$f":"Données!$F1372*D$4","v":1236.9000000000001},{"$f":"Données!$F1372*E$4","v":1178},{"$f":"Données!$F1372*F$4","v":1119.0999999999999},{"$f":"Données!$F1372*G$4","v":1060.2},{"$f":"Données!$F1372*H$4","v":1001.3}]
[null,7387,"Angreau","Honnelles",1729,1329,{"$f":"Données!$E1373*B$4","v":1988.35},{"$f":"Données!$E1373*C$4","v":1901.9},{"$f":"Données!$E1373*D$4","v":1815.45},{"$f":"Données!$E1373*E$4","v":1729},{"$f":"Données!$E1373*F$4","v":1642.55},{"$f":"Données!$E1373*G$4","v":1556.1000000000001},{"$f":"Données!$E1373*H$4","v":1469.6499999999999},{"$f":"Données!$F1373*B$4","v":1528.35},{"$f":"Données!$F1373*C$4","v":1461.9},{"$f":"Données!$F1373*D$4","v":1395.45},{"$f":"Données!$F1373*E$4","v":1329},{"$f":"Données!$F1373*F$4","v":1262.55},{"$f":"Données!$F1373*G$4","v":1196.1000000000001},{"$f":"Données!$F1373*H$4","v":1129.6499999999999}]
[null,7387,"Fayt-Le-Franc","Honnelles",1729,1329,{"$f":"Données!$E1374*B$4","v":1988.35},{"$f":"Données!$E1374*C$4","v":1901.9},{"$f":"Données!$E1374*D$4","v":1815.45},{"$f":"Données!$E1374*E$4","v":1729},{"$f":"Données!$E1374*F$4","v":1642.55},{"$f":"Données!$E1374*G$4","v":1556.1000000000001},{"$f":"Données!$E1374*H$4","v":1469.6499999999999},{"$f":"Données!$F1374*B$4","v":1528.35},{"$f":"Données!$F1374*C$4","v":1461.9},{"$f":"Données!$F1374*D$4","v":1395.45},{"$f":"Données!$F1374*E$4","v":1329},{"$f":"Données!$F1374*F$4","v":1262.55},{"$f":"Données!$F1374*G$4","v":1196.1000000000001},{"$f":"Données!$F1374*H$4","v":1129.6499999999999}]
[null,7387,"Erquennes","Honnelles",1729,1329,{"$f":"Données!$E1375*B$4","v":1988.35},{"$f":"Données!$E1375*C$4","v":1901.9},{"$f":"Données!$E1375*D$4","v":1815.45},{"$f":"Données!$E1375*E$4","v":1729},{"$f":"Données!$E1375*F$4","v":1642.55},{"$f":"Données!$E1375*G$4","v":1556.1000000000001},{"$f":"Données!$E1375*H$4","v":1469.6499999999999},{"$f":"Données!$F1375*B$4","v":1528.35},{"$f":"Données!$F1375*C$4","v":1461.9},{"$f":"Données!$F1375*D$4","v":1395.45},{"$f":"Données!$F1375*E$4","v":1329},{"$f":"Données!$F1375*F$4","v":1262.55},{"$f":"Données!$F1375*G$4","v":1196.1000000000001},{"$f":"Données!$F1375*H$4","v":1129.6499999999999}]
[null,7387,"Honnelles","Honnelles",1729,1329,{"$f":"Données!$E1376*B$4","v":1988.35},{"$f":"Données!$E1376*C$4","v":1901.9},{"$f":"Données!$E1376*D$4","v":1815.45},{"$f":"Données!$E1376*E$4","v":1729},{"$f":"Données!$E1376*F$4","v":1642.55},{"$f":"Données!$E1376*G$4","v":1556.1000000000001},{"$f":"Données!$E1376*H$4","v":1469.6499999999999},{"$f":"Données!$F1376*B$4","v":1528.35},{"$f":"Données!$F1376*C$4","v":1461.9},{"$f":"Données!$F1376*D$4","v":1395.45},{"$f":"Données!$F1376*E$4","v":1329},{"$f":"Données!$F1376*F$4","v":1262.55},{"$f":"Données!$F1376*G$4","v":1196.1000000000001},{"$f":"Données!$F1376*H$4","v":1129.6499999999999}]
[null,7387,"Autreppe","Honnelles",1729,1329,{"$f":"Données!$E1377*B$4","v":1988.35},{"$f":"Données!$E1377*C$4","v":1901.9},{"$f":"Données!$E1377*D$4","v":1815.45},{"$f":"Données!$E1377*E$4","v":1729},{"$f":"Données!$E1377*F$4","v":1642.55},{"$f":"Données!$E1377*G$4","v":1556.1000000000001},{"$f":"Données!$E1377*H$4","v":1469.6499999999999},{"$f":"Données!$F1377*B$4","v":1528.35},{"$f":"Données!$F1377*C$4","v":1461.9},{"$f":"Données!$F1377*D$4","v":1395.45},{"$f":"Données!$F1377*E$4","v":1329},{"$f":"Données!$F1377*F$4","v":1262.55},{"$f":"Données!$F1377*G$4","v":1196.1000000000001},{"$f":"Données!$F1377*H$4","v":1129.6499999999999}]
[null,7387,"Marchipont","Honnelles",1729,1329,{"$f":"Données!$E1378*B$4","v":1988.35},{"$f":"Données!$E1378*C$4","v":1901.9},{"$f":"Données!$E1378*D$4","v":1815.45},{"$f":"Données!$E1378*E$4","v":1729},{"$f":"Données!$E1378*F$4","v":1642.55},{"$f":"Données!$E1378*G$4","v":1556.1000000000001},{"$f":"Données!$E1378*H$4","v":1469.6499999999999},{"$f":"Données!$F1378*B$4","v":1528.35},{"$f":"Données!$F1378*C$4","v":1461.9},{"$f":"Données!$F1378*D$4","v":1395.45},{"$f":"Données!$F1378*E$4","v":1329},{"$f":"Données!$F1378*F$4","v":1262.55},{"$f":"Données!$F1378*G$4","v":1196.1000000000001},{"$f":"Données!$F1378*H$4","v":1129.6499999999999}]
[null,7387,"Montignies-Sur-Roc","Honnelles",1729,1329,{"$f":"Données!$E1379*B$4","v":1988.35},{"$f":"Données!$E1379*C$4","v":1901.9},{"$f":"Données!$E1379*D$4","v":1815.45},{"$f":"Données!$E1379*E$4","v":1729},{"$f":"Données!$E1379*F$4","v":1642.55},{"$f":"Données!$E1379*G$4","v":1556.1000000000001},{"$f":"Données!$E1379*H$4","v":1469.6499999999999},{"$f":"Données!$F1379*B$4","v":1528.35},{"$f":"Données!$F1379*C$4","v":1461.9},{"$f":"Données!$F1379*D$4","v":1395.45},{"$f":"Données!$F1379*E$4","v":1329},{"$f":"Données!$F1379*F$4","v":1262.55},{"$f":"Données!$F1379*G$4","v":1196.1000000000001},{"$f":"Données!$F1379*H$4","v":1129.6499999999999}]
[null,7387,"Roisin","Honnelles",1729,1329,{"$f":"Données!$E1380*B$4","v":1988.35},{"$f":"Données!$E1380*C$4","v":1901.9},{"$f":"Données!$E1380*D$4","v":1815.45},{"$f":"Données!$E1380*E$4","v":1729},{"$f":"Données!$E1380*F$4","v":1642.55},{"$f":"Données!$E1380*G$4","v":1556.1000000000001},{"$f":"Données!$E1380*H$4","v":1469.6499999999999},{"$f":"Données!$F1380*B$4","v":1528.35},{"$f":"Données!$F1380*C$4","v":1461.9},{"$f":"Données!$F1380*D$4","v":1395.45},{"$f":"Données!$F1380*E$4","v":1329},{"$f":"Données!$F1380*F$4","v":1262.55},{"$f":"Données!$F1380*G$4","v":1196.1000000000001},{"$f":"Données!$F1380*H$4","v":1129.6499999999999}]
[null,7387,"Angre","Honnelles",1729,1329,{"$f":"Données!$E1381*B$4","v":1988.35},{"$f":"Données!$E1381*C$4","v":1901.9},{"$f":"Données!$E1381*D$4","v":1815.45},{"$f":"Données!$E1381*E$4","v":1729},{"$f":"Données!$E1381*F$4","v":1642.55},{"$f":"Données!$E1381*G$4","v":1556.1000000000001},{"$f":"Données!$E1381*H$4","v":1469.6499999999999},{"$f":"Données!$F1381*B$4","v":1528.35},{"$f":"Données!$F1381*C$4","v":1461.9},{"$f":"Données!$F1381*D$4","v":1395.45},{"$f":"Données!$F1381*E$4","v":1329},{"$f":"Données!$F1381*F$4","v":1262.55},{"$f":"Données!$F1381*G$4","v":1196.1000000000001},{"$f":"Données!$F1381*H$4","v":1129.6499999999999}]
[null,7387,"Athis","Honnelles",1729,1329,{"$f":"Données!$E1382*B$4","v":1988.35},{"$f":"Données!$E1382*C$4","v":1901.9},{"$f":"Données!$E1382*D$4","v":1815.45},{"$f":"Données!$E1382*E$4","v":1729},{"$f":"Données!$E1382*F$4","v":1642.55},{"$f":"Données!$E1382*G$4","v":1556.1000000000001},{"$f":"Données!$E1382*H$4","v":1469.6499999999999},{"$f":"Données!$F1382*B$4","v":1528.35},{"$f":"Données!$F1382*C$4","v":1461.9},{"$f":"Données!$F1382*D$4","v":1395.45},{"$f":"Données!$F1382*E$4","v":1329},{"$f":"Données!$F1382*F$4","v":1262.55},{"$f":"Données!$F1382*G$4","v":1196.1000000000001},{"$f":"Données!$F1382*H$4","v":1129.6499999999999}]
[null,7387,"Onnezies","Honnelles",1729,1329,{"$f":"Données!$E1383*B$4","v":1988.35},{"$f":"Données!$E1383*C$4","v":1901.9},{"$f":"Données!$E1383*D$4","v":1815.45},{"$f":"Données!$E1383*E$4","v":1729},{"$f":"Données!$E1383*F$4","v":1642.55},{"$f":"Données!$E1383*G$4","v":1556.1000000000001},{"$f":"Données!$E1383*H$4","v":1469.6499999999999},{"$f":"Données!$F1383*B$4","v":1528.35},{"$f":"Données!$F1383*C$4","v":1461.9},{"$f":"Données!$F1383*D$4","v":1395.45},{"$f":"Données!$F1383*E$4","v":1329},{"$f":"Données!$F1383*F$4","v":1262.55},{"$f":"Données!$F1383*G$4","v":1196.1000000000001},{"$f":"Données!$F1383*H$4","v":1129.6499999999999}]
[null,7390,"Wasmuel","Quaregnon",1466,1190,{"$f":"Données!$E1384*B$4","v":1685.8999999999999},{"$f":"Données!$E1384*C$4","v":1612.6000000000001},{"$f":"Données!$E1384*D$4","v":1539.3},{"$f":"Données!$E1384*E$4","v":1466},{"$f":"Données!$E1384*F$4","v":1392.7},{"$f":"Données!$E1384*G$4","v":1319.4},{"$f":"Données!$E1384*H$4","v":1246.0999999999999},{"$f":"Données!$F1384*B$4","v":1368.5},{"$f":"Données!$F1384*C$4","v":1309},{"$f":"Données!$F1384*D$4","v":1249.5},{"$f":"Données!$F1384*E$4","v":1190},{"$f":"Données!$F1384*F$4","v":1130.5},{"$f":"Données!$F1384*G$4","v":1071},{"$f":"Données!$F1384*H$4","v":1011.5}]
[null,7390,"Quaregnon","Quaregnon",1466,1190,{"$f":"Données!$E1385*B$4","v":1685.8999999999999},{"$f":"Données!$E1385*C$4","v":1612.6000000000001},{"$f":"Données!$E1385*D$4","v":1539.3},{"$f":"Données!$E1385*E$4","v":1466},{"$f":"Données!$E1385*F$4","v":1392.7},{"$f":"Données!$E1385*G$4","v":1319.4},{"$f":"Données!$E1385*H$4","v":1246.0999999999999},{"$f":"Données!$F1385*B$4","v":1368.5},{"$f":"Données!$F1385*C$4","v":1309},{"$f":"Données!$F1385*D$4","v":1249.5},{"$f":"Données!$F1385*E$4","v":1190},{"$f":"Données!$F1385*F$4","v":1130.5},{"$f":"Données!$F1385*G$4","v":1071},{"$f":"Données!$F1385*H$4","v":1011.5}]
[null,7500,"Ere","Tournai",2143,1606,{"$f":"Données!$E1386*B$4","v":2464.4499999999998},{"$f":"Données!$E1386*C$4","v":2357.3000000000002},{"$f":"Données!$E1386*D$4","v":2250.15},{"$f":"Données!$E1386*E$4","v":2143},{"$f":"Données!$E1386*F$4","v":2035.85},{"$f":"Données!$E1386*G$4","v":1928.7},{"$f":"Données!$E1386*H$4","v":1821.55},{"$f":"Données!$F1386*B$4","v":1846.8999999999999},{"$f":"Données!$F1386*C$4","v":1766.6000000000001},{"$f":"Données!$F1386*D$4","v":1686.3000000000002},{"$f":"Données!$F1386*E$4","v":1606},{"$f":"Données!$F1386*F$4","v":1525.6999999999998},{"$f":"Données!$F1386*G$4","v":1445.4},{"$f":"Données!$F1386*H$4","v":1365.1}]
[null,7500,"Saint-Maur","Tournai",2143,1606,{"$f":"Données!$E1387*B$4","v":2464.4499999999998},{"$f":"Données!$E1387*C$4","v":2357.3000000000002},{"$f":"Données!$E1387*D$4","v":2250.15},{"$f":"Données!$E1387*E$4","v":2143},{"$f":"Données!$E1387*F$4","v":2035.85},{"$f":"Données!$E1387*G$4","v":1928.7},{"$f":"Données!$E1387*H$4","v":1821.55},{"$f":"Données!$F1387*B$4","v":1846.8999999999999},{"$f":"Données!$F1387*C$4","v":1766.6000000000001},{"$f":"Données!$F1387*D$4","v":1686.3000000000002},{"$f":"Données!$F1387*E$4","v":1606},{"$f":"Données!$F1387*F$4","v":1525.6999999999998},{"$f":"Données!$F1387*G$4","v":1445.4},{"$f":"Données!$F1387*H$4","v":1365.1}]
[null,7500,"Tournai","Tournai",2143,1606,{"$f":"Données!$E1388*B$4","v":2464.4499999999998},{"$f":"Données!$E1388*C$4","v":2357.3000000000002},{"$f":"Données!$E1388*D$4","v":2250.15},{"$f":"Données!$E1388*E$4","v":2143},{"$f":"Données!$E1388*F$4","v":2035.85},{"$f":"Données!$E1388*G$4","v":1928.7},{"$f":"Données!$E1388*H$4","v":1821.55},{"$f":"Données!$F1388*B$4","v":1846.8999999999999},{"$f":"Données!$F1388*C$4","v":1766.6000000000001},{"$f":"Données!$F1388*D$4","v":1686.3000000000002},{"$f":"Données!$F1388*E$4","v":1606},{"$f":"Données!$F1388*F$4","v":1525.6999999999998},{"$f":"Données!$F1388*G$4","v":1445.4},{"$f":"Données!$F1388*H$4","v":1365.1}]
[null,7501,"Orcq","Tournai",2143,1606,{"$f":"Données!$E1389*B$4","v":2464.4499999999998},{"$f":"Données!$E1389*C$4","v":2357.3000000000002},{"$f":"Données!$E1389*D$4","v":2250.15},{"$f":"Données!$E1389*E$4","v":2143},{"$f":"Données!$E1389*F$4","v":2035.85},{"$f":"Données!$E1389*G$4","v":1928.7},{"$f":"Données!$E1389*H$4","v":1821.55},{"$f":"Données!$F1389*B$4","v":1846.8999999999999},{"$f":"Données!$F1389*C$4","v":1766.6000000000001},{"$f":"Données!$F1389*D$4","v":1686.3000000000002},{"$f":"Données!$F1389*E$4","v":1606},{"$f":"Données!$F1389*F$4","v":1525.6999999999998},{"$f":"Données!$F1389*G$4","v":1445.4},{"$f":"Données!$F1389*H$4","v":1365.1}]
[null,7502,"Esplechin","Tournai",2143,1606,{"$f":"Données!$E1390*B$4","v":2464.4499999999998},{"$f":"Données!$E1390*C$4","v":2357.3000000000002},{"$f":"Données!$E1390*D$4","v":2250.15},{"$f":"Données!$E1390*E$4","v":2143},{"$f":"Données!$E1390*F$4","v":2035.85},{"$f":"Données!$E1390*G$4","v":1928.7},{"$f":"Données!$E1390*H$4","v":1821.55},{"$f":"Données!$F1390*B$4","v":1846.8999999999999},{"$f":"Données!$F1390*C$4","v":1766.6000000000001},{"$f":"Données!$F1390*D$4","v":1686.3000000000002},{"$f":"Données!$F1390*E$4","v":1606},{"$f":"Données!$F1390*F$4","v":1525.6999999999998},{"$f":"Données!$F1390*G$4","v":1445.4},{"$f":"Données!$F1390*H$4","v":1365.1}]
[null,7503,"Froyennes","Tournai",2143,1606,{"$f":"Données!$E1391*B$4","v":2464.4499999999998},{"$f":"Données!$E1391*C$4","v":2357.3000000000002},{"$f":"Données!$E1391*D$4","v":2250.15},{"$f":"Données!$E1391*E$4","v":2143},{"$f":"Données!$E1391*F$4","v":2035.85},{"$f":"Données!$E1391*G$4","v":1928.7},{"$f":"Données!$E1391*H$4","v":1821.55},{"$f":"Données!$F1391*B$4","v":1846.8999999999999},{"$f":"Données!$F1391*C$4","v":1766.6000000000001},{"$f":"Données!$F1391*D$4","v":1686.3000000000002},{"$f":"Données!$F1391*E$4","v":1606},{"$f":"Données!$F1391*F$4","v":1525.6999999999998},{"$f":"Données!$F1391*G$4","v":1445.4},{"$f":"Données!$F1391*H$4","v":1365.1}]
[null,7504,"Froidmont","Tournai",2143,1606,{"$f":"Données!$E1392*B$4","v":2464.4499999999998},{"$f":"Données!$E1392*C$4","v":2357.3000000000002},{"$f":"Données!$E1392*D$4","v":2250.15},{"$f":"Données!$E1392*E$4","v":2143},{"$f":"Données!$E1392*F$4","v":2035.85},{"$f":"Données!$E1392*G$4","v":1928.7},{"$f":"Données!$E1392*H$4","v":1821.55},{"$f":"Données!$F1392*B$4","v":1846.8999999999999},{"$f":"Données!$F1392*C$4","v":1766.6000000000001},{"$f":"Données!$F1392*D$4","v":1686.3000000000002},{"$f":"Données!$F1392*E$4","v":1606},{"$f":"Données!$F1392*F$4","v":1525.6999999999998},{"$f":"Données!$F1392*G$4","v":1445.4},{"$f":"Données!$F1392*H$4","v":1365.1}]
[null,7506,"Willemeau","Tournai",2143,1606,{"$f":"Données!$E1393*B$4","v":2464.4499999999998},{"$f":"Données!$E1393*C$4","v":2357.3000000000002},{"$f":"Données!$E1393*D$4","v":2250.15},{"$f":"Données!$E1393*E$4","v":2143},{"$f":"Données!$E1393*F$4","v":2035.85},{"$f":"Données!$E1393*G$4","v":1928.7},{"$f":"Données!$E1393*H$4","v":1821.55},{"$f":"Données!$F1393*B$4","v":1846.8999999999999},{"$f":"Données!$F1393*C$4","v":1766.6000000000001},{"$f":"Données!$F1393*D$4","v":1686.3000000000002},{"$f":"Données!$F1393*E$4","v":1606},{"$f":"Données!$F1393*F$4","v":1525.6999999999998},{"$f":"Données!$F1393*G$4","v":1445.4},{"$f":"Données!$F1393*H$4","v":1365.1}]
[null,7520,"Ramegnies-Chin","Tournai",2143,1606,{"$f":"Données!$E1394*B$4","v":2464.4499999999998},{"$f":"Données!$E1394*C$4","v":2357.3000000000002},{"$f":"Données!$E1394*D$4","v":2250.15},{"$f":"Données!$E1394*E$4","v":2143},{"$f":"Données!$E1394*F$4","v":2035.85},{"$f":"Données!$E1394*G$4","v":1928.7},{"$f":"Données!$E1394*H$4","v":1821.55},{"$f":"Données!$F1394*B$4","v":1846.8999999999999},{"$f":"Données!$F1394*C$4","v":1766.6000000000001},{"$f":"Données!$F1394*D$4","v":1686.3000000000002},{"$f":"Données!$F1394*E$4","v":1606},{"$f":"Données!$F1394*F$4","v":1525.6999999999998},{"$f":"Données!$F1394*G$4","v":1445.4},{"$f":"Données!$F1394*H$4","v":1365.1}]
[null,7520,"Templeuve","Tournai",2143,1606,{"$f":"Données!$E1395*B$4","v":2464.4499999999998},{"$f":"Données!$E1395*C$4","v":2357.3000000000002},{"$f":"Données!$E1395*D$4","v":2250.15},{"$f":"Données!$E1395*E$4","v":2143},{"$f":"Données!$E1395*F$4","v":2035.85},{"$f":"Données!$E1395*G$4","v":1928.7},{"$f":"Données!$E1395*H$4","v":1821.55},{"$f":"Données!$F1395*B$4","v":1846.8999999999999},{"$f":"Données!$F1395*C$4","v":1766.6000000000001},{"$f":"Données!$F1395*D$4","v":1686.3000000000002},{"$f":"Données!$F1395*E$4","v":1606},{"$f":"Données!$F1395*F$4","v":1525.6999999999998},{"$f":"Données!$F1395*G$4","v":1445.4},{"$f":"Données!$F1395*H$4","v":1365.1}]
[null,7521,"Chercq","Tournai",2143,1606,{"$f":"Données!$E1396*B$4","v":2464.4499999999998},{"$f":"Données!$E1396*C$4","v":2357.3000000000002},{"$f":"Données!$E1396*D$4","v":2250.15},{"$f":"Données!$E1396*E$4","v":2143},{"$f":"Données!$E1396*F$4","v":2035.85},{"$f":"Données!$E1396*G$4","v":1928.7},{"$f":"Données!$E1396*H$4","v":1821.55},{"$f":"Données!$F1396*B$4","v":1846.8999999999999},{"$f":"Données!$F1396*C$4","v":1766.6000000000001},{"$f":"Données!$F1396*D$4","v":1686.3000000000002},{"$f":"Données!$F1396*E$4","v":1606},{"$f":"Données!$F1396*F$4","v":1525.6999999999998},{"$f":"Données!$F1396*G$4","v":1445.4},{"$f":"Données!$F1396*H$4","v":1365.1}]
[null,7522,"Marquain","Tournai",2143,1606,{"$f":"Données!$E1397*B$4","v":2464.4499999999998},{"$f":"Données!$E1397*C$4","v":2357.3000000000002},{"$f":"Données!$E1397*D$4","v":2250.15},{"$f":"Données!$E1397*E$4","v":2143},{"$f":"Données!$E1397*F$4","v":2035.85},{"$f":"Données!$E1397*G$4","v":1928.7},{"$f":"Données!$E1397*H$4","v":1821.55},{"$f":"Données!$F1397*B$4","v":1846.8999999999999},{"$f":"Données!$F1397*C$4","v":1766.6000000000001},{"$f":"Données!$F1397*D$4","v":1686.3000000000002},{"$f":"Données!$F1397*E$4","v":1606},{"$f":"Données!$F1397*F$4","v":1525.6999999999998},{"$f":"Données!$F1397*G$4","v":1445.4},{"$f":"Données!$F1397*H$4","v":1365.1}]
[null,7522,"Lamain","Tournai",2143,1606,{"$f":"Données!$E1398*B$4","v":2464.4499999999998},{"$f":"Données!$E1398*C$4","v":2357.3000000000002},{"$f":"Données!$E1398*D$4","v":2250.15},{"$f":"Données!$E1398*E$4","v":2143},{"$f":"Données!$E1398*F$4","v":2035.85},{"$f":"Données!$E1398*G$4","v":1928.7},{"$f":"Données!$E1398*H$4","v":1821.55},{"$f":"Données!$F1398*B$4","v":1846.8999999999999},{"$f":"Données!$F1398*C$4","v":1766.6000000000001},{"$f":"Données!$F1398*D$4","v":1686.3000000000002},{"$f":"Données!$F1398*E$4","v":1606},{"$f":"Données!$F1398*F$4","v":1525.6999999999998},{"$f":"Données!$F1398*G$4","v":1445.4},{"$f":"Données!$F1398*H$4","v":1365.1}]
[null,7522,"Blandain","Tournai",2143,1606,{"$f":"Données!$E1399*B$4","v":2464.4499999999998},{"$f":"Données!$E1399*C$4","v":2357.3000000000002},{"$f":"Données!$E1399*D$4","v":2250.15},{"$f":"Données!$E1399*E$4","v":2143},{"$f":"Données!$E1399*F$4","v":2035.85},{"$f":"Données!$E1399*G$4","v":1928.7},{"$f":"Données!$E1399*H$4","v":1821.55},{"$f":"Données!$F1399*B$4","v":1846.8999999999999},{"$f":"Données!$F1399*C$4","v":1766.6000000000001},{"$f":"Données!$F1399*D$4","v":1686.3000000000002},{"$f":"Données!$F1399*E$4","v":1606},{"$f":"Données!$F1399*F$4","v":1525.6999999999998},{"$f":"Données!$F1399*G$4","v":1445.4},{"$f":"Données!$F1399*H$4","v":1365.1}]
[null,7522,"Hertain","Tournai",2143,1606,{"$f":"Données!$E1400*B$4","v":2464.4499999999998},{"$f":"Données!$E1400*C$4","v":2357.3000000000002},{"$f":"Données!$E1400*D$4","v":2250.15},{"$f":"Données!$E1400*E$4","v":2143},{"$f":"Données!$E1400*F$4","v":2035.85},{"$f":"Données!$E1400*G$4","v":1928.7},{"$f":"Données!$E1400*H$4","v":1821.55},{"$f":"Données!$F1400*B$4","v":1846.8999999999999},{"$f":"Données!$F1400*C$4","v":1766.6000000000001},{"$f":"Données!$F1400*D$4","v":1686.3000000000002},{"$f":"Données!$F1400*E$4","v":1606},{"$f":"Données!$F1400*F$4","v":1525.6999999999998},{"$f":"Données!$F1400*G$4","v":1445.4},{"$f":"Données!$F1400*H$4","v":1365.1}]
[null,7530,"Gaurain-Ramecroix","Tournai",2143,1606,{"$f":"Données!$E1401*B$4","v":2464.4499999999998},{"$f":"Données!$E1401*C$4","v":2357.3000000000002},{"$f":"Données!$E1401*D$4","v":2250.15},{"$f":"Données!$E1401*E$4","v":2143},{"$f":"Données!$E1401*F$4","v":2035.85},{"$f":"Données!$E1401*G$4","v":1928.7},{"$f":"Données!$E1401*H$4","v":1821.55},{"$f":"Données!$F1401*B$4","v":1846.8999999999999},{"$f":"Données!$F1401*C$4","v":1766.6000000000001},{"$f":"Données!$F1401*D$4","v":1686.3000000000002},{"$f":"Données!$F1401*E$4","v":1606},{"$f":"Données!$F1401*F$4","v":1525.6999999999998},{"$f":"Données!$F1401*G$4","v":1445.4},{"$f":"Données!$F1401*H$4","v":1365.1}]
[null,7531,"Havinnes","Tournai",2143,1606,{"$f":"Données!$E1402*B$4","v":2464.4499999999998},{"$f":"Données!$E1402*C$4","v":2357.3000000000002},{"$f":"Données!$E1402*D$4","v":2250.15},{"$f":"Données!$E1402*E$4","v":2143},{"$f":"Données!$E1402*F$4","v":2035.85},{"$f":"Données!$E1402*G$4","v":1928.7},{"$f":"Données!$E1402*H$4","v":1821.55},{"$f":"Données!$F1402*B$4","v":1846.8999999999999},{"$f":"Données!$F1402*C$4","v":1766.6000000000001},{"$f":"Données!$F1402*D$4","v":1686.3000000000002},{"$f":"Données!$F1402*E$4","v":1606},{"$f":"Données!$F1402*F$4","v":1525.6999999999998},{"$f":"Données!$F1402*G$4","v":1445.4},{"$f":"Données!$F1402*H$4","v":1365.1}]
[null,7532,"Beclers","Tournai",2143,1606,{"$f":"Données!$E1403*B$4","v":2464.4499999999998},{"$f":"Données!$E1403*C$4","v":2357.3000000000002},{"$f":"Données!$E1403*D$4","v":2250.15},{"$f":"Données!$E1403*E$4","v":2143},{"$f":"Données!$E1403*F$4","v":2035.85},{"$f":"Données!$E1403*G$4","v":1928.7},{"$f":"Données!$E1403*H$4","v":1821.55},{"$f":"Données!$F1403*B$4","v":1846.8999999999999},{"$f":"Données!$F1403*C$4","v":1766.6000000000001},{"$f":"Données!$F1403*D$4","v":1686.3000000000002},{"$f":"Données!$F1403*E$4","v":1606},{"$f":"Données!$F1403*F$4","v":1525.6999999999998},{"$f":"Données!$F1403*G$4","v":1445.4},{"$f":"Données!$F1403*H$4","v":1365.1}]
[null,7533,"Thimougies","Tournai",2143,1606,{"$f":"Données!$E1404*B$4","v":2464.4499999999998},{"$f":"Données!$E1404*C$4","v":2357.3000000000002},{"$f":"Données!$E1404*D$4","v":2250.15},{"$f":"Données!$E1404*E$4","v":2143},{"$f":"Données!$E1404*F$4","v":2035.85},{"$f":"Données!$E1404*G$4","v":1928.7},{"$f":"Données!$E1404*H$4","v":1821.55},{"$f":"Données!$F1404*B$4","v":1846.8999999999999},{"$f":"Données!$F1404*C$4","v":1766.6000000000001},{"$f":"Données!$F1404*D$4","v":1686.3000000000002},{"$f":"Données!$F1404*E$4","v":1606},{"$f":"Données!$F1404*F$4","v":1525.6999999999998},{"$f":"Données!$F1404*G$4","v":1445.4},{"$f":"Données!$F1404*H$4","v":1365.1}]
[null,7534,"Barry","Tournai",2143,1606,{"$f":"Données!$E1405*B$4","v":2464.4499999999998},{"$f":"Données!$E1405*C$4","v":2357.3000000000002},{"$f":"Données!$E1405*D$4","v":2250.15},{"$f":"Données!$E1405*E$4","v":2143},{"$f":"Données!$E1405*F$4","v":2035.85},{"$f":"Données!$E1405*G$4","v":1928.7},{"$f":"Données!$E1405*H$4","v":1821.55},{"$f":"Données!$F1405*B$4","v":1846.8999999999999},{"$f":"Données!$F1405*C$4","v":1766.6000000000001},{"$f":"Données!$F1405*D$4","v":1686.3000000000002},{"$f":"Données!$F1405*E$4","v":1606},{"$f":"Données!$F1405*F$4","v":1525.6999999999998},{"$f":"Données!$F1405*G$4","v":1445.4},{"$f":"Données!$F1405*H$4","v":1365.1}]
[null,7534,"Maulde","Tournai",2143,1606,{"$f":"Données!$E1406*B$4","v":2464.4499999999998},{"$f":"Données!$E1406*C$4","v":2357.3000000000002},{"$f":"Données!$E1406*D$4","v":2250.15},{"$f":"Données!$E1406*E$4","v":2143},{"$f":"Données!$E1406*F$4","v":2035.85},{"$f":"Données!$E1406*G$4","v":1928.7},{"$f":"Données!$E1406*H$4","v":1821.55},{"$f":"Données!$F1406*B$4","v":1846.8999999999999},{"$f":"Données!$F1406*C$4","v":1766.6000000000001},{"$f":"Données!$F1406*D$4","v":1686.3000000000002},{"$f":"Données!$F1406*E$4","v":1606},{"$f":"Données!$F1406*F$4","v":1525.6999999999998},{"$f":"Données!$F1406*G$4","v":1445.4},{"$f":"Données!$F1406*H$4","v":1365.1}]
[null,7536,"Vaulx","Tournai",2143,1606,{"$f":"Données!$E1407*B$4","v":2464.4499999999998},{"$f":"Données!$E1407*C$4","v":2357.3000000000002},{"$f":"Données!$E1407*D$4","v":2250.15},{"$f":"Données!$E1407*E$4","v":2143},{"$f":"Données!$E1407*F$4","v":2035.85},{"$f":"Données!$E1407*G$4","v":1928.7},{"$f":"Données!$E1407*H$4","v":1821.55},{"$f":"Données!$F1407*B$4","v":1846.8999999999999},{"$f":"Données!$F1407*C$4","v":1766.6000000000001},{"$f":"Données!$F1407*D$4","v":1686.3000000000002},{"$f":"Données!$F1407*E$4","v":1606},{"$f":"Données!$F1407*F$4","v":1525.6999999999998},{"$f":"Données!$F1407*G$4","v":1445.4},{"$f":"Données!$F1407*H$4","v":1365.1}]
[null,7538,"Vezon","Tournai",2143,1606,{"$f":"Données!$E1408*B$4","v":2464.4499999999998},{"$f":"Données!$E1408*C$4","v":2357.3000000000002},{"$f":"Données!$E1408*D$4","v":2250.15},{"$f":"Données!$E1408*E$4","v":2143},{"$f":"Données!$E1408*F$4","v":2035.85},{"$f":"Données!$E1408*G$4","v":1928.7},{"$f":"Données!$E1408*H$4","v":1821.55},{"$f":"Données!$F1408*B$4","v":1846.8999999999999},{"$f":"Données!$F1408*C$4","v":1766.6000000000001},{"$f":"Données!$F1408*D$4","v":1686.3000000000002},{"$f":"Données!$F1408*E$4","v":1606},{"$f":"Données!$F1408*F$4","v":1525.6999999999998},{"$f":"Données!$F1408*G$4","v":1445.4},{"$f":"Données!$F1408*H$4","v":1365.1}]
[null,7540,"Kain","Tournai",2143,1606,{"$f":"Données!$E1409*B$4","v":2464.4499999999998},{"$f":"Données!$E1409*C$4","v":2357.3000000000002},{"$f":"Données!$E1409*D$4","v":2250.15},{"$f":"Données!$E1409*E$4","v":2143},{"$f":"Données!$E1409*F$4","v":2035.85},{"$f":"Données!$E1409*G$4","v":1928.7},{"$f":"Données!$E1409*H$4","v":1821.55},{"$f":"Données!$F1409*B$4","v":1846.8999999999999},{"$f":"Données!$F1409*C$4","v":1766.6000000000001},{"$f":"Données!$F1409*D$4","v":1686.3000000000002},{"$f":"Données!$F1409*E$4","v":1606},{"$f":"Données!$F1409*F$4","v":1525.6999999999998},{"$f":"Données!$F1409*G$4","v":1445.4},{"$f":"Données!$F1409*H$4","v":1365.1}]
[null,7540,"Rumillies","Tournai",2143,1606,{"$f":"Données!$E1410*B$4","v":2464.4499999999998},{"$f":"Données!$E1410*C$4","v":2357.3000000000002},{"$f":"Données!$E1410*D$4","v":2250.15},{"$f":"Données!$E1410*E$4","v":2143},{"$f":"Données!$E1410*F$4","v":2035.85},{"$f":"Données!$E1410*G$4","v":1928.7},{"$f":"Données!$E1410*H$4","v":1821.55},{"$f":"Données!$F1410*B$4","v":1846.8999999999999},{"$f":"Données!$F1410*C$4","v":1766.6000000000001},{"$f":"Données!$F1410*D$4","v":1686.3000000000002},{"$f":"Données!$F1410*E$4","v":1606},{"$f":"Données!$F1410*F$4","v":1525.6999999999998},{"$f":"Données!$F1410*G$4","v":1445.4},{"$f":"Données!$F1410*H$4","v":1365.1}]
[null,7540,"Melles","Tournai",2143,1606,{"$f":"Données!$E1411*B$4","v":2464.4499999999998},{"$f":"Données!$E1411*C$4","v":2357.3000000000002},{"$f":"Données!$E1411*D$4","v":2250.15},{"$f":"Données!$E1411*E$4","v":2143},{"$f":"Données!$E1411*F$4","v":2035.85},{"$f":"Données!$E1411*G$4","v":1928.7},{"$f":"Données!$E1411*H$4","v":1821.55},{"$f":"Données!$F1411*B$4","v":1846.8999999999999},{"$f":"Données!$F1411*C$4","v":1766.6000000000001},{"$f":"Données!$F1411*D$4","v":1686.3000000000002},{"$f":"Données!$F1411*E$4","v":1606},{"$f":"Données!$F1411*F$4","v":1525.6999999999998},{"$f":"Données!$F1411*G$4","v":1445.4},{"$f":"Données!$F1411*H$4","v":1365.1}]
[null,7540,"Quartes","Tournai",2143,1606,{"$f":"Données!$E1412*B$4","v":2464.4499999999998},{"$f":"Données!$E1412*C$4","v":2357.3000000000002},{"$f":"Données!$E1412*D$4","v":2250.15},{"$f":"Données!$E1412*E$4","v":2143},{"$f":"Données!$E1412*F$4","v":2035.85},{"$f":"Données!$E1412*G$4","v":1928.7},{"$f":"Données!$E1412*H$4","v":1821.55},{"$f":"Données!$F1412*B$4","v":1846.8999999999999},{"$f":"Données!$F1412*C$4","v":1766.6000000000001},{"$f":"Données!$F1412*D$4","v":1686.3000000000002},{"$f":"Données!$F1412*E$4","v":1606},{"$f":"Données!$F1412*F$4","v":1525.6999999999998},{"$f":"Données!$F1412*G$4","v":1445.4},{"$f":"Données!$F1412*H$4","v":1365.1}]
[null,7542,"Mont-Saint-Aubert","Tournai",2143,1606,{"$f":"Données!$E1413*B$4","v":2464.4499999999998},{"$f":"Données!$E1413*C$4","v":2357.3000000000002},{"$f":"Données!$E1413*D$4","v":2250.15},{"$f":"Données!$E1413*E$4","v":2143},{"$f":"Données!$E1413*F$4","v":2035.85},{"$f":"Données!$E1413*G$4","v":1928.7},{"$f":"Données!$E1413*H$4","v":1821.55},{"$f":"Données!$F1413*B$4","v":1846.8999999999999},{"$f":"Données!$F1413*C$4","v":1766.6000000000001},{"$f":"Données!$F1413*D$4","v":1686.3000000000002},{"$f":"Données!$F1413*E$4","v":1606},{"$f":"Données!$F1413*F$4","v":1525.6999999999998},{"$f":"Données!$F1413*G$4","v":1445.4},{"$f":"Données!$F1413*H$4","v":1365.1}]
[null,7543,"Mourcourt","Tournai",2143,1606,{"$f":"Données!$E1414*B$4","v":2464.4499999999998},{"$f":"Données!$E1414*C$4","v":2357.3000000000002},{"$f":"Données!$E1414*D$4","v":2250.15},{"$f":"Données!$E1414*E$4","v":2143},{"$f":"Données!$E1414*F$4","v":2035.85},{"$f":"Données!$E1414*G$4","v":1928.7},{"$f":"Données!$E1414*H$4","v":1821.55},{"$f":"Données!$F1414*B$4","v":1846.8999999999999},{"$f":"Données!$F1414*C$4","v":1766.6000000000001},{"$f":"Données!$F1414*D$4","v":1686.3000000000002},{"$f":"Données!$F1414*E$4","v":1606},{"$f":"Données!$F1414*F$4","v":1525.6999999999998},{"$f":"Données!$F1414*G$4","v":1445.4},{"$f":"Données!$F1414*H$4","v":1365.1}]
[null,7548,"Warchin","Tournai",2143,1606,{"$f":"Données!$E1415*B$4","v":2464.4499999999998},{"$f":"Données!$E1415*C$4","v":2357.3000000000002},{"$f":"Données!$E1415*D$4","v":2250.15},{"$f":"Données!$E1415*E$4","v":2143},{"$f":"Données!$E1415*F$4","v":2035.85},{"$f":"Données!$E1415*G$4","v":1928.7},{"$f":"Données!$E1415*H$4","v":1821.55},{"$f":"Données!$F1415*B$4","v":1846.8999999999999},{"$f":"Données!$F1415*C$4","v":1766.6000000000001},{"$f":"Données!$F1415*D$4","v":1686.3000000000002},{"$f":"Données!$F1415*E$4","v":1606},{"$f":"Données!$F1415*F$4","v":1525.6999999999998},{"$f":"Données!$F1415*G$4","v":1445.4},{"$f":"Données!$F1415*H$4","v":1365.1}]
[null,7600,"Péruwelz","Péruwelz",1605,1212,{"$f":"Données!$E1416*B$4","v":1845.7499999999998},{"$f":"Données!$E1416*C$4","v":1765.5000000000002},{"$f":"Données!$E1416*D$4","v":1685.25},{"$f":"Données!$E1416*E$4","v":1605},{"$f":"Données!$E1416*F$4","v":1524.75},{"$f":"Données!$E1416*G$4","v":1444.5},{"$f":"Données!$E1416*H$4","v":1364.25},{"$f":"Données!$F1416*B$4","v":1393.8},{"$f":"Données!$F1416*C$4","v":1333.2},{"$f":"Données!$F1416*D$4","v":1272.6000000000001},{"$f":"Données!$F1416*E$4","v":1212},{"$f":"Données!$F1416*F$4","v":1151.3999999999999},{"$f":"Données!$F1416*G$4","v":1090.8},{"$f":"Données!$F1416*H$4","v":1030.2}]
[null,7601,"Roucourt","Péruwelz",1605,1212,{"$f":"Données!$E1417*B$4","v":1845.7499999999998},{"$f":"Données!$E1417*C$4","v":1765.5000000000002},{"$f":"Données!$E1417*D$4","v":1685.25},{"$f":"Données!$E1417*E$4","v":1605},{"$f":"Données!$E1417*F$4","v":1524.75},{"$f":"Données!$E1417*G$4","v":1444.5},{"$f":"Données!$E1417*H$4","v":1364.25},{"$f":"Données!$F1417*B$4","v":1393.8},{"$f":"Données!$F1417*C$4","v":1333.2},{"$f":"Données!$F1417*D$4","v":1272.6000000000001},{"$f":"Données!$F1417*E$4","v":1212},{"$f":"Données!$F1417*F$4","v":1151.3999999999999},{"$f":"Données!$F1417*G$4","v":1090.8},{"$f":"Données!$F1417*H$4","v":1030.2}]
[null,7602,"Bury","Péruwelz",1605,1212,{"$f":"Données!$E1418*B$4","v":1845.7499999999998},{"$f":"Données!$E1418*C$4","v":1765.5000000000002},{"$f":"Données!$E1418*D$4","v":1685.25},{"$f":"Données!$E1418*E$4","v":1605},{"$f":"Données!$E1418*F$4","v":1524.75},{"$f":"Données!$E1418*G$4","v":1444.5},{"$f":"Données!$E1418*H$4","v":1364.25},{"$f":"Données!$F1418*B$4","v":1393.8},{"$f":"Données!$F1418*C$4","v":1333.2},{"$f":"Données!$F1418*D$4","v":1272.6000000000001},{"$f":"Données!$F1418*E$4","v":1212},{"$f":"Données!$F1418*F$4","v":1151.3999999999999},{"$f":"Données!$F1418*G$4","v":1090.8},{"$f":"Données!$F1418*H$4","v":1030.2}]
[null,7603,"Bon-Secours","Péruwelz",1605,1212,{"$f":"Données!$E1419*B$4","v":1845.7499999999998},{"$f":"Données!$E1419*C$4","v":1765.5000000000002},{"$f":"Données!$E1419*D$4","v":1685.25},{"$f":"Données!$E1419*E$4","v":1605},{"$f":"Données!$E1419*F$4","v":1524.75},{"$f":"Données!$E1419*G$4","v":1444.5},{"$f":"Données!$E1419*H$4","v":1364.25},{"$f":"Données!$F1419*B$4","v":1393.8},{"$f":"Données!$F1419*C$4","v":1333.2},{"$f":"Données!$F1419*D$4","v":1272.6000000000001},{"$f":"Données!$F1419*E$4","v":1212},{"$f":"Données!$F1419*F$4","v":1151.3999999999999},{"$f":"Données!$F1419*G$4","v":1090.8},{"$f":"Données!$F1419*H$4","v":1030.2}]
[null,7604,"Wasmes-Audemez-Briffoeil","Péruwelz",1605,1212,{"$f":"Données!$E1420*B$4","v":1845.7499999999998},{"$f":"Données!$E1420*C$4","v":1765.5000000000002},{"$f":"Données!$E1420*D$4","v":1685.25},{"$f":"Données!$E1420*E$4","v":1605},{"$f":"Données!$E1420*F$4","v":1524.75},{"$f":"Données!$E1420*G$4","v":1444.5},{"$f":"Données!$E1420*H$4","v":1364.25},{"$f":"Données!$F1420*B$4","v":1393.8},{"$f":"Données!$F1420*C$4","v":1333.2},{"$f":"Données!$F1420*D$4","v":1272.6000000000001},{"$f":"Données!$F1420*E$4","v":1212},{"$f":"Données!$F1420*F$4","v":1151.3999999999999},{"$f":"Données!$F1420*G$4","v":1090.8},{"$f":"Données!$F1420*H$4","v":1030.2}]
[null,7604,"Brasmenil","Péruwelz",1605,1212,{"$f":"Données!$E1421*B$4","v":1845.7499999999998},{"$f":"Données!$E1421*C$4","v":1765.5000000000002},{"$f":"Données!$E1421*D$4","v":1685.25},{"$f":"Données!$E1421*E$4","v":1605},{"$f":"Données!$E1421*F$4","v":1524.75},{"$f":"Données!$E1421*G$4","v":1444.5},{"$f":"Données!$E1421*H$4","v":1364.25},{"$f":"Données!$F1421*B$4","v":1393.8},{"$f":"Données!$F1421*C$4","v":1333.2},{"$f":"Données!$F1421*D$4","v":1272.6000000000001},{"$f":"Données!$F1421*E$4","v":1212},{"$f":"Données!$F1421*F$4","v":1151.3999999999999},{"$f":"Données!$F1421*G$4","v":1090.8},{"$f":"Données!$F1421*H$4","v":1030.2}]
[null,7604,"Baugnies","Péruwelz",1605,1212,{"$f":"Données!$E1422*B$4","v":1845.7499999999998},{"$f":"Données!$E1422*C$4","v":1765.5000000000002},{"$f":"Données!$E1422*D$4","v":1685.25},{"$f":"Données!$E1422*E$4","v":1605},{"$f":"Données!$E1422*F$4","v":1524.75},{"$f":"Données!$E1422*G$4","v":1444.5},{"$f":"Données!$E1422*H$4","v":1364.25},{"$f":"Données!$F1422*B$4","v":1393.8},{"$f":"Données!$F1422*C$4","v":1333.2},{"$f":"Données!$F1422*D$4","v":1272.6000000000001},{"$f":"Données!$F1422*E$4","v":1212},{"$f":"Données!$F1422*F$4","v":1151.3999999999999},{"$f":"Données!$F1422*G$4","v":1090.8},{"$f":"Données!$F1422*H$4","v":1030.2}]
[null,7604,"Braffe","Péruwelz",1605,1212,{"$f":"Données!$E1423*B$4","v":1845.7499999999998},{"$f":"Données!$E1423*C$4","v":1765.5000000000002},{"$f":"Données!$E1423*D$4","v":1685.25},{"$f":"Données!$E1423*E$4","v":1605},{"$f":"Données!$E1423*F$4","v":1524.75},{"$f":"Données!$E1423*G$4","v":1444.5},{"$f":"Données!$E1423*H$4","v":1364.25},{"$f":"Données!$F1423*B$4","v":1393.8},{"$f":"Données!$F1423*C$4","v":1333.2},{"$f":"Données!$F1423*D$4","v":1272.6000000000001},{"$f":"Données!$F1423*E$4","v":1212},{"$f":"Données!$F1423*F$4","v":1151.3999999999999},{"$f":"Données!$F1423*G$4","v":1090.8},{"$f":"Données!$F1423*H$4","v":1030.2}]
[null,7604,"Callenelle","Péruwelz",1605,1212,{"$f":"Données!$E1424*B$4","v":1845.7499999999998},{"$f":"Données!$E1424*C$4","v":1765.5000000000002},{"$f":"Données!$E1424*D$4","v":1685.25},{"$f":"Données!$E1424*E$4","v":1605},{"$f":"Données!$E1424*F$4","v":1524.75},{"$f":"Données!$E1424*G$4","v":1444.5},{"$f":"Données!$E1424*H$4","v":1364.25},{"$f":"Données!$F1424*B$4","v":1393.8},{"$f":"Données!$F1424*C$4","v":1333.2},{"$f":"Données!$F1424*D$4","v":1272.6000000000001},{"$f":"Données!$F1424*E$4","v":1212},{"$f":"Données!$F1424*F$4","v":1151.3999999999999},{"$f":"Données!$F1424*G$4","v":1090.8},{"$f":"Données!$F1424*H$4","v":1030.2}]
[null,7608,"Wiers","Péruwelz",1605,1212,{"$f":"Données!$E1425*B$4","v":1845.7499999999998},{"$f":"Données!$E1425*C$4","v":1765.5000000000002},{"$f":"Données!$E1425*D$4","v":1685.25},{"$f":"Données!$E1425*E$4","v":1605},{"$f":"Données!$E1425*F$4","v":1524.75},{"$f":"Données!$E1425*G$4","v":1444.5},{"$f":"Données!$E1425*H$4","v":1364.25},{"$f":"Données!$F1425*B$4","v":1393.8},{"$f":"Données!$F1425*C$4","v":1333.2},{"$f":"Données!$F1425*D$4","v":1272.6000000000001},{"$f":"Données!$F1425*E$4","v":1212},{"$f":"Données!$F1425*F$4","v":1151.3999999999999},{"$f":"Données!$F1425*G$4","v":1090.8},{"$f":"Données!$F1425*H$4","v":1030.2}]
[null,7610,"Rumes","Rumes",1805,1470,{"$f":"Données!$E1426*B$4","v":2075.75},{"$f":"Données!$E1426*C$4","v":1985.5000000000002},{"$f":"Données!$E1426*D$4","v":1895.25},{"$f":"Données!$E1426*E$4","v":1805},{"$f":"Données!$E1426*F$4","v":1714.75},{"$f":"Données!$E1426*G$4","v":1624.5},{"$f":"Données!$E1426*H$4","v":1534.25},{"$f":"Données!$F1426*B$4","v":1690.4999999999998},{"$f":"Données!$F1426*C$4","v":1617.0000000000002},{"$f":"Données!$F1426*D$4","v":1543.5},{"$f":"Données!$F1426*E$4","v":1470},{"$f":"Données!$F1426*F$4","v":1396.5},{"$f":"Données!$F1426*G$4","v":1323},{"$f":"Données!$F1426*H$4","v":1249.5}]
[null,7611,"LaGlanerie","Rumes",1805,1470,{"$f":"Données!$E1427*B$4","v":2075.75},{"$f":"Données!$E1427*C$4","v":1985.5000000000002},{"$f":"Données!$E1427*D$4","v":1895.25},{"$f":"Données!$E1427*E$4","v":1805},{"$f":"Données!$E1427*F$4","v":1714.75},{"$f":"Données!$E1427*G$4","v":1624.5},{"$f":"Données!$E1427*H$4","v":1534.25},{"$f":"Données!$F1427*B$4","v":1690.4999999999998},{"$f":"Données!$F1427*C$4","v":1617.0000000000002},{"$f":"Données!$F1427*D$4","v":1543.5},{"$f":"Données!$F1427*E$4","v":1470},{"$f":"Données!$F1427*F$4","v":1396.5},{"$f":"Données!$F1427*G$4","v":1323},{"$f":"Données!$F1427*H$4","v":1249.5}]
[null,7618,"Taintignies","Rumes",1805,1470,{"$f":"Données!$E1428*B$4","v":2075.75},{"$f":"Données!$E1428*C$4","v":1985.5000000000002},{"$f":"Données!$E1428*D$4","v":1895.25},{"$f":"Données!$E1428*E$4","v":1805},{"$f":"Données!$E1428*F$4","v":1714.75},{"$f":"Données!$E1428*G$4","v":1624.5},{"$f":"Données!$E1428*H$4","v":1534.25},{"$f":"Données!$F1428*B$4","v":1690.4999999999998},{"$f":"Données!$F1428*C$4","v":1617.0000000000002},{"$f":"Données!$F1428*D$4","v":1543.5},{"$f":"Données!$F1428*E$4","v":1470},{"$f":"Données!$F1428*F$4","v":1396.5},{"$f":"Données!$F1428*G$4","v":1323},{"$f":"Données!$F1428*H$4","v":1249.5}]
[null,7620,"Hollain","Brunehaut",1781,1373,{"$f":"Données!$E1429*B$4","v":2048.1499999999996},{"$f":"Données!$E1429*C$4","v":1959.1000000000001},{"$f":"Données!$E1429*D$4","v":1870.0500000000002},{"$f":"Données!$E1429*E$4","v":1781},{"$f":"Données!$E1429*F$4","v":1691.9499999999998},{"$f":"Données!$E1429*G$4","v":1602.9},{"$f":"Données!$E1429*H$4","v":1513.85},{"$f":"Données!$F1429*B$4","v":1578.9499999999998},{"$f":"Données!$F1429*C$4","v":1510.3000000000002},{"$f":"Données!$F1429*D$4","v":1441.65},{"$f":"Données!$F1429*E$4","v":1373},{"$f":"Données!$F1429*F$4","v":1304.3499999999999},{"$f":"Données!$F1429*G$4","v":1235.7},{"$f":"Données!$F1429*H$4","v":1167.05}]
[null,7620,"Wez-Velvain","Brunehaut",1781,1373,{"$f":"Données!$E1430*B$4","v":2048.1499999999996},{"$f":"Données!$E1430*C$4","v":1959.1000000000001},{"$f":"Données!$E1430*D$4","v":1870.0500000000002},{"$f":"Données!$E1430*E$4","v":1781},{"$f":"Données!$E1430*F$4","v":1691.9499999999998},{"$f":"Données!$E1430*G$4","v":1602.9},{"$f":"Données!$E1430*H$4","v":1513.85},{"$f":"Données!$F1430*B$4","v":1578.9499999999998},{"$f":"Données!$F1430*C$4","v":1510.3000000000002},{"$f":"Données!$F1430*D$4","v":1441.65},{"$f":"Données!$F1430*E$4","v":1373},{"$f":"Données!$F1430*F$4","v":1304.3499999999999},{"$f":"Données!$F1430*G$4","v":1235.7},{"$f":"Données!$F1430*H$4","v":1167.05}]
[null,7620,"Brunehaut","Brunehaut",1781,1373,{"$f":"Données!$E1431*B$4","v":2048.1499999999996},{"$f":"Données!$E1431*C$4","v":1959.1000000000001},{"$f":"Données!$E1431*D$4","v":1870.0500000000002},{"$f":"Données!$E1431*E$4","v":1781},{"$f":"Données!$E1431*F$4","v":1691.9499999999998},{"$f":"Données!$E1431*G$4","v":1602.9},{"$f":"Données!$E1431*H$4","v":1513.85},{"$f":"Données!$F1431*B$4","v":1578.9499999999998},{"$f":"Données!$F1431*C$4","v":1510.3000000000002},{"$f":"Données!$F1431*D$4","v":1441.65},{"$f":"Données!$F1431*E$4","v":1373},{"$f":"Données!$F1431*F$4","v":1304.3499999999999},{"$f":"Données!$F1431*G$4","v":1235.7},{"$f":"Données!$F1431*H$4","v":1167.05}]
[null,7620,"Jollain-Merlin","Brunehaut",1781,1373,{"$f":"Données!$E1432*B$4","v":2048.1499999999996},{"$f":"Données!$E1432*C$4","v":1959.1000000000001},{"$f":"Données!$E1432*D$4","v":1870.0500000000002},{"$f":"Données!$E1432*E$4","v":1781},{"$f":"Données!$E1432*F$4","v":1691.9499999999998},{"$f":"Données!$E1432*G$4","v":1602.9},{"$f":"Données!$E1432*H$4","v":1513.85},{"$f":"Données!$F1432*B$4","v":1578.9499999999998},{"$f":"Données!$F1432*C$4","v":1510.3000000000002},{"$f":"Données!$F1432*D$4","v":1441.65},{"$f":"Données!$F1432*E$4","v":1373},{"$f":"Données!$F1432*F$4","v":1304.3499999999999},{"$f":"Données!$F1432*G$4","v":1235.7},{"$f":"Données!$F1432*H$4","v":1167.05}]
[null,7620,"Bléharies","Brunehaut",1781,1373,{"$f":"Données!$E1433*B$4","v":2048.1499999999996},{"$f":"Données!$E1433*C$4","v":1959.1000000000001},{"$f":"Données!$E1433*D$4","v":1870.0500000000002},{"$f":"Données!$E1433*E$4","v":1781},{"$f":"Données!$E1433*F$4","v":1691.9499999999998},{"$f":"Données!$E1433*G$4","v":1602.9},{"$f":"Données!$E1433*H$4","v":1513.85},{"$f":"Données!$F1433*B$4","v":1578.9499999999998},{"$f":"Données!$F1433*C$4","v":1510.3000000000002},{"$f":"Données!$F1433*D$4","v":1441.65},{"$f":"Données!$F1433*E$4","v":1373},{"$f":"Données!$F1433*F$4","v":1304.3499999999999},{"$f":"Données!$F1433*G$4","v":1235.7},{"$f":"Données!$F1433*H$4","v":1167.05}]
[null,7620,"Guignies","Brunehaut",1781,1373,{"$f":"Données!$E1434*B$4","v":2048.1499999999996},{"$f":"Données!$E1434*C$4","v":1959.1000000000001},{"$f":"Données!$E1434*D$4","v":1870.0500000000002},{"$f":"Données!$E1434*E$4","v":1781},{"$f":"Données!$E1434*F$4","v":1691.9499999999998},{"$f":"Données!$E1434*G$4","v":1602.9},{"$f":"Données!$E1434*H$4","v":1513.85},{"$f":"Données!$F1434*B$4","v":1578.9499999999998},{"$f":"Données!$F1434*C$4","v":1510.3000000000002},{"$f":"Données!$F1434*D$4","v":1441.65},{"$f":"Données!$F1434*E$4","v":1373},{"$f":"Données!$F1434*F$4","v":1304.3499999999999},{"$f":"Données!$F1434*G$4","v":1235.7},{"$f":"Données!$F1434*H$4","v":1167.05}]
[null,7621,"Lesdain","Brunehaut",1781,1373,{"$f":"Données!$E1435*B$4","v":2048.1499999999996},{"$f":"Données!$E1435*C$4","v":1959.1000000000001},{"$f":"Données!$E1435*D$4","v":1870.0500000000002},{"$f":"Données!$E1435*E$4","v":1781},{"$f":"Données!$E1435*F$4","v":1691.9499999999998},{"$f":"Données!$E1435*G$4","v":1602.9},{"$f":"Données!$E1435*H$4","v":1513.85},{"$f":"Données!$F1435*B$4","v":1578.9499999999998},{"$f":"Données!$F1435*C$4","v":1510.3000000000002},{"$f":"Données!$F1435*D$4","v":1441.65},{"$f":"Données!$F1435*E$4","v":1373},{"$f":"Données!$F1435*F$4","v":1304.3499999999999},{"$f":"Données!$F1435*G$4","v":1235.7},{"$f":"Données!$F1435*H$4","v":1167.05}]
[null,7622,"Laplaigne","Brunehaut",1781,1373,{"$f":"Données!$E1436*B$4","v":2048.1499999999996},{"$f":"Données!$E1436*C$4","v":1959.1000000000001},{"$f":"Données!$E1436*D$4","v":1870.0500000000002},{"$f":"Données!$E1436*E$4","v":1781},{"$f":"Données!$E1436*F$4","v":1691.9499999999998},{"$f":"Données!$E1436*G$4","v":1602.9},{"$f":"Données!$E1436*H$4","v":1513.85},{"$f":"Données!$F1436*B$4","v":1578.9499999999998},{"$f":"Données!$F1436*C$4","v":1510.3000000000002},{"$f":"Données!$F1436*D$4","v":1441.65},{"$f":"Données!$F1436*E$4","v":1373},{"$f":"Données!$F1436*F$4","v":1304.3499999999999},{"$f":"Données!$F1436*G$4","v":1235.7},{"$f":"Données!$F1436*H$4","v":1167.05}]
[null,7623,"Rongy","Brunehaut",1781,1373,{"$f":"Données!$E1437*B$4","v":2048.1499999999996},{"$f":"Données!$E1437*C$4","v":1959.1000000000001},{"$f":"Données!$E1437*D$4","v":1870.0500000000002},{"$f":"Données!$E1437*E$4","v":1781},{"$f":"Données!$E1437*F$4","v":1691.9499999999998},{"$f":"Données!$E1437*G$4","v":1602.9},{"$f":"Données!$E1437*H$4","v":1513.85},{"$f":"Données!$F1437*B$4","v":1578.9499999999998},{"$f":"Données!$F1437*C$4","v":1510.3000000000002},{"$f":"Données!$F1437*D$4","v":1441.65},{"$f":"Données!$F1437*E$4","v":1373},{"$f":"Données!$F1437*F$4","v":1304.3499999999999},{"$f":"Données!$F1437*G$4","v":1235.7},{"$f":"Données!$F1437*H$4","v":1167.05}]
[null,7624,"Howardries","Brunehaut",1781,1373,{"$f":"Données!$E1438*B$4","v":2048.1499999999996},{"$f":"Données!$E1438*C$4","v":1959.1000000000001},{"$f":"Données!$E1438*D$4","v":1870.0500000000002},{"$f":"Données!$E1438*E$4","v":1781},{"$f":"Données!$E1438*F$4","v":1691.9499999999998},{"$f":"Données!$E1438*G$4","v":1602.9},{"$f":"Données!$E1438*H$4","v":1513.85},{"$f":"Données!$F1438*B$4","v":1578.9499999999998},{"$f":"Données!$F1438*C$4","v":1510.3000000000002},{"$f":"Données!$F1438*D$4","v":1441.65},{"$f":"Données!$F1438*E$4","v":1373},{"$f":"Données!$F1438*F$4","v":1304.3499999999999},{"$f":"Données!$F1438*G$4","v":1235.7},{"$f":"Données!$F1438*H$4","v":1167.05}]
[null,7640,"Maubray","Antoing",1808,1361,{"$f":"Données!$E1439*B$4","v":2079.1999999999998},{"$f":"Données!$E1439*C$4","v":1988.8000000000002},{"$f":"Données!$E1439*D$4","v":1898.4},{"$f":"Données!$E1439*E$4","v":1808},{"$f":"Données!$E1439*F$4","v":1717.6},{"$f":"Données!$E1439*G$4","v":1627.2},{"$f":"Données!$E1439*H$4","v":1536.8},{"$f":"Données!$F1439*B$4","v":1565.1499999999999},{"$f":"Données!$F1439*C$4","v":1497.1000000000001},{"$f":"Données!$F1439*D$4","v":1429.05},{"$f":"Données!$F1439*E$4","v":1361},{"$f":"Données!$F1439*F$4","v":1292.95},{"$f":"Données!$F1439*G$4","v":1224.9000000000001},{"$f":"Données!$F1439*H$4","v":1156.8499999999999}]
[null,7640,"Antoing","Antoing",1808,1361,{"$f":"Données!$E1440*B$4","v":2079.1999999999998},{"$f":"Données!$E1440*C$4","v":1988.8000000000002},{"$f":"Données!$E1440*D$4","v":1898.4},{"$f":"Données!$E1440*E$4","v":1808},{"$f":"Données!$E1440*F$4","v":1717.6},{"$f":"Données!$E1440*G$4","v":1627.2},{"$f":"Données!$E1440*H$4","v":1536.8},{"$f":"Données!$F1440*B$4","v":1565.1499999999999},{"$f":"Données!$F1440*C$4","v":1497.1000000000001},{"$f":"Données!$F1440*D$4","v":1429.05},{"$f":"Données!$F1440*E$4","v":1361},{"$f":"Données!$F1440*F$4","v":1292.95},{"$f":"Données!$F1440*G$4","v":1224.9000000000001},{"$f":"Données!$F1440*H$4","v":1156.8499999999999}]
[null,7640,"Péronnes-Lez-Antoing","Antoing",1808,1361,{"$f":"Données!$E1441*B$4","v":2079.1999999999998},{"$f":"Données!$E1441*C$4","v":1988.8000000000002},{"$f":"Données!$E1441*D$4","v":1898.4},{"$f":"Données!$E1441*E$4","v":1808},{"$f":"Données!$E1441*F$4","v":1717.6},{"$f":"Données!$E1441*G$4","v":1627.2},{"$f":"Données!$E1441*H$4","v":1536.8},{"$f":"Données!$F1441*B$4","v":1565.1499999999999},{"$f":"Données!$F1441*C$4","v":1497.1000000000001},{"$f":"Données!$F1441*D$4","v":1429.05},{"$f":"Données!$F1441*E$4","v":1361},{"$f":"Données!$F1441*F$4","v":1292.95},{"$f":"Données!$F1441*G$4","v":1224.9000000000001},{"$f":"Données!$F1441*H$4","v":1156.8499999999999}]
[null,7641,"Bruyelle","Antoing",1808,1361,{"$f":"Données!$E1442*B$4","v":2079.1999999999998},{"$f":"Données!$E1442*C$4","v":1988.8000000000002},{"$f":"Données!$E1442*D$4","v":1898.4},{"$f":"Données!$E1442*E$4","v":1808},{"$f":"Données!$E1442*F$4","v":1717.6},{"$f":"Données!$E1442*G$4","v":1627.2},{"$f":"Données!$E1442*H$4","v":1536.8},{"$f":"Données!$F1442*B$4","v":1565.1499999999999},{"$f":"Données!$F1442*C$4","v":1497.1000000000001},{"$f":"Données!$F1442*D$4","v":1429.05},{"$f":"Données!$F1442*E$4","v":1361},{"$f":"Données!$F1442*F$4","v":1292.95},{"$f":"Données!$F1442*G$4","v":1224.9000000000001},{"$f":"Données!$F1442*H$4","v":1156.8499999999999}]
[null,7642,"Calonne","Antoing",1808,1361,{"$f":"Données!$E1443*B$4","v":2079.1999999999998},{"$f":"Données!$E1443*C$4","v":1988.8000000000002},{"$f":"Données!$E1443*D$4","v":1898.4},{"$f":"Données!$E1443*E$4","v":1808},{"$f":"Données!$E1443*F$4","v":1717.6},{"$f":"Données!$E1443*G$4","v":1627.2},{"$f":"Données!$E1443*H$4","v":1536.8},{"$f":"Données!$F1443*B$4","v":1565.1499999999999},{"$f":"Données!$F1443*C$4","v":1497.1000000000001},{"$f":"Données!$F1443*D$4","v":1429.05},{"$f":"Données!$F1443*E$4","v":1361},{"$f":"Données!$F1443*F$4","v":1292.95},{"$f":"Données!$F1443*G$4","v":1224.9000000000001},{"$f":"Données!$F1443*H$4","v":1156.8499999999999}]
[null,7643,"Fontenoy","Antoing",1808,1361,{"$f":"Données!$E1444*B$4","v":2079.1999999999998},{"$f":"Données!$E1444*C$4","v":1988.8000000000002},{"$f":"Données!$E1444*D$4","v":1898.4},{"$f":"Données!$E1444*E$4","v":1808},{"$f":"Données!$E1444*F$4","v":1717.6},{"$f":"Données!$E1444*G$4","v":1627.2},{"$f":"Données!$E1444*H$4","v":1536.8},{"$f":"Données!$F1444*B$4","v":1565.1499999999999},{"$f":"Données!$F1444*C$4","v":1497.1000000000001},{"$f":"Données!$F1444*D$4","v":1429.05},{"$f":"Données!$F1444*E$4","v":1361},{"$f":"Données!$F1444*F$4","v":1292.95},{"$f":"Données!$F1444*G$4","v":1224.9000000000001},{"$f":"Données!$F1444*H$4","v":1156.8499999999999}]
[null,7700,"Mouscron","Mouscron",1906,1531,{"$f":"Données!$E1445*B$4","v":2191.8999999999996},{"$f":"Données!$E1445*C$4","v":2096.6000000000004},{"$f":"Données!$E1445*D$4","v":2001.3000000000002},{"$f":"Données!$E1445*E$4","v":1906},{"$f":"Données!$E1445*F$4","v":1810.6999999999998},{"$f":"Données!$E1445*G$4","v":1715.4},{"$f":"Données!$E1445*H$4","v":1620.1},{"$f":"Données!$F1445*B$4","v":1760.6499999999999},{"$f":"Données!$F1445*C$4","v":1684.1000000000001},{"$f":"Données!$F1445*D$4","v":1607.55},{"$f":"Données!$F1445*E$4","v":1531},{"$f":"Données!$F1445*F$4","v":1454.45},{"$f":"Données!$F1445*G$4","v":1377.9},{"$f":"Données!$F1445*H$4","v":1301.3499999999999}]
[null,7700,"Luingne","Mouscron",1906,1531,{"$f":"Données!$E1446*B$4","v":2191.8999999999996},{"$f":"Données!$E1446*C$4","v":2096.6000000000004},{"$f":"Données!$E1446*D$4","v":2001.3000000000002},{"$f":"Données!$E1446*E$4","v":1906},{"$f":"Données!$E1446*F$4","v":1810.6999999999998},{"$f":"Données!$E1446*G$4","v":1715.4},{"$f":"Données!$E1446*H$4","v":1620.1},{"$f":"Données!$F1446*B$4","v":1760.6499999999999},{"$f":"Données!$F1446*C$4","v":1684.1000000000001},{"$f":"Données!$F1446*D$4","v":1607.55},{"$f":"Données!$F1446*E$4","v":1531},{"$f":"Données!$F1446*F$4","v":1454.45},{"$f":"Données!$F1446*G$4","v":1377.9},{"$f":"Données!$F1446*H$4","v":1301.3499999999999}]
[null,7711,"Dottignies","Mouscron",1906,1531,{"$f":"Données!$E1447*B$4","v":2191.8999999999996},{"$f":"Données!$E1447*C$4","v":2096.6000000000004},{"$f":"Données!$E1447*D$4","v":2001.3000000000002},{"$f":"Données!$E1447*E$4","v":1906},{"$f":"Données!$E1447*F$4","v":1810.6999999999998},{"$f":"Données!$E1447*G$4","v":1715.4},{"$f":"Données!$E1447*H$4","v":1620.1},{"$f":"Données!$F1447*B$4","v":1760.6499999999999},{"$f":"Données!$F1447*C$4","v":1684.1000000000001},{"$f":"Données!$F1447*D$4","v":1607.55},{"$f":"Données!$F1447*E$4","v":1531},{"$f":"Données!$F1447*F$4","v":1454.45},{"$f":"Données!$F1447*G$4","v":1377.9},{"$f":"Données!$F1447*H$4","v":1301.3499999999999}]
[null,7712,"Herseaux","Mouscron",1906,1531,{"$f":"Données!$E1448*B$4","v":2191.8999999999996},{"$f":"Données!$E1448*C$4","v":2096.6000000000004},{"$f":"Données!$E1448*D$4","v":2001.3000000000002},{"$f":"Données!$E1448*E$4","v":1906},{"$f":"Données!$E1448*F$4","v":1810.6999999999998},{"$f":"Données!$E1448*G$4","v":1715.4},{"$f":"Données!$E1448*H$4","v":1620.1},{"$f":"Données!$F1448*B$4","v":1760.6499999999999},{"$f":"Données!$F1448*C$4","v":1684.1000000000001},{"$f":"Données!$F1448*D$4","v":1607.55},{"$f":"Données!$F1448*E$4","v":1531},{"$f":"Données!$F1448*F$4","v":1454.45},{"$f":"Données!$F1448*G$4","v":1377.9},{"$f":"Données!$F1448*H$4","v":1301.3499999999999}]
[null,7730,"Bailleul","Estaimpuis",1843,1642,{"$f":"Données!$E1449*B$4","v":2119.4499999999998},{"$f":"Données!$E1449*C$4","v":2027.3000000000002},{"$f":"Données!$E1449*D$4","v":1935.15},{"$f":"Données!$E1449*E$4","v":1843},{"$f":"Données!$E1449*F$4","v":1750.85},{"$f":"Données!$E1449*G$4","v":1658.7},{"$f":"Données!$E1449*H$4","v":1566.55},{"$f":"Données!$F1449*B$4","v":1888.3},{"$f":"Données!$F1449*C$4","v":1806.2},{"$f":"Données!$F1449*D$4","v":1724.1000000000001},{"$f":"Données!$F1449*E$4","v":1642},{"$f":"Données!$F1449*F$4","v":1559.8999999999999},{"$f":"Données!$F1449*G$4","v":1477.8},{"$f":"Données!$F1449*H$4","v":1395.7}]
[null,7730,"Néchin","Estaimpuis",1843,1642,{"$f":"Données!$E1450*B$4","v":2119.4499999999998},{"$f":"Données!$E1450*C$4","v":2027.3000000000002},{"$f":"Données!$E1450*D$4","v":1935.15},{"$f":"Données!$E1450*E$4","v":1843},{"$f":"Données!$E1450*F$4","v":1750.85},{"$f":"Données!$E1450*G$4","v":1658.7},{"$f":"Données!$E1450*H$4","v":1566.55},{"$f":"Données!$F1450*B$4","v":1888.3},{"$f":"Données!$F1450*C$4","v":1806.2},{"$f":"Données!$F1450*D$4","v":1724.1000000000001},{"$f":"Données!$F1450*E$4","v":1642},{"$f":"Données!$F1450*F$4","v":1559.8999999999999},{"$f":"Données!$F1450*G$4","v":1477.8},{"$f":"Données!$F1450*H$4","v":1395.7}]
[null,7730,"Estaimpuis","Estaimpuis",1843,1642,{"$f":"Données!$E1451*B$4","v":2119.4499999999998},{"$f":"Données!$E1451*C$4","v":2027.3000000000002},{"$f":"Données!$E1451*D$4","v":1935.15},{"$f":"Données!$E1451*E$4","v":1843},{"$f":"Données!$E1451*F$4","v":1750.85},{"$f":"Données!$E1451*G$4","v":1658.7},{"$f":"Données!$E1451*H$4","v":1566.55},{"$f":"Données!$F1451*B$4","v":1888.3},{"$f":"Données!$F1451*C$4","v":1806.2},{"$f":"Données!$F1451*D$4","v":1724.1000000000001},{"$f":"Données!$F1451*E$4","v":1642},{"$f":"Données!$F1451*F$4","v":1559.8999999999999},{"$f":"Données!$F1451*G$4","v":1477.8},{"$f":"Données!$F1451*H$4","v":1395.7}]
[null,7730,"Evregnies","Estaimpuis",1843,1642,{"$f":"Données!$E1452*B$4","v":2119.4499999999998},{"$f":"Données!$E1452*C$4","v":2027.3000000000002},{"$f":"Données!$E1452*D$4","v":1935.15},{"$f":"Données!$E1452*E$4","v":1843},{"$f":"Données!$E1452*F$4","v":1750.85},{"$f":"Données!$E1452*G$4","v":1658.7},{"$f":"Données!$E1452*H$4","v":1566.55},{"$f":"Données!$F1452*B$4","v":1888.3},{"$f":"Données!$F1452*C$4","v":1806.2},{"$f":"Données!$F1452*D$4","v":1724.1000000000001},{"$f":"Données!$F1452*E$4","v":1642},{"$f":"Données!$F1452*F$4","v":1559.8999999999999},{"$f":"Données!$F1452*G$4","v":1477.8},{"$f":"Données!$F1452*H$4","v":1395.7}]
[null,7730,"Leers-Nord","Estaimpuis",1843,1642,{"$f":"Données!$E1453*B$4","v":2119.4499999999998},{"$f":"Données!$E1453*C$4","v":2027.3000000000002},{"$f":"Données!$E1453*D$4","v":1935.15},{"$f":"Données!$E1453*E$4","v":1843},{"$f":"Données!$E1453*F$4","v":1750.85},{"$f":"Données!$E1453*G$4","v":1658.7},{"$f":"Données!$E1453*H$4","v":1566.55},{"$f":"Données!$F1453*B$4","v":1888.3},{"$f":"Données!$F1453*C$4","v":1806.2},{"$f":"Données!$F1453*D$4","v":1724.1000000000001},{"$f":"Données!$F1453*E$4","v":1642},{"$f":"Données!$F1453*F$4","v":1559.8999999999999},{"$f":"Données!$F1453*G$4","v":1477.8},{"$f":"Données!$F1453*H$4","v":1395.7}]
[null,7730,"Estaimbourg","Estaimpuis",1843,1642,{"$f":"Données!$E1454*B$4","v":2119.4499999999998},{"$f":"Données!$E1454*C$4","v":2027.3000000000002},{"$f":"Données!$E1454*D$4","v":1935.15},{"$f":"Données!$E1454*E$4","v":1843},{"$f":"Données!$E1454*F$4","v":1750.85},{"$f":"Données!$E1454*G$4","v":1658.7},{"$f":"Données!$E1454*H$4","v":1566.55},{"$f":"Données!$F1454*B$4","v":1888.3},{"$f":"Données!$F1454*C$4","v":1806.2},{"$f":"Données!$F1454*D$4","v":1724.1000000000001},{"$f":"Données!$F1454*E$4","v":1642},{"$f":"Données!$F1454*F$4","v":1559.8999999999999},{"$f":"Données!$F1454*G$4","v":1477.8},{"$f":"Données!$F1454*H$4","v":1395.7}]
[null,7730,"Saint-Léger","Saint-Léger",2111,1759,{"$f":"Données!$E1455*B$4","v":2427.6499999999996},{"$f":"Données!$E1455*C$4","v":2322.1000000000004},{"$f":"Données!$E1455*D$4","v":2216.5500000000002},{"$f":"Données!$E1455*E$4","v":2111},{"$f":"Données!$E1455*F$4","v":2005.4499999999998},{"$f":"Données!$E1455*G$4","v":1899.9},{"$f":"Données!$E1455*H$4","v":1794.35},{"$f":"Données!$F1455*B$4","v":2022.85},{"$f":"Données!$F1455*C$4","v":1934.9},{"$f":"Données!$F1455*D$4","v":1846.95},{"$f":"Données!$F1455*E$4","v":1759},{"$f":"Données!$F1455*F$4","v":1671.05},{"$f":"Données!$F1455*G$4","v":1583.1000000000001},{"$f":"Données!$F1455*H$4","v":1495.1499999999999}]
[null,7740,"Pecq","Pecq",2016,1552,{"$f":"Données!$E1456*B$4","v":2318.3999999999996},{"$f":"Données!$E1456*C$4","v":2217.6000000000004},{"$f":"Données!$E1456*D$4","v":2116.8000000000002},{"$f":"Données!$E1456*E$4","v":2016},{"$f":"Données!$E1456*F$4","v":1915.1999999999998},{"$f":"Données!$E1456*G$4","v":1814.4},{"$f":"Données!$E1456*H$4","v":1713.6},{"$f":"Données!$F1456*B$4","v":1784.8},{"$f":"Données!$F1456*C$4","v":1707.2},{"$f":"Données!$F1456*D$4","v":1629.6000000000001},{"$f":"Données!$F1456*E$4","v":1552},{"$f":"Données!$F1456*F$4","v":1474.3999999999999},{"$f":"Données!$F1456*G$4","v":1396.8},{"$f":"Données!$F1456*H$4","v":1319.2}]
[null,7740,"Warcoing","Pecq",2016,1552,{"$f":"Données!$E1457*B$4","v":2318.3999999999996},{"$f":"Données!$E1457*C$4","v":2217.6000000000004},{"$f":"Données!$E1457*D$4","v":2116.8000000000002},{"$f":"Données!$E1457*E$4","v":2016},{"$f":"Données!$E1457*F$4","v":1915.1999999999998},{"$f":"Données!$E1457*G$4","v":1814.4},{"$f":"Données!$E1457*H$4","v":1713.6},{"$f":"Données!$F1457*B$4","v":1784.8},{"$f":"Données!$F1457*C$4","v":1707.2},{"$f":"Données!$F1457*D$4","v":1629.6000000000001},{"$f":"Données!$F1457*E$4","v":1552},{"$f":"Données!$F1457*F$4","v":1474.3999999999999},{"$f":"Données!$F1457*G$4","v":1396.8},{"$f":"Données!$F1457*H$4","v":1319.2}]
[null,7742,"Hérinnes-Lez-Pecq","Pecq",2016,1552,{"$f":"Données!$E1458*B$4","v":2318.3999999999996},{"$f":"Données!$E1458*C$4","v":2217.6000000000004},{"$f":"Données!$E1458*D$4","v":2116.8000000000002},{"$f":"Données!$E1458*E$4","v":2016},{"$f":"Données!$E1458*F$4","v":1915.1999999999998},{"$f":"Données!$E1458*G$4","v":1814.4},{"$f":"Données!$E1458*H$4","v":1713.6},{"$f":"Données!$F1458*B$4","v":1784.8},{"$f":"Données!$F1458*C$4","v":1707.2},{"$f":"Données!$F1458*D$4","v":1629.6000000000001},{"$f":"Données!$F1458*E$4","v":1552},{"$f":"Données!$F1458*F$4","v":1474.3999999999999},{"$f":"Données!$F1458*G$4","v":1396.8},{"$f":"Données!$F1458*H$4","v":1319.2}]
[null,7743,"Esquelmes","Pecq",2016,1552,{"$f":"Données!$E1459*B$4","v":2318.3999999999996},{"$f":"Données!$E1459*C$4","v":2217.6000000000004},{"$f":"Données!$E1459*D$4","v":2116.8000000000002},{"$f":"Données!$E1459*E$4","v":2016},{"$f":"Données!$E1459*F$4","v":1915.1999999999998},{"$f":"Données!$E1459*G$4","v":1814.4},{"$f":"Données!$E1459*H$4","v":1713.6},{"$f":"Données!$F1459*B$4","v":1784.8},{"$f":"Données!$F1459*C$4","v":1707.2},{"$f":"Données!$F1459*D$4","v":1629.6000000000001},{"$f":"Données!$F1459*E$4","v":1552},{"$f":"Données!$F1459*F$4","v":1474.3999999999999},{"$f":"Données!$F1459*G$4","v":1396.8},{"$f":"Données!$F1459*H$4","v":1319.2}]
[null,7743,"Obigies","Pecq",2016,1552,{"$f":"Données!$E1460*B$4","v":2318.3999999999996},{"$f":"Données!$E1460*C$4","v":2217.6000000000004},{"$f":"Données!$E1460*D$4","v":2116.8000000000002},{"$f":"Données!$E1460*E$4","v":2016},{"$f":"Données!$E1460*F$4","v":1915.1999999999998},{"$f":"Données!$E1460*G$4","v":1814.4},{"$f":"Données!$E1460*H$4","v":1713.6},{"$f":"Données!$F1460*B$4","v":1784.8},{"$f":"Données!$F1460*C$4","v":1707.2},{"$f":"Données!$F1460*D$4","v":1629.6000000000001},{"$f":"Données!$F1460*E$4","v":1552},{"$f":"Données!$F1460*F$4","v":1474.3999999999999},{"$f":"Données!$F1460*G$4","v":1396.8},{"$f":"Données!$F1460*H$4","v":1319.2}]
[null,7750,"Mont-De-L'enclus","Mont-De-L'enclus",2194,1667,{"$f":"Données!$E1461*B$4","v":2523.1},{"$f":"Données!$E1461*C$4","v":2413.4},{"$f":"Données!$E1461*D$4","v":2303.7000000000003},{"$f":"Données!$E1461*E$4","v":2194},{"$f":"Données!$E1461*F$4","v":2084.2999999999997},{"$f":"Données!$E1461*G$4","v":1974.6000000000001},{"$f":"Données!$E1461*H$4","v":1864.8999999999999},{"$f":"Données!$F1461*B$4","v":1917.05},{"$f":"Données!$F1461*C$4","v":1833.7},{"$f":"Données!$F1461*D$4","v":1750.3500000000001},{"$f":"Données!$F1461*E$4","v":1667},{"$f":"Données!$F1461*F$4","v":1583.6499999999999},{"$f":"Données!$F1461*G$4","v":1500.3},{"$f":"Données!$F1461*H$4","v":1416.95}]
[null,7750,"Orroir","Mont-De-L'enclus",2194,1667,{"$f":"Données!$E1462*B$4","v":2523.1},{"$f":"Données!$E1462*C$4","v":2413.4},{"$f":"Données!$E1462*D$4","v":2303.7000000000003},{"$f":"Données!$E1462*E$4","v":2194},{"$f":"Données!$E1462*F$4","v":2084.2999999999997},{"$f":"Données!$E1462*G$4","v":1974.6000000000001},{"$f":"Données!$E1462*H$4","v":1864.8999999999999},{"$f":"Données!$F1462*B$4","v":1917.05},{"$f":"Données!$F1462*C$4","v":1833.7},{"$f":"Données!$F1462*D$4","v":1750.3500000000001},{"$f":"Données!$F1462*E$4","v":1667},{"$f":"Données!$F1462*F$4","v":1583.6499999999999},{"$f":"Données!$F1462*G$4","v":1500.3},{"$f":"Données!$F1462*H$4","v":1416.95}]
[null,7750,"Anseroeul","Mont-De-L'enclus",2194,1667,{"$f":"Données!$E1463*B$4","v":2523.1},{"$f":"Données!$E1463*C$4","v":2413.4},{"$f":"Données!$E1463*D$4","v":2303.7000000000003},{"$f":"Données!$E1463*E$4","v":2194},{"$f":"Données!$E1463*F$4","v":2084.2999999999997},{"$f":"Données!$E1463*G$4","v":1974.6000000000001},{"$f":"Données!$E1463*H$4","v":1864.8999999999999},{"$f":"Données!$F1463*B$4","v":1917.05},{"$f":"Données!$F1463*C$4","v":1833.7},{"$f":"Données!$F1463*D$4","v":1750.3500000000001},{"$f":"Données!$F1463*E$4","v":1667},{"$f":"Données!$F1463*F$4","v":1583.6499999999999},{"$f":"Données!$F1463*G$4","v":1500.3},{"$f":"Données!$F1463*H$4","v":1416.95}]
[null,7750,"Amougies","Mont-De-L'enclus",2194,1667,{"$f":"Données!$E1464*B$4","v":2523.1},{"$f":"Données!$E1464*C$4","v":2413.4},{"$f":"Données!$E1464*D$4","v":2303.7000000000003},{"$f":"Données!$E1464*E$4","v":2194},{"$f":"Données!$E1464*F$4","v":2084.2999999999997},{"$f":"Données!$E1464*G$4","v":1974.6000000000001},{"$f":"Données!$E1464*H$4","v":1864.8999999999999},{"$f":"Données!$F1464*B$4","v":1917.05},{"$f":"Données!$F1464*C$4","v":1833.7},{"$f":"Données!$F1464*D$4","v":1750.3500000000001},{"$f":"Données!$F1464*E$4","v":1667},{"$f":"Données!$F1464*F$4","v":1583.6499999999999},{"$f":"Données!$F1464*G$4","v":1500.3},{"$f":"Données!$F1464*H$4","v":1416.95}]
[null,7750,"Russeignies","Mont-De-L'enclus",2194,1667,{"$f":"Données!$E1465*B$4","v":2523.1},{"$f":"Données!$E1465*C$4","v":2413.4},{"$f":"Données!$E1465*D$4","v":2303.7000000000003},{"$f":"Données!$E1465*E$4","v":2194},{"$f":"Données!$E1465*F$4","v":2084.2999999999997},{"$f":"Données!$E1465*G$4","v":1974.6000000000001},{"$f":"Données!$E1465*H$4","v":1864.8999999999999},{"$f":"Données!$F1465*B$4","v":1917.05},{"$f":"Données!$F1465*C$4","v":1833.7},{"$f":"Données!$F1465*D$4","v":1750.3500000000001},{"$f":"Données!$F1465*E$4","v":1667},{"$f":"Données!$F1465*F$4","v":1583.6499999999999},{"$f":"Données!$F1465*G$4","v":1500.3},{"$f":"Données!$F1465*H$4","v":1416.95}]
[null,7760,"Molenbaix","Celles",1992,1599,{"$f":"Données!$E1466*B$4","v":2290.7999999999997},{"$f":"Données!$E1466*C$4","v":2191.2000000000003},{"$f":"Données!$E1466*D$4","v":2091.6},{"$f":"Données!$E1466*E$4","v":1992},{"$f":"Données!$E1466*F$4","v":1892.3999999999999},{"$f":"Données!$E1466*G$4","v":1792.8},{"$f":"Données!$E1466*H$4","v":1693.2},{"$f":"Données!$F1466*B$4","v":1838.85},{"$f":"Données!$F1466*C$4","v":1758.9},{"$f":"Données!$F1466*D$4","v":1678.95},{"$f":"Données!$F1466*E$4","v":1599},{"$f":"Données!$F1466*F$4","v":1519.05},{"$f":"Données!$F1466*G$4","v":1439.1000000000001},{"$f":"Données!$F1466*H$4","v":1359.1499999999999}]
[null,7760,"Pottes","Celles",1992,1599,{"$f":"Données!$E1467*B$4","v":2290.7999999999997},{"$f":"Données!$E1467*C$4","v":2191.2000000000003},{"$f":"Données!$E1467*D$4","v":2091.6},{"$f":"Données!$E1467*E$4","v":1992},{"$f":"Données!$E1467*F$4","v":1892.3999999999999},{"$f":"Données!$E1467*G$4","v":1792.8},{"$f":"Données!$E1467*H$4","v":1693.2},{"$f":"Données!$F1467*B$4","v":1838.85},{"$f":"Données!$F1467*C$4","v":1758.9},{"$f":"Données!$F1467*D$4","v":1678.95},{"$f":"Données!$F1467*E$4","v":1599},{"$f":"Données!$F1467*F$4","v":1519.05},{"$f":"Données!$F1467*G$4","v":1439.1000000000001},{"$f":"Données!$F1467*H$4","v":1359.1499999999999}]
[null,7760,"Velaines","Celles",1992,1599,{"$f":"Données!$E1468*B$4","v":2290.7999999999997},{"$f":"Données!$E1468*C$4","v":2191.2000000000003},{"$f":"Données!$E1468*D$4","v":2091.6},{"$f":"Données!$E1468*E$4","v":1992},{"$f":"Données!$E1468*F$4","v":1892.3999999999999},{"$f":"Données!$E1468*G$4","v":1792.8},{"$f":"Données!$E1468*H$4","v":1693.2},{"$f":"Données!$F1468*B$4","v":1838.85},{"$f":"Données!$F1468*C$4","v":1758.9},{"$f":"Données!$F1468*D$4","v":1678.95},{"$f":"Données!$F1468*E$4","v":1599},{"$f":"Données!$F1468*F$4","v":1519.05},{"$f":"Données!$F1468*G$4","v":1439.1000000000001},{"$f":"Données!$F1468*H$4","v":1359.1499999999999}]
[null,7760,"Celles","Celles",1992,1599,{"$f":"Données!$E1469*B$4","v":2290.7999999999997},{"$f":"Données!$E1469*C$4","v":2191.2000000000003},{"$f":"Données!$E1469*D$4","v":2091.6},{"$f":"Données!$E1469*E$4","v":1992},{"$f":"Données!$E1469*F$4","v":1892.3999999999999},{"$f":"Données!$E1469*G$4","v":1792.8},{"$f":"Données!$E1469*H$4","v":1693.2},{"$f":"Données!$F1469*B$4","v":1838.85},{"$f":"Données!$F1469*C$4","v":1758.9},{"$f":"Données!$F1469*D$4","v":1678.95},{"$f":"Données!$F1469*E$4","v":1599},{"$f":"Données!$F1469*F$4","v":1519.05},{"$f":"Données!$F1469*G$4","v":1439.1000000000001},{"$f":"Données!$F1469*H$4","v":1359.1499999999999}]
[null,7760,"Escanaffles","Celles",1992,1599,{"$f":"Données!$E1470*B$4","v":2290.7999999999997},{"$f":"Données!$E1470*C$4","v":2191.2000000000003},{"$f":"Données!$E1470*D$4","v":2091.6},{"$f":"Données!$E1470*E$4","v":1992},{"$f":"Données!$E1470*F$4","v":1892.3999999999999},{"$f":"Données!$E1470*G$4","v":1792.8},{"$f":"Données!$E1470*H$4","v":1693.2},{"$f":"Données!$F1470*B$4","v":1838.85},{"$f":"Données!$F1470*C$4","v":1758.9},{"$f":"Données!$F1470*D$4","v":1678.95},{"$f":"Données!$F1470*E$4","v":1599},{"$f":"Données!$F1470*F$4","v":1519.05},{"$f":"Données!$F1470*G$4","v":1439.1000000000001},{"$f":"Données!$F1470*H$4","v":1359.1499999999999}]
[null,7760,"Popuelles","Celles",1992,1599,{"$f":"Données!$E1471*B$4","v":2290.7999999999997},{"$f":"Données!$E1471*C$4","v":2191.2000000000003},{"$f":"Données!$E1471*D$4","v":2091.6},{"$f":"Données!$E1471*E$4","v":1992},{"$f":"Données!$E1471*F$4","v":1892.3999999999999},{"$f":"Données!$E1471*G$4","v":1792.8},{"$f":"Données!$E1471*H$4","v":1693.2},{"$f":"Données!$F1471*B$4","v":1838.85},{"$f":"Données!$F1471*C$4","v":1758.9},{"$f":"Données!$F1471*D$4","v":1678.95},{"$f":"Données!$F1471*E$4","v":1599},{"$f":"Données!$F1471*F$4","v":1519.05},{"$f":"Données!$F1471*G$4","v":1439.1000000000001},{"$f":"Données!$F1471*H$4","v":1359.1499999999999}]
[null,7780,"Comines-Warneton","Comines-Warneton",1851,1537,{"$f":"Données!$E1472*B$4","v":2128.6499999999996},{"$f":"Données!$E1472*C$4","v":2036.1000000000001},{"$f":"Données!$E1472*D$4","v":1943.5500000000002},{"$f":"Données!$E1472*E$4","v":1851},{"$f":"Données!$E1472*F$4","v":1758.4499999999998},{"$f":"Données!$E1472*G$4","v":1665.9},{"$f":"Données!$E1472*H$4","v":1573.35},{"$f":"Données!$F1472*B$4","v":1767.55},{"$f":"Données!$F1472*C$4","v":1690.7},{"$f":"Données!$F1472*D$4","v":1613.8500000000001},{"$f":"Données!$F1472*E$4","v":1537},{"$f":"Données!$F1472*F$4","v":1460.1499999999999},{"$f":"Données!$F1472*G$4","v":1383.3},{"$f":"Données!$F1472*H$4","v":1306.45}]
[null,7780,"Comines","Comines-Warneton",1851,1537,{"$f":"Données!$E1473*B$4","v":2128.6499999999996},{"$f":"Données!$E1473*C$4","v":2036.1000000000001},{"$f":"Données!$E1473*D$4","v":1943.5500000000002},{"$f":"Données!$E1473*E$4","v":1851},{"$f":"Données!$E1473*F$4","v":1758.4499999999998},{"$f":"Données!$E1473*G$4","v":1665.9},{"$f":"Données!$E1473*H$4","v":1573.35},{"$f":"Données!$F1473*B$4","v":1767.55},{"$f":"Données!$F1473*C$4","v":1690.7},{"$f":"Données!$F1473*D$4","v":1613.8500000000001},{"$f":"Données!$F1473*E$4","v":1537},{"$f":"Données!$F1473*F$4","v":1460.1499999999999},{"$f":"Données!$F1473*G$4","v":1383.3},{"$f":"Données!$F1473*H$4","v":1306.45}]
[null,7781,"Houthem","Comines-Warneton",1851,1537,{"$f":"Données!$E1474*B$4","v":2128.6499999999996},{"$f":"Données!$E1474*C$4","v":2036.1000000000001},{"$f":"Données!$E1474*D$4","v":1943.5500000000002},{"$f":"Données!$E1474*E$4","v":1851},{"$f":"Données!$E1474*F$4","v":1758.4499999999998},{"$f":"Données!$E1474*G$4","v":1665.9},{"$f":"Données!$E1474*H$4","v":1573.35},{"$f":"Données!$F1474*B$4","v":1767.55},{"$f":"Données!$F1474*C$4","v":1690.7},{"$f":"Données!$F1474*D$4","v":1613.8500000000001},{"$f":"Données!$F1474*E$4","v":1537},{"$f":"Données!$F1474*F$4","v":1460.1499999999999},{"$f":"Données!$F1474*G$4","v":1383.3},{"$f":"Données!$F1474*H$4","v":1306.45}]
[null,7782,"Ploegsteert","Comines-Warneton",1851,1537,{"$f":"Données!$E1475*B$4","v":2128.6499999999996},{"$f":"Données!$E1475*C$4","v":2036.1000000000001},{"$f":"Données!$E1475*D$4","v":1943.5500000000002},{"$f":"Données!$E1475*E$4","v":1851},{"$f":"Données!$E1475*F$4","v":1758.4499999999998},{"$f":"Données!$E1475*G$4","v":1665.9},{"$f":"Données!$E1475*H$4","v":1573.35},{"$f":"Données!$F1475*B$4","v":1767.55},{"$f":"Données!$F1475*C$4","v":1690.7},{"$f":"Données!$F1475*D$4","v":1613.8500000000001},{"$f":"Données!$F1475*E$4","v":1537},{"$f":"Données!$F1475*F$4","v":1460.1499999999999},{"$f":"Données!$F1475*G$4","v":1383.3},{"$f":"Données!$F1475*H$4","v":1306.45}]
[null,7783,"Bizet","Comines-Warneton",1851,1537,{"$f":"Données!$E1476*B$4","v":2128.6499999999996},{"$f":"Données!$E1476*C$4","v":2036.1000000000001},{"$f":"Données!$E1476*D$4","v":1943.5500000000002},{"$f":"Données!$E1476*E$4","v":1851},{"$f":"Données!$E1476*F$4","v":1758.4499999999998},{"$f":"Données!$E1476*G$4","v":1665.9},{"$f":"Données!$E1476*H$4","v":1573.35},{"$f":"Données!$F1476*B$4","v":1767.55},{"$f":"Données!$F1476*C$4","v":1690.7},{"$f":"Données!$F1476*D$4","v":1613.8500000000001},{"$f":"Données!$F1476*E$4","v":1537},{"$f":"Données!$F1476*F$4","v":1460.1499999999999},{"$f":"Données!$F1476*G$4","v":1383.3},{"$f":"Données!$F1476*H$4","v":1306.45}]
[null,7784,"Bas-Warneton","Comines-Warneton",1851,1537,{"$f":"Données!$E1477*B$4","v":2128.6499999999996},{"$f":"Données!$E1477*C$4","v":2036.1000000000001},{"$f":"Données!$E1477*D$4","v":1943.5500000000002},{"$f":"Données!$E1477*E$4","v":1851},{"$f":"Données!$E1477*F$4","v":1758.4499999999998},{"$f":"Données!$E1477*G$4","v":1665.9},{"$f":"Données!$E1477*H$4","v":1573.35},{"$f":"Données!$F1477*B$4","v":1767.55},{"$f":"Données!$F1477*C$4","v":1690.7},{"$f":"Données!$F1477*D$4","v":1613.8500000000001},{"$f":"Données!$F1477*E$4","v":1537},{"$f":"Données!$F1477*F$4","v":1460.1499999999999},{"$f":"Données!$F1477*G$4","v":1383.3},{"$f":"Données!$F1477*H$4","v":1306.45}]
[null,7784,"Warneton","Comines-Warneton",1851,1537,{"$f":"Données!$E1478*B$4","v":2128.6499999999996},{"$f":"Données!$E1478*C$4","v":2036.1000000000001},{"$f":"Données!$E1478*D$4","v":1943.5500000000002},{"$f":"Données!$E1478*E$4","v":1851},{"$f":"Données!$E1478*F$4","v":1758.4499999999998},{"$f":"Données!$E1478*G$4","v":1665.9},{"$f":"Données!$E1478*H$4","v":1573.35},{"$f":"Données!$F1478*B$4","v":1767.55},{"$f":"Données!$F1478*C$4","v":1690.7},{"$f":"Données!$F1478*D$4","v":1613.8500000000001},{"$f":"Données!$F1478*E$4","v":1537},{"$f":"Données!$F1478*F$4","v":1460.1499999999999},{"$f":"Données!$F1478*G$4","v":1383.3},{"$f":"Données!$F1478*H$4","v":1306.45}]
[null,7800,"Ath","Ath",2053,1569,{"$f":"Données!$E1479*B$4","v":2360.9499999999998},{"$f":"Données!$E1479*C$4","v":2258.3000000000002},{"$f":"Données!$E1479*D$4","v":2155.65},{"$f":"Données!$E1479*E$4","v":2053},{"$f":"Données!$E1479*F$4","v":1950.35},{"$f":"Données!$E1479*G$4","v":1847.7},{"$f":"Données!$E1479*H$4","v":1745.05},{"$f":"Données!$F1479*B$4","v":1804.35},{"$f":"Données!$F1479*C$4","v":1725.9},{"$f":"Données!$F1479*D$4","v":1647.45},{"$f":"Données!$F1479*E$4","v":1569},{"$f":"Données!$F1479*F$4","v":1490.55},{"$f":"Données!$F1479*G$4","v":1412.1000000000001},{"$f":"Données!$F1479*H$4","v":1333.6499999999999}]
[null,7800,"Lanquesaint","Ath",2053,1569,{"$f":"Données!$E1480*B$4","v":2360.9499999999998},{"$f":"Données!$E1480*C$4","v":2258.3000000000002},{"$f":"Données!$E1480*D$4","v":2155.65},{"$f":"Données!$E1480*E$4","v":2053},{"$f":"Données!$E1480*F$4","v":1950.35},{"$f":"Données!$E1480*G$4","v":1847.7},{"$f":"Données!$E1480*H$4","v":1745.05},{"$f":"Données!$F1480*B$4","v":1804.35},{"$f":"Données!$F1480*C$4","v":1725.9},{"$f":"Données!$F1480*D$4","v":1647.45},{"$f":"Données!$F1480*E$4","v":1569},{"$f":"Données!$F1480*F$4","v":1490.55},{"$f":"Données!$F1480*G$4","v":1412.1000000000001},{"$f":"Données!$F1480*H$4","v":1333.6499999999999}]
[null,7801,"Irchonwelz","Ath",2053,1569,{"$f":"Données!$E1481*B$4","v":2360.9499999999998},{"$f":"Données!$E1481*C$4","v":2258.3000000000002},{"$f":"Données!$E1481*D$4","v":2155.65},{"$f":"Données!$E1481*E$4","v":2053},{"$f":"Données!$E1481*F$4","v":1950.35},{"$f":"Données!$E1481*G$4","v":1847.7},{"$f":"Données!$E1481*H$4","v":1745.05},{"$f":"Données!$F1481*B$4","v":1804.35},{"$f":"Données!$F1481*C$4","v":1725.9},{"$f":"Données!$F1481*D$4","v":1647.45},{"$f":"Données!$F1481*E$4","v":1569},{"$f":"Données!$F1481*F$4","v":1490.55},{"$f":"Données!$F1481*G$4","v":1412.1000000000001},{"$f":"Données!$F1481*H$4","v":1333.6499999999999}]
[null,7802,"Ormeignies","Ath",2053,1569,{"$f":"Données!$E1482*B$4","v":2360.9499999999998},{"$f":"Données!$E1482*C$4","v":2258.3000000000002},{"$f":"Données!$E1482*D$4","v":2155.65},{"$f":"Données!$E1482*E$4","v":2053},{"$f":"Données!$E1482*F$4","v":1950.35},{"$f":"Données!$E1482*G$4","v":1847.7},{"$f":"Données!$E1482*H$4","v":1745.05},{"$f":"Données!$F1482*B$4","v":1804.35},{"$f":"Données!$F1482*C$4","v":1725.9},{"$f":"Données!$F1482*D$4","v":1647.45},{"$f":"Données!$F1482*E$4","v":1569},{"$f":"Données!$F1482*F$4","v":1490.55},{"$f":"Données!$F1482*G$4","v":1412.1000000000001},{"$f":"Données!$F1482*H$4","v":1333.6499999999999}]
[null,7803,"Bouvignies","Ath",2053,1569,{"$f":"Données!$E1483*B$4","v":2360.9499999999998},{"$f":"Données!$E1483*C$4","v":2258.3000000000002},{"$f":"Données!$E1483*D$4","v":2155.65},{"$f":"Données!$E1483*E$4","v":2053},{"$f":"Données!$E1483*F$4","v":1950.35},{"$f":"Données!$E1483*G$4","v":1847.7},{"$f":"Données!$E1483*H$4","v":1745.05},{"$f":"Données!$F1483*B$4","v":1804.35},{"$f":"Données!$F1483*C$4","v":1725.9},{"$f":"Données!$F1483*D$4","v":1647.45},{"$f":"Données!$F1483*E$4","v":1569},{"$f":"Données!$F1483*F$4","v":1490.55},{"$f":"Données!$F1483*G$4","v":1412.1000000000001},{"$f":"Données!$F1483*H$4","v":1333.6499999999999}]
[null,7804,"Ostiches","Ath",2053,1569,{"$f":"Données!$E1484*B$4","v":2360.9499999999998},{"$f":"Données!$E1484*C$4","v":2258.3000000000002},{"$f":"Données!$E1484*D$4","v":2155.65},{"$f":"Données!$E1484*E$4","v":2053},{"$f":"Données!$E1484*F$4","v":1950.35},{"$f":"Données!$E1484*G$4","v":1847.7},{"$f":"Données!$E1484*H$4","v":1745.05},{"$f":"Données!$F1484*B$4","v":1804.35},{"$f":"Données!$F1484*C$4","v":1725.9},{"$f":"Données!$F1484*D$4","v":1647.45},{"$f":"Données!$F1484*E$4","v":1569},{"$f":"Données!$F1484*F$4","v":1490.55},{"$f":"Données!$F1484*G$4","v":1412.1000000000001},{"$f":"Données!$F1484*H$4","v":1333.6499999999999}]
[null,7804,"Rebaix","Ath",2053,1569,{"$f":"Données!$E1485*B$4","v":2360.9499999999998},{"$f":"Données!$E1485*C$4","v":2258.3000000000002},{"$f":"Données!$E1485*D$4","v":2155.65},{"$f":"Données!$E1485*E$4","v":2053},{"$f":"Données!$E1485*F$4","v":1950.35},{"$f":"Données!$E1485*G$4","v":1847.7},{"$f":"Données!$E1485*H$4","v":1745.05},{"$f":"Données!$F1485*B$4","v":1804.35},{"$f":"Données!$F1485*C$4","v":1725.9},{"$f":"Données!$F1485*D$4","v":1647.45},{"$f":"Données!$F1485*E$4","v":1569},{"$f":"Données!$F1485*F$4","v":1490.55},{"$f":"Données!$F1485*G$4","v":1412.1000000000001},{"$f":"Données!$F1485*H$4","v":1333.6499999999999}]
[null,7810,"Maffle","Ath",2053,1569,{"$f":"Données!$E1486*B$4","v":2360.9499999999998},{"$f":"Données!$E1486*C$4","v":2258.3000000000002},{"$f":"Données!$E1486*D$4","v":2155.65},{"$f":"Données!$E1486*E$4","v":2053},{"$f":"Données!$E1486*F$4","v":1950.35},{"$f":"Données!$E1486*G$4","v":1847.7},{"$f":"Données!$E1486*H$4","v":1745.05},{"$f":"Données!$F1486*B$4","v":1804.35},{"$f":"Données!$F1486*C$4","v":1725.9},{"$f":"Données!$F1486*D$4","v":1647.45},{"$f":"Données!$F1486*E$4","v":1569},{"$f":"Données!$F1486*F$4","v":1490.55},{"$f":"Données!$F1486*G$4","v":1412.1000000000001},{"$f":"Données!$F1486*H$4","v":1333.6499999999999}]
[null,7811,"Arbre","Ath",2053,1569,{"$f":"Données!$E1487*B$4","v":2360.9499999999998},{"$f":"Données!$E1487*C$4","v":2258.3000000000002},{"$f":"Données!$E1487*D$4","v":2155.65},{"$f":"Données!$E1487*E$4","v":2053},{"$f":"Données!$E1487*F$4","v":1950.35},{"$f":"Données!$E1487*G$4","v":1847.7},{"$f":"Données!$E1487*H$4","v":1745.05},{"$f":"Données!$F1487*B$4","v":1804.35},{"$f":"Données!$F1487*C$4","v":1725.9},{"$f":"Données!$F1487*D$4","v":1647.45},{"$f":"Données!$F1487*E$4","v":1569},{"$f":"Données!$F1487*F$4","v":1490.55},{"$f":"Données!$F1487*G$4","v":1412.1000000000001},{"$f":"Données!$F1487*H$4","v":1333.6499999999999}]
[null,7812,"Houtaing","Ath",2053,1569,{"$f":"Données!$E1488*B$4","v":2360.9499999999998},{"$f":"Données!$E1488*C$4","v":2258.3000000000002},{"$f":"Données!$E1488*D$4","v":2155.65},{"$f":"Données!$E1488*E$4","v":2053},{"$f":"Données!$E1488*F$4","v":1950.35},{"$f":"Données!$E1488*G$4","v":1847.7},{"$f":"Données!$E1488*H$4","v":1745.05},{"$f":"Données!$F1488*B$4","v":1804.35},{"$f":"Données!$F1488*C$4","v":1725.9},{"$f":"Données!$F1488*D$4","v":1647.45},{"$f":"Données!$F1488*E$4","v":1569},{"$f":"Données!$F1488*F$4","v":1490.55},{"$f":"Données!$F1488*G$4","v":1412.1000000000001},{"$f":"Données!$F1488*H$4","v":1333.6499999999999}]
[null,7812,"Ligne","Ath",2053,1569,{"$f":"Données!$E1489*B$4","v":2360.9499999999998},{"$f":"Données!$E1489*C$4","v":2258.3000000000002},{"$f":"Données!$E1489*D$4","v":2155.65},{"$f":"Données!$E1489*E$4","v":2053},{"$f":"Données!$E1489*F$4","v":1950.35},{"$f":"Données!$E1489*G$4","v":1847.7},{"$f":"Données!$E1489*H$4","v":1745.05},{"$f":"Données!$F1489*B$4","v":1804.35},{"$f":"Données!$F1489*C$4","v":1725.9},{"$f":"Données!$F1489*D$4","v":1647.45},{"$f":"Données!$F1489*E$4","v":1569},{"$f":"Données!$F1489*F$4","v":1490.55},{"$f":"Données!$F1489*G$4","v":1412.1000000000001},{"$f":"Données!$F1489*H$4","v":1333.6499999999999}]
[null,7812,"Villers-Notre-Dame","Ath",2053,1569,{"$f":"Données!$E1490*B$4","v":2360.9499999999998},{"$f":"Données!$E1490*C$4","v":2258.3000000000002},{"$f":"Données!$E1490*D$4","v":2155.65},{"$f":"Données!$E1490*E$4","v":2053},{"$f":"Données!$E1490*F$4","v":1950.35},{"$f":"Données!$E1490*G$4","v":1847.7},{"$f":"Données!$E1490*H$4","v":1745.05},{"$f":"Données!$F1490*B$4","v":1804.35},{"$f":"Données!$F1490*C$4","v":1725.9},{"$f":"Données!$F1490*D$4","v":1647.45},{"$f":"Données!$F1490*E$4","v":1569},{"$f":"Données!$F1490*F$4","v":1490.55},{"$f":"Données!$F1490*G$4","v":1412.1000000000001},{"$f":"Données!$F1490*H$4","v":1333.6499999999999}]
[null,7812,"Mainvault","Ath",2053,1569,{"$f":"Données!$E1491*B$4","v":2360.9499999999998},{"$f":"Données!$E1491*C$4","v":2258.3000000000002},{"$f":"Données!$E1491*D$4","v":2155.65},{"$f":"Données!$E1491*E$4","v":2053},{"$f":"Données!$E1491*F$4","v":1950.35},{"$f":"Données!$E1491*G$4","v":1847.7},{"$f":"Données!$E1491*H$4","v":1745.05},{"$f":"Données!$F1491*B$4","v":1804.35},{"$f":"Données!$F1491*C$4","v":1725.9},{"$f":"Données!$F1491*D$4","v":1647.45},{"$f":"Données!$F1491*E$4","v":1569},{"$f":"Données!$F1491*F$4","v":1490.55},{"$f":"Données!$F1491*G$4","v":1412.1000000000001},{"$f":"Données!$F1491*H$4","v":1333.6499999999999}]
[null,7812,"Moulbaix","Ath",2053,1569,{"$f":"Données!$E1492*B$4","v":2360.9499999999998},{"$f":"Données!$E1492*C$4","v":2258.3000000000002},{"$f":"Données!$E1492*D$4","v":2155.65},{"$f":"Données!$E1492*E$4","v":2053},{"$f":"Données!$E1492*F$4","v":1950.35},{"$f":"Données!$E1492*G$4","v":1847.7},{"$f":"Données!$E1492*H$4","v":1745.05},{"$f":"Données!$F1492*B$4","v":1804.35},{"$f":"Données!$F1492*C$4","v":1725.9},{"$f":"Données!$F1492*D$4","v":1647.45},{"$f":"Données!$F1492*E$4","v":1569},{"$f":"Données!$F1492*F$4","v":1490.55},{"$f":"Données!$F1492*G$4","v":1412.1000000000001},{"$f":"Données!$F1492*H$4","v":1333.6499999999999}]
[null,7812,"Villers-Saint-Amand","Ath",2053,1569,{"$f":"Données!$E1493*B$4","v":2360.9499999999998},{"$f":"Données!$E1493*C$4","v":2258.3000000000002},{"$f":"Données!$E1493*D$4","v":2155.65},{"$f":"Données!$E1493*E$4","v":2053},{"$f":"Données!$E1493*F$4","v":1950.35},{"$f":"Données!$E1493*G$4","v":1847.7},{"$f":"Données!$E1493*H$4","v":1745.05},{"$f":"Données!$F1493*B$4","v":1804.35},{"$f":"Données!$F1493*C$4","v":1725.9},{"$f":"Données!$F1493*D$4","v":1647.45},{"$f":"Données!$F1493*E$4","v":1569},{"$f":"Données!$F1493*F$4","v":1490.55},{"$f":"Données!$F1493*G$4","v":1412.1000000000001},{"$f":"Données!$F1493*H$4","v":1333.6499999999999}]
[null,7822,"Isières","Ath",2053,1569,{"$f":"Données!$E1494*B$4","v":2360.9499999999998},{"$f":"Données!$E1494*C$4","v":2258.3000000000002},{"$f":"Données!$E1494*D$4","v":2155.65},{"$f":"Données!$E1494*E$4","v":2053},{"$f":"Données!$E1494*F$4","v":1950.35},{"$f":"Données!$E1494*G$4","v":1847.7},{"$f":"Données!$E1494*H$4","v":1745.05},{"$f":"Données!$F1494*B$4","v":1804.35},{"$f":"Données!$F1494*C$4","v":1725.9},{"$f":"Données!$F1494*D$4","v":1647.45},{"$f":"Données!$F1494*E$4","v":1569},{"$f":"Données!$F1494*F$4","v":1490.55},{"$f":"Données!$F1494*G$4","v":1412.1000000000001},{"$f":"Données!$F1494*H$4","v":1333.6499999999999}]
[null,7822,"Ghislenghien","Ath",2053,1569,{"$f":"Données!$E1495*B$4","v":2360.9499999999998},{"$f":"Données!$E1495*C$4","v":2258.3000000000002},{"$f":"Données!$E1495*D$4","v":2155.65},{"$f":"Données!$E1495*E$4","v":2053},{"$f":"Données!$E1495*F$4","v":1950.35},{"$f":"Données!$E1495*G$4","v":1847.7},{"$f":"Données!$E1495*H$4","v":1745.05},{"$f":"Données!$F1495*B$4","v":1804.35},{"$f":"Données!$F1495*C$4","v":1725.9},{"$f":"Données!$F1495*D$4","v":1647.45},{"$f":"Données!$F1495*E$4","v":1569},{"$f":"Données!$F1495*F$4","v":1490.55},{"$f":"Données!$F1495*G$4","v":1412.1000000000001},{"$f":"Données!$F1495*H$4","v":1333.6499999999999}]
[null,7822,"Meslin-L'evêque","Ath",2053,1569,{"$f":"Données!$E1496*B$4","v":2360.9499999999998},{"$f":"Données!$E1496*C$4","v":2258.3000000000002},{"$f":"Données!$E1496*D$4","v":2155.65},{"$f":"Données!$E1496*E$4","v":2053},{"$f":"Données!$E1496*F$4","v":1950.35},{"$f":"Données!$E1496*G$4","v":1847.7},{"$f":"Données!$E1496*H$4","v":1745.05},{"$f":"Données!$F1496*B$4","v":1804.35},{"$f":"Données!$F1496*C$4","v":1725.9},{"$f":"Données!$F1496*D$4","v":1647.45},{"$f":"Données!$F1496*E$4","v":1569},{"$f":"Données!$F1496*F$4","v":1490.55},{"$f":"Données!$F1496*G$4","v":1412.1000000000001},{"$f":"Données!$F1496*H$4","v":1333.6499999999999}]
[null,7823,"Gibecq","Ath",2053,1569,{"$f":"Données!$E1497*B$4","v":2360.9499999999998},{"$f":"Données!$E1497*C$4","v":2258.3000000000002},{"$f":"Données!$E1497*D$4","v":2155.65},{"$f":"Données!$E1497*E$4","v":2053},{"$f":"Données!$E1497*F$4","v":1950.35},{"$f":"Données!$E1497*G$4","v":1847.7},{"$f":"Données!$E1497*H$4","v":1745.05},{"$f":"Données!$F1497*B$4","v":1804.35},{"$f":"Données!$F1497*C$4","v":1725.9},{"$f":"Données!$F1497*D$4","v":1647.45},{"$f":"Données!$F1497*E$4","v":1569},{"$f":"Données!$F1497*F$4","v":1490.55},{"$f":"Données!$F1497*G$4","v":1412.1000000000001},{"$f":"Données!$F1497*H$4","v":1333.6499999999999}]
[null,7830,"Gondregnies","Silly",2162,1629,{"$f":"Données!$E1498*B$4","v":2486.2999999999997},{"$f":"Données!$E1498*C$4","v":2378.2000000000003},{"$f":"Données!$E1498*D$4","v":2270.1},{"$f":"Données!$E1498*E$4","v":2162},{"$f":"Données!$E1498*F$4","v":2053.9},{"$f":"Données!$E1498*G$4","v":1945.8},{"$f":"Données!$E1498*H$4","v":1837.7},{"$f":"Données!$F1498*B$4","v":1873.35},{"$f":"Données!$F1498*C$4","v":1791.9},{"$f":"Données!$F1498*D$4","v":1710.45},{"$f":"Données!$F1498*E$4","v":1629},{"$f":"Données!$F1498*F$4","v":1547.55},{"$f":"Données!$F1498*G$4","v":1466.1000000000001},{"$f":"Données!$F1498*H$4","v":1384.6499999999999}]
[null,7830,"Graty","Silly",2162,1629,{"$f":"Données!$E1499*B$4","v":2486.2999999999997},{"$f":"Données!$E1499*C$4","v":2378.2000000000003},{"$f":"Données!$E1499*D$4","v":2270.1},{"$f":"Données!$E1499*E$4","v":2162},{"$f":"Données!$E1499*F$4","v":2053.9},{"$f":"Données!$E1499*G$4","v":1945.8},{"$f":"Données!$E1499*H$4","v":1837.7},{"$f":"Données!$F1499*B$4","v":1873.35},{"$f":"Données!$F1499*C$4","v":1791.9},{"$f":"Données!$F1499*D$4","v":1710.45},{"$f":"Données!$F1499*E$4","v":1629},{"$f":"Données!$F1499*F$4","v":1547.55},{"$f":"Données!$F1499*G$4","v":1466.1000000000001},{"$f":"Données!$F1499*H$4","v":1384.6499999999999}]
[null,7830,"Bassilly","Silly",2162,1629,{"$f":"Données!$E1500*B$4","v":2486.2999999999997},{"$f":"Données!$E1500*C$4","v":2378.2000000000003},{"$f":"Données!$E1500*D$4","v":2270.1},{"$f":"Données!$E1500*E$4","v":2162},{"$f":"Données!$E1500*F$4","v":2053.9},{"$f":"Données!$E1500*G$4","v":1945.8},{"$f":"Données!$E1500*H$4","v":1837.7},{"$f":"Données!$F1500*B$4","v":1873.35},{"$f":"Données!$F1500*C$4","v":1791.9},{"$f":"Données!$F1500*D$4","v":1710.45},{"$f":"Données!$F1500*E$4","v":1629},{"$f":"Données!$F1500*F$4","v":1547.55},{"$f":"Données!$F1500*G$4","v":1466.1000000000001},{"$f":"Données!$F1500*H$4","v":1384.6499999999999}]
[null,7830,"Silly","Silly",2162,1629,{"$f":"Données!$E1501*B$4","v":2486.2999999999997},{"$f":"Données!$E1501*C$4","v":2378.2000000000003},{"$f":"Données!$E1501*D$4","v":2270.1},{"$f":"Données!$E1501*E$4","v":2162},{"$f":"Données!$E1501*F$4","v":2053.9},{"$f":"Données!$E1501*G$4","v":1945.8},{"$f":"Données!$E1501*H$4","v":1837.7},{"$f":"Données!$F1501*B$4","v":1873.35},{"$f":"Données!$F1501*C$4","v":1791.9},{"$f":"Données!$F1501*D$4","v":1710.45},{"$f":"Données!$F1501*E$4","v":1629},{"$f":"Données!$F1501*F$4","v":1547.55},{"$f":"Données!$F1501*G$4","v":1466.1000000000001},{"$f":"Données!$F1501*H$4","v":1384.6499999999999}]
[null,7830,"Hellebecq","Silly",2162,1629,{"$f":"Données!$E1502*B$4","v":2486.2999999999997},{"$f":"Données!$E1502*C$4","v":2378.2000000000003},{"$f":"Données!$E1502*D$4","v":2270.1},{"$f":"Données!$E1502*E$4","v":2162},{"$f":"Données!$E1502*F$4","v":2053.9},{"$f":"Données!$E1502*G$4","v":1945.8},{"$f":"Données!$E1502*H$4","v":1837.7},{"$f":"Données!$F1502*B$4","v":1873.35},{"$f":"Données!$F1502*C$4","v":1791.9},{"$f":"Données!$F1502*D$4","v":1710.45},{"$f":"Données!$F1502*E$4","v":1629},{"$f":"Données!$F1502*F$4","v":1547.55},{"$f":"Données!$F1502*G$4","v":1466.1000000000001},{"$f":"Données!$F1502*H$4","v":1384.6499999999999}]
[null,7830,"Hoves","Silly",2162,1629,{"$f":"Données!$E1503*B$4","v":2486.2999999999997},{"$f":"Données!$E1503*C$4","v":2378.2000000000003},{"$f":"Données!$E1503*D$4","v":2270.1},{"$f":"Données!$E1503*E$4","v":2162},{"$f":"Données!$E1503*F$4","v":2053.9},{"$f":"Données!$E1503*G$4","v":1945.8},{"$f":"Données!$E1503*H$4","v":1837.7},{"$f":"Données!$F1503*B$4","v":1873.35},{"$f":"Données!$F1503*C$4","v":1791.9},{"$f":"Données!$F1503*D$4","v":1710.45},{"$f":"Données!$F1503*E$4","v":1629},{"$f":"Données!$F1503*F$4","v":1547.55},{"$f":"Données!$F1503*G$4","v":1466.1000000000001},{"$f":"Données!$F1503*H$4","v":1384.6499999999999}]
[null,7830,"Thoricourt","Silly",2162,1629,{"$f":"Données!$E1504*B$4","v":2486.2999999999997},{"$f":"Données!$E1504*C$4","v":2378.2000000000003},{"$f":"Données!$E1504*D$4","v":2270.1},{"$f":"Données!$E1504*E$4","v":2162},{"$f":"Données!$E1504*F$4","v":2053.9},{"$f":"Données!$E1504*G$4","v":1945.8},{"$f":"Données!$E1504*H$4","v":1837.7},{"$f":"Données!$F1504*B$4","v":1873.35},{"$f":"Données!$F1504*C$4","v":1791.9},{"$f":"Données!$F1504*D$4","v":1710.45},{"$f":"Données!$F1504*E$4","v":1629},{"$f":"Données!$F1504*F$4","v":1547.55},{"$f":"Données!$F1504*G$4","v":1466.1000000000001},{"$f":"Données!$F1504*H$4","v":1384.6499999999999}]
[null,7830,"Fouleng","Silly",2162,1629,{"$f":"Données!$E1505*B$4","v":2486.2999999999997},{"$f":"Données!$E1505*C$4","v":2378.2000000000003},{"$f":"Données!$E1505*D$4","v":2270.1},{"$f":"Données!$E1505*E$4","v":2162},{"$f":"Données!$E1505*F$4","v":2053.9},{"$f":"Données!$E1505*G$4","v":1945.8},{"$f":"Données!$E1505*H$4","v":1837.7},{"$f":"Données!$F1505*B$4","v":1873.35},{"$f":"Données!$F1505*C$4","v":1791.9},{"$f":"Données!$F1505*D$4","v":1710.45},{"$f":"Données!$F1505*E$4","v":1629},{"$f":"Données!$F1505*F$4","v":1547.55},{"$f":"Données!$F1505*G$4","v":1466.1000000000001},{"$f":"Données!$F1505*H$4","v":1384.6499999999999}]
[null,7850,"Enghien","Enghien",2231,1858,{"$f":"Données!$E1506*B$4","v":2565.6499999999996},{"$f":"Données!$E1506*C$4","v":2454.1000000000004},{"$f":"Données!$E1506*D$4","v":2342.5500000000002},{"$f":"Données!$E1506*E$4","v":2231},{"$f":"Données!$E1506*F$4","v":2119.4499999999998},{"$f":"Données!$E1506*G$4","v":2007.9},{"$f":"Données!$E1506*H$4","v":1896.35},{"$f":"Données!$F1506*B$4","v":2136.6999999999998},{"$f":"Données!$F1506*C$4","v":2043.8000000000002},{"$f":"Données!$F1506*D$4","v":1950.9},{"$f":"Données!$F1506*E$4","v":1858},{"$f":"Données!$F1506*F$4","v":1765.1},{"$f":"Données!$F1506*G$4","v":1672.2},{"$f":"Données!$F1506*H$4","v":1579.3}]
[null,7850,"Petit-Enghien","Enghien",2231,1858,{"$f":"Données!$E1507*B$4","v":2565.6499999999996},{"$f":"Données!$E1507*C$4","v":2454.1000000000004},{"$f":"Données!$E1507*D$4","v":2342.5500000000002},{"$f":"Données!$E1507*E$4","v":2231},{"$f":"Données!$E1507*F$4","v":2119.4499999999998},{"$f":"Données!$E1507*G$4","v":2007.9},{"$f":"Données!$E1507*H$4","v":1896.35},{"$f":"Données!$F1507*B$4","v":2136.6999999999998},{"$f":"Données!$F1507*C$4","v":2043.8000000000002},{"$f":"Données!$F1507*D$4","v":1950.9},{"$f":"Données!$F1507*E$4","v":1858},{"$f":"Données!$F1507*F$4","v":1765.1},{"$f":"Données!$F1507*G$4","v":1672.2},{"$f":"Données!$F1507*H$4","v":1579.3}]
[null,7850,"Marcq","Enghien",2231,1858,{"$f":"Données!$E1508*B$4","v":2565.6499999999996},{"$f":"Données!$E1508*C$4","v":2454.1000000000004},{"$f":"Données!$E1508*D$4","v":2342.5500000000002},{"$f":"Données!$E1508*E$4","v":2231},{"$f":"Données!$E1508*F$4","v":2119.4499999999998},{"$f":"Données!$E1508*G$4","v":2007.9},{"$f":"Données!$E1508*H$4","v":1896.35},{"$f":"Données!$F1508*B$4","v":2136.6999999999998},{"$f":"Données!$F1508*C$4","v":2043.8000000000002},{"$f":"Données!$F1508*D$4","v":1950.9},{"$f":"Données!$F1508*E$4","v":1858},{"$f":"Données!$F1508*F$4","v":1765.1},{"$f":"Données!$F1508*G$4","v":1672.2},{"$f":"Données!$F1508*H$4","v":1579.3}]
[null,7860,"Lessines","Lessines",1816,1391,{"$f":"Données!$E1509*B$4","v":2088.3999999999996},{"$f":"Données!$E1509*C$4","v":1997.6000000000001},{"$f":"Données!$E1509*D$4","v":1906.8000000000002},{"$f":"Données!$E1509*E$4","v":1816},{"$f":"Données!$E1509*F$4","v":1725.1999999999998},{"$f":"Données!$E1509*G$4","v":1634.4},{"$f":"Données!$E1509*H$4","v":1543.6},{"$f":"Données!$F1509*B$4","v":1599.6499999999999},{"$f":"Données!$F1509*C$4","v":1530.1000000000001},{"$f":"Données!$F1509*D$4","v":1460.55},{"$f":"Données!$F1509*E$4","v":1391},{"$f":"Données!$F1509*F$4","v":1321.45},{"$f":"Données!$F1509*G$4","v":1251.9000000000001},{"$f":"Données!$F1509*H$4","v":1182.3499999999999}]
[null,7861,"Papignies","Lessines",1816,1391,{"$f":"Données!$E1510*B$4","v":2088.3999999999996},{"$f":"Données!$E1510*C$4","v":1997.6000000000001},{"$f":"Données!$E1510*D$4","v":1906.8000000000002},{"$f":"Données!$E1510*E$4","v":1816},{"$f":"Données!$E1510*F$4","v":1725.1999999999998},{"$f":"Données!$E1510*G$4","v":1634.4},{"$f":"Données!$E1510*H$4","v":1543.6},{"$f":"Données!$F1510*B$4","v":1599.6499999999999},{"$f":"Données!$F1510*C$4","v":1530.1000000000001},{"$f":"Données!$F1510*D$4","v":1460.55},{"$f":"Données!$F1510*E$4","v":1391},{"$f":"Données!$F1510*F$4","v":1321.45},{"$f":"Données!$F1510*G$4","v":1251.9000000000001},{"$f":"Données!$F1510*H$4","v":1182.3499999999999}]
[null,7861,"Wannebecq","Lessines",1816,1391,{"$f":"Données!$E1511*B$4","v":2088.3999999999996},{"$f":"Données!$E1511*C$4","v":1997.6000000000001},{"$f":"Données!$E1511*D$4","v":1906.8000000000002},{"$f":"Données!$E1511*E$4","v":1816},{"$f":"Données!$E1511*F$4","v":1725.1999999999998},{"$f":"Données!$E1511*G$4","v":1634.4},{"$f":"Données!$E1511*H$4","v":1543.6},{"$f":"Données!$F1511*B$4","v":1599.6499999999999},{"$f":"Données!$F1511*C$4","v":1530.1000000000001},{"$f":"Données!$F1511*D$4","v":1460.55},{"$f":"Données!$F1511*E$4","v":1391},{"$f":"Données!$F1511*F$4","v":1321.45},{"$f":"Données!$F1511*G$4","v":1251.9000000000001},{"$f":"Données!$F1511*H$4","v":1182.3499999999999}]
[null,7862,"Ogy","Lessines",1816,1391,{"$f":"Données!$E1512*B$4","v":2088.3999999999996},{"$f":"Données!$E1512*C$4","v":1997.6000000000001},{"$f":"Données!$E1512*D$4","v":1906.8000000000002},{"$f":"Données!$E1512*E$4","v":1816},{"$f":"Données!$E1512*F$4","v":1725.1999999999998},{"$f":"Données!$E1512*G$4","v":1634.4},{"$f":"Données!$E1512*H$4","v":1543.6},{"$f":"Données!$F1512*B$4","v":1599.6499999999999},{"$f":"Données!$F1512*C$4","v":1530.1000000000001},{"$f":"Données!$F1512*D$4","v":1460.55},{"$f":"Données!$F1512*E$4","v":1391},{"$f":"Données!$F1512*F$4","v":1321.45},{"$f":"Données!$F1512*G$4","v":1251.9000000000001},{"$f":"Données!$F1512*H$4","v":1182.3499999999999}]
[null,7863,"Ghoy","Lessines",1816,1391,{"$f":"Données!$E1513*B$4","v":2088.3999999999996},{"$f":"Données!$E1513*C$4","v":1997.6000000000001},{"$f":"Données!$E1513*D$4","v":1906.8000000000002},{"$f":"Données!$E1513*E$4","v":1816},{"$f":"Données!$E1513*F$4","v":1725.1999999999998},{"$f":"Données!$E1513*G$4","v":1634.4},{"$f":"Données!$E1513*H$4","v":1543.6},{"$f":"Données!$F1513*B$4","v":1599.6499999999999},{"$f":"Données!$F1513*C$4","v":1530.1000000000001},{"$f":"Données!$F1513*D$4","v":1460.55},{"$f":"Données!$F1513*E$4","v":1391},{"$f":"Données!$F1513*F$4","v":1321.45},{"$f":"Données!$F1513*G$4","v":1251.9000000000001},{"$f":"Données!$F1513*H$4","v":1182.3499999999999}]
[null,7864,"Deux-Acren","Lessines",1816,1391,{"$f":"Données!$E1514*B$4","v":2088.3999999999996},{"$f":"Données!$E1514*C$4","v":1997.6000000000001},{"$f":"Données!$E1514*D$4","v":1906.8000000000002},{"$f":"Données!$E1514*E$4","v":1816},{"$f":"Données!$E1514*F$4","v":1725.1999999999998},{"$f":"Données!$E1514*G$4","v":1634.4},{"$f":"Données!$E1514*H$4","v":1543.6},{"$f":"Données!$F1514*B$4","v":1599.6499999999999},{"$f":"Données!$F1514*C$4","v":1530.1000000000001},{"$f":"Données!$F1514*D$4","v":1460.55},{"$f":"Données!$F1514*E$4","v":1391},{"$f":"Données!$F1514*F$4","v":1321.45},{"$f":"Données!$F1514*G$4","v":1251.9000000000001},{"$f":"Données!$F1514*H$4","v":1182.3499999999999}]
[null,7866,"Bois-De-Lessines","Lessines",1816,1391,{"$f":"Données!$E1515*B$4","v":2088.3999999999996},{"$f":"Données!$E1515*C$4","v":1997.6000000000001},{"$f":"Données!$E1515*D$4","v":1906.8000000000002},{"$f":"Données!$E1515*E$4","v":1816},{"$f":"Données!$E1515*F$4","v":1725.1999999999998},{"$f":"Données!$E1515*G$4","v":1634.4},{"$f":"Données!$E1515*H$4","v":1543.6},{"$f":"Données!$F1515*B$4","v":1599.6499999999999},{"$f":"Données!$F1515*C$4","v":1530.1000000000001},{"$f":"Données!$F1515*D$4","v":1460.55},{"$f":"Données!$F1515*E$4","v":1391},{"$f":"Données!$F1515*F$4","v":1321.45},{"$f":"Données!$F1515*G$4","v":1251.9000000000001},{"$f":"Données!$F1515*H$4","v":1182.3499999999999}]
[null,7866,"Ollignies","Lessines",1816,1391,{"$f":"Données!$E1516*B$4","v":2088.3999999999996},{"$f":"Données!$E1516*C$4","v":1997.6000000000001},{"$f":"Données!$E1516*D$4","v":1906.8000000000002},{"$f":"Données!$E1516*E$4","v":1816},{"$f":"Données!$E1516*F$4","v":1725.1999999999998},{"$f":"Données!$E1516*G$4","v":1634.4},{"$f":"Données!$E1516*H$4","v":1543.6},{"$f":"Données!$F1516*B$4","v":1599.6499999999999},{"$f":"Données!$F1516*C$4","v":1530.1000000000001},{"$f":"Données!$F1516*D$4","v":1460.55},{"$f":"Données!$F1516*E$4","v":1391},{"$f":"Données!$F1516*F$4","v":1321.45},{"$f":"Données!$F1516*G$4","v":1251.9000000000001},{"$f":"Données!$F1516*H$4","v":1182.3499999999999}]
[null,7870,"Lombise","Lens",1835,1531,{"$f":"Données!$E1517*B$4","v":2110.25},{"$f":"Données!$E1517*C$4","v":2018.5000000000002},{"$f":"Données!$E1517*D$4","v":1926.75},{"$f":"Données!$E1517*E$4","v":1835},{"$f":"Données!$E1517*F$4","v":1743.25},{"$f":"Données!$E1517*G$4","v":1651.5},{"$f":"Données!$E1517*H$4","v":1559.75},{"$f":"Données!$F1517*B$4","v":1760.6499999999999},{"$f":"Données!$F1517*C$4","v":1684.1000000000001},{"$f":"Données!$F1517*D$4","v":1607.55},{"$f":"Données!$F1517*E$4","v":1531},{"$f":"Données!$F1517*F$4","v":1454.45},{"$f":"Données!$F1517*G$4","v":1377.9},{"$f":"Données!$F1517*H$4","v":1301.3499999999999}]
[null,7870,"Montignies-Lez-Lens","Lens",1835,1531,{"$f":"Données!$E1518*B$4","v":2110.25},{"$f":"Données!$E1518*C$4","v":2018.5000000000002},{"$f":"Données!$E1518*D$4","v":1926.75},{"$f":"Données!$E1518*E$4","v":1835},{"$f":"Données!$E1518*F$4","v":1743.25},{"$f":"Données!$E1518*G$4","v":1651.5},{"$f":"Données!$E1518*H$4","v":1559.75},{"$f":"Données!$F1518*B$4","v":1760.6499999999999},{"$f":"Données!$F1518*C$4","v":1684.1000000000001},{"$f":"Données!$F1518*D$4","v":1607.55},{"$f":"Données!$F1518*E$4","v":1531},{"$f":"Données!$F1518*F$4","v":1454.45},{"$f":"Données!$F1518*G$4","v":1377.9},{"$f":"Données!$F1518*H$4","v":1301.3499999999999}]
[null,7870,"Bauffe","Lens",1835,1531,{"$f":"Données!$E1519*B$4","v":2110.25},{"$f":"Données!$E1519*C$4","v":2018.5000000000002},{"$f":"Données!$E1519*D$4","v":1926.75},{"$f":"Données!$E1519*E$4","v":1835},{"$f":"Données!$E1519*F$4","v":1743.25},{"$f":"Données!$E1519*G$4","v":1651.5},{"$f":"Données!$E1519*H$4","v":1559.75},{"$f":"Données!$F1519*B$4","v":1760.6499999999999},{"$f":"Données!$F1519*C$4","v":1684.1000000000001},{"$f":"Données!$F1519*D$4","v":1607.55},{"$f":"Données!$F1519*E$4","v":1531},{"$f":"Données!$F1519*F$4","v":1454.45},{"$f":"Données!$F1519*G$4","v":1377.9},{"$f":"Données!$F1519*H$4","v":1301.3499999999999}]
[null,7870,"Cambron-Saint-Vincent","Lens",1835,1531,{"$f":"Données!$E1520*B$4","v":2110.25},{"$f":"Données!$E1520*C$4","v":2018.5000000000002},{"$f":"Données!$E1520*D$4","v":1926.75},{"$f":"Données!$E1520*E$4","v":1835},{"$f":"Données!$E1520*F$4","v":1743.25},{"$f":"Données!$E1520*G$4","v":1651.5},{"$f":"Données!$E1520*H$4","v":1559.75},{"$f":"Données!$F1520*B$4","v":1760.6499999999999},{"$f":"Données!$F1520*C$4","v":1684.1000000000001},{"$f":"Données!$F1520*D$4","v":1607.55},{"$f":"Données!$F1520*E$4","v":1531},{"$f":"Données!$F1520*F$4","v":1454.45},{"$f":"Données!$F1520*G$4","v":1377.9},{"$f":"Données!$F1520*H$4","v":1301.3499999999999}]
[null,7870,"Lens","Lens",1835,1531,{"$f":"Données!$E1521*B$4","v":2110.25},{"$f":"Données!$E1521*C$4","v":2018.5000000000002},{"$f":"Données!$E1521*D$4","v":1926.75},{"$f":"Données!$E1521*E$4","v":1835},{"$f":"Données!$E1521*F$4","v":1743.25},{"$f":"Données!$E1521*G$4","v":1651.5},{"$f":"Données!$E1521*H$4","v":1559.75},{"$f":"Données!$F1521*B$4","v":1760.6499999999999},{"$f":"Données!$F1521*C$4","v":1684.1000000000001},{"$f":"Données!$F1521*D$4","v":1607.55},{"$f":"Données!$F1521*E$4","v":1531},{"$f":"Données!$F1521*F$4","v":1454.45},{"$f":"Données!$F1521*G$4","v":1377.9},{"$f":"Données!$F1521*H$4","v":1301.3499999999999}]
[null,7880,"Flobecq","Flobecq",1915,1577,{"$f":"Données!$E1522*B$4","v":2202.25},{"$f":"Données!$E1522*C$4","v":2106.5},{"$f":"Données!$E1522*D$4","v":2010.75},{"$f":"Données!$E1522*E$4","v":1915},{"$f":"Données!$E1522*F$4","v":1819.25},{"$f":"Données!$E1522*G$4","v":1723.5},{"$f":"Données!$E1522*H$4","v":1627.75},{"$f":"Données!$F1522*B$4","v":1813.55},{"$f":"Données!$F1522*C$4","v":1734.7},{"$f":"Données!$F1522*D$4","v":1655.8500000000001},{"$f":"Données!$F1522*E$4","v":1577},{"$f":"Données!$F1522*F$4","v":1498.1499999999999},{"$f":"Données!$F1522*G$4","v":1419.3},{"$f":"Données!$F1522*H$4","v":1340.45}]
[null,7890,"Wodecq","Ellezelles",1907,1590,{"$f":"Données!$E1523*B$4","v":2193.0499999999997},{"$f":"Données!$E1523*C$4","v":2097.7000000000003},{"$f":"Données!$E1523*D$4","v":2002.3500000000001},{"$f":"Données!$E1523*E$4","v":1907},{"$f":"Données!$E1523*F$4","v":1811.6499999999999},{"$f":"Données!$E1523*G$4","v":1716.3},{"$f":"Données!$E1523*H$4","v":1620.95},{"$f":"Données!$F1523*B$4","v":1828.4999999999998},{"$f":"Données!$F1523*C$4","v":1749.0000000000002},{"$f":"Données!$F1523*D$4","v":1669.5},{"$f":"Données!$F1523*E$4","v":1590},{"$f":"Données!$F1523*F$4","v":1510.5},{"$f":"Données!$F1523*G$4","v":1431},{"$f":"Données!$F1523*H$4","v":1351.5}]
[null,7890,"Ellezelles","Ellezelles",1907,1590,{"$f":"Données!$E1524*B$4","v":2193.0499999999997},{"$f":"Données!$E1524*C$4","v":2097.7000000000003},{"$f":"Données!$E1524*D$4","v":2002.3500000000001},{"$f":"Données!$E1524*E$4","v":1907},{"$f":"Données!$E1524*F$4","v":1811.6499999999999},{"$f":"Données!$E1524*G$4","v":1716.3},{"$f":"Données!$E1524*H$4","v":1620.95},{"$f":"Données!$F1524*B$4","v":1828.4999999999998},{"$f":"Données!$F1524*C$4","v":1749.0000000000002},{"$f":"Données!$F1524*D$4","v":1669.5},{"$f":"Données!$F1524*E$4","v":1590},{"$f":"Données!$F1524*F$4","v":1510.5},{"$f":"Données!$F1524*G$4","v":1431},{"$f":"Données!$F1524*H$4","v":1351.5}]
[null,7890,"Lahamaide","Ellezelles",1907,1590,{"$f":"Données!$E1525*B$4","v":2193.0499999999997},{"$f":"Données!$E1525*C$4","v":2097.7000000000003},{"$f":"Données!$E1525*D$4","v":2002.3500000000001},{"$f":"Données!$E1525*E$4","v":1907},{"$f":"Données!$E1525*F$4","v":1811.6499999999999},{"$f":"Données!$E1525*G$4","v":1716.3},{"$f":"Données!$E1525*H$4","v":1620.95},{"$f":"Données!$F1525*B$4","v":1828.4999999999998},{"$f":"Données!$F1525*C$4","v":1749.0000000000002},{"$f":"Données!$F1525*D$4","v":1669.5},{"$f":"Données!$F1525*E$4","v":1590},{"$f":"Données!$F1525*F$4","v":1510.5},{"$f":"Données!$F1525*G$4","v":1431},{"$f":"Données!$F1525*H$4","v":1351.5}]
[null,7900,"Leuze-En-Hainaut","Leuze-En-Hainaut",1620,1357,{"$f":"Données!$E1526*B$4","v":1862.9999999999998},{"$f":"Données!$E1526*C$4","v":1782.0000000000002},{"$f":"Données!$E1526*D$4","v":1701},{"$f":"Données!$E1526*E$4","v":1620},{"$f":"Données!$E1526*F$4","v":1539},{"$f":"Données!$E1526*G$4","v":1458},{"$f":"Données!$E1526*H$4","v":1377},{"$f":"Données!$F1526*B$4","v":1560.55},{"$f":"Données!$F1526*C$4","v":1492.7},{"$f":"Données!$F1526*D$4","v":1424.8500000000001},{"$f":"Données!$F1526*E$4","v":1357},{"$f":"Données!$F1526*F$4","v":1289.1499999999999},{"$f":"Données!$F1526*G$4","v":1221.3},{"$f":"Données!$F1526*H$4","v":1153.45}]
[null,7900,"Grandmetz","Leuze-En-Hainaut",1620,1357,{"$f":"Données!$E1527*B$4","v":1862.9999999999998},{"$f":"Données!$E1527*C$4","v":1782.0000000000002},{"$f":"Données!$E1527*D$4","v":1701},{"$f":"Données!$E1527*E$4","v":1620},{"$f":"Données!$E1527*F$4","v":1539},{"$f":"Données!$E1527*G$4","v":1458},{"$f":"Données!$E1527*H$4","v":1377},{"$f":"Données!$F1527*B$4","v":1560.55},{"$f":"Données!$F1527*C$4","v":1492.7},{"$f":"Données!$F1527*D$4","v":1424.8500000000001},{"$f":"Données!$F1527*E$4","v":1357},{"$f":"Données!$F1527*F$4","v":1289.1499999999999},{"$f":"Données!$F1527*G$4","v":1221.3},{"$f":"Données!$F1527*H$4","v":1153.45}]
[null,7901,"Thieulain","Leuze-En-Hainaut",1620,1357,{"$f":"Données!$E1528*B$4","v":1862.9999999999998},{"$f":"Données!$E1528*C$4","v":1782.0000000000002},{"$f":"Données!$E1528*D$4","v":1701},{"$f":"Données!$E1528*E$4","v":1620},{"$f":"Données!$E1528*F$4","v":1539},{"$f":"Données!$E1528*G$4","v":1458},{"$f":"Données!$E1528*H$4","v":1377},{"$f":"Données!$F1528*B$4","v":1560.55},{"$f":"Données!$F1528*C$4","v":1492.7},{"$f":"Données!$F1528*D$4","v":1424.8500000000001},{"$f":"Données!$F1528*E$4","v":1357},{"$f":"Données!$F1528*F$4","v":1289.1499999999999},{"$f":"Données!$F1528*G$4","v":1221.3},{"$f":"Données!$F1528*H$4","v":1153.45}]
[null,7903,"Chapelle-À-Wattines","Leuze-En-Hainaut",1620,1357,{"$f":"Données!$E1529*B$4","v":1862.9999999999998},{"$f":"Données!$E1529*C$4","v":1782.0000000000002},{"$f":"Données!$E1529*D$4","v":1701},{"$f":"Données!$E1529*E$4","v":1620},{"$f":"Données!$E1529*F$4","v":1539},{"$f":"Données!$E1529*G$4","v":1458},{"$f":"Données!$E1529*H$4","v":1377},{"$f":"Données!$F1529*B$4","v":1560.55},{"$f":"Données!$F1529*C$4","v":1492.7},{"$f":"Données!$F1529*D$4","v":1424.8500000000001},{"$f":"Données!$F1529*E$4","v":1357},{"$f":"Données!$F1529*F$4","v":1289.1499999999999},{"$f":"Données!$F1529*G$4","v":1221.3},{"$f":"Données!$F1529*H$4","v":1153.45}]
[null,7903,"Chapelle-À-Oie","Leuze-En-Hainaut",1620,1357,{"$f":"Données!$E1530*B$4","v":1862.9999999999998},{"$f":"Données!$E1530*C$4","v":1782.0000000000002},{"$f":"Données!$E1530*D$4","v":1701},{"$f":"Données!$E1530*E$4","v":1620},{"$f":"Données!$E1530*F$4","v":1539},{"$f":"Données!$E1530*G$4","v":1458},{"$f":"Données!$E1530*H$4","v":1377},{"$f":"Données!$F1530*B$4","v":1560.55},{"$f":"Données!$F1530*C$4","v":1492.7},{"$f":"Données!$F1530*D$4","v":1424.8500000000001},{"$f":"Données!$F1530*E$4","v":1357},{"$f":"Données!$F1530*F$4","v":1289.1499999999999},{"$f":"Données!$F1530*G$4","v":1221.3},{"$f":"Données!$F1530*H$4","v":1153.45}]
[null,7903,"Blicquy","Leuze-En-Hainaut",1620,1357,{"$f":"Données!$E1531*B$4","v":1862.9999999999998},{"$f":"Données!$E1531*C$4","v":1782.0000000000002},{"$f":"Données!$E1531*D$4","v":1701},{"$f":"Données!$E1531*E$4","v":1620},{"$f":"Données!$E1531*F$4","v":1539},{"$f":"Données!$E1531*G$4","v":1458},{"$f":"Données!$E1531*H$4","v":1377},{"$f":"Données!$F1531*B$4","v":1560.55},{"$f":"Données!$F1531*C$4","v":1492.7},{"$f":"Données!$F1531*D$4","v":1424.8500000000001},{"$f":"Données!$F1531*E$4","v":1357},{"$f":"Données!$F1531*F$4","v":1289.1499999999999},{"$f":"Données!$F1531*G$4","v":1221.3},{"$f":"Données!$F1531*H$4","v":1153.45}]
[null,7904,"Pipaix","Leuze-En-Hainaut",1620,1357,{"$f":"Données!$E1532*B$4","v":1862.9999999999998},{"$f":"Données!$E1532*C$4","v":1782.0000000000002},{"$f":"Données!$E1532*D$4","v":1701},{"$f":"Données!$E1532*E$4","v":1620},{"$f":"Données!$E1532*F$4","v":1539},{"$f":"Données!$E1532*G$4","v":1458},{"$f":"Données!$E1532*H$4","v":1377},{"$f":"Données!$F1532*B$4","v":1560.55},{"$f":"Données!$F1532*C$4","v":1492.7},{"$f":"Données!$F1532*D$4","v":1424.8500000000001},{"$f":"Données!$F1532*E$4","v":1357},{"$f":"Données!$F1532*F$4","v":1289.1499999999999},{"$f":"Données!$F1532*G$4","v":1221.3},{"$f":"Données!$F1532*H$4","v":1153.45}]
[null,7904,"Tourpes","Leuze-En-Hainaut",1620,1357,{"$f":"Données!$E1533*B$4","v":1862.9999999999998},{"$f":"Données!$E1533*C$4","v":1782.0000000000002},{"$f":"Données!$E1533*D$4","v":1701},{"$f":"Données!$E1533*E$4","v":1620},{"$f":"Données!$E1533*F$4","v":1539},{"$f":"Données!$E1533*G$4","v":1458},{"$f":"Données!$E1533*H$4","v":1377},{"$f":"Données!$F1533*B$4","v":1560.55},{"$f":"Données!$F1533*C$4","v":1492.7},{"$f":"Données!$F1533*D$4","v":1424.8500000000001},{"$f":"Données!$F1533*E$4","v":1357},{"$f":"Données!$F1533*F$4","v":1289.1499999999999},{"$f":"Données!$F1533*G$4","v":1221.3},{"$f":"Données!$F1533*H$4","v":1153.45}]
[null,7904,"Willaupuis","Leuze-En-Hainaut",1620,1357,{"$f":"Données!$E1534*B$4","v":1862.9999999999998},{"$f":"Données!$E1534*C$4","v":1782.0000000000002},{"$f":"Données!$E1534*D$4","v":1701},{"$f":"Données!$E1534*E$4","v":1620},{"$f":"Données!$E1534*F$4","v":1539},{"$f":"Données!$E1534*G$4","v":1458},{"$f":"Données!$E1534*H$4","v":1377},{"$f":"Données!$F1534*B$4","v":1560.55},{"$f":"Données!$F1534*C$4","v":1492.7},{"$f":"Données!$F1534*D$4","v":1424.8500000000001},{"$f":"Données!$F1534*E$4","v":1357},{"$f":"Données!$F1534*F$4","v":1289.1499999999999},{"$f":"Données!$F1534*G$4","v":1221.3},{"$f":"Données!$F1534*H$4","v":1153.45}]
[null,7906,"Gallaix","Leuze-En-Hainaut",1620,1357,{"$f":"Données!$E1535*B$4","v":1862.9999999999998},{"$f":"Données!$E1535*C$4","v":1782.0000000000002},{"$f":"Données!$E1535*D$4","v":1701},{"$f":"Données!$E1535*E$4","v":1620},{"$f":"Données!$E1535*F$4","v":1539},{"$f":"Données!$E1535*G$4","v":1458},{"$f":"Données!$E1535*H$4","v":1377},{"$f":"Données!$F1535*B$4","v":1560.55},{"$f":"Données!$F1535*C$4","v":1492.7},{"$f":"Données!$F1535*D$4","v":1424.8500000000001},{"$f":"Données!$F1535*E$4","v":1357},{"$f":"Données!$F1535*F$4","v":1289.1499999999999},{"$f":"Données!$F1535*G$4","v":1221.3},{"$f":"Données!$F1535*H$4","v":1153.45}]
[null,7910,"Forest","Frasnes-Lez-Anvaing",1907,1600,{"$f":"Données!$E1536*B$4","v":2193.0499999999997},{"$f":"Données!$E1536*C$4","v":2097.7000000000003},{"$f":"Données!$E1536*D$4","v":2002.3500000000001},{"$f":"Données!$E1536*E$4","v":1907},{"$f":"Données!$E1536*F$4","v":1811.6499999999999},{"$f":"Données!$E1536*G$4","v":1716.3},{"$f":"Données!$E1536*H$4","v":1620.95},{"$f":"Données!$F1536*B$4","v":1839.9999999999998},{"$f":"Données!$F1536*C$4","v":1760.0000000000002},{"$f":"Données!$F1536*D$4","v":1680},{"$f":"Données!$F1536*E$4","v":1600},{"$f":"Données!$F1536*F$4","v":1520},{"$f":"Données!$F1536*G$4","v":1440},{"$f":"Données!$F1536*H$4","v":1360}]
[null,7910,"Frasnes-Lez-Anvaing","Frasnes-Lez-Anvaing",1907,1600,{"$f":"Données!$E1537*B$4","v":2193.0499999999997},{"$f":"Données!$E1537*C$4","v":2097.7000000000003},{"$f":"Données!$E1537*D$4","v":2002.3500000000001},{"$f":"Données!$E1537*E$4","v":1907},{"$f":"Données!$E1537*F$4","v":1811.6499999999999},{"$f":"Données!$E1537*G$4","v":1716.3},{"$f":"Données!$E1537*H$4","v":1620.95},{"$f":"Données!$F1537*B$4","v":1839.9999999999998},{"$f":"Données!$F1537*C$4","v":1760.0000000000002},{"$f":"Données!$F1537*D$4","v":1680},{"$f":"Données!$F1537*E$4","v":1600},{"$f":"Données!$F1537*F$4","v":1520},{"$f":"Données!$F1537*G$4","v":1440},{"$f":"Données!$F1537*H$4","v":1360}]
[null,7910,"Anvaing","Frasnes-Lez-Anvaing",1907,1600,{"$f":"Données!$E1538*B$4","v":2193.0499999999997},{"$f":"Données!$E1538*C$4","v":2097.7000000000003},{"$f":"Données!$E1538*D$4","v":2002.3500000000001},{"$f":"Données!$E1538*E$4","v":1907},{"$f":"Données!$E1538*F$4","v":1811.6499999999999},{"$f":"Données!$E1538*G$4","v":1716.3},{"$f":"Données!$E1538*H$4","v":1620.95},{"$f":"Données!$F1538*B$4","v":1839.9999999999998},{"$f":"Données!$F1538*C$4","v":1760.0000000000002},{"$f":"Données!$F1538*D$4","v":1680},{"$f":"Données!$F1538*E$4","v":1600},{"$f":"Données!$F1538*F$4","v":1520},{"$f":"Données!$F1538*G$4","v":1440},{"$f":"Données!$F1538*H$4","v":1360}]
[null,7910,"Arc-Wattripont","Frasnes-Lez-Anvaing",1907,1600,{"$f":"Données!$E1539*B$4","v":2193.0499999999997},{"$f":"Données!$E1539*C$4","v":2097.7000000000003},{"$f":"Données!$E1539*D$4","v":2002.3500000000001},{"$f":"Données!$E1539*E$4","v":1907},{"$f":"Données!$E1539*F$4","v":1811.6499999999999},{"$f":"Données!$E1539*G$4","v":1716.3},{"$f":"Données!$E1539*H$4","v":1620.95},{"$f":"Données!$F1539*B$4","v":1839.9999999999998},{"$f":"Données!$F1539*C$4","v":1760.0000000000002},{"$f":"Données!$F1539*D$4","v":1680},{"$f":"Données!$F1539*E$4","v":1600},{"$f":"Données!$F1539*F$4","v":1520},{"$f":"Données!$F1539*G$4","v":1440},{"$f":"Données!$F1539*H$4","v":1360}]
[null,7910,"Wattripont","Frasnes-Lez-Anvaing",1907,1600,{"$f":"Données!$E1540*B$4","v":2193.0499999999997},{"$f":"Données!$E1540*C$4","v":2097.7000000000003},{"$f":"Données!$E1540*D$4","v":2002.3500000000001},{"$f":"Données!$E1540*E$4","v":1907},{"$f":"Données!$E1540*F$4","v":1811.6499999999999},{"$f":"Données!$E1540*G$4","v":1716.3},{"$f":"Données!$E1540*H$4","v":1620.95},{"$f":"Données!$F1540*B$4","v":1839.9999999999998},{"$f":"Données!$F1540*C$4","v":1760.0000000000002},{"$f":"Données!$F1540*D$4","v":1680},{"$f":"Données!$F1540*E$4","v":1600},{"$f":"Données!$F1540*F$4","v":1520},{"$f":"Données!$F1540*G$4","v":1440},{"$f":"Données!$F1540*H$4","v":1360}]
[null,7910,"Ellignies-Lez-Frasnes","Frasnes-Lez-Anvaing",1907,1600,{"$f":"Données!$E1541*B$4","v":2193.0499999999997},{"$f":"Données!$E1541*C$4","v":2097.7000000000003},{"$f":"Données!$E1541*D$4","v":2002.3500000000001},{"$f":"Données!$E1541*E$4","v":1907},{"$f":"Données!$E1541*F$4","v":1811.6499999999999},{"$f":"Données!$E1541*G$4","v":1716.3},{"$f":"Données!$E1541*H$4","v":1620.95},{"$f":"Données!$F1541*B$4","v":1839.9999999999998},{"$f":"Données!$F1541*C$4","v":1760.0000000000002},{"$f":"Données!$F1541*D$4","v":1680},{"$f":"Données!$F1541*E$4","v":1600},{"$f":"Données!$F1541*F$4","v":1520},{"$f":"Données!$F1541*G$4","v":1440},{"$f":"Données!$F1541*H$4","v":1360}]
[null,7910,"Cordes","Frasnes-Lez-Anvaing",1907,1600,{"$f":"Données!$E1542*B$4","v":2193.0499999999997},{"$f":"Données!$E1542*C$4","v":2097.7000000000003},{"$f":"Données!$E1542*D$4","v":2002.3500000000001},{"$f":"Données!$E1542*E$4","v":1907},{"$f":"Données!$E1542*F$4","v":1811.6499999999999},{"$f":"Données!$E1542*G$4","v":1716.3},{"$f":"Données!$E1542*H$4","v":1620.95},{"$f":"Données!$F1542*B$4","v":1839.9999999999998},{"$f":"Données!$F1542*C$4","v":1760.0000000000002},{"$f":"Données!$F1542*D$4","v":1680},{"$f":"Données!$F1542*E$4","v":1600},{"$f":"Données!$F1542*F$4","v":1520},{"$f":"Données!$F1542*G$4","v":1440},{"$f":"Données!$F1542*H$4","v":1360}]
[null,7911,"Frasnes-Lez-Buissenal","Frasnes-Lez-Anvaing",1907,1600,{"$f":"Données!$E1543*B$4","v":2193.0499999999997},{"$f":"Données!$E1543*C$4","v":2097.7000000000003},{"$f":"Données!$E1543*D$4","v":2002.3500000000001},{"$f":"Données!$E1543*E$4","v":1907},{"$f":"Données!$E1543*F$4","v":1811.6499999999999},{"$f":"Données!$E1543*G$4","v":1716.3},{"$f":"Données!$E1543*H$4","v":1620.95},{"$f":"Données!$F1543*B$4","v":1839.9999999999998},{"$f":"Données!$F1543*C$4","v":1760.0000000000002},{"$f":"Données!$F1543*D$4","v":1680},{"$f":"Données!$F1543*E$4","v":1600},{"$f":"Données!$F1543*F$4","v":1520},{"$f":"Données!$F1543*G$4","v":1440},{"$f":"Données!$F1543*H$4","v":1360}]
[null,7911,"Hacquegnies","Frasnes-Lez-Anvaing",1907,1600,{"$f":"Données!$E1544*B$4","v":2193.0499999999997},{"$f":"Données!$E1544*C$4","v":2097.7000000000003},{"$f":"Données!$E1544*D$4","v":2002.3500000000001},{"$f":"Données!$E1544*E$4","v":1907},{"$f":"Données!$E1544*F$4","v":1811.6499999999999},{"$f":"Données!$E1544*G$4","v":1716.3},{"$f":"Données!$E1544*H$4","v":1620.95},{"$f":"Données!$F1544*B$4","v":1839.9999999999998},{"$f":"Données!$F1544*C$4","v":1760.0000000000002},{"$f":"Données!$F1544*D$4","v":1680},{"$f":"Données!$F1544*E$4","v":1600},{"$f":"Données!$F1544*F$4","v":1520},{"$f":"Données!$F1544*G$4","v":1440},{"$f":"Données!$F1544*H$4","v":1360}]
[null,7911,"Moustier","Frasnes-Lez-Anvaing",1907,1600,{"$f":"Données!$E1545*B$4","v":2193.0499999999997},{"$f":"Données!$E1545*C$4","v":2097.7000000000003},{"$f":"Données!$E1545*D$4","v":2002.3500000000001},{"$f":"Données!$E1545*E$4","v":1907},{"$f":"Données!$E1545*F$4","v":1811.6499999999999},{"$f":"Données!$E1545*G$4","v":1716.3},{"$f":"Données!$E1545*H$4","v":1620.95},{"$f":"Données!$F1545*B$4","v":1839.9999999999998},{"$f":"Données!$F1545*C$4","v":1760.0000000000002},{"$f":"Données!$F1545*D$4","v":1680},{"$f":"Données!$F1545*E$4","v":1600},{"$f":"Données!$F1545*F$4","v":1520},{"$f":"Données!$F1545*G$4","v":1440},{"$f":"Données!$F1545*H$4","v":1360}]
[null,7911,"Buissenal","Frasnes-Lez-Anvaing",1907,1600,{"$f":"Données!$E1546*B$4","v":2193.0499999999997},{"$f":"Données!$E1546*C$4","v":2097.7000000000003},{"$f":"Données!$E1546*D$4","v":2002.3500000000001},{"$f":"Données!$E1546*E$4","v":1907},{"$f":"Données!$E1546*F$4","v":1811.6499999999999},{"$f":"Données!$E1546*G$4","v":1716.3},{"$f":"Données!$E1546*H$4","v":1620.95},{"$f":"Données!$F1546*B$4","v":1839.9999999999998},{"$f":"Données!$F1546*C$4","v":1760.0000000000002},{"$f":"Données!$F1546*D$4","v":1680},{"$f":"Données!$F1546*E$4","v":1600},{"$f":"Données!$F1546*F$4","v":1520},{"$f":"Données!$F1546*G$4","v":1440},{"$f":"Données!$F1546*H$4","v":1360}]
[null,7911,"Montroeul-Au-Bois","Frasnes-Lez-Anvaing",1907,1600,{"$f":"Données!$E1547*B$4","v":2193.0499999999997},{"$f":"Données!$E1547*C$4","v":2097.7000000000003},{"$f":"Données!$E1547*D$4","v":2002.3500000000001},{"$f":"Données!$E1547*E$4","v":1907},{"$f":"Données!$E1547*F$4","v":1811.6499999999999},{"$f":"Données!$E1547*G$4","v":1716.3},{"$f":"Données!$E1547*H$4","v":1620.95},{"$f":"Données!$F1547*B$4","v":1839.9999999999998},{"$f":"Données!$F1547*C$4","v":1760.0000000000002},{"$f":"Données!$F1547*D$4","v":1680},{"$f":"Données!$F1547*E$4","v":1600},{"$f":"Données!$F1547*F$4","v":1520},{"$f":"Données!$F1547*G$4","v":1440},{"$f":"Données!$F1547*H$4","v":1360}]
[null,7911,"Herquegies","Frasnes-Lez-Anvaing",1907,1600,{"$f":"Données!$E1548*B$4","v":2193.0499999999997},{"$f":"Données!$E1548*C$4","v":2097.7000000000003},{"$f":"Données!$E1548*D$4","v":2002.3500000000001},{"$f":"Données!$E1548*E$4","v":1907},{"$f":"Données!$E1548*F$4","v":1811.6499999999999},{"$f":"Données!$E1548*G$4","v":1716.3},{"$f":"Données!$E1548*H$4","v":1620.95},{"$f":"Données!$F1548*B$4","v":1839.9999999999998},{"$f":"Données!$F1548*C$4","v":1760.0000000000002},{"$f":"Données!$F1548*D$4","v":1680},{"$f":"Données!$F1548*E$4","v":1600},{"$f":"Données!$F1548*F$4","v":1520},{"$f":"Données!$F1548*G$4","v":1440},{"$f":"Données!$F1548*H$4","v":1360}]
[null,7911,"Oeudeghien","Frasnes-Lez-Anvaing",1907,1600,{"$f":"Données!$E1549*B$4","v":2193.0499999999997},{"$f":"Données!$E1549*C$4","v":2097.7000000000003},{"$f":"Données!$E1549*D$4","v":2002.3500000000001},{"$f":"Données!$E1549*E$4","v":1907},{"$f":"Données!$E1549*F$4","v":1811.6499999999999},{"$f":"Données!$E1549*G$4","v":1716.3},{"$f":"Données!$E1549*H$4","v":1620.95},{"$f":"Données!$F1549*B$4","v":1839.9999999999998},{"$f":"Données!$F1549*C$4","v":1760.0000000000002},{"$f":"Données!$F1549*D$4","v":1680},{"$f":"Données!$F1549*E$4","v":1600},{"$f":"Données!$F1549*F$4","v":1520},{"$f":"Données!$F1549*G$4","v":1440},{"$f":"Données!$F1549*H$4","v":1360}]
[null,7912,"Dergneau","Frasnes-Lez-Anvaing",1907,1600,{"$f":"Données!$E1550*B$4","v":2193.0499999999997},{"$f":"Données!$E1550*C$4","v":2097.7000000000003},{"$f":"Données!$E1550*D$4","v":2002.3500000000001},{"$f":"Données!$E1550*E$4","v":1907},{"$f":"Données!$E1550*F$4","v":1811.6499999999999},{"$f":"Données!$E1550*G$4","v":1716.3},{"$f":"Données!$E1550*H$4","v":1620.95},{"$f":"Données!$F1550*B$4","v":1839.9999999999998},{"$f":"Données!$F1550*C$4","v":1760.0000000000002},{"$f":"Données!$F1550*D$4","v":1680},{"$f":"Données!$F1550*E$4","v":1600},{"$f":"Données!$F1550*F$4","v":1520},{"$f":"Données!$F1550*G$4","v":1440},{"$f":"Données!$F1550*H$4","v":1360}]
[null,7912,"Saint-Sauveur","Frasnes-Lez-Anvaing",1907,1600,{"$f":"Données!$E1551*B$4","v":2193.0499999999997},{"$f":"Données!$E1551*C$4","v":2097.7000000000003},{"$f":"Données!$E1551*D$4","v":2002.3500000000001},{"$f":"Données!$E1551*E$4","v":1907},{"$f":"Données!$E1551*F$4","v":1811.6499999999999},{"$f":"Données!$E1551*G$4","v":1716.3},{"$f":"Données!$E1551*H$4","v":1620.95},{"$f":"Données!$F1551*B$4","v":1839.9999999999998},{"$f":"Données!$F1551*C$4","v":1760.0000000000002},{"$f":"Données!$F1551*D$4","v":1680},{"$f":"Données!$F1551*E$4","v":1600},{"$f":"Données!$F1551*F$4","v":1520},{"$f":"Données!$F1551*G$4","v":1440},{"$f":"Données!$F1551*H$4","v":1360}]
[null,7940,"Brugelette","Brugelette",1924,1446,{"$f":"Données!$E1552*B$4","v":2212.6},{"$f":"Données!$E1552*C$4","v":2116.4},{"$f":"Données!$E1552*D$4","v":2020.2},{"$f":"Données!$E1552*E$4","v":1924},{"$f":"Données!$E1552*F$4","v":1827.8},{"$f":"Données!$E1552*G$4","v":1731.6000000000001},{"$f":"Données!$E1552*H$4","v":1635.3999999999999},{"$f":"Données!$F1552*B$4","v":1662.8999999999999},{"$f":"Données!$F1552*C$4","v":1590.6000000000001},{"$f":"Données!$F1552*D$4","v":1518.3},{"$f":"Données!$F1552*E$4","v":1446},{"$f":"Données!$F1552*F$4","v":1373.7},{"$f":"Données!$F1552*G$4","v":1301.4000000000001},{"$f":"Données!$F1552*H$4","v":1229.0999999999999}]
[null,7940,"Cambron-Casteau","Brugelette",1924,1446,{"$f":"Données!$E1553*B$4","v":2212.6},{"$f":"Données!$E1553*C$4","v":2116.4},{"$f":"Données!$E1553*D$4","v":2020.2},{"$f":"Données!$E1553*E$4","v":1924},{"$f":"Données!$E1553*F$4","v":1827.8},{"$f":"Données!$E1553*G$4","v":1731.6000000000001},{"$f":"Données!$E1553*H$4","v":1635.3999999999999},{"$f":"Données!$F1553*B$4","v":1662.8999999999999},{"$f":"Données!$F1553*C$4","v":1590.6000000000001},{"$f":"Données!$F1553*D$4","v":1518.3},{"$f":"Données!$F1553*E$4","v":1446},{"$f":"Données!$F1553*F$4","v":1373.7},{"$f":"Données!$F1553*G$4","v":1301.4000000000001},{"$f":"Données!$F1553*H$4","v":1229.0999999999999}]
[null,7941,"Attre","Brugelette",1924,1446,{"$f":"Données!$E1554*B$4","v":2212.6},{"$f":"Données!$E1554*C$4","v":2116.4},{"$f":"Données!$E1554*D$4","v":2020.2},{"$f":"Données!$E1554*E$4","v":1924},{"$f":"Données!$E1554*F$4","v":1827.8},{"$f":"Données!$E1554*G$4","v":1731.6000000000001},{"$f":"Données!$E1554*H$4","v":1635.3999999999999},{"$f":"Données!$F1554*B$4","v":1662.8999999999999},{"$f":"Données!$F1554*C$4","v":1590.6000000000001},{"$f":"Données!$F1554*D$4","v":1518.3},{"$f":"Données!$F1554*E$4","v":1446},{"$f":"Données!$F1554*F$4","v":1373.7},{"$f":"Données!$F1554*G$4","v":1301.4000000000001},{"$f":"Données!$F1554*H$4","v":1229.0999999999999}]
[null,7942,"Mévergnies-Lez-Lens","Brugelette",1924,1446,{"$f":"Données!$E1555*B$4","v":2212.6},{"$f":"Données!$E1555*C$4","v":2116.4},{"$f":"Données!$E1555*D$4","v":2020.2},{"$f":"Données!$E1555*E$4","v":1924},{"$f":"Données!$E1555*F$4","v":1827.8},{"$f":"Données!$E1555*G$4","v":1731.6000000000001},{"$f":"Données!$E1555*H$4","v":1635.3999999999999},{"$f":"Données!$F1555*B$4","v":1662.8999999999999},{"$f":"Données!$F1555*C$4","v":1590.6000000000001},{"$f":"Données!$F1555*D$4","v":1518.3},{"$f":"Données!$F1555*E$4","v":1446},{"$f":"Données!$F1555*F$4","v":1373.7},{"$f":"Données!$F1555*G$4","v":1301.4000000000001},{"$f":"Données!$F1555*H$4","v":1229.0999999999999}]
[null,7943,"Gages","Brugelette",1924,1446,{"$f":"Données!$E1556*B$4","v":2212.6},{"$f":"Données!$E1556*C$4","v":2116.4},{"$f":"Données!$E1556*D$4","v":2020.2},{"$f":"Données!$E1556*E$4","v":1924},{"$f":"Données!$E1556*F$4","v":1827.8},{"$f":"Données!$E1556*G$4","v":1731.6000000000001},{"$f":"Données!$E1556*H$4","v":1635.3999999999999},{"$f":"Données!$F1556*B$4","v":1662.8999999999999},{"$f":"Données!$F1556*C$4","v":1590.6000000000001},{"$f":"Données!$F1556*D$4","v":1518.3},{"$f":"Données!$F1556*E$4","v":1446},{"$f":"Données!$F1556*F$4","v":1373.7},{"$f":"Données!$F1556*G$4","v":1301.4000000000001},{"$f":"Données!$F1556*H$4","v":1229.0999999999999}]
[null,7950,"Huissignies","Chièvres",1950,1412,{"$f":"Données!$E1557*B$4","v":2242.5},{"$f":"Données!$E1557*C$4","v":2145},{"$f":"Données!$E1557*D$4","v":2047.5},{"$f":"Données!$E1557*E$4","v":1950},{"$f":"Données!$E1557*F$4","v":1852.5},{"$f":"Données!$E1557*G$4","v":1755},{"$f":"Données!$E1557*H$4","v":1657.5},{"$f":"Données!$F1557*B$4","v":1623.8},{"$f":"Données!$F1557*C$4","v":1553.2},{"$f":"Données!$F1557*D$4","v":1482.6000000000001},{"$f":"Données!$F1557*E$4","v":1412},{"$f":"Données!$F1557*F$4","v":1341.3999999999999},{"$f":"Données!$F1557*G$4","v":1270.8},{"$f":"Données!$F1557*H$4","v":1200.2}]
[null,7950,"Chièvres","Chièvres",1950,1412,{"$f":"Données!$E1558*B$4","v":2242.5},{"$f":"Données!$E1558*C$4","v":2145},{"$f":"Données!$E1558*D$4","v":2047.5},{"$f":"Données!$E1558*E$4","v":1950},{"$f":"Données!$E1558*F$4","v":1852.5},{"$f":"Données!$E1558*G$4","v":1755},{"$f":"Données!$E1558*H$4","v":1657.5},{"$f":"Données!$F1558*B$4","v":1623.8},{"$f":"Données!$F1558*C$4","v":1553.2},{"$f":"Données!$F1558*D$4","v":1482.6000000000001},{"$f":"Données!$F1558*E$4","v":1412},{"$f":"Données!$F1558*F$4","v":1341.3999999999999},{"$f":"Données!$F1558*G$4","v":1270.8},{"$f":"Données!$F1558*H$4","v":1200.2}]
[null,7950,"Grosage","Chièvres",1950,1412,{"$f":"Données!$E1559*B$4","v":2242.5},{"$f":"Données!$E1559*C$4","v":2145},{"$f":"Données!$E1559*D$4","v":2047.5},{"$f":"Données!$E1559*E$4","v":1950},{"$f":"Données!$E1559*F$4","v":1852.5},{"$f":"Données!$E1559*G$4","v":1755},{"$f":"Données!$E1559*H$4","v":1657.5},{"$f":"Données!$F1559*B$4","v":1623.8},{"$f":"Données!$F1559*C$4","v":1553.2},{"$f":"Données!$F1559*D$4","v":1482.6000000000001},{"$f":"Données!$F1559*E$4","v":1412},{"$f":"Données!$F1559*F$4","v":1341.3999999999999},{"$f":"Données!$F1559*G$4","v":1270.8},{"$f":"Données!$F1559*H$4","v":1200.2}]
[null,7950,"Ladeuze","Chièvres",1950,1412,{"$f":"Données!$E1560*B$4","v":2242.5},{"$f":"Données!$E1560*C$4","v":2145},{"$f":"Données!$E1560*D$4","v":2047.5},{"$f":"Données!$E1560*E$4","v":1950},{"$f":"Données!$E1560*F$4","v":1852.5},{"$f":"Données!$E1560*G$4","v":1755},{"$f":"Données!$E1560*H$4","v":1657.5},{"$f":"Données!$F1560*B$4","v":1623.8},{"$f":"Données!$F1560*C$4","v":1553.2},{"$f":"Données!$F1560*D$4","v":1482.6000000000001},{"$f":"Données!$F1560*E$4","v":1412},{"$f":"Données!$F1560*F$4","v":1341.3999999999999},{"$f":"Données!$F1560*G$4","v":1270.8},{"$f":"Données!$F1560*H$4","v":1200.2}]
[null,7950,"Tongre-Saint-Martin","Chièvres",1950,1412,{"$f":"Données!$E1561*B$4","v":2242.5},{"$f":"Données!$E1561*C$4","v":2145},{"$f":"Données!$E1561*D$4","v":2047.5},{"$f":"Données!$E1561*E$4","v":1950},{"$f":"Données!$E1561*F$4","v":1852.5},{"$f":"Données!$E1561*G$4","v":1755},{"$f":"Données!$E1561*H$4","v":1657.5},{"$f":"Données!$F1561*B$4","v":1623.8},{"$f":"Données!$F1561*C$4","v":1553.2},{"$f":"Données!$F1561*D$4","v":1482.6000000000001},{"$f":"Données!$F1561*E$4","v":1412},{"$f":"Données!$F1561*F$4","v":1341.3999999999999},{"$f":"Données!$F1561*G$4","v":1270.8},{"$f":"Données!$F1561*H$4","v":1200.2}]
[null,7951,"Tongre-Notre-Dame","Chièvres",1950,1412,{"$f":"Données!$E1562*B$4","v":2242.5},{"$f":"Données!$E1562*C$4","v":2145},{"$f":"Données!$E1562*D$4","v":2047.5},{"$f":"Données!$E1562*E$4","v":1950},{"$f":"Données!$E1562*F$4","v":1852.5},{"$f":"Données!$E1562*G$4","v":1755},{"$f":"Données!$E1562*H$4","v":1657.5},{"$f":"Données!$F1562*B$4","v":1623.8},{"$f":"Données!$F1562*C$4","v":1553.2},{"$f":"Données!$F1562*D$4","v":1482.6000000000001},{"$f":"Données!$F1562*E$4","v":1412},{"$f":"Données!$F1562*F$4","v":1341.3999999999999},{"$f":"Données!$F1562*G$4","v":1270.8},{"$f":"Données!$F1562*H$4","v":1200.2}]
[null,7970,"Beloeil","Beloeil",1793,1323,{"$f":"Données!$E1563*B$4","v":2061.9499999999998},{"$f":"Données!$E1563*C$4","v":1972.3000000000002},{"$f":"Données!$E1563*D$4","v":1882.65},{"$f":"Données!$E1563*E$4","v":1793},{"$f":"Données!$E1563*F$4","v":1703.35},{"$f":"Données!$E1563*G$4","v":1613.7},{"$f":"Données!$E1563*H$4","v":1524.05},{"$f":"Données!$F1563*B$4","v":1521.4499999999998},{"$f":"Données!$F1563*C$4","v":1455.3000000000002},{"$f":"Données!$F1563*D$4","v":1389.15},{"$f":"Données!$F1563*E$4","v":1323},{"$f":"Données!$F1563*F$4","v":1256.8499999999999},{"$f":"Données!$F1563*G$4","v":1190.7},{"$f":"Données!$F1563*H$4","v":1124.55}]
[null,7971,"Thumaide","Beloeil",1793,1323,{"$f":"Données!$E1564*B$4","v":2061.9499999999998},{"$f":"Données!$E1564*C$4","v":1972.3000000000002},{"$f":"Données!$E1564*D$4","v":1882.65},{"$f":"Données!$E1564*E$4","v":1793},{"$f":"Données!$E1564*F$4","v":1703.35},{"$f":"Données!$E1564*G$4","v":1613.7},{"$f":"Données!$E1564*H$4","v":1524.05},{"$f":"Données!$F1564*B$4","v":1521.4499999999998},{"$f":"Données!$F1564*C$4","v":1455.3000000000002},{"$f":"Données!$F1564*D$4","v":1389.15},{"$f":"Données!$F1564*E$4","v":1323},{"$f":"Données!$F1564*F$4","v":1256.8499999999999},{"$f":"Données!$F1564*G$4","v":1190.7},{"$f":"Données!$F1564*H$4","v":1124.55}]
[null,7971,"Basècles","Beloeil",1793,1323,{"$f":"Données!$E1565*B$4","v":2061.9499999999998},{"$f":"Données!$E1565*C$4","v":1972.3000000000002},{"$f":"Données!$E1565*D$4","v":1882.65},{"$f":"Données!$E1565*E$4","v":1793},{"$f":"Données!$E1565*F$4","v":1703.35},{"$f":"Données!$E1565*G$4","v":1613.7},{"$f":"Données!$E1565*H$4","v":1524.05},{"$f":"Données!$F1565*B$4","v":1521.4499999999998},{"$f":"Données!$F1565*C$4","v":1455.3000000000002},{"$f":"Données!$F1565*D$4","v":1389.15},{"$f":"Données!$F1565*E$4","v":1323},{"$f":"Données!$F1565*F$4","v":1256.8499999999999},{"$f":"Données!$F1565*G$4","v":1190.7},{"$f":"Données!$F1565*H$4","v":1124.55}]
[null,7971,"Ramegnies","Beloeil",1793,1323,{"$f":"Données!$E1566*B$4","v":2061.9499999999998},{"$f":"Données!$E1566*C$4","v":1972.3000000000002},{"$f":"Données!$E1566*D$4","v":1882.65},{"$f":"Données!$E1566*E$4","v":1793},{"$f":"Données!$E1566*F$4","v":1703.35},{"$f":"Données!$E1566*G$4","v":1613.7},{"$f":"Données!$E1566*H$4","v":1524.05},{"$f":"Données!$F1566*B$4","v":1521.4499999999998},{"$f":"Données!$F1566*C$4","v":1455.3000000000002},{"$f":"Données!$F1566*D$4","v":1389.15},{"$f":"Données!$F1566*E$4","v":1323},{"$f":"Données!$F1566*F$4","v":1256.8499999999999},{"$f":"Données!$F1566*G$4","v":1190.7},{"$f":"Données!$F1566*H$4","v":1124.55}]
[null,7971,"Wadelincourt","Beloeil",1793,1323,{"$f":"Données!$E1567*B$4","v":2061.9499999999998},{"$f":"Données!$E1567*C$4","v":1972.3000000000002},{"$f":"Données!$E1567*D$4","v":1882.65},{"$f":"Données!$E1567*E$4","v":1793},{"$f":"Données!$E1567*F$4","v":1703.35},{"$f":"Données!$E1567*G$4","v":1613.7},{"$f":"Données!$E1567*H$4","v":1524.05},{"$f":"Données!$F1567*B$4","v":1521.4499999999998},{"$f":"Données!$F1567*C$4","v":1455.3000000000002},{"$f":"Données!$F1567*D$4","v":1389.15},{"$f":"Données!$F1567*E$4","v":1323},{"$f":"Données!$F1567*F$4","v":1256.8499999999999},{"$f":"Données!$F1567*G$4","v":1190.7},{"$f":"Données!$F1567*H$4","v":1124.55}]
[null,7972,"Aubechies","Beloeil",1793,1323,{"$f":"Données!$E1568*B$4","v":2061.9499999999998},{"$f":"Données!$E1568*C$4","v":1972.3000000000002},{"$f":"Données!$E1568*D$4","v":1882.65},{"$f":"Données!$E1568*E$4","v":1793},{"$f":"Données!$E1568*F$4","v":1703.35},{"$f":"Données!$E1568*G$4","v":1613.7},{"$f":"Données!$E1568*H$4","v":1524.05},{"$f":"Données!$F1568*B$4","v":1521.4499999999998},{"$f":"Données!$F1568*C$4","v":1455.3000000000002},{"$f":"Données!$F1568*D$4","v":1389.15},{"$f":"Données!$F1568*E$4","v":1323},{"$f":"Données!$F1568*F$4","v":1256.8499999999999},{"$f":"Données!$F1568*G$4","v":1190.7},{"$f":"Données!$F1568*H$4","v":1124.55}]
[null,7972,"Quevaucamps","Beloeil",1793,1323,{"$f":"Données!$E1569*B$4","v":2061.9499999999998},{"$f":"Données!$E1569*C$4","v":1972.3000000000002},{"$f":"Données!$E1569*D$4","v":1882.65},{"$f":"Données!$E1569*E$4","v":1793},{"$f":"Données!$E1569*F$4","v":1703.35},{"$f":"Données!$E1569*G$4","v":1613.7},{"$f":"Données!$E1569*H$4","v":1524.05},{"$f":"Données!$F1569*B$4","v":1521.4499999999998},{"$f":"Données!$F1569*C$4","v":1455.3000000000002},{"$f":"Données!$F1569*D$4","v":1389.15},{"$f":"Données!$F1569*E$4","v":1323},{"$f":"Données!$F1569*F$4","v":1256.8499999999999},{"$f":"Données!$F1569*G$4","v":1190.7},{"$f":"Données!$F1569*H$4","v":1124.55}]
[null,7973,"Stambruges","Beloeil",1793,1323,{"$f":"Données!$E1570*B$4","v":2061.9499999999998},{"$f":"Données!$E1570*C$4","v":1972.3000000000002},{"$f":"Données!$E1570*D$4","v":1882.65},{"$f":"Données!$E1570*E$4","v":1793},{"$f":"Données!$E1570*F$4","v":1703.35},{"$f":"Données!$E1570*G$4","v":1613.7},{"$f":"Données!$E1570*H$4","v":1524.05},{"$f":"Données!$F1570*B$4","v":1521.4499999999998},{"$f":"Données!$F1570*C$4","v":1455.3000000000002},{"$f":"Données!$F1570*D$4","v":1389.15},{"$f":"Données!$F1570*E$4","v":1323},{"$f":"Données!$F1570*F$4","v":1256.8499999999999},{"$f":"Données!$F1570*G$4","v":1190.7},{"$f":"Données!$F1570*H$4","v":1124.55}]
[null,7973,"Grandglise","Beloeil",1793,1323,{"$f":"Données!$E1571*B$4","v":2061.9499999999998},{"$f":"Données!$E1571*C$4","v":1972.3000000000002},{"$f":"Données!$E1571*D$4","v":1882.65},{"$f":"Données!$E1571*E$4","v":1793},{"$f":"Données!$E1571*F$4","v":1703.35},{"$f":"Données!$E1571*G$4","v":1613.7},{"$f":"Données!$E1571*H$4","v":1524.05},{"$f":"Données!$F1571*B$4","v":1521.4499999999998},{"$f":"Données!$F1571*C$4","v":1455.3000000000002},{"$f":"Données!$F1571*D$4","v":1389.15},{"$f":"Données!$F1571*E$4","v":1323},{"$f":"Données!$F1571*F$4","v":1256.8499999999999},{"$f":"Données!$F1571*G$4","v":1190.7},{"$f":"Données!$F1571*H$4","v":1124.55}]
[]
[]
[]
[]
[]
[]
[]
[]
[]
[]
[]
[]
[]
[]
[]
[]
[]
[]
[]
[]
[]
[]
[]
[]
[]
[]
[]
[]
[]
[]
[]
[]
[]
[]
[]
[]
[]
[]
[]
[]
[]
[]
[]
[]
[]
[]
[]
[]
[]
[]
[]
[]
[]
[]
[]
[]
[]
[]
[]
[]
[]
[]
[]
[]
[]
[]
[]
[]
[]
[]
[]
[]
[]
[]
[]
[]
[]
[]
[]
[]
[]
[]
[]
[]
[]
[]
[]
[]
[]
[]
[]
[]
[]
[]
[]
[]
[]
[]
[]
[]
[]
[]
[]
[]
[]
[]
[]
[]
[]
[]
[]
[]
[]
[]
[]
[]
[]
[]
[]
[]
[]
[]
[]
[]
[]
[]
[]
[]
[]
[]
[]
[]
[]
[]
[]
[]
[]
[]
[]
[]
[]
[]
[]
[]
[]
[]
[]
[]
[]
[]
[]
[]
[]
[]
[]
[]
[]
[]
[]
[]
[]
[]
[]
[]
[]
[]
[]
[]
[]
[]
[]
[]
[]
[]
[]
[]
[]
[]
[]
[]
[]
[]
[]
[]
[]
[]
[]
[]
[]
[]
[]
[]
[]
[]
[]
[]
[]
[]
[]
[]
[]
[]
[]
[]
[]
[]
[]
[]
[]
[]
[]
[]
[]
[]
[]
[]
[]
[]
[]
[]
[]
[]
[]
[]
[]
[]
[]
[]
[]
[]
[]
[]
[]
[]
[]
[]
[]
[]
[]
[]
[]
[]
[]
[]
[]
[]
[]
[]
[]
[]
[]
[]
[]
[]
[]
[]
[]
[]
[]
[]
[]
[]
[]
[]
[]
[]
[]
[]
[]
[]
[]
[]
[]
[]
[]
[]
[]
[]
[]
[]
[]
[]
[]
[]
[]
[]
[]
[]
[]
[]
[]
[]
[]
[]
[]
[]
[]
[]
[]
[]
[]
[]
[]
[]
[]
[]
[]
[]
[]
[]
[]
[]
[]
[]
[]
[]
[]
[]
[]
[]
[]
[]
[]
[]
[]
[]
[]
[]
[]
[]
[]
[]
[]
[]
[]
[]
[]
[]
[]
[]
[]
[]
[]
[]
[]
[]
[]
[]
[]
[]
[]
[]
[]
[]
[]
[]
[]
[]
[]
[]
[]
[]
[]
[]
[]
[]
[]
[]
[]
[]
[]
[]
[]
[]
[]
[]
[]
[]
[]
[]
[]
[]
[]
[]
[]
[]
[]
[]
[]
[]
[]
[]
[]
[]
[]
[]
[]
[]
[]
[]
[]
[]
[]
[]
[]
[]
[]
[]
[]
[]
[]
[]
[]
[]
[]
[]
[]
[]
[]
[]
[]
[]
[]
[]
[]
[]
[]
[]
[]
[]
[]
[]
[]
[]
[]
[]
[]
[]
[]
[]
[]
[]
[]
[]
[]
[]
[]
[]
[]
[null,null,null,null,null,null,{"$f":"Données!$E12740*#REF!","v":{"$error":"#REF!"}}]
[null,null,null,null,null,null,{"$f":"Données!$E13412*#REF!","v":{"$error":"#REF!"}}]
[null,null,null,null,null,null,{"$f":"Données!$E13998*#REF!","v":{"$error":"#REF!"}}]
[null,null,null,null,null,null,{"$f":"Données!$E14229*#REF!","v":{"$error":"#REF!"}}]
[null,null,null,null,null,null,{"$f":"Données!$E14733*#REF!","v":{"$error":"#REF!"}}]
[null,null,null,null,null,null,{"$f":"Données!$E15410*#REF!","v":{"$error":"#REF!"}}]
[null,null,null,null,null,null,{"$f":"Données!$E15697*#REF!","v":{"$error":"#REF!"}}]
[null,null,null,null,null,null,{"$f":"Données!$E16591*#REF!","v":{"$error":"#REF!"}}]
[null,null,null,null,null,null,{"$f":"Données!$E16955*#REF!","v":{"$error":"#REF!"}}]
[null,null,null,null,null,null,{"$f":"Données!$E17250*#REF!","v":{"$error":"#REF!"}}]
[null,null,null,null,null,null,{"$f":"Données!$E17690*#REF!","v":{"$error":"#REF!"}}]
[null,null,null,null,null,null,{"$f":"Données!$E18589*#REF!","v":{"$error":"#REF!"}}]
[null,null,null,null,null,null,{"$f":"Données!$E18948*#REF!","v":{"$error":"#REF!"}}]
[null,null,null,null,null,null,{"$f":"Données!$E19248*#REF!","v":{"$error":"#REF!"}}]
[null,null,null,null,null,null,{"$f":"Données!$E19912*#REF!","v":{"$error":"#REF!"}}]
[null,null,null,null,null,null,{"$f":"Données!$E20429*#REF!","v":{"$error":"#REF!"}}]
[null,null,null,null,null,null,{"$f":"Données!$E21170*#REF!","v":{"$error":"#REF!"}}]
[null,null,null,null,null,null,{"$f":"Données!$E21610*#REF!","v":{"$error":"#REF!"}}]
[null,null,null,null,null,null,{"$f":"Données!$E21905*#REF!","v":{"$error":"#REF!"}}]
[null,null,null,null,null,null,{"$f":"Données!$E22649*#REF!","v":{"$error":"#REF!"}}]
[null,null,null,null,null,null,{"$f":"Données!$E22939*#REF!","v":{"$error":"#REF!"}}]
[null,null,null,null,null,null,{"$f":"Données!$E23907*#REF!","v":{"$error":"#REF!"}}]
[null,null,null,null,null,null,{"$f":"Données!$E24120*#REF!","v":{"$error":"#REF!"}}]
[null,null,null,null,null,null,{"$f":"Données!$E24642*#REF!","v":{"$error":"#REF!"}}]
[null,null,null,null,null,null,{"$f":"Données!$E25459*#REF!","v":{"$error":"#REF!"}}]
[null,null,null,null,null,null,{"$f":"Données!$E25900*#REF!","v":{"$error":"#REF!"}}]
[null,null,null,null,null,null,{"$f":"Données!$E26118*#REF!","v":{"$error":"#REF!"}}]
[null,null,null,null,null,null,{"$f":"Données!$E26864*#REF!","v":{"$error":"#REF!"}}]
[null,null,null,null,null,null,{"$f":"Données!$E27299*#REF!","v":{"$error":"#REF!"}}]
[null,null,null,null,null,null,{"$f":"Données!$E28122*#REF!","v":{"$error":"#REF!"}}]
[null,null,null,null,null,null,{"$f":"Données!$E28480*#REF!","v":{"$error":"#REF!"}}]
[null,null,null,null,null,null,{"$f":"Données!$E28857*#REF!","v":{"$error":"#REF!"}}]
[null,null,null,null,null,null,{"$f":"Données!$E29297*#REF!","v":{"$error":"#REF!"}}]
[null,null,null,null,null,null,{"$f":"Données!$E30115*#REF!","v":{"$error":"#REF!"}}]
[null,null,null,null,null,null,{"$f":"Données!$E30478*#REF!","v":{"$error":"#REF!"}}]
[null,null,null,null,null,null,{"$f":"Données!$E30850*#REF!","v":{"$error":"#REF!"}}]
[null,null,null,null,null,null,{"$f":"Données!$E31659*#REF!","v":{"$error":"#REF!"}}]
[null,null,null,null,null,null,{"$f":"Données!$E31814*#REF!","v":{"$error":"#REF!"}}]
[null,null,null,null,null,null,{"$f":"Données!$E32318*#REF!","v":{"$error":"#REF!"}}]
[null,null,null,null,null,null,{"$f":"Données!$E33072*#REF!","v":{"$error":"#REF!"}}]
[null,null,null,null,null,null,{"$f":"Données!$E33816*#REF!","v":{"$error":"#REF!"}}]
[null,null,null,null,null,null,{"$f":"Données!$E34169*#REF!","v":{"$error":"#REF!"}}]
[null,null,null,null,null,null,{"$f":"Données!$E34551*#REF!","v":{"$error":"#REF!"}}]
[null,null,null,null,null,null,{"$f":"Données!$E35350*#REF!","v":{"$error":"#REF!"}}]
[null,null,null,null,null,null,{"$f":"Données!$E35809*#REF!","v":{"$error":"#REF!"}}]
[null,null,null,null,null,null,{"$f":"Données!$E36167*#REF!","v":{"$error":"#REF!"}}]
[null,null,null,null,null,null,{"$f":"Données!$E36544*#REF!","v":{"$error":"#REF!"}}]
[null,null,null,null,null,null,{"$f":"Données!$E37348*#REF!","v":{"$error":"#REF!"}}]
[null,null,null,null,null,null,{"$f":"Données!$E38031*#REF!","v":{"$error":"#REF!"}}]
[null,null,null,null,null,null,{"$f":"Données!$E38529*#REF!","v":{"$error":"#REF!"}}]
[null,null,null,null,null,null,{"$f":"Données!$E38766*#REF!","v":{"$error":"#REF!"}}]
[null,null,null,null,null,null,{"$f":"Données!$E39188*#REF!","v":{"$error":"#REF!"}}]
[null,null,null,null,null,null,{"$f":"Données!$E40024*#REF!","v":{"$error":"#REF!"}}]
[null,null,null,null,null,null,{"$f":"Données!$E40527*#REF!","v":{"$error":"#REF!"}}]
[null,null,null,null,null,null,{"$f":"Données!$E40759*#REF!","v":{"$error":"#REF!"}}]
[null,null,null,null,null,null,{"$f":"Données!$E41708*#REF!","v":{"$error":"#REF!"}}]
[null,null,null,null,null,null,{"$f":"Données!$E42017*#REF!","v":{"$error":"#REF!"}}]
[null,null,null,null,null,null,{"$f":"Données!$E42367*#REF!","v":{"$error":"#REF!"}}]
[null,null,null,null,null,null,{"$f":"Données!$E42981*#REF!","v":{"$error":"#REF!"}}]
[null,null,null,null,null,null,{"$f":"Données!$E43496*#REF!","v":{"$error":"#REF!"}}]
[null,null,null,null,null,null,{"$f":"Données!$E44218*#REF!","v":{"$error":"#REF!"}}]
[null,null,null,null,null,null,{"$f":"Données!$E44460*#REF!","v":{"$error":"#REF!"}}]
[null,null,null,null,null,null,{"$f":"Données!$E44877*#REF!","v":{"$error":"#REF!"}}]
[null,null,null,null,null,null,{"$f":"Données!$E45718*#REF!","v":{"$error":"#REF!"}}]
[null,null,null,null,null,null,{"$f":"Données!$E46058*#REF!","v":{"$error":"#REF!"}}]
[null,null,null,null,null,null,{"$f":"Données!$E46453*#REF!","v":{"$error":"#REF!"}}]
[null,null,null,null,null,null,{"$f":"Données!$E47397*#REF!","v":{"$error":"#REF!"}}]
[null,null,null,null,null,null,{"$f":"Données!$E47711*#REF!","v":{"$error":"#REF!"}}]
[null,null,null,null,null,null,{"$f":"Données!$E48056*#REF!","v":{"$error":"#REF!"}}]
[null,null,null,null,null,null,{"$f":"Données!$E48675*#REF!","v":{"$error":"#REF!"}}]
[null,null,null,null,null,null,{"$f":"Données!$E49237*#REF!","v":{"$error":"#REF!"}}]
[null,null,null,null,null,null,{"$f":"Données!$E49933*#REF!","v":{"$error":"#REF!"}}]
[null,null,null,null,null,null,{"$f":"Données!$E50418*#REF!","v":{"$error":"#REF!"}}]
[null,null,null,null,null,null,{"$f":"Données!$E50668*#REF!","v":{"$error":"#REF!"}}]
[null,null,null,null,null,null,{"$f":"Données!$E51235*#REF!","v":{"$error":"#REF!"}}]
[null,null,null,null,null,null,{"$f":"Données!$E51926*#REF!","v":{"$error":"#REF!"}}]
[null,null,null,null,null,null,{"$f":"Données!$E52416*#REF!","v":{"$error":"#REF!"}}]
[null,null,null,null,null,null,{"$f":"Données!$E53184*#REF!","v":{"$error":"#REF!"}}]
[null,null,null,null,null,null,{"$f":"Données!$E53597*#REF!","v":{"$error":"#REF!"}}]
[null,null,null,null,null,null,{"$f":"Données!$E54148*#REF!","v":{"$error":"#REF!"}}]
[null,null,null,null,null,null,{"$f":"Données!$E54663*#REF!","v":{"$error":"#REF!"}}]
[null,null,null,null,null,null,{"$f":"Données!$E54926*#REF!","v":{"$error":"#REF!"}}]
[null,null,null,null,null,null,{"$f":"Données!$E55627*#REF!","v":{"$error":"#REF!"}}]
[null,null,null,null,null,null,{"$f":"Données!$E56107*#REF!","v":{"$error":"#REF!"}}]
[null,null,null,null,null,null,{"$f":"Données!$E56362*#REF!","v":{"$error":"#REF!"}}]
[null,null,null,null,null,null,{"$f":"Données!$E57288*#REF!","v":{"$error":"#REF!"}}]
[null,null,null,null,null,null,{"$f":"Données!$E57620*#REF!","v":{"$error":"#REF!"}}]
[null,null,null,null,null,null,{"$f":"Données!$E58105*#REF!","v":{"$error":"#REF!"}}]
[null,null,null,null,null,null,{"$f":"Données!$E58878*#REF!","v":{"$error":"#REF!"}}]
[null,null,null,null,null,null,{"$f":"Données!$E59286*#REF!","v":{"$error":"#REF!"}}]
[null,null,null,null,null,null,{"$f":"Données!$E59613*#REF!","v":{"$error":"#REF!"}}]
[null,null,null,null,null,null,{"$f":"Données!$E60467*#REF!","v":{"$error":"#REF!"}}]
[null,null,null,null,null,null,{"$f":"Données!$E60577*#REF!","v":{"$error":"#REF!"}}]
[null,null,null,null,null,null,{"$f":"Données!$E61126*#REF!","v":{"$error":"#REF!"}}]
[null,null,null,null,null,null,{"$f":"Données!$E61835*#REF!","v":{"$error":"#REF!"}}]
[null,null,null,null,null,null,{"$f":"Données!$E62465*#REF!","v":{"$error":"#REF!"}}]
[null,null,null,null,null,null,{"$f":"Données!$E63093*#REF!","v":{"$error":"#REF!"}}]
[null,null,null,null,null,null,{"$f":"Données!$E63646*#REF!","v":{"$error":"#REF!"}}]
[null,null,null,null,null,null,{"$f":"Données!$E63828*#REF!","v":{"$error":"#REF!"}}]
[null,null,null,null,null,null,{"$f":"Données!$E64572*#REF!","v":{"$error":"#REF!"}}]
[null,null,null,null,null,null,{"$f":"Données!$E64975*#REF!","v":{"$error":"#REF!"}}]
[null,null,null,null,null,null,{"$f":"Données!$E65307*#REF!","v":{"$error":"#REF!"}}]
[null,null,null,null,null,null,{"$f":"Données!$E66156*#REF!","v":{"$error":"#REF!"}}]
[null,null,null,null,null,null,{"$f":"Données!$E66271*#REF!","v":{"$error":"#REF!"}}]
[null,null,null,null,null,null,{"$f":"Données!$E66815*#REF!","v":{"$error":"#REF!"}}]
[null,null,null,null,null,null,{"$f":"Données!$E67529*#REF!","v":{"$error":"#REF!"}}]
[null,null,null,null,null,null,{"$f":"Données!$E67996*#REF!","v":{"$error":"#REF!"}}]
[null,null,null,null,null,null,{"$f":"Données!$E68787*#REF!","v":{"$error":"#REF!"}}]
[null,null,null,null,null,null,{"$f":"Données!$E69335*#REF!","v":{"$error":"#REF!"}}]
[null,null,null,null,null,null,{"$f":"Données!$E69522*#REF!","v":{"$error":"#REF!"}}]
[null,null,null,null,null,null,{"$f":"Données!$E69994*#REF!","v":{"$error":"#REF!"}}]
[null,null,null,null,null,null,{"$f":"Données!$E70780*#REF!","v":{"$error":"#REF!"}}]
[null,null,null,null,null,null,{"$f":"Données!$E71175*#REF!","v":{"$error":"#REF!"}}]
[null,null,null,null,null,null,{"$f":"Données!$E71744*#REF!","v":{"$error":"#REF!"}}]
[null,null,null,null,null,null,{"$f":"Données!$E72356*#REF!","v":{"$error":"#REF!"}}]
[null,null,null,null,null,null,{"$f":"Données!$E73002*#REF!","v":{"$error":"#REF!"}}]
[null,null,null,null,null,null,{"$f":"Données!$E73173*#REF!","v":{"$error":"#REF!"}}]
[null,null,null,null,null,null,{"$f":"Données!$E73737*#REF!","v":{"$error":"#REF!"}}]
[null,null,null,null,null,null,{"$f":"Données!$E74354*#REF!","v":{"$error":"#REF!"}}]
[null,null,null,null,null,null,{"$f":"Données!$E74995*#REF!","v":{"$error":"#REF!"}}]
[null,null,null,null,null,null,{"$f":"Données!$E75216*#REF!","v":{"$error":"#REF!"}}]
[null,null,null,null,null,null,{"$f":"Données!$E75683*#REF!","v":{"$error":"#REF!"}}]
[null,null,null,null,null,null,{"$f":"Données!$E76474*#REF!","v":{"$error":"#REF!"}}]
[null,null,null,null,null,null,{"$f":"Données!$E76864*#REF!","v":{"$error":"#REF!"}}]
[null,null,null,null,null,null,{"$f":"Données!$E77732*#REF!","v":{"$error":"#REF!"}}]
[null,null,null,null,null,null,{"$f":"Données!$E78045*#REF!","v":{"$error":"#REF!"}}]
[null,null,null,null,null,null,{"$f":"Données!$E78696*#REF!","v":{"$error":"#REF!"}}]
[null,null,null,null,null,null,{"$f":"Données!$E79226*#REF!","v":{"$error":"#REF!"}}]
[null,null,null,null,null,null,{"$f":"Données!$E79431*#REF!","v":{"$error":"#REF!"}}]
[null,null,null,null,null,null,{"$f":"Données!$E80043*#REF!","v":{"$error":"#REF!"}}]
[null,null,null,null,null,null,{"$f":"Données!$E80689*#REF!","v":{"$error":"#REF!"}}]
[null,null,null,null,null,null,{"$f":"Données!$E81224*#REF!","v":{"$error":"#REF!"}}]
[null,null,null,null,null,null,{"$f":"Données!$E81424*#REF!","v":{"$error":"#REF!"}}]
[null,null,null,null,null,null,{"$f":"Données!$E82405*#REF!","v":{"$error":"#REF!"}}]
[null,null,null,null,null,null,{"$f":"Données!$E82911*#REF!","v":{"$error":"#REF!"}}]
[null,null,null,null,null,null,{"$f":"Données!$E83064*#REF!","v":{"$error":"#REF!"}}]
[null,null,null,null,null,null,{"$f":"Données!$E83646*#REF!","v":{"$error":"#REF!"}}]
[null,null,null,null,null,null,{"$f":"Données!$E84403*#REF!","v":{"$error":"#REF!"}}]
[null,null,null,null,null,null,{"$f":"Données!$E84904*#REF!","v":{"$error":"#REF!"}}]
[null,null,null,null,null,null,{"$f":"Données!$E85125*#REF!","v":{"$error":"#REF!"}}]
[null,null,null,null,null,null,{"$f":"Données!$E86096*#REF!","v":{"$error":"#REF!"}}]
[null,null,null,null,null,null,{"$f":"Données!$E86383*#REF!","v":{"$error":"#REF!"}}]
[null,null,null,null,null,null,{"$f":"Données!$E86913*#REF!","v":{"$error":"#REF!"}}]
[null,null,null,null,null,null,{"$f":"Données!$E87641*#REF!","v":{"$error":"#REF!"}}]
[null,null,null,null,null,null,{"$f":"Données!$E88094*#REF!","v":{"$error":"#REF!"}}]
[null,null,null,null,null,null,{"$f":"Données!$E88376*#REF!","v":{"$error":"#REF!"}}]
[null,null,null,null,null,null,{"$f":"Données!$E88753*#REF!","v":{"$error":"#REF!"}}]
[null,null,null,null,null,null,{"$f":"Données!$E89340*#REF!","v":{"$error":"#REF!"}}]
[null,null,null,null,null,null,{"$f":"Données!$E89934*#REF!","v":{"$error":"#REF!"}}]
[null,null,null,null,null,null,{"$f":"Données!$E90598*#REF!","v":{"$error":"#REF!"}}]
[null,null,null,null,null,null,{"$f":"Données!$E91273*#REF!","v":{"$error":"#REF!"}}]
[null,null,null,null,null,null,{"$f":"Données!$E91856*#REF!","v":{"$error":"#REF!"}}]
[null,null,null,null,null,null,{"$f":"Données!$E91932*#REF!","v":{"$error":"#REF!"}}]
[null,null,null,null,null,null,{"$f":"Données!$E92591*#REF!","v":{"$error":"#REF!"}}]
[null,null,null,null,null,null,{"$f":"Données!$E93113*#REF!","v":{"$error":"#REF!"}}]
[null,null,null,null,null,null,{"$f":"Données!$E93555*#REF!","v":{"$error":"#REF!"}}]
[null,null,null,null,null,null,{"$f":"Données!$E94294*#REF!","v":{"$error":"#REF!"}}]
[null,null,null,null,null,null,{"$f":"Données!$E94813*#REF!","v":{"$error":"#REF!"}}]
[null,null,null,null,null,null,{"$f":"Données!$E95111*#REF!","v":{"$error":"#REF!"}}]
[null,null,null,null,null,null,{"$f":"Données!$E95548*#REF!","v":{"$error":"#REF!"}}]
[null,null,null,null,null,null,{"$f":"Données!$E96292*#REF!","v":{"$error":"#REF!"}}]
[null,null,null,null,null,null,{"$f":"Données!$E96804*#REF!","v":{"$error":"#REF!"}}]
[null,null,null,null,null,null,{"$f":"Données!$E97550*#REF!","v":{"$error":"#REF!"}}]
[null,null,null,null,null,null,{"$f":"Données!$E98143*#REF!","v":{"$error":"#REF!"}}]
[null,null,null,null,null,null,{"$f":"Données!$E98285*#REF!","v":{"$error":"#REF!"}}]
[null,null,null,null,null,null,{"$f":"Données!$E98802*#REF!","v":{"$error":"#REF!"}}]
[null,null,null,null,null,null,{"$f":"Données!$E99543*#REF!","v":{"$error":"#REF!"}}]
[null,null,null,null,null,null,{"$f":"Données!$E99983*#REF!","v":{"$error":"#REF!"}}]
[null,null,null,null,null,null,{"$f":"Données!$E100507*#REF!","v":{"$error":"#REF!"}}]
[null,null,null,null,null,null,{"$f":"Données!$E101164*#REF!","v":{"$error":"#REF!"}}]
[null,null,null,null,null,null,{"$f":"Données!$E101765*#REF!","v":{"$error":"#REF!"}}]
[null,null,null,null,null,null,{"$f":"Données!$E101981*#REF!","v":{"$error":"#REF!"}}]
[null,null,null,null,null,null,{"$f":"Données!$E102500*#REF!","v":{"$error":"#REF!"}}]
[null,null,null,null,null,null,{"$f":"Données!$E103162*#REF!","v":{"$error":"#REF!"}}]
[null,null,null,null,null,null,{"$f":"Données!$E103758*#REF!","v":{"$error":"#REF!"}}]
[null,null,null,null,null,null,{"$f":"Données!$E104343*#REF!","v":{"$error":"#REF!"}}]
[null,null,null,null,null,null,{"$f":"Données!$E104722*#REF!","v":{"$error":"#REF!"}}]
[null,null,null,null,null,null,{"$f":"Données!$E105002*#REF!","v":{"$error":"#REF!"}}]
[null,null,null,null,null,null,{"$f":"Données!$E105980*#REF!","v":{"$error":"#REF!"}}]
[null,null,null,null,null,null,{"$f":"Données!$E106495*#REF!","v":{"$error":"#REF!"}}]
[null,null,null,null,null,null,{"$f":"Données!$E106853*#REF!","v":{"$error":"#REF!"}}]
[null,null,null,null,null,null,{"$f":"Données!$E107459*#REF!","v":{"$error":"#REF!"}}]
[null,null,null,null,null,null,{"$f":"Données!$E108034*#REF!","v":{"$error":"#REF!"}}]
[null,null,null,null,null,null,{"$f":"Données!$E108194*#REF!","v":{"$error":"#REF!"}}]
[null,null,null,null,null,null,{"$f":"Données!$E108851*#REF!","v":{"$error":"#REF!"}}]
[null,null,null,null,null,null,{"$f":"Données!$E109452*#REF!","v":{"$error":"#REF!"}}]
[null,null,null,null,null,null,{"$f":"Données!$E110032*#REF!","v":{"$error":"#REF!"}}]
[null,null,null,null,null,null,{"$f":"Données!$E110187*#REF!","v":{"$error":"#REF!"}}]
[null,null,null,null,null,null,{"$f":"Données!$E110691*#REF!","v":{"$error":"#REF!"}}]
[null,null,null,null,null,null,{"$f":"Données!$E111674*#REF!","v":{"$error":"#REF!"}}]
[null,null,null,null,null,null,{"$f":"Données!$E111872*#REF!","v":{"$error":"#REF!"}}]
[null,null,null,null,null,null,{"$f":"Données!$E112409*#REF!","v":{"$error":"#REF!"}}]
[null,null,null,null,null,null,{"$f":"Données!$E113211*#REF!","v":{"$error":"#REF!"}}]
[null,null,null,null,null,null,{"$f":"Données!$E113667*#REF!","v":{"$error":"#REF!"}}]
[null,null,null,null,null,null,{"$f":"Données!$E113870*#REF!","v":{"$error":"#REF!"}}]
[null,null,null,null,null,null,{"$f":"Données!$E114402*#REF!","v":{"$error":"#REF!"}}]
[null,null,null,null,null,null,{"$f":"Données!$E115051*#REF!","v":{"$error":"#REF!"}}]
[null,null,null,null,null,null,{"$f":"Données!$E115889*#REF!","v":{"$error":"#REF!"}}]
[null,null,null,null,null,null,{"$f":"Données!$E116232*#REF!","v":{"$error":"#REF!"}}]
[null,null,null,null,null,null,{"$f":"Données!$E116624*#REF!","v":{"$error":"#REF!"}}]
[null,null,null,null,null,null,{"$f":"Données!$E117139*#REF!","v":{"$error":"#REF!"}}]
[null,null,null,null,null,null,{"$f":"Données!$E117561*#REF!","v":{"$error":"#REF!"}}]
[null,null,null,null,null,null,{"$f":"Données!$E118103*#REF!","v":{"$error":"#REF!"}}]
[null,null,null,null,null,null,{"$f":"Données!$E118742*#REF!","v":{"$error":"#REF!"}}]
[null,null,null,null,null,null,{"$f":"Données!$E119361*#REF!","v":{"$error":"#REF!"}}]
[null,null,null,null,null,null,{"$f":"Données!$E120081*#REF!","v":{"$error":"#REF!"}}]
[null,null,null,null,null,null,{"$f":"Données!$E120096*#REF!","v":{"$error":"#REF!"}}]
[null,null,null,null,null,null,{"$f":"Données!$E120740*#REF!","v":{"$error":"#REF!"}}]
[null,null,null,null,null,null,{"$f":"Données!$E121354*#REF!","v":{"$error":"#REF!"}}]
[null,null,null,null,null,null,{"$f":"Données!$E121921*#REF!","v":{"$error":"#REF!"}}]
[null,null,null,null,null,null,{"$f":"Données!$E122318*#REF!","v":{"$error":"#REF!"}}]
[null,null,null,null,null,null,{"$f":"Données!$E123102*#REF!","v":{"$error":"#REF!"}}]
[null,null,null,null,null,null,{"$f":"Données!$E123576*#REF!","v":{"$error":"#REF!"}}]
[null,null,null,null,null,null,{"$f":"Données!$E123919*#REF!","v":{"$error":"#REF!"}}]
[null,null,null,null,null,null,{"$f":"Données!$E124311*#REF!","v":{"$error":"#REF!"}}]
[null,null,null,null,null,null,{"$f":"Données!$E125100*#REF!","v":{"$error":"#REF!"}}]
[null,null,null,null,null,null,{"$f":"Données!$E125569*#REF!","v":{"$error":"#REF!"}}]
[null,null,null,null,null,null,{"$f":"Données!$E126281*#REF!","v":{"$error":"#REF!"}}]
[null,null,null,null,null,null,{"$f":"Données!$E126533*#REF!","v":{"$error":"#REF!"}}]
[null,null,null,null,null,null,{"$f":"Données!$E127048*#REF!","v":{"$error":"#REF!"}}]
[null,null,null,null,null,null,{"$f":"Données!$E127610*#REF!","v":{"$error":"#REF!"}}]
[null,null,null,null,null,null,{"$f":"Données!$E128306*#REF!","v":{"$error":"#REF!"}}]
[null,null,null,null,null,null,{"$f":"Données!$E128791*#REF!","v":{"$error":"#REF!"}}]
[null,null,null,null,null,null,{"$f":"Données!$E129270*#REF!","v":{"$error":"#REF!"}}]
[null,null,null,null,null,null,{"$f":"Données!$E129972*#REF!","v":{"$error":"#REF!"}}]
[null,null,null,null,null,null,{"$f":"Données!$E130528*#REF!","v":{"$error":"#REF!"}}]
[null,null,null,null,null,null,{"$f":"Données!$E130789*#REF!","v":{"$error":"#REF!"}}]
[null,null,null,null,null,null,{"$f":"Données!$E131263*#REF!","v":{"$error":"#REF!"}}]
[null,null,null,null,null,null,{"$f":"Données!$E131970*#REF!","v":{"$error":"#REF!"}}]
[null,null,null,null,null,null,{"$f":"Données!$E132521*#REF!","v":{"$error":"#REF!"}}]
[null,null,null,null,null,null,{"$f":"Données!$E133151*#REF!","v":{"$error":"#REF!"}}]
[null,null,null,null,null,null,{"$f":"Données!$E133485*#REF!","v":{"$error":"#REF!"}}]
[null,null,null,null,null,null,{"$f":"Données!$E133810*#REF!","v":{"$error":"#REF!"}}]
[null,null,null,null,null,null,{"$f":"Données!$E134220*#REF!","v":{"$error":"#REF!"}}]
[null,null,null,null,null,null,{"$f":"Données!$E134991*#REF!","v":{"$error":"#REF!"}}]
[null,null,null,null,null,null,{"$f":"Données!$E135478*#REF!","v":{"$error":"#REF!"}}]
[null,null,null,null,null,null,{"$f":"Données!$E135808*#REF!","v":{"$error":"#REF!"}}]
[null,null,null,null,null,null,{"$f":"Données!$E136736*#REF!","v":{"$error":"#REF!"}}]
[null,null,null,null,null,null,{"$f":"Données!$E136989*#REF!","v":{"$error":"#REF!"}}]
[null,null,null,null,null,null,{"$f":"Données!$E137700*#REF!","v":{"$error":"#REF!"}}]
[null,null,null,null,null,null,{"$f":"Données!$E138215*#REF!","v":{"$error":"#REF!"}}]
[null,null,null,null,null,null,{"$f":"Données!$E138840*#REF!","v":{"$error":"#REF!"}}]
[null,null,null,null,null,null,{"$f":"Données!$E138950*#REF!","v":{"$error":"#REF!"}}]
[null,null,null,null,null,null,{"$f":"Données!$E139499*#REF!","v":{"$error":"#REF!"}}]
[null,null,null,null,null,null,{"$f":"Données!$E140437*#REF!","v":{"$error":"#REF!"}}]
[null,null,null,null,null,null,{"$f":"Données!$E140680*#REF!","v":{"$error":"#REF!"}}]
[null,null,null,null,null,null,{"$f":"Données!$E141172*#REF!","v":{"$error":"#REF!"}}]
[null,null,null,null,null,null,{"$f":"Données!$E142019*#REF!","v":{"$error":"#REF!"}}]
[null,null,null,null,null,null,{"$f":"Données!$E142430*#REF!","v":{"$error":"#REF!"}}]
[null,null,null,null,null,null,{"$f":"Données!$E142678*#REF!","v":{"$error":"#REF!"}}]
[null,null,null,null,null,null,{"$f":"Données!$E143165*#REF!","v":{"$error":"#REF!"}}]
[null,null,null,null,null,null,{"$f":"Données!$E143859*#REF!","v":{"$error":"#REF!"}}]
[null,null,null,null,null,null,{"$f":"Données!$E144129*#REF!","v":{"$error":"#REF!"}}]
[null,null,null,null,null,null,{"$f":"Données!$E145040*#REF!","v":{"$error":"#REF!"}}]
[null,null,null,null,null,null,{"$f":"Données!$E145387*#REF!","v":{"$error":"#REF!"}}]
[null,null,null,null,null,null,{"$f":"Données!$E145699*#REF!","v":{"$error":"#REF!"}}]
[null,null,null,null,null,null,{"$f":"Données!$E146645*#REF!","v":{"$error":"#REF!"}}]
[null,null,null,null,null,null,{"$f":"Données!$E147038*#REF!","v":{"$error":"#REF!"}}]
[null,null,null,null,null,null,{"$f":"Données!$E147380*#REF!","v":{"$error":"#REF!"}}]
[null,null,null,null,null,null,{"$f":"Données!$E148124*#REF!","v":{"$error":"#REF!"}}]
[null,null,null,null,null,null,{"$f":"Données!$E148367*#REF!","v":{"$error":"#REF!"}}]
[null,null,null,null,null,null,{"$f":"Données!$E148859*#REF!","v":{"$error":"#REF!"}}]
[null,null,null,null,null,null,{"$f":"Données!$E149548*#REF!","v":{"$error":"#REF!"}}]
[null,null,null,null,null,null,{"$f":"Données!$E150117*#REF!","v":{"$error":"#REF!"}}]
[null,null,null,null,null,null,{"$f":"Données!$E150729*#REF!","v":{"$error":"#REF!"}}]
[null,null,null,null,null,null,{"$f":"Données!$E151081*#REF!","v":{"$error":"#REF!"}}]
[null,null,null,null,null,null,{"$f":"Données!$E151910*#REF!","v":{"$error":"#REF!"}}]
[null,null,null,null,null,null,{"$f":"Données!$E152339*#REF!","v":{"$error":"#REF!"}}]
[null,null,null,null,null,null,{"$f":"Données!$E152569*#REF!","v":{"$error":"#REF!"}}]
[null,null,null,null,null,null,{"$f":"Données!$E153074*#REF!","v":{"$error":"#REF!"}}]
[null,null,null,null,null,null,{"$f":"Données!$E153908*#REF!","v":{"$error":"#REF!"}}]
[null,null,null,null,null,null,{"$f":"Données!$E154332*#REF!","v":{"$error":"#REF!"}}]
[null,null,null,null,null,null,{"$f":"Données!$E155089*#REF!","v":{"$error":"#REF!"}}]
[null,null,null,null,null,null,{"$f":"Données!$E155296*#REF!","v":{"$error":"#REF!"}}]
[null,null,null,null,null,null,{"$f":"Données!$E155748*#REF!","v":{"$error":"#REF!"}}]
[null,null,null,null,null,null,{"$f":"Données!$E156554*#REF!","v":{"$error":"#REF!"}}]
[null,null,null,null,null,null,{"$f":"Données!$E156929*#REF!","v":{"$error":"#REF!"}}]
[null,null,null,null,null,null,{"$f":"Données!$E157289*#REF!","v":{"$error":"#REF!"}}]
[null,null,null,null,null,null,{"$f":"Données!$E157746*#REF!","v":{"$error":"#REF!"}}]
[null,null,null,null,null,null,{"$f":"Données!$E158547*#REF!","v":{"$error":"#REF!"}}]
[null,null,null,null,null,null,{"$f":"Données!$E158768*#REF!","v":{"$error":"#REF!"}}]
[null,null,null,null,null,null,{"$f":"Données!$E159597*#REF!","v":{"$error":"#REF!"}}]
[null,null,null,null,null,null,{"$f":"Données!$E160026*#REF!","v":{"$error":"#REF!"}}]
[null,null,null,null,null,null,{"$f":"Données!$E160778*#REF!","v":{"$error":"#REF!"}}]
[null,null,null,null,null,null,{"$f":"Données!$E161284*#REF!","v":{"$error":"#REF!"}}]
[null,null,null,null,null,null,{"$f":"Données!$E161437*#REF!","v":{"$error":"#REF!"}}]
[null,null,null,null,null,null,{"$f":"Données!$E162248*#REF!","v":{"$error":"#REF!"}}]
[null,null,null,null,null,null,{"$f":"Données!$E162618*#REF!","v":{"$error":"#REF!"}}]
[null,null,null,null,null,null,{"$f":"Données!$E162983*#REF!","v":{"$error":"#REF!"}}]
[null,null,null,null,null,null,{"$f":"Données!$E163799*#REF!","v":{"$error":"#REF!"}}]
[null,null,null,null,null,null,{"$f":"Données!$E164241*#REF!","v":{"$error":"#REF!"}}]
[null,null,null,null,null,null,{"$f":"Données!$E164616*#REF!","v":{"$error":"#REF!"}}]
[null,null,null,null,null,null,{"$f":"Données!$E165499*#REF!","v":{"$error":"#REF!"}}]
[null,null,null,null,null,null,{"$f":"Données!$E165797*#REF!","v":{"$error":"#REF!"}}]
[null,null,null,null,null,null,{"$f":"Données!$E166463*#REF!","v":{"$error":"#REF!"}}]
[null,null,null,null,null,null,{"$f":"Données!$E166978*#REF!","v":{"$error":"#REF!"}}]
[null,null,null,null,null,null,{"$f":"Données!$E167198*#REF!","v":{"$error":"#REF!"}}]
[null,null,null,null,null,null,{"$f":"Données!$E168159*#REF!","v":{"$error":"#REF!"}}]
[null,null,null,null,null,null,{"$f":"Données!$E168456*#REF!","v":{"$error":"#REF!"}}]
[null,null,null,null,null,null,{"$f":"Données!$E169200*#REF!","v":{"$error":"#REF!"}}]
[null,null,null,null,null,null,{"$f":"Données!$E169488*#REF!","v":{"$error":"#REF!"}}]
[null,null,null,null,null,null,{"$f":"Données!$E169935*#REF!","v":{"$error":"#REF!"}}]
[null,null,null,null,null,null,{"$f":"Données!$E170305*#REF!","v":{"$error":"#REF!"}}]
[null,null,null,null,null,null,{"$f":"Données!$E171193*#REF!","v":{"$error":"#REF!"}}]
[null,null,null,null,null,null,{"$f":"Données!$E171486*#REF!","v":{"$error":"#REF!"}}]
[null,null,null,null,null,null,{"$f":"Données!$E171928*#REF!","v":{"$error":"#REF!"}}]
[null,null,null,null,null,null,{"$f":"Données!$E172667*#REF!","v":{"$error":"#REF!"}}]
[null,null,null,null,null,null,{"$f":"Données!$E172892*#REF!","v":{"$error":"#REF!"}}]
[null,null,null,null,null,null,{"$f":"Données!$E173848*#REF!","v":{"$error":"#REF!"}}]
[null,null,null,null,null,null,{"$f":"Données!$E174150*#REF!","v":{"$error":"#REF!"}}]
[null,null,null,null,null,null,{"$f":"Données!$E174507*#REF!","v":{"$error":"#REF!"}}]
[null,null,null,null,null,null,{"$f":"Données!$E175408*#REF!","v":{"$error":"#REF!"}}]
[null,null,null,null,null,null,{"$f":"Données!$E175846*#REF!","v":{"$error":"#REF!"}}]
[null,null,null,null,null,null,{"$f":"Données!$E176143*#REF!","v":{"$error":"#REF!"}}]
[null,null,null,null,null,null,{"$f":"Données!$E177027*#REF!","v":{"$error":"#REF!"}}]
[null,null,null,null,null,null,{"$f":"Données!$E177107*#REF!","v":{"$error":"#REF!"}}]
[null,null,null,null,null,null,{"$f":"Données!$E177686*#REF!","v":{"$error":"#REF!"}}]
[null,null,null,null,null,null,{"$f":"Données!$E178365*#REF!","v":{"$error":"#REF!"}}]
[null,null,null,null,null,null,{"$f":"Données!$E178867*#REF!","v":{"$error":"#REF!"}}]
[null,null,null,null,null,null,{"$f":"Données!$E179623*#REF!","v":{"$error":"#REF!"}}]
[null,null,null,null,null,null,{"$f":"Données!$E179844*#REF!","v":{"$error":"#REF!"}}]
[null,null,null,null,null,null,{"$f":"Données!$E180196*#REF!","v":{"$error":"#REF!"}}]
[null,null,null,null,null,null,{"$f":"Données!$E181102*#REF!","v":{"$error":"#REF!"}}]
[null,null,null,null,null,null,{"$f":"Données!$E181377*#REF!","v":{"$error":"#REF!"}}]
[null,null,null,null,null,null,{"$f":"Données!$E181837*#REF!","v":{"$error":"#REF!"}}]
[null,null,null,null,null,null,{"$f":"Données!$E182716*#REF!","v":{"$error":"#REF!"}}]
[null,null,null,null,null,null,{"$f":"Données!$E183095*#REF!","v":{"$error":"#REF!"}}]
[null,null,null,null,null,null,{"$f":"Données!$E183375*#REF!","v":{"$error":"#REF!"}}]
[null,null,null,null,null,null,{"$f":"Données!$E184059*#REF!","v":{"$error":"#REF!"}}]
[null,null,null,null,null,null,{"$f":"Données!$E184556*#REF!","v":{"$error":"#REF!"}}]
[null,null,null,null,null,null,{"$f":"Données!$E185317*#REF!","v":{"$error":"#REF!"}}]
[null,null,null,null,null,null,{"$f":"Données!$E185737*#REF!","v":{"$error":"#REF!"}}]
[null,null,null,null,null,null,{"$f":"Données!$E186052*#REF!","v":{"$error":"#REF!"}}]
[null,null,null,null,null,null,{"$f":"Données!$E186554*#REF!","v":{"$error":"#REF!"}}]
[null,null,null,null,null,null,{"$f":"Données!$E187310*#REF!","v":{"$error":"#REF!"}}]
[null,null,null,null,null,null,{"$f":"Données!$E187735*#REF!","v":{"$error":"#REF!"}}]
[null,null,null,null,null,null,{"$f":"Données!$E188274*#REF!","v":{"$error":"#REF!"}}]
[null,null,null,null,null,null,{"$f":"Données!$E188916*#REF!","v":{"$error":"#REF!"}}]
[null,null,null,null,null,null,{"$f":"Données!$E189532*#REF!","v":{"$error":"#REF!"}}]
[null,null,null,null,null,null,{"$f":"Données!$E190047*#REF!","v":{"$error":"#REF!"}}]
[null,null,null,null,null,null,{"$f":"Données!$E190245*#REF!","v":{"$error":"#REF!"}}]
[null,null,null,null,null,null,{"$f":"Données!$E191011*#REF!","v":{"$error":"#REF!"}}]
[null,null,null,null,null,null,{"$f":"Données!$E191426*#REF!","v":{"$error":"#REF!"}}]
[null,null,null,null,null,null,{"$f":"Données!$E191746*#REF!","v":{"$error":"#REF!"}}]
[null,null,null,null,null,null,{"$f":"Données!$E192607*#REF!","v":{"$error":"#REF!"}}]
[null,null,null,null,null,null,{"$f":"Données!$E193004*#REF!","v":{"$error":"#REF!"}}]
[null,null,null,null,null,null,{"$f":"Données!$E193424*#REF!","v":{"$error":"#REF!"}}]
[null,null,null,null,null,null,{"$f":"Données!$E194262*#REF!","v":{"$error":"#REF!"}}]
[null,null,null,null,null,null,{"$f":"Données!$E194605*#REF!","v":{"$error":"#REF!"}}]
[null,null,null,null,null,null,{"$f":"Données!$E195226*#REF!","v":{"$error":"#REF!"}}]
[null,null,null,null,null,null,{"$f":"Données!$E195786*#REF!","v":{"$error":"#REF!"}}]
[null,null,null,null,null,null,{"$f":"Données!$E195961*#REF!","v":{"$error":"#REF!"}}]
[null,null,null,null,null,null,{"$f":"Données!$E196445*#REF!","v":{"$error":"#REF!"}}]
[null,null,null,null,null,null,{"$f":"Données!$E197219*#REF!","v":{"$error":"#REF!"}}]
[null,null,null,null,null,null,{"$f":"Données!$E197784*#REF!","v":{"$error":"#REF!"}}]
[null,null,null,null,null,null,{"$f":"Données!$E197954*#REF!","v":{"$error":"#REF!"}}]
[null,null,null,null,null,null,{"$f":"Données!$E198965*#REF!","v":{"$error":"#REF!"}}]
[null,null,null,null,null,null,{"$f":"Données!$E199212*#REF!","v":{"$error":"#REF!"}}]
[null,null,null,null,null,null,{"$f":"Données!$E199624*#REF!","v":{"$error":"#REF!"}}]
[null,null,null,null,null,null,{"$f":"Données!$E200176*#REF!","v":{"$error":"#REF!"}}]
[null,null,null,null,null,null,{"$f":"Données!$E200691*#REF!","v":{"$error":"#REF!"}}]
[null,null,null,null,null,null,{"$f":"Données!$E201475*#REF!","v":{"$error":"#REF!"}}]
[null,null,null,null,null,null,{"$f":"Données!$E201655*#REF!","v":{"$error":"#REF!"}}]
[null,null,null,null,null,null,{"$f":"Données!$E202134*#REF!","v":{"$error":"#REF!"}}]
[null,null,null,null,null,null,{"$f":"Données!$E202913*#REF!","v":{"$error":"#REF!"}}]
[null,null,null,null,null,null,{"$f":"Données!$E203315*#REF!","v":{"$error":"#REF!"}}]
[null,null,null,null,null,null,{"$f":"Données!$E204171*#REF!","v":{"$error":"#REF!"}}]
[null,null,null,null,null,null,{"$f":"Données!$E204654*#REF!","v":{"$error":"#REF!"}}]
[null,null,null,null,null,null,{"$f":"Données!$E204906*#REF!","v":{"$error":"#REF!"}}]
[null,null,null,null,null,null,{"$f":"Données!$E205313*#REF!","v":{"$error":"#REF!"}}]
[null,null,null,null,null,null,{"$f":"Données!$E205870*#REF!","v":{"$error":"#REF!"}}]
[null,null,null,null,null,null,{"$f":"Données!$E206494*#REF!","v":{"$error":"#REF!"}}]
[null,null,null,null,null,null,{"$f":"Données!$E207128*#REF!","v":{"$error":"#REF!"}}]
[null,null,null,null,null,null,{"$f":"Données!$E207675*#REF!","v":{"$error":"#REF!"}}]
[null,null,null,null,null,null,{"$f":"Données!$E208386*#REF!","v":{"$error":"#REF!"}}]
[null,null,null,null,null,null,{"$f":"Données!$E208492*#REF!","v":{"$error":"#REF!"}}]
[null,null,null,null,null,null,{"$f":"Données!$E209121*#REF!","v":{"$error":"#REF!"}}]
[null,null,null,null,null,null,{"$f":"Données!$E209673*#REF!","v":{"$error":"#REF!"}}]
[null,null,null,null,null,null,{"$f":"Données!$E210379*#REF!","v":{"$error":"#REF!"}}]
[null,null,null,null,null,null,{"$f":"Données!$E210600*#REF!","v":{"$error":"#REF!"}}]
[null,null,null,null,null,null,{"$f":"Données!$E211524*#REF!","v":{"$error":"#REF!"}}]
[null,null,null,null,null,null,{"$f":"Données!$E211858*#REF!","v":{"$error":"#REF!"}}]
[null,null,null,null,null,null,{"$f":"Données!$E212183*#REF!","v":{"$error":"#REF!"}}]
[null,null,null,null,null,null,{"$f":"Données!$E212822*#REF!","v":{"$error":"#REF!"}}]
[null,null,null,null,null,null,{"$f":"Données!$E213364*#REF!","v":{"$error":"#REF!"}}]
[null,null,null,null,null,null,{"$f":"Données!$E214080*#REF!","v":{"$error":"#REF!"}}]
[null,null,null,null,null,null,{"$f":"Données!$E214545*#REF!","v":{"$error":"#REF!"}}]
[null,null,null,null,null,null,{"$f":"Données!$E214815*#REF!","v":{"$error":"#REF!"}}]
[null,null,null,null,null,null,{"$f":"Données!$E215362*#REF!","v":{"$error":"#REF!"}}]
[null,null,null,null,null,null,{"$f":"Données!$E216073*#REF!","v":{"$error":"#REF!"}}]
[null,null,null,null,null,null,{"$f":"Données!$E216543*#REF!","v":{"$error":"#REF!"}}]
[null,null,null,null,null,null,{"$f":"Données!$E217037*#REF!","v":{"$error":"#REF!"}}]
[null,null,null,null,null,null,{"$f":"Données!$E217724*#REF!","v":{"$error":"#REF!"}}]
[null,null,null,null,null,null,{"$f":"Données!$E218295*#REF!","v":{"$error":"#REF!"}}]
[null,null,null,null,null,null,{"$f":"Données!$E218383*#REF!","v":{"$error":"#REF!"}}]
[null,null,null,null,null,null,{"$f":"Données!$E219030*#REF!","v":{"$error":"#REF!"}}]
[null,null,null,null,null,null,{"$f":"Données!$E219722*#REF!","v":{"$error":"#REF!"}}]
[null,null,null,null,null,null,{"$f":"Données!$E220288*#REF!","v":{"$error":"#REF!"}}]
[null,null,null,null,null,null,{"$f":"Données!$E220903*#REF!","v":{"$error":"#REF!"}}]
[null,null,null,null,null,null,{"$f":"Données!$E221023*#REF!","v":{"$error":"#REF!"}}]
[null,null,null,null,null,null,{"$f":"Données!$E221767*#REF!","v":{"$error":"#REF!"}}]
[null,null,null,null,null,null,{"$f":"Données!$E222232*#REF!","v":{"$error":"#REF!"}}]
[null,null,null,null,null,null,{"$f":"Données!$E223025*#REF!","v":{"$error":"#REF!"}}]
[null,null,null,null,null,null,{"$f":"Données!$E223413*#REF!","v":{"$error":"#REF!"}}]
[null,null,null,null,null,null,{"$f":"Données!$E223989*#REF!","v":{"$error":"#REF!"}}]
[null,null,null,null,null,null,{"$f":"Données!$E224594*#REF!","v":{"$error":"#REF!"}}]
[null,null,null,null,null,null,{"$f":"Données!$E224724*#REF!","v":{"$error":"#REF!"}}]
[null,null,null,null,null,null,{"$f":"Données!$E225253*#REF!","v":{"$error":"#REF!"}}]
[null,null,null,null,null,null,{"$f":"Données!$E225982*#REF!","v":{"$error":"#REF!"}}]
[null,null,null,null,null,null,{"$f":"Données!$E226592*#REF!","v":{"$error":"#REF!"}}]
[null,null,null,null,null,null,{"$f":"Données!$E226717*#REF!","v":{"$error":"#REF!"}}]
[null,null,null,null,null,null,{"$f":"Données!$E227251*#REF!","v":{"$error":"#REF!"}}]
[null,null,null,null,null,null,{"$f":"Données!$E227975*#REF!","v":{"$error":"#REF!"}}]
[null,null,null,null,null,null,{"$f":"Données!$E228432*#REF!","v":{"$error":"#REF!"}}]
[null,null,null,null,null,null,{"$f":"Données!$E228939*#REF!","v":{"$error":"#REF!"}}]
[null,null,null,null,null,null,{"$f":"Données!$E229613*#REF!","v":{"$error":"#REF!"}}]
[null,null,null,null,null,null,{"$f":"Données!$E230197*#REF!","v":{"$error":"#REF!"}}]
[null,null,null,null,null,null,{"$f":"Données!$E230430*#REF!","v":{"$error":"#REF!"}}]
[null,null,null,null,null,null,{"$f":"Données!$E230932*#REF!","v":{"$error":"#REF!"}}]
[null,null,null,null,null,null,{"$f":"Données!$E231676*#REF!","v":{"$error":"#REF!"}}]
[null,null,null,null,null,null,{"$f":"Données!$E232123*#REF!","v":{"$error":"#REF!"}}]
[null,null,null,null,null,null,{"$f":"Données!$E232934*#REF!","v":{"$error":"#REF!"}}]
[null,null,null,null,null,null,{"$f":"Données!$E233462*#REF!","v":{"$error":"#REF!"}}]
[null,null,null,null,null,null,{"$f":"Données!$E233669*#REF!","v":{"$error":"#REF!"}}]
[null,null,null,null,null,null,{"$f":"Données!$E234121*#REF!","v":{"$error":"#REF!"}}]
[null,null,null,null,null,null,{"$f":"Données!$E234633*#REF!","v":{"$error":"#REF!"}}]
[null,null,null,null,null,null,{"$f":"Données!$E235302*#REF!","v":{"$error":"#REF!"}}]
[null,null,null,null,null,null,{"$f":"Données!$E235891*#REF!","v":{"$error":"#REF!"}}]
[null,null,null,null,null,null,{"$f":"Données!$E236483*#REF!","v":{"$error":"#REF!"}}]
[null,null,null,null,null,null,{"$f":"Données!$E236626*#REF!","v":{"$error":"#REF!"}}]
[null,null,null,null,null,null,{"$f":"Données!$E237300*#REF!","v":{"$error":"#REF!"}}]
[null,null,null,null,null,null,{"$f":"Données!$E237884*#REF!","v":{"$error":"#REF!"}}]
[null,null,null,null,null,null,{"$f":"Données!$E238481*#REF!","v":{"$error":"#REF!"}}]
[null,null,null,null,null,null,{"$f":"Données!$E239142*#REF!","v":{"$error":"#REF!"}}]
[null,null,null,null,null,null,{"$f":"Données!$E239662*#REF!","v":{"$error":"#REF!"}}]
[null,null,null,null,null,null,{"$f":"Données!$E240106*#REF!","v":{"$error":"#REF!"}}]
[null,null,null,null,null,null,{"$f":"Données!$E240321*#REF!","v":{"$error":"#REF!"}}]
[null,null,null,null,null,null,{"$f":"Données!$E240841*#REF!","v":{"$error":"#REF!"}}]
[null,null,null,null,null,null,{"$f":"Données!$E241660*#REF!","v":{"$error":"#REF!"}}]
[null,null,null,null,null,null,{"$f":"Données!$E242099*#REF!","v":{"$error":"#REF!"}}]
[null,null,null,null,null,null,{"$f":"Données!$E242843*#REF!","v":{"$error":"#REF!"}}]
[null,null,null,null,null,null,{"$f":"Données!$E243353*#REF!","v":{"$error":"#REF!"}}]
[null,null,null,null,null,null,{"$f":"Données!$E243578*#REF!","v":{"$error":"#REF!"}}]
[null,null,null,null,null,null,{"$f":"Données!$E244170*#REF!","v":{"$error":"#REF!"}}]
[null,null,null,null,null,null,{"$f":"Données!$E244836*#REF!","v":{"$error":"#REF!"}}]
[null,null,null,null,null,null,{"$f":"Données!$E245351*#REF!","v":{"$error":"#REF!"}}]
[null,null,null,null,null,null,{"$f":"Données!$E245800*#REF!","v":{"$error":"#REF!"}}]
[null,null,null,null,null,null,{"$f":"Données!$E246532*#REF!","v":{"$error":"#REF!"}}]
[null,null,null,null,null,null,{"$f":"Données!$E247058*#REF!","v":{"$error":"#REF!"}}]
[null,null,null,null,null,null,{"$f":"Données!$E247191*#REF!","v":{"$error":"#REF!"}}]
[null,null,null,null,null,null,{"$f":"Données!$E247793*#REF!","v":{"$error":"#REF!"}}]
[null,null,null,null,null,null,{"$f":"Données!$E248530*#REF!","v":{"$error":"#REF!"}}]
[null,null,null,null,null,null,{"$f":"Données!$E249051*#REF!","v":{"$error":"#REF!"}}]
[null,null,null,null,null,null,{"$f":"Données!$E249189*#REF!","v":{"$error":"#REF!"}}]
[null,null,null,null,null,null,{"$f":"Données!$E249786*#REF!","v":{"$error":"#REF!"}}]
[null,null,null,null,null,null,{"$f":"Données!$E250370*#REF!","v":{"$error":"#REF!"}}]
[null,null,null,null,null,null,{"$f":"Données!$E250750*#REF!","v":{"$error":"#REF!"}}]
[null,null,null,null,null,null,{"$f":"Données!$E251551*#REF!","v":{"$error":"#REF!"}}]
[null,null,null,null,null,null,{"$f":"Données!$E252008*#REF!","v":{"$error":"#REF!"}}]
[null,null,null,null,null,null,{"$f":"Données!$E252752*#REF!","v":{"$error":"#REF!"}}]
[null,null,null,null,null,null,{"$f":"Données!$E252880*#REF!","v":{"$error":"#REF!"}}]
[null,null,null,null,null,null,{"$f":"Données!$E253487*#REF!","v":{"$error":"#REF!"}}]
[null,null,null,null,null,null,{"$f":"Données!$E254061*#REF!","v":{"$error":"#REF!"}}]
[null,null,null,null,null,null,{"$f":"Données!$E254745*#REF!","v":{"$error":"#REF!"}}]
[null,null,null,null,null,null,{"$f":"Données!$E255400*#REF!","v":{"$error":"#REF!"}}]
[null,null,null,null,null,null,{"$f":"Données!$E255480*#REF!","v":{"$error":"#REF!"}}]
[null,null,null,null,null,null,{"$f":"Données!$E256059*#REF!","v":{"$error":"#REF!"}}]
[null,null,null,null,null,null,{"$f":"Données!$E256738*#REF!","v":{"$error":"#REF!"}}]
[null,null,null,null,null,null,{"$f":"Données!$E257240*#REF!","v":{"$error":"#REF!"}}]
[null,null,null,null,null,null,{"$f":"Données!$E257702*#REF!","v":{"$error":"#REF!"}}]
[null,null,null,null,null,null,{"$f":"Données!$E258421*#REF!","v":{"$error":"#REF!"}}]
[null,null,null,null,null,null,{"$f":"Données!$E258960*#REF!","v":{"$error":"#REF!"}}]
[null,null,null,null,null,null,{"$f":"Données!$E259238*#REF!","v":{"$error":"#REF!"}}]
[null,null,null,null,null,null,{"$f":"Données!$E259695*#REF!","v":{"$error":"#REF!"}}]
[null,null,null,null,null,null,{"$f":"Données!$E260419*#REF!","v":{"$error":"#REF!"}}]
[null,null,null,null,null,null,{"$f":"Données!$E260953*#REF!","v":{"$error":"#REF!"}}]
[null,null,null,null,null,null,{"$f":"Données!$E261600*#REF!","v":{"$error":"#REF!"}}]
[null,null,null,null,null,null,{"$f":"Données!$E261917*#REF!","v":{"$error":"#REF!"}}]
[null,null,null,null,null,null,{"$f":"Données!$E262259*#REF!","v":{"$error":"#REF!"}}]
[null,null,null,null,null,null,{"$f":"Données!$E263175*#REF!","v":{"$error":"#REF!"}}]
[null,null,null,null,null,null,{"$f":"Données!$E263396*#REF!","v":{"$error":"#REF!"}}]
[null,null,null,null,null,null,{"$f":"Données!$E264110*#REF!","v":{"$error":"#REF!"}}]
[null,null,null,null,null,null,{"$f":"Données!$E264654*#REF!","v":{"$error":"#REF!"}}]
[null,null,null,null,null,null,{"$f":"Données!$E265291*#REF!","v":{"$error":"#REF!"}}]
[null,null,null,null,null,null,{"$f":"Données!$E265389*#REF!","v":{"$error":"#REF!"}}]
[null,null,null,null,null,null,{"$f":"Données!$E266108*#REF!","v":{"$error":"#REF!"}}]
[null,null,null,null,null,null,{"$f":"Données!$E266647*#REF!","v":{"$error":"#REF!"}}]
[null,null,null,null,null,null,{"$f":"Données!$E267289*#REF!","v":{"$error":"#REF!"}}]
[null,null,null,null,null,null,{"$f":"Données!$E267905*#REF!","v":{"$error":"#REF!"}}]
[null,null,null,null,null,null,{"$f":"Données!$E268470*#REF!","v":{"$error":"#REF!"}}]
[null,null,null,null,null,null,{"$f":"Données!$E268869*#REF!","v":{"$error":"#REF!"}}]
[null,null,null,null,null,null,{"$f":"Données!$E269129*#REF!","v":{"$error":"#REF!"}}]
[null,null,null,null,null,null,{"$f":"Données!$E269604*#REF!","v":{"$error":"#REF!"}}]
[null,null,null,null,null,null,{"$f":"Données!$E270468*#REF!","v":{"$error":"#REF!"}}]
[null,null,null,null,null,null,{"$f":"Données!$E270862*#REF!","v":{"$error":"#REF!"}}]
[null,null,null,null,null,null,{"$f":"Données!$E271127*#REF!","v":{"$error":"#REF!"}}]
[null,null,null,null,null,null,{"$f":"Données!$E272120*#REF!","v":{"$error":"#REF!"}}]
[null,null,null,null,null,null,{"$f":"Données!$E272308*#REF!","v":{"$error":"#REF!"}}]
[null,null,null,null,null,null,{"$f":"Données!$E273084*#REF!","v":{"$error":"#REF!"}}]
[null,null,null,null,null,null,{"$f":"Données!$E273599*#REF!","v":{"$error":"#REF!"}}]
[null,null,null,null,null,null,{"$f":"Données!$E274159*#REF!","v":{"$error":"#REF!"}}]
[null,null,null,null,null,null,{"$f":"Données!$E274334*#REF!","v":{"$error":"#REF!"}}]
[null,null,null,null,null,null,{"$f":"Données!$E274818*#REF!","v":{"$error":"#REF!"}}]
[null,null,null,null,null,null,{"$f":"Données!$E275298*#REF!","v":{"$error":"#REF!"}}]
[null,null,null,null,null,null,{"$f":"Données!$E275999*#REF!","v":{"$error":"#REF!"}}]
[null,null,null,null,null,null,{"$f":"Données!$E276556*#REF!","v":{"$error":"#REF!"}}]
[null,null,null,null,null,null,{"$f":"Données!$E277338*#REF!","v":{"$error":"#REF!"}}]
[null,null,null,null,null,null,{"$f":"Données!$E277814*#REF!","v":{"$error":"#REF!"}}]
[null,null,null,null,null,null,{"$f":"Données!$E277997*#REF!","v":{"$error":"#REF!"}}]
[null,null,null,null,null,null,{"$f":"Données!$E278549*#REF!","v":{"$error":"#REF!"}}]
[null,null,null,null,null,null,{"$f":"Données!$E279178*#REF!","v":{"$error":"#REF!"}}]
[null,null,null,null,null,null,{"$f":"Données!$E279513*#REF!","v":{"$error":"#REF!"}}]
[null,null,null,null,null,null,{"$f":"Données!$E280359*#REF!","v":{"$error":"#REF!"}}]
[null,null,null,null,null,null,{"$f":"Données!$E280771*#REF!","v":{"$error":"#REF!"}}]
[null,null,null,null,null,null,{"$f":"Données!$E281176*#REF!","v":{"$error":"#REF!"}}]
[null,null,null,null,null,null,{"$f":"Données!$E282029*#REF!","v":{"$error":"#REF!"}}]
[null,null,null,null,null,null,{"$f":"Données!$E282357*#REF!","v":{"$error":"#REF!"}}]
[null,null,null,null,null,null,{"$f":"Données!$E282764*#REF!","v":{"$error":"#REF!"}}]
[null,null,null,null,null,null,{"$f":"Données!$E283538*#REF!","v":{"$error":"#REF!"}}]
[null,null,null,null,null,null,{"$f":"Données!$E283728*#REF!","v":{"$error":"#REF!"}}]
[null,null,null,null,null,null,{"$f":"Données!$E284243*#REF!","v":{"$error":"#REF!"}}]
[null,null,null,null,null,null,{"$f":"Données!$E284867*#REF!","v":{"$error":"#REF!"}}]
[null,null,null,null,null,null,{"$f":"Données!$E285501*#REF!","v":{"$error":"#REF!"}}]
[null,null,null,null,null,null,{"$f":"Données!$E286048*#REF!","v":{"$error":"#REF!"}}]
[null,null,null,null,null,null,{"$f":"Données!$E286465*#REF!","v":{"$error":"#REF!"}}]
[null,null,null,null,null,null,{"$f":"Données!$E287229*#REF!","v":{"$error":"#REF!"}}]
[null,null,null,null,null,null,{"$f":"Données!$E287723*#REF!","v":{"$error":"#REF!"}}]
[null,null,null,null,null,null,{"$f":"Données!$E288046*#REF!","v":{"$error":"#REF!"}}]
[null,null,null,null,null,null,{"$f":"Données!$E288458*#REF!","v":{"$error":"#REF!"}}]
[null,null,null,null,null,null,{"$f":"Données!$E289227*#REF!","v":{"$error":"#REF!"}}]
[null,null,null,null,null,null,{"$f":"Données!$E289716*#REF!","v":{"$error":"#REF!"}}]
[null,null,null,null,null,null,{"$f":"Données!$E290408*#REF!","v":{"$error":"#REF!"}}]
[null,null,null,null,null,null,{"$f":"Données!$E290680*#REF!","v":{"$error":"#REF!"}}]
[null,null,null,null,null,null,{"$f":"Données!$E291067*#REF!","v":{"$error":"#REF!"}}]
[null,null,null,null,null,null,{"$f":"Données!$E291938*#REF!","v":{"$error":"#REF!"}}]
[null,null,null,null,null,null,{"$f":"Données!$E292406*#REF!","v":{"$error":"#REF!"}}]
[null,null,null,null,null,null,{"$f":"Données!$E292673*#REF!","v":{"$error":"#REF!"}}]
[null,null,null,null,null,null,{"$f":"Données!$E293065*#REF!","v":{"$error":"#REF!"}}]
[null,null,null,null,null,null,{"$f":"Données!$E293931*#REF!","v":{"$error":"#REF!"}}]
[null,null,null,null,null,null,{"$f":"Données!$E294152*#REF!","v":{"$error":"#REF!"}}]
[null,null,null,null,null,null,{"$f":"Données!$E294916*#REF!","v":{"$error":"#REF!"}}]
[null,null,null,null,null,null,{"$f":"Données!$E295410*#REF!","v":{"$error":"#REF!"}}]
[null,null,null,null,null,null,{"$f":"Données!$E296097*#REF!","v":{"$error":"#REF!"}}]
[null,null,null,null,null,null,{"$f":"Données!$E296668*#REF!","v":{"$error":"#REF!"}}]
[null,null,null,null,null,null,{"$f":"Données!$E296756*#REF!","v":{"$error":"#REF!"}}]
[null,null,null,null,null,null,{"$f":"Données!$E297632*#REF!","v":{"$error":"#REF!"}}]
[null,null,null,null,null,null,{"$f":"Données!$E297937*#REF!","v":{"$error":"#REF!"}}]
[null,null,null,null,null,null,{"$f":"Données!$E298367*#REF!","v":{"$error":"#REF!"}}]
[null,null,null,null,null,null,{"$f":"Données!$E299276*#REF!","v":{"$error":"#REF!"}}]
[null,null,null,null,null,null,{"$f":"Données!$E299625*#REF!","v":{"$error":"#REF!"}}]
[null,null,null,null,null,null,{"$f":"Données!$E299935*#REF!","v":{"$error":"#REF!"}}]
[null,null,null,null,null,null,{"$f":"Données!$E300883*#REF!","v":{"$error":"#REF!"}}]
[null,null,null,null,null,null,{"$f":"Données!$E301116*#REF!","v":{"$error":"#REF!"}}]
[null,null,null,null,null,null,{"$f":"Données!$E301847*#REF!","v":{"$error":"#REF!"}}]
[null,null,null,null,null,null,{"$f":"Données!$E302297*#REF!","v":{"$error":"#REF!"}}]
[null,null,null,null,null,null,{"$f":"Données!$E302582*#REF!","v":{"$error":"#REF!"}}]
[null,null,null,null,null,null,{"$f":"Données!$E303478*#REF!","v":{"$error":"#REF!"}}]
[null,null,null,null,null,null,{"$f":"Données!$E303840*#REF!","v":{"$error":"#REF!"}}]
[null,null,null,null,null,null,{"$f":"Données!$E304295*#REF!","v":{"$error":"#REF!"}}]
[null,null,null,null,null,null,{"$f":"Données!$E304575*#REF!","v":{"$error":"#REF!"}}]
[null,null,null,null,null,null,{"$f":"Données!$E305319*#REF!","v":{"$error":"#REF!"}}]
[null,null,null,null,null,null,{"$f":"Données!$E305624*#REF!","v":{"$error":"#REF!"}}]
[null,null,null,null,null,null,{"$f":"Données!$E306577*#REF!","v":{"$error":"#REF!"}}]
[null,null,null,null,null,null,{"$f":"Données!$E306805*#REF!","v":{"$error":"#REF!"}}]
[null,null,null,null,null,null,{"$f":"Données!$E307312*#REF!","v":{"$error":"#REF!"}}]
[null,null,null,null,null,null,{"$f":"Données!$E307986*#REF!","v":{"$error":"#REF!"}}]
[null,null,null,null,null,null,{"$f":"Données!$E308276*#REF!","v":{"$error":"#REF!"}}]
[null,null,null,null,null,null,{"$f":"Données!$E309167*#REF!","v":{"$error":"#REF!"}}]
[null,null,null,null,null,null,{"$f":"Données!$E309534*#REF!","v":{"$error":"#REF!"}}]
[null,null,null,null,null,null,{"$f":"Données!$E309984*#REF!","v":{"$error":"#REF!"}}]
[null,null,null,null,null,null,{"$f":"Données!$E310792*#REF!","v":{"$error":"#REF!"}}]
[null,null,null,null,null,null,{"$f":"Données!$E311165*#REF!","v":{"$error":"#REF!"}}]
[null,null,null,null,null,null,{"$f":"Données!$E311527*#REF!","v":{"$error":"#REF!"}}]
[null,null,null,null,null,null,{"$f":"Données!$E312346*#REF!","v":{"$error":"#REF!"}}]
[null,null,null,null,null,null,{"$f":"Données!$E312491*#REF!","v":{"$error":"#REF!"}}]
[null,null,null,null,null,null,{"$f":"Données!$E313005*#REF!","v":{"$error":"#REF!"}}]
[null,null,null,null,null,null,{"$f":"Données!$E313749*#REF!","v":{"$error":"#REF!"}}]
[null,null,null,null,null,null,{"$f":"Données!$E314186*#REF!","v":{"$error":"#REF!"}}]
[null,null,null,null,null,null,{"$f":"Données!$E314484*#REF!","v":{"$error":"#REF!"}}]
[null,null,null,null,null,null,{"$f":"Données!$E315228*#REF!","v":{"$error":"#REF!"}}]
[null,null,null,null,null,null,{"$f":"Données!$E316037*#REF!","v":{"$error":"#REF!"}}]
[null,null,null,null,null,null,{"$f":"Données!$E316486*#REF!","v":{"$error":"#REF!"}}]
[null,null,null,null,null,null,{"$f":"Données!$E316854*#REF!","v":{"$error":"#REF!"}}]
[null,null,null,null,null,null,{"$f":"Données!$E317221*#REF!","v":{"$error":"#REF!"}}]
[null,null,null,null,null,null,{"$f":"Données!$E318035*#REF!","v":{"$error":"#REF!"}}]
[null,null,null,null,null,null,{"$f":"Données!$E318479*#REF!","v":{"$error":"#REF!"}}]
[null,null,null,null,null,null,{"$f":"Données!$E318694*#REF!","v":{"$error":"#REF!"}}]
[null,null,null,null,null,null,{"$f":"Données!$E319443*#REF!","v":{"$error":"#REF!"}}]
[null,null,null,null,null,null,{"$f":"Données!$E319875*#REF!","v":{"$error":"#REF!"}}]
[null,null,null,null,null,null,{"$f":"Données!$E320701*#REF!","v":{"$error":"#REF!"}}]
[null,null,null,null,null,null,{"$f":"Données!$E321214*#REF!","v":{"$error":"#REF!"}}]
[null,null,null,null,null,null,{"$f":"Données!$E321436*#REF!","v":{"$error":"#REF!"}}]
[null,null,null,null,null,null,{"$f":"Données!$E321873*#REF!","v":{"$error":"#REF!"}}]
[null,null,null,null,null,null,{"$f":"Données!$E322694*#REF!","v":{"$error":"#REF!"}}]
[null,null,null,null,null,null,{"$f":"Données!$E323054*#REF!","v":{"$error":"#REF!"}}]
[null,null,null,null,null,null,{"$f":"Données!$E323658*#REF!","v":{"$error":"#REF!"}}]
[null,null,null,null,null,null,{"$f":"Données!$E324235*#REF!","v":{"$error":"#REF!"}}]
[null,null,null,null,null,null,{"$f":"Données!$E324916*#REF!","v":{"$error":"#REF!"}}]
[null,null,null,null,null,null,{"$f":"Données!$E325416*#REF!","v":{"$error":"#REF!"}}]
[null,null,null,null,null,null,{"$f":"Données!$E325651*#REF!","v":{"$error":"#REF!"}}]
[null,null,null,null,null,null,{"$f":"Données!$E326395*#REF!","v":{"$error":"#REF!"}}]
[null,null,null,null,null,null,{"$f":"Données!$E326745*#REF!","v":{"$error":"#REF!"}}]
[null,null,null,null,null,null,{"$f":"Données!$E327130*#REF!","v":{"$error":"#REF!"}}]
[null,null,null,null,null,null,{"$f":"Données!$E327562*#REF!","v":{"$error":"#REF!"}}]
[null,null,null,null,null,null,{"$f":"Données!$E328388*#REF!","v":{"$error":"#REF!"}}]
[null,null,null,null,null,null,{"$f":"Données!$E328743*#REF!","v":{"$error":"#REF!"}}]
[null,null,null,null,null,null,{"$f":"Données!$E329123*#REF!","v":{"$error":"#REF!"}}]
[null,null,null,null,null,null,{"$f":"Données!$E329924*#REF!","v":{"$error":"#REF!"}}]
[null,null,null,null,null,null,{"$f":"Données!$E330610*#REF!","v":{"$error":"#REF!"}}]
[null,null,null,null,null,null,{"$f":"Données!$E331105*#REF!","v":{"$error":"#REF!"}}]
[null,null,null,null,null,null,{"$f":"Données!$E331345*#REF!","v":{"$error":"#REF!"}}]
[null,null,null,null,null,null,{"$f":"Données!$E331764*#REF!","v":{"$error":"#REF!"}}]
[null,null,null,null,null,null,{"$f":"Données!$E332603*#REF!","v":{"$error":"#REF!"}}]
[null,null,null,null,null,null,{"$f":"Données!$E333103*#REF!","v":{"$error":"#REF!"}}]
[null,null,null,null,null,null,{"$f":"Données!$E333338*#REF!","v":{"$error":"#REF!"}}]
[null,null,null,null,null,null,{"$f":"Données!$E334284*#REF!","v":{"$error":"#REF!"}}]
[null,null,null,null,null,null,{"$f":"Données!$E334825*#REF!","v":{"$error":"#REF!"}}]
[null,null,null,null,null,null,{"$f":"Données!$E334943*#REF!","v":{"$error":"#REF!"}}]
[null,null,null,null,null,null,{"$f":"Données!$E335560*#REF!","v":{"$error":"#REF!"}}]
[null,null,null,null,null,null,{"$f":"Données!$E336075*#REF!","v":{"$error":"#REF!"}}]
[null,null,null,null,null,null,{"$f":"Données!$E336794*#REF!","v":{"$error":"#REF!"}}]
[null,null,null,null,null,null,{"$f":"Données!$E337039*#REF!","v":{"$error":"#REF!"}}]
[null,null,null,null,null,null,{"$f":"Données!$E337975*#REF!","v":{"$error":"#REF!"}}]
[null,null,null,null,null,null,{"$f":"Données!$E338297*#REF!","v":{"$error":"#REF!"}}]
[null,null,null,null,null,null,{"$f":"Données!$E338792*#REF!","v":{"$error":"#REF!"}}]
[null,null,null,null,null,null,{"$f":"Données!$E339032*#REF!","v":{"$error":"#REF!"}}]
[null,null,null,null,null,null,{"$f":"Données!$E339973*#REF!","v":{"$error":"#REF!"}}]
[null,null,null,null,null,null,{"$f":"Données!$E340290*#REF!","v":{"$error":"#REF!"}}]
[null,null,null,null,null,null,{"$f":"Données!$E340632*#REF!","v":{"$error":"#REF!"}}]
[null,null,null,null,null,null,{"$f":"Données!$E341254*#REF!","v":{"$error":"#REF!"}}]
[null,null,null,null,null,null,{"$f":"Données!$E341813*#REF!","v":{"$error":"#REF!"}}]
[null,null,null,null,null,null,{"$f":"Données!$E342512*#REF!","v":{"$error":"#REF!"}}]
[null,null,null,null,null,null,{"$f":"Données!$E342994*#REF!","v":{"$error":"#REF!"}}]
[null,null,null,null,null,null,{"$f":"Données!$E343247*#REF!","v":{"$error":"#REF!"}}]
[null,null,null,null,null,null,{"$f":"Données!$E343811*#REF!","v":{"$error":"#REF!"}}]
[null,null,null,null,null,null,{"$f":"Données!$E344505*#REF!","v":{"$error":"#REF!"}}]
[null,null,null,null,null,null,{"$f":"Données!$E344992*#REF!","v":{"$error":"#REF!"}}]
[null,null,null,null,null,null,{"$f":"Données!$E345469*#REF!","v":{"$error":"#REF!"}}]
[null,null,null,null,null,null,{"$f":"Données!$E346173*#REF!","v":{"$error":"#REF!"}}]
[null,null,null,null,null,null,{"$f":"Données!$E346727*#REF!","v":{"$error":"#REF!"}}]
[null,null,null,null,null,null,{"$f":"Données!$E347242*#REF!","v":{"$error":"#REF!"}}]
[null,null,null,null,null,null,{"$f":"Données!$E347502*#REF!","v":{"$error":"#REF!"}}]
[null,null,null,null,null,null,{"$f":"Données!$E348206*#REF!","v":{"$error":"#REF!"}}]
[null,null,null,null,null,null,{"$f":"Données!$E348683*#REF!","v":{"$error":"#REF!"}}]
[null,null,null,null,null,null,{"$f":"Données!$E349464*#REF!","v":{"$error":"#REF!"}}]
[null,null,null,null,null,null,{"$f":"Données!$E349864*#REF!","v":{"$error":"#REF!"}}]
[null,null,null,null,null,null,{"$f":"Données!$E350199*#REF!","v":{"$error":"#REF!"}}]
[null,null,null,null,null,null,{"$f":"Données!$E350681*#REF!","v":{"$error":"#REF!"}}]
[null,null,null,null,null,null,{"$f":"Données!$E351457*#REF!","v":{"$error":"#REF!"}}]
[null,null,null,null,null,null,{"$f":"Données!$E351862*#REF!","v":{"$error":"#REF!"}}]
[null,null,null,null,null,null,{"$f":"Données!$E352421*#REF!","v":{"$error":"#REF!"}}]
[null,null,null,null,null,null,{"$f":"Données!$E353043*#REF!","v":{"$error":"#REF!"}}]
[null,null,null,null,null,null,{"$f":"Données!$E353156*#REF!","v":{"$error":"#REF!"}}]
[null,null,null,null,null,null,{"$f":"Données!$E353702*#REF!","v":{"$error":"#REF!"}}]
[null,null,null,null,null,null,{"$f":"Données!$E354414*#REF!","v":{"$error":"#REF!"}}]
[null,null,null,null,null,null,{"$f":"Données!$E355041*#REF!","v":{"$error":"#REF!"}}]
[null,null,null,null,null,null,{"$f":"Données!$E355672*#REF!","v":{"$error":"#REF!"}}]
[null,null,null,null,null,null,{"$f":"Données!$E356222*#REF!","v":{"$error":"#REF!"}}]
[null,null,null,null,null,null,{"$f":"Données!$E356636*#REF!","v":{"$error":"#REF!"}}]
[null,null,null,null,null,null,{"$f":"Données!$E357151*#REF!","v":{"$error":"#REF!"}}]
[null,null,null,null,null,null,{"$f":"Données!$E357551*#REF!","v":{"$error":"#REF!"}}]
[null,null,null,null,null,null,{"$f":"Données!$E357886*#REF!","v":{"$error":"#REF!"}}]
[null,null,null,null,null,null,{"$f":"Données!$E358732*#REF!","v":{"$error":"#REF!"}}]
[null,null,null,null,null,null,{"$f":"Données!$E359373*#REF!","v":{"$error":"#REF!"}}]
[null,null,null,null,null,null,{"$f":"Données!$E359913*#REF!","v":{"$error":"#REF!"}}]
[null,null,null,null,null,null,{"$f":"Données!$E360108*#REF!","v":{"$error":"#REF!"}}]
[null,null,null,null,null,null,{"$f":"Données!$E360572*#REF!","v":{"$error":"#REF!"}}]
[null,null,null,null,null,null,{"$f":"Données!$E361366*#REF!","v":{"$error":"#REF!"}}]
[null,null,null,null,null,null,{"$f":"Données!$E361911*#REF!","v":{"$error":"#REF!"}}]
[null,null,null,null,null,null,{"$f":"Données!$E362101*#REF!","v":{"$error":"#REF!"}}]
[null,null,null,null,null,null,{"$f":"Données!$E362570*#REF!","v":{"$error":"#REF!"}}]
[null,null,null,null,null,null,{"$f":"Données!$E363065*#REF!","v":{"$error":"#REF!"}}]
[null,null,null,null,null,null,{"$f":"Données!$E363751*#REF!","v":{"$error":"#REF!"}}]
[null,null,null,null,null,null,{"$f":"Données!$E364323*#REF!","v":{"$error":"#REF!"}}]
[null,null,null,null,null,null,{"$f":"Données!$E364932*#REF!","v":{"$error":"#REF!"}}]
[null,null,null,null,null,null,{"$f":"Données!$E365581*#REF!","v":{"$error":"#REF!"}}]
[null,null,null,null,null,null,{"$f":"Données!$E365749*#REF!","v":{"$error":"#REF!"}}]
[null,null,null,null,null,null,{"$f":"Données!$E366316*#REF!","v":{"$error":"#REF!"}}]
[null,null,null,null,null,null,{"$f":"Données!$E366930*#REF!","v":{"$error":"#REF!"}}]
[null,null,null,null,null,null,{"$f":"Données!$E367280*#REF!","v":{"$error":"#REF!"}}]
[null,null,null,null,null,null,{"$f":"Données!$E367795*#REF!","v":{"$error":"#REF!"}}]
[null,null,null,null,null,null,{"$f":"Données!$E368781*#REF!","v":{"$error":"#REF!"}}]
[null,null,null,null,null,null,{"$f":"Données!$E369053*#REF!","v":{"$error":"#REF!"}}]
[null,null,null,null,null,null,{"$f":"Données!$E369440*#REF!","v":{"$error":"#REF!"}}]
[null,null,null,null,null,null,{"$f":"Données!$E370017*#REF!","v":{"$error":"#REF!"}}]
[null,null,null,null,null,null,{"$f":"Données!$E370621*#REF!","v":{"$error":"#REF!"}}]
[null,null,null,null,null,null,{"$f":"Données!$E371275*#REF!","v":{"$error":"#REF!"}}]
[null,null,null,null,null,null,{"$f":"Données!$E371802*#REF!","v":{"$error":"#REF!"}}]
[null,null,null,null,null,null,{"$f":"Données!$E372010*#REF!","v":{"$error":"#REF!"}}]
[null,null,null,null,null,null,{"$f":"Données!$E372619*#REF!","v":{"$error":"#REF!"}}]
[null,null,null,null,null,null,{"$f":"Données!$E373268*#REF!","v":{"$error":"#REF!"}}]
[null,null,null,null,null,null,{"$f":"Données!$E373800*#REF!","v":{"$error":"#REF!"}}]
[null,null,null,null,null,null,{"$f":"Données!$E374232*#REF!","v":{"$error":"#REF!"}}]
[null,null,null,null,null,null,{"$f":"Données!$E374981*#REF!","v":{"$error":"#REF!"}}]
[null,null,null,null,null,null,{"$f":"Données!$E375490*#REF!","v":{"$error":"#REF!"}}]
[null,null,null,null,null,null,{"$f":"Données!$E375640*#REF!","v":{"$error":"#REF!"}}]
[null,null,null,null,null,null,{"$f":"Données!$E376225*#REF!","v":{"$error":"#REF!"}}]
[null,null,null,null,null,null,{"$f":"Données!$E376979*#REF!","v":{"$error":"#REF!"}}]
[null,null,null,null,null,null,{"$f":"Données!$E377483*#REF!","v":{"$error":"#REF!"}}]
[null,null,null,null,null,null,{"$f":"Données!$E377704*#REF!","v":{"$error":"#REF!"}}]
[null,null,null,null,null,null,{"$f":"Données!$E378672*#REF!","v":{"$error":"#REF!"}}]
[null,null,null,null,null,null,{"$f":"Données!$E378962*#REF!","v":{"$error":"#REF!"}}]
[null,null,null,null,null,null,{"$f":"Données!$E379489*#REF!","v":{"$error":"#REF!"}}]
[null,null,null,null,null,null,{"$f":"Données!$E380220*#REF!","v":{"$error":"#REF!"}}]
[null,null,null,null,null,null,{"$f":"Données!$E380670*#REF!","v":{"$error":"#REF!"}}]
[null,null,null,null,null,null,{"$f":"Données!$E381184*#REF!","v":{"$error":"#REF!"}}]
[null,null,null,null,null,null,{"$f":"Données!$E381851*#REF!","v":{"$error":"#REF!"}}]
[null,null,null,null,null,null,{"$f":"Données!$E381919*#REF!","v":{"$error":"#REF!"}}]
[null,null,null,null,null,null,{"$f":"Données!$E382510*#REF!","v":{"$error":"#REF!"}}]
[null,null,null,null,null,null,{"$f":"Données!$E383177*#REF!","v":{"$error":"#REF!"}}]
[null,null,null,null,null,null,{"$f":"Données!$E383849*#REF!","v":{"$error":"#REF!"}}]
[null,null,null,null,null,null,{"$f":"Données!$E384435*#REF!","v":{"$error":"#REF!"}}]
[null,null,null,null,null,null,{"$f":"Données!$E384508*#REF!","v":{"$error":"#REF!"}}]
[null,null,null,null,null,null,{"$f":"Données!$E385399*#REF!","v":{"$error":"#REF!"}}]
[null,null,null,null,null,null,{"$f":"Données!$E385689*#REF!","v":{"$error":"#REF!"}}]
[null,null,null,null,null,null,{"$f":"Données!$E386134*#REF!","v":{"$error":"#REF!"}}]
[null,null,null,null,null,null,{"$f":"Données!$E386870*#REF!","v":{"$error":"#REF!"}}]
[null,null,null,null,null,null,{"$f":"Données!$E387392*#REF!","v":{"$error":"#REF!"}}]
[null,null,null,null,null,null,{"$f":"Données!$E387687*#REF!","v":{"$error":"#REF!"}}]
[null,null,null,null,null,null,{"$f":"Données!$E388650*#REF!","v":{"$error":"#REF!"}}]
[null,null,null,null,null,null,{"$f":"Données!$E388871*#REF!","v":{"$error":"#REF!"}}]
[null,null,null,null,null,null,{"$f":"Données!$E389380*#REF!","v":{"$error":"#REF!"}}]
[null,null,null,null,null,null,{"$f":"Données!$E390129*#REF!","v":{"$error":"#REF!"}}]
[null,null,null,null,null,null,{"$f":"Données!$E390719*#REF!","v":{"$error":"#REF!"}}]
[null,null,null,null,null,null,{"$f":"Données!$E390864*#REF!","v":{"$error":"#REF!"}}]
[null,null,null,null,null,null,{"$f":"Données!$E391378*#REF!","v":{"$error":"#REF!"}}]
[null,null,null,null,null,null,{"$f":"Données!$E391828*#REF!","v":{"$error":"#REF!"}}]
[null,null,null,null,null,null,{"$f":"Données!$E392559*#REF!","v":{"$error":"#REF!"}}]
[null,null,null,null,null,null,{"$f":"Données!$E393086*#REF!","v":{"$error":"#REF!"}}]
[null,null,null,null,null,null,{"$f":"Données!$E393740*#REF!","v":{"$error":"#REF!"}}]
[null,null,null,null,null,null,{"$f":"Données!$E394344*#REF!","v":{"$error":"#REF!"}}]
[null,null,null,null,null,null,{"$f":"Données!$E394557*#REF!","v":{"$error":"#REF!"}}]
[null,null,null,null,null,null,{"$f":"Données!$E395079*#REF!","v":{"$error":"#REF!"}}]
[null,null,null,null,null,null,{"$f":"Données!$E395738*#REF!","v":{"$error":"#REF!"}}]
[null,null,null,null,null,null,{"$f":"Données!$E396337*#REF!","v":{"$error":"#REF!"}}]
[null,null,null,null,null,null,{"$f":"Données!$E396919*#REF!","v":{"$error":"#REF!"}}]
[null,null,null,null,null,null,{"$f":"Données!$E397301*#REF!","v":{"$error":"#REF!"}}]
[null,null,null,null,null,null,{"$f":"Données!$E397578*#REF!","v":{"$error":"#REF!"}}]
[null,null,null,null,null,null,{"$f":"Données!$E398559*#REF!","v":{"$error":"#REF!"}}]
[null,null,null,null,null,null,{"$f":"Données!$E398780*#REF!","v":{"$error":"#REF!"}}]
[null,null,null,null,null,null,{"$f":"Données!$E399429*#REF!","v":{"$error":"#REF!"}}]
[null,null,null,null,null,null,{"$f":"Données!$E400038*#REF!","v":{"$error":"#REF!"}}]
[null,null,null,null,null,null,{"$f":"Données!$E400610*#REF!","v":{"$error":"#REF!"}}]
[null,null,null,null,null,null,{"$f":"Données!$E400773*#REF!","v":{"$error":"#REF!"}}]
[null,null,null,null,null,null,{"$f":"Données!$E401427*#REF!","v":{"$error":"#REF!"}}]
[null,null,null,null,null,null,{"$f":"Données!$E402031*#REF!","v":{"$error":"#REF!"}}]
[null,null,null,null,null,null,{"$f":"Données!$E402608*#REF!","v":{"$error":"#REF!"}}]
[null,null,null,null,null,null,{"$f":"Données!$E402995*#REF!","v":{"$error":"#REF!"}}]
[null,null,null,null,null,null,{"$f":"Données!$E403789*#REF!","v":{"$error":"#REF!"}}]
[null,null,null,null,null,null,{"$f":"Données!$E404253*#REF!","v":{"$error":"#REF!"}}]
[null,null,null,null,null,null,{"$f":"Données!$E404448*#REF!","v":{"$error":"#REF!"}}]
[null,null,null,null,null,null,{"$f":"Données!$E404988*#REF!","v":{"$error":"#REF!"}}]
[null,null,null,null,null,null,{"$f":"Données!$E405787*#REF!","v":{"$error":"#REF!"}}]
[null,null,null,null,null,null,{"$f":"Données!$E406246*#REF!","v":{"$error":"#REF!"}}]
[null,null,null,null,null,null,{"$f":"Données!$E406446*#REF!","v":{"$error":"#REF!"}}]
[null,null,null,null,null,null,{"$f":"Données!$E406981*#REF!","v":{"$error":"#REF!"}}]
[null,null,null,null,null,null,{"$f":"Données!$E407627*#REF!","v":{"$error":"#REF!"}}]
[null,null,null,null,null,null,{"$f":"Données!$E408468*#REF!","v":{"$error":"#REF!"}}]
[null,null,null,null,null,null,{"$f":"Données!$E408808*#REF!","v":{"$error":"#REF!"}}]
[null,null,null,null,null,null,{"$f":"Données!$E409203*#REF!","v":{"$error":"#REF!"}}]
[null,null,null,null,null,null,{"$f":"Données!$E409947*#REF!","v":{"$error":"#REF!"}}]
[null,null,null,null,null,null,{"$f":"Données!$E410137*#REF!","v":{"$error":"#REF!"}}]
[null,null,null,null,null,null,{"$f":"Données!$E410682*#REF!","v":{"$error":"#REF!"}}]
[null,null,null,null,null,null,{"$f":"Données!$E411318*#REF!","v":{"$error":"#REF!"}}]
[null,null,null,null,null,null,{"$f":"Données!$E411940*#REF!","v":{"$error":"#REF!"}}]
[null,null,null,null,null,null,{"$f":"Données!$E412657*#REF!","v":{"$error":"#REF!"}}]
[null,null,null,null,null,null,{"$f":"Données!$E413198*#REF!","v":{"$error":"#REF!"}}]
[null,null,null,null,null,null,{"$f":"Données!$E413316*#REF!","v":{"$error":"#REF!"}}]
[null,null,null,null,null,null,{"$f":"Données!$E414162*#REF!","v":{"$error":"#REF!"}}]
[null,null,null,null,null,null,{"$f":"Données!$E414497*#REF!","v":{"$error":"#REF!"}}]
[null,null,null,null,null,null,{"$f":"Données!$E414897*#REF!","v":{"$error":"#REF!"}}]
[null,null,null,null,null,null,{"$f":"Données!$E415678*#REF!","v":{"$error":"#REF!"}}]
[null,null,null,null,null,null,{"$f":"Données!$E416155*#REF!","v":{"$error":"#REF!"}}]
[null,null,null,null,null,null,{"$f":"Données!$E416495*#REF!","v":{"$error":"#REF!"}}]
[null,null,null,null,null,null,{"$f":"Données!$E416890*#REF!","v":{"$error":"#REF!"}}]
[null,null,null,null,null,null,{"$f":"Données!$E417676*#REF!","v":{"$error":"#REF!"}}]
[null,null,null,null,null,null,{"$f":"Données!$E418148*#REF!","v":{"$error":"#REF!"}}]
[null,null,null,null,null,null,{"$f":"Données!$E418857*#REF!","v":{"$error":"#REF!"}}]
[null,null,null,null,null,null,{"$f":"Données!$E419112*#REF!","v":{"$error":"#REF!"}}]
[null,null,null,null,null,null,{"$f":"Données!$E419627*#REF!","v":{"$error":"#REF!"}}]
[null,null,null,null,null,null,{"$f":"Données!$E420186*#REF!","v":{"$error":"#REF!"}}]
[null,null,null,null,null,null,{"$f":"Données!$E420591*#REF!","v":{"$error":"#REF!"}}]
[null,null,null,null,null,null,{"$f":"Données!$E421367*#REF!","v":{"$error":"#REF!"}}]
[null,null,null,null,null,null,{"$f":"Données!$E421849*#REF!","v":{"$error":"#REF!"}}]
[null,null,null,null,null,null,{"$f":"Données!$E422548*#REF!","v":{"$error":"#REF!"}}]
[null,null,null,null,null,null,{"$f":"Données!$E423107*#REF!","v":{"$error":"#REF!"}}]
[null,null,null,null,null,null,{"$f":"Données!$E423365*#REF!","v":{"$error":"#REF!"}}]
[null,null,null,null,null,null,{"$f":"Données!$E423842*#REF!","v":{"$error":"#REF!"}}]
[null,null,null,null,null,null,{"$f":"Données!$E424546*#REF!","v":{"$error":"#REF!"}}]
[null,null,null,null,null,null,{"$f":"Données!$E425100*#REF!","v":{"$error":"#REF!"}}]
[null,null,null,null,null,null,{"$f":"Données!$E425727*#REF!","v":{"$error":"#REF!"}}]
[null,null,null,null,null,null,{"$f":"Données!$E426064*#REF!","v":{"$error":"#REF!"}}]
[null,null,null,null,null,null,{"$f":"Données!$E426386*#REF!","v":{"$error":"#REF!"}}]
[null,null,null,null,null,null,{"$f":"Données!$E427322*#REF!","v":{"$error":"#REF!"}}]
[null,null,null,null,null,null,{"$f":"Données!$E427725*#REF!","v":{"$error":"#REF!"}}]
[null,null,null,null,null,null,{"$f":"Données!$E428057*#REF!","v":{"$error":"#REF!"}}]
[null,null,null,null,null,null,{"$f":"Données!$E428384*#REF!","v":{"$error":"#REF!"}}]
[null,null,null,null,null,null,{"$f":"Données!$E429315*#REF!","v":{"$error":"#REF!"}}]
[null,null,null,null,null,null,{"$f":"Données!$E429565*#REF!","v":{"$error":"#REF!"}}]
[null,null,null,null,null,null,{"$f":"Données!$E430279*#REF!","v":{"$error":"#REF!"}}]
[null,null,null,null,null,null,{"$f":"Données!$E430794*#REF!","v":{"$error":"#REF!"}}]
[null,null,null,null,null,null,{"$f":"Données!$E431416*#REF!","v":{"$error":"#REF!"}}]
[null,null,null,null,null,null,{"$f":"Données!$E431758*#REF!","v":{"$error":"#REF!"}}]
[null,null,null,null,null,null,{"$f":"Données!$E432075*#REF!","v":{"$error":"#REF!"}}]
[null,null,null,null,null,null,{"$f":"Données!$E433016*#REF!","v":{"$error":"#REF!"}}]
[null,null,null,null,null,null,{"$f":"Données!$E433256*#REF!","v":{"$error":"#REF!"}}]
[null,null,null,null,null,null,{"$f":"Données!$E433751*#REF!","v":{"$error":"#REF!"}}]
[null,null,null,null,null,null,{"$f":"Données!$E434595*#REF!","v":{"$error":"#REF!"}}]
[null,null,null,null,null,null,{"$f":"Données!$E435009*#REF!","v":{"$error":"#REF!"}}]
[null,null,null,null,null,null,{"$f":"Données!$E435254*#REF!","v":{"$error":"#REF!"}}]
[null,null,null,null,null,null,{"$f":"Données!$E435744*#REF!","v":{"$error":"#REF!"}}]
[null,null,null,null,null,null,{"$f":"Données!$E436435*#REF!","v":{"$error":"#REF!"}}]
[null,null,null,null,null,null,{"$f":"Données!$E437231*#REF!","v":{"$error":"#REF!"}}]
[null,null,null,null,null,null,{"$f":"Données!$E437616*#REF!","v":{"$error":"#REF!"}}]
[null,null,null,null,null,null,{"$f":"Données!$E437966*#REF!","v":{"$error":"#REF!"}}]
[null,null,null,null,null,null,{"$f":"Données!$E438433*#REF!","v":{"$error":"#REF!"}}]
[null,null,null,null,null,null,{"$f":"Données!$E439224*#REF!","v":{"$error":"#REF!"}}]
[null,null,null,null,null,null,{"$f":"Données!$E439614*#REF!","v":{"$error":"#REF!"}}]
[null,null,null,null,null,null,{"$f":"Données!$E439959*#REF!","v":{"$error":"#REF!"}}]
[null,null,null,null,null,null,{"$f":"Données!$E440703*#REF!","v":{"$error":"#REF!"}}]
[null,null,null,null,null,null,{"$f":"Données!$E440943*#REF!","v":{"$error":"#REF!"}}]
[null,null,null,null,null,null,{"$f":"Données!$E441961*#REF!","v":{"$error":"#REF!"}}]
[null,null,null,null,null,null,{"$f":"Données!$E442124*#REF!","v":{"$error":"#REF!"}}]
[null,null,null,null,null,null,{"$f":"Données!$E442925*#REF!","v":{"$error":"#REF!"}}]
[null,null,null,null,null,null,{"$f":"Données!$E443305*#REF!","v":{"$error":"#REF!"}}]
[null,null,null,null,null,null,{"$f":"Données!$E443660*#REF!","v":{"$error":"#REF!"}}]
[null,null,null,null,null,null,{"$f":"Données!$E444486*#REF!","v":{"$error":"#REF!"}}]
[null,null,null,null,null,null,{"$f":"Données!$E444918*#REF!","v":{"$error":"#REF!"}}]
[null,null,null,null,null,null,{"$f":"Données!$E445303*#REF!","v":{"$error":"#REF!"}}]
[null,null,null,null,null,null,{"$f":"Données!$E445653*#REF!","v":{"$error":"#REF!"}}]
[null,null,null,null,null,null,{"$f":"Données!$E446484*#REF!","v":{"$error":"#REF!"}}]
[null,null,null,null,null,null,{"$f":"Données!$E446911*#REF!","v":{"$error":"#REF!"}}]
[null,null,null,null,null,null,{"$f":"Données!$E447665*#REF!","v":{"$error":"#REF!"}}]
[null,null,null,null,null,null,{"$f":"Données!$E447875*#REF!","v":{"$error":"#REF!"}}]
[null,null,null,null,null,null,{"$f":"Données!$E448324*#REF!","v":{"$error":"#REF!"}}]
[null,null,null,null,null,null,{"$f":"Données!$E449133*#REF!","v":{"$error":"#REF!"}}]
[null,null,null,null,null,null,{"$f":"Données!$E449663*#REF!","v":{"$error":"#REF!"}}]
[null,null,null,null,null,null,{"$f":"Données!$E449868*#REF!","v":{"$error":"#REF!"}}]
[null,null,null,null,null,null,{"$f":"Données!$E450844*#REF!","v":{"$error":"#REF!"}}]
[null,null,null,null,null,null,{"$f":"Données!$E451126*#REF!","v":{"$error":"#REF!"}}]
[null,null,null,null,null,null,{"$f":"Données!$E451870*#REF!","v":{"$error":"#REF!"}}]
[null,null,null,null,null,null,{"$f":"Données!$E452173*#REF!","v":{"$error":"#REF!"}}]
[null,null,null,null,null,null,{"$f":"Données!$E452605*#REF!","v":{"$error":"#REF!"}}]
[null,null,null,null,null,null,{"$f":"Données!$E453354*#REF!","v":{"$error":"#REF!"}}]
[null,null,null,null,null,null,{"$f":"Données!$E453863*#REF!","v":{"$error":"#REF!"}}]
[null,null,null,null,null,null,{"$f":"Données!$E454013*#REF!","v":{"$error":"#REF!"}}]
[null,null,null,null,null,null,{"$f":"Données!$E454827*#REF!","v":{"$error":"#REF!"}}]
[null,null,null,null,null,null,{"$f":"Données!$E455194*#REF!","v":{"$error":"#REF!"}}]
[null,null,null,null,null,null,{"$f":"Données!$E455562*#REF!","v":{"$error":"#REF!"}}]
[null,null,null,null,null,null,{"$f":"Données!$E456533*#REF!","v":{"$error":"#REF!"}}]
[null,null,null,null,null,null,{"$f":"Données!$E456820*#REF!","v":{"$error":"#REF!"}}]
[null,null,null,null,null,null,{"$f":"Données!$E457192*#REF!","v":{"$error":"#REF!"}}]
[null,null,null,null,null,null,{"$f":"Données!$E458078*#REF!","v":{"$error":"#REF!"}}]
[null,null,null,null,null,null,{"$f":"Données!$E458373*#REF!","v":{"$error":"#REF!"}}]
[null,null,null,null,null,null,{"$f":"Données!$E459042*#REF!","v":{"$error":"#REF!"}}]
[null,null,null,null,null,null,{"$f":"Données!$E459554*#REF!","v":{"$error":"#REF!"}}]
[null,null,null,null,null,null,{"$f":"Données!$E459777*#REF!","v":{"$error":"#REF!"}}]
[null,null,null,null,null,null,{"$f":"Données!$E460371*#REF!","v":{"$error":"#REF!"}}]
[null,null,null,null,null,null,{"$f":"Données!$E461035*#REF!","v":{"$error":"#REF!"}}]
[null,null,null,null,null,null,{"$f":"Données!$E461779*#REF!","v":{"$error":"#REF!"}}]
[null,null,null,null,null,null,{"$f":"Données!$E462064*#REF!","v":{"$error":"#REF!"}}]
[null,null,null,null,null,null,{"$f":"Données!$E462514*#REF!","v":{"$error":"#REF!"}}]
[null,null,null,null,null,null,{"$f":"Données!$E462881*#REF!","v":{"$error":"#REF!"}}]
[null,null,null,null,null,null,{"$f":"Données!$E463772*#REF!","v":{"$error":"#REF!"}}]
[null,null,null,null,null,null,{"$f":"Données!$E464062*#REF!","v":{"$error":"#REF!"}}]
[null,null,null,null,null,null,{"$f":"Données!$E464507*#REF!","v":{"$error":"#REF!"}}]
[null,null,null,null,null,null,{"$f":"Données!$E465243*#REF!","v":{"$error":"#REF!"}}]
[null,null,null,null,null,null,{"$f":"Données!$E465994*#REF!","v":{"$error":"#REF!"}}]
[null,null,null,null,null,null,{"$f":"Données!$E466424*#REF!","v":{"$error":"#REF!"}}]
[null,null,null,null,null,null,{"$f":"Données!$E466729*#REF!","v":{"$error":"#REF!"}}]
[null,null,null,null,null,null,{"$f":"Données!$E467241*#REF!","v":{"$error":"#REF!"}}]
[null,null,null,null,null,null,{"$f":"Données!$E467987*#REF!","v":{"$error":"#REF!"}}]
[null,null,null,null,null,null,{"$f":"Données!$E468422*#REF!","v":{"$error":"#REF!"}}]
[null,null,null,null,null,null,{"$f":"Données!$E468722*#REF!","v":{"$error":"#REF!"}}]
[null,null,null,null,null,null,{"$f":"Données!$E469603*#REF!","v":{"$error":"#REF!"}}]
[null,null,null,null,null,null,{"$f":"Données!$E469686*#REF!","v":{"$error":"#REF!"}}]
[null,null,null,null,null,null,{"$f":"Données!$E470262*#REF!","v":{"$error":"#REF!"}}]
[null,null,null,null,null,null,{"$f":"Données!$E470944*#REF!","v":{"$error":"#REF!"}}]
[null,null,null,null,null,null,{"$f":"Données!$E471443*#REF!","v":{"$error":"#REF!"}}]
[null,null,null,null,null,null,{"$f":"Données!$E472202*#REF!","v":{"$error":"#REF!"}}]
[null,null,null,null,null,null,{"$f":"Données!$E472423*#REF!","v":{"$error":"#REF!"}}]
[null,null,null,null,null,null,{"$f":"Données!$E473294*#REF!","v":{"$error":"#REF!"}}]
[null,null,null,null,null,null,{"$f":"Données!$E473681*#REF!","v":{"$error":"#REF!"}}]
[null,null,null,null,null,null,{"$f":"Données!$E474111*#REF!","v":{"$error":"#REF!"}}]
[null,null,null,null,null,null,{"$f":"Données!$E474416*#REF!","v":{"$error":"#REF!"}}]
[null,null,null,null,null,null,{"$f":"Données!$E475292*#REF!","v":{"$error":"#REF!"}}]
[null,null,null,null,null,null,{"$f":"Données!$E475674*#REF!","v":{"$error":"#REF!"}}]
[null,null,null,null,null,null,{"$f":"Données!$E475951*#REF!","v":{"$error":"#REF!"}}]
[null,null,null,null,null,null,{"$f":"Données!$E476638*#REF!","v":{"$error":"#REF!"}}]
[null,null,null,null,null,null,{"$f":"Données!$E477132*#REF!","v":{"$error":"#REF!"}}]
[null,null,null,null,null,null,{"$f":"Données!$E477896*#REF!","v":{"$error":"#REF!"}}]
[null,null,null,null,null,null,{"$f":"Données!$E478471*#REF!","v":{"$error":"#REF!"}}]
[null,null,null,null,null,null,{"$f":"Données!$E478631*#REF!","v":{"$error":"#REF!"}}]
[null,null,null,null,null,null,{"$f":"Données!$E479130*#REF!","v":{"$error":"#REF!"}}]
[null,null,null,null,null,null,{"$f":"Données!$E479889*#REF!","v":{"$error":"#REF!"}}]
[null,null,null,null,null,null,{"$f":"Données!$E480311*#REF!","v":{"$error":"#REF!"}}]
[null,null,null,null,null,null,{"$f":"Données!$E480853*#REF!","v":{"$error":"#REF!"}}]
[null,null,null,null,null,null,{"$f":"Données!$E481492*#REF!","v":{"$error":"#REF!"}}]
[null,null,null,null,null,null,{"$f":"Données!$E482111*#REF!","v":{"$error":"#REF!"}}]
[null,null,null,null,null,null,{"$f":"Données!$E482626*#REF!","v":{"$error":"#REF!"}}]
[null,null,null,null,null,null,{"$f":"Données!$E482821*#REF!","v":{"$error":"#REF!"}}]
[null,null,null,null,null,null,{"$f":"Données!$E483590*#REF!","v":{"$error":"#REF!"}}]
[null,null,null,null,null,null,{"$f":"Données!$E484002*#REF!","v":{"$error":"#REF!"}}]
[null,null,null,null,null,null,{"$f":"Données!$E484325*#REF!","v":{"$error":"#REF!"}}]
[null,null,null,null,null,null,{"$f":"Données!$E484819*#REF!","v":{"$error":"#REF!"}}]
[null,null,null,null,null,null,{"$f":"Données!$E485583*#REF!","v":{"$error":"#REF!"}}]
[null,null,null,null,null,null,{"$f":"Données!$E486000*#REF!","v":{"$error":"#REF!"}}]
[null,null,null,null,null,null,{"$f":"Données!$E486841*#REF!","v":{"$error":"#REF!"}}]
[null,null,null,null,null,null,{"$f":"Données!$E487181*#REF!","v":{"$error":"#REF!"}}]
[null,null,null,null,null,null,{"$f":"Données!$E487805*#REF!","v":{"$error":"#REF!"}}]
[null,null,null,null,null,null,{"$f":"Données!$E488362*#REF!","v":{"$error":"#REF!"}}]
[null,null,null,null,null,null,{"$f":"Données!$E488540*#REF!","v":{"$error":"#REF!"}}]
[null,null,null,null,null,null,{"$f":"Données!$E489179*#REF!","v":{"$error":"#REF!"}}]
[null,null,null,null,null,null,{"$f":"Données!$E489798*#REF!","v":{"$error":"#REF!"}}]
[null,null,null,null,null,null,{"$f":"Données!$E490360*#REF!","v":{"$error":"#REF!"}}]
[null,null,null,null,null,null,{"$f":"Données!$E491056*#REF!","v":{"$error":"#REF!"}}]
[null,null,null,null,null,null,{"$f":"Données!$E491541*#REF!","v":{"$error":"#REF!"}}]
[null,null,null,null,null,null,{"$f":"Données!$E492020*#REF!","v":{"$error":"#REF!"}}]
[null,null,null,null,null,null,{"$f":"Données!$E492200*#REF!","v":{"$error":"#REF!"}}]
[null,null,null,null,null,null,{"$f":"Données!$E492755*#REF!","v":{"$error":"#REF!"}}]
[null,null,null,null,null,null,{"$f":"Données!$E493270*#REF!","v":{"$error":"#REF!"}}]
[null,null,null,null,null,null,{"$f":"Données!$E494051*#REF!","v":{"$error":"#REF!"}}]
[null,null,null,null,null,null,{"$f":"Données!$E494234*#REF!","v":{"$error":"#REF!"}}]
[null,null,null,null,null,null,{"$f":"Données!$E495232*#REF!","v":{"$error":"#REF!"}}]
[null,null,null,null,null,null,{"$f":"Données!$E495492*#REF!","v":{"$error":"#REF!"}}]
[null,null,null,null,null,null,{"$f":"Données!$E496049*#REF!","v":{"$error":"#REF!"}}]
[null,null,null,null,null,null,{"$f":"Données!$E496750*#REF!","v":{"$error":"#REF!"}}]
[null,null,null,null,null,null,{"$f":"Données!$E497230*#REF!","v":{"$error":"#REF!"}}]
[null,null,null,null,null,null,{"$f":"Données!$E497485*#REF!","v":{"$error":"#REF!"}}]
[null,null,null,null,null,null,{"$f":"Données!$E497889*#REF!","v":{"$error":"#REF!"}}]
[null,null,null,null,null,null,{"$f":"Données!$E498449*#REF!","v":{"$error":"#REF!"}}]
[null,null,null,null,null,null,{"$f":"Données!$E499070*#REF!","v":{"$error":"#REF!"}}]
[null,null,null,null,null,null,{"$f":"Données!$E499707*#REF!","v":{"$error":"#REF!"}}]
[null,null,null,null,null,null,{"$f":"Données!$E500251*#REF!","v":{"$error":"#REF!"}}]
[null,null,null,null,null,null,{"$f":"Données!$E500965*#REF!","v":{"$error":"#REF!"}}]
[null,null,null,null,null,null,{"$f":"Données!$E501068*#REF!","v":{"$error":"#REF!"}}]
[null,null,null,null,null,null,{"$f":"Données!$E501700*#REF!","v":{"$error":"#REF!"}}]
[null,null,null,null,null,null,{"$f":"Données!$E502249*#REF!","v":{"$error":"#REF!"}}]
[null,null,null,null,null,null,{"$f":"Données!$E502664*#REF!","v":{"$error":"#REF!"}}]
[null,null,null,null,null,null,{"$f":"Données!$E503179*#REF!","v":{"$error":"#REF!"}}]
[null,null,null,null,null,null,{"$f":"Données!$E504100*#REF!","v":{"$error":"#REF!"}}]
[null,null,null,null,null,null,{"$f":"Données!$E504437*#REF!","v":{"$error":"#REF!"}}]
[null,null,null,null,null,null,{"$f":"Données!$E504759*#REF!","v":{"$error":"#REF!"}}]
[null,null,null,null,null,null,{"$f":"Données!$E505401*#REF!","v":{"$error":"#REF!"}}]
[null,null,null,null,null,null,{"$f":"Données!$E505940*#REF!","v":{"$error":"#REF!"}}]
[null,null,null,null,null,null,{"$f":"Données!$E506659*#REF!","v":{"$error":"#REF!"}}]
[null,null,null,null,null,null,{"$f":"Données!$E507279*#REF!","v":{"$error":"#REF!"}}]
[null,null,null,null,null,null,{"$f":"Données!$E507394*#REF!","v":{"$error":"#REF!"}}]
[null,null,null,null,null,null,{"$f":"Données!$E507938*#REF!","v":{"$error":"#REF!"}}]
[null,null,null,null,null,null,{"$f":"Données!$E508652*#REF!","v":{"$error":"#REF!"}}]
[null,null,null,null,null,null,{"$f":"Données!$E509119*#REF!","v":{"$error":"#REF!"}}]
[null,null,null,null,null,null,{"$f":"Données!$E509616*#REF!","v":{"$error":"#REF!"}}]
[null,null,null,null,null,null,{"$f":"Données!$E510300*#REF!","v":{"$error":"#REF!"}}]
[null,null,null,null,null,null,{"$f":"Données!$E510874*#REF!","v":{"$error":"#REF!"}}]
[null,null,null,null,null,null,{"$f":"Données!$E510959*#REF!","v":{"$error":"#REF!"}}]
[null,null,null,null,null,null,{"$f":"Données!$E511609*#REF!","v":{"$error":"#REF!"}}]
[null,null,null,null,null,null,{"$f":"Données!$E512298*#REF!","v":{"$error":"#REF!"}}]
[null,null,null,null,null,null,{"$f":"Données!$E512867*#REF!","v":{"$error":"#REF!"}}]
[null,null,null,null,null,null,{"$f":"Données!$E513479*#REF!","v":{"$error":"#REF!"}}]
[null,null,null,null,null,null,{"$f":"Données!$E513831*#REF!","v":{"$error":"#REF!"}}]
[null,null,null,null,null,null,{"$f":"Données!$E514346*#REF!","v":{"$error":"#REF!"}}]
[null,null,null,null,null,null,{"$f":"Données!$E514808*#REF!","v":{"$error":"#REF!"}}]
[null,null,null,null,null,null,{"$f":"Données!$E515604*#REF!","v":{"$error":"#REF!"}}]
[null,null,null,null,null,null,{"$f":"Données!$E515989*#REF!","v":{"$error":"#REF!"}}]
[null,null,null,null,null,null,{"$f":"Données!$E516568*#REF!","v":{"$error":"#REF!"}}]
[null,null,null,null,null,null,{"$f":"Données!$E517170*#REF!","v":{"$error":"#REF!"}}]
[null,null,null,null,null,null,{"$f":"Données!$E517303*#REF!","v":{"$error":"#REF!"}}]
[null,null,null,null,null,null,{"$f":"Données!$E517829*#REF!","v":{"$error":"#REF!"}}]
[null,null,null,null,null,null,{"$f":"Données!$E518561*#REF!","v":{"$error":"#REF!"}}]
[null,null,null,null,null,null,{"$f":"Données!$E519168*#REF!","v":{"$error":"#REF!"}}]
[null,null,null,null,null,null,{"$f":"Données!$E519819*#REF!","v":{"$error":"#REF!"}}]
[null,null,null,null,null,null,{"$f":"Données!$E519827*#REF!","v":{"$error":"#REF!"}}]
[null,null,null,null,null,null,{"$f":"Données!$E520783*#REF!","v":{"$error":"#REF!"}}]
[null,null,null,null,null,null,{"$f":"Données!$E521008*#REF!","v":{"$error":"#REF!"}}]
[null,null,null,null,null,null,{"$f":"Données!$E521518*#REF!","v":{"$error":"#REF!"}}]
[null,null,null,null,null,null,{"$f":"Données!$E522189*#REF!","v":{"$error":"#REF!"}}]
[null,null,null,null,null,null,{"$f":"Données!$E522776*#REF!","v":{"$error":"#REF!"}}]
[null,null,null,null,null,null,{"$f":"Données!$E523006*#REF!","v":{"$error":"#REF!"}}]
[null,null,null,null,null,null,{"$f":"Données!$E523511*#REF!","v":{"$error":"#REF!"}}]
[null,null,null,null,null,null,{"$f":"Données!$E524255*#REF!","v":{"$error":"#REF!"}}]
[null,null,null,null,null,null,{"$f":"Données!$E524857*#REF!","v":{"$error":"#REF!"}}]
[null,null,null,null,null,null,{"$f":"Données!$E525513*#REF!","v":{"$error":"#REF!"}}]
[null,null,null,null,null,null,{"$f":"Données!$E526038*#REF!","v":{"$error":"#REF!"}}]
[null,null,null,null,null,null,{"$f":"Données!$E526248*#REF!","v":{"$error":"#REF!"}}]
[null,null,null,null,null,null,{"$f":"Données!$E526697*#REF!","v":{"$error":"#REF!"}}]
[null,null,null,null,null,null,{"$f":"Données!$E527212*#REF!","v":{"$error":"#REF!"}}]
[null,null,null,null,null,null,{"$f":"Données!$E527878*#REF!","v":{"$error":"#REF!"}}]
[null,null,null,null,null,null,{"$f":"Données!$E528470*#REF!","v":{"$error":"#REF!"}}]
[null,null,null,null,null,null,{"$f":"Données!$E529059*#REF!","v":{"$error":"#REF!"}}]
[null,null,null,null,null,null,{"$f":"Données!$E529728*#REF!","v":{"$error":"#REF!"}}]
[null,null,null,null,null,null,{"$f":"Données!$E529876*#REF!","v":{"$error":"#REF!"}}]
[null,null,null,null,null,null,{"$f":"Données!$E530463*#REF!","v":{"$error":"#REF!"}}]
[null,null,null,null,null,null,{"$f":"Données!$E531057*#REF!","v":{"$error":"#REF!"}}]
[null,null,null,null,null,null,{"$f":"Données!$E531427*#REF!","v":{"$error":"#REF!"}}]
[null,null,null,null,null,null,{"$f":"Données!$E532238*#REF!","v":{"$error":"#REF!"}}]
[null,null,null,null,null,null,{"$f":"Données!$E532685*#REF!","v":{"$error":"#REF!"}}]
[null,null,null,null,null,null,{"$f":"Données!$E532897*#REF!","v":{"$error":"#REF!"}}]
[null,null,null,null,null,null,{"$f":"Données!$E533420*#REF!","v":{"$error":"#REF!"}}]
[null,null,null,null,null,null,{"$f":"Données!$E534236*#REF!","v":{"$error":"#REF!"}}]
[null,null,null,null,null,null,{"$f":"Données!$E534678*#REF!","v":{"$error":"#REF!"}}]
[null,null,null,null,null,null,{"$f":"Données!$E535422*#REF!","v":{"$error":"#REF!"}}]
[null,null,null,null,null,null,{"$f":"Données!$E535565*#REF!","v":{"$error":"#REF!"}}]
[null,null,null,null,null,null,{"$f":"Données!$E536157*#REF!","v":{"$error":"#REF!"}}]
[null,null,null,null,null,null,{"$f":"Données!$E536746*#REF!","v":{"$error":"#REF!"}}]
[null,null,null,null,null,null,{"$f":"Données!$E537415*#REF!","v":{"$error":"#REF!"}}]
[null,null,null,null,null,null,{"$f":"Données!$E537927*#REF!","v":{"$error":"#REF!"}}]
[null,null,null,null,null,null,{"$f":"Données!$E538379*#REF!","v":{"$error":"#REF!"}}]
[null,null,null,null,null,null,{"$f":"Données!$E539108*#REF!","v":{"$error":"#REF!"}}]
[null,null,null,null,null,null,{"$f":"Données!$E539637*#REF!","v":{"$error":"#REF!"}}]
[null,null,null,null,null,null,{"$f":"Données!$E539767*#REF!","v":{"$error":"#REF!"}}]
[null,null,null,null,null,null,{"$f":"Données!$E540372*#REF!","v":{"$error":"#REF!"}}]
[null,null,null,null,null,null,{"$f":"Données!$E541106*#REF!","v":{"$error":"#REF!"}}]
[null,null,null,null,null,null,{"$f":"Données!$E541630*#REF!","v":{"$error":"#REF!"}}]
[null,null,null,null,null,null,{"$f":"Données!$E542287*#REF!","v":{"$error":"#REF!"}}]
[null,null,null,null,null,null,{"$f":"Données!$E542594*#REF!","v":{"$error":"#REF!"}}]
[null,null,null,null,null,null,{"$f":"Données!$E542946*#REF!","v":{"$error":"#REF!"}}]
[null,null,null,null,null,null,{"$f":"Données!$E543852*#REF!","v":{"$error":"#REF!"}}]
[null,null,null,null,null,null,{"$f":"Données!$E544127*#REF!","v":{"$error":"#REF!"}}]
[null,null,null,null,null,null,{"$f":"Données!$E544587*#REF!","v":{"$error":"#REF!"}}]
[null,null,null,null,null,null,{"$f":"Données!$E545331*#REF!","v":{"$error":"#REF!"}}]
[null,null,null,null,null,null,{"$f":"Données!$E545456*#REF!","v":{"$error":"#REF!"}}]
[null,null,null,null,null,null,{"$f":"Données!$E546066*#REF!","v":{"$error":"#REF!"}}]
[null,null,null,null,null,null,{"$f":"Données!$E546637*#REF!","v":{"$error":"#REF!"}}]
[null,null,null,null,null,null,{"$f":"Données!$E547324*#REF!","v":{"$error":"#REF!"}}]
[null,null,null,null,null,null,{"$f":"Données!$E547976*#REF!","v":{"$error":"#REF!"}}]
[null,null,null,null,null,null,{"$f":"Données!$E548059*#REF!","v":{"$error":"#REF!"}}]
[null,null,null,null,null,null,{"$f":"Données!$E548635*#REF!","v":{"$error":"#REF!"}}]
[null,null,null,null,null,null,{"$f":"Données!$E549546*#REF!","v":{"$error":"#REF!"}}]
[null,null,null,null,null,null,{"$f":"Données!$E549816*#REF!","v":{"$error":"#REF!"}}]
[null,null,null,null,null,null,{"$f":"Données!$E550281*#REF!","v":{"$error":"#REF!"}}]
[null,null,null,null,null,null,{"$f":"Données!$E550997*#REF!","v":{"$error":"#REF!"}}]
[null,null,null,null,null,null,{"$f":"Données!$E551539*#REF!","v":{"$error":"#REF!"}}]
[null,null,null,null,null,null,{"$f":"Données!$E551814*#REF!","v":{"$error":"#REF!"}}]
[null,null,null,null,null,null,{"$f":"Données!$E552274*#REF!","v":{"$error":"#REF!"}}]
[null,null,null,null,null,null,{"$f":"Données!$E552995*#REF!","v":{"$error":"#REF!"}}]
[null,null,null,null,null,null,{"$f":"Données!$E553761*#REF!","v":{"$error":"#REF!"}}]
[null,null,null,null,null,null,{"$f":"Données!$E554176*#REF!","v":{"$error":"#REF!"}}]
[null,null,null,null,null,null,{"$f":"Données!$E554496*#REF!","v":{"$error":"#REF!"}}]
[null,null,null,null,null,null,{"$f":"Données!$E554835*#REF!","v":{"$error":"#REF!"}}]
[null,null,null,null,null,null,{"$f":"Données!$E555754*#REF!","v":{"$error":"#REF!"}}]
[null,null,null,null,null,null,{"$f":"Données!$E555975*#REF!","v":{"$error":"#REF!"}}]
[null,null,null,null,null,null,{"$f":"Données!$E556686*#REF!","v":{"$error":"#REF!"}}]
[null,null,null,null,null,null,{"$f":"Données!$E557233*#REF!","v":{"$error":"#REF!"}}]
[null,null,null,null,null,null,{"$f":"Données!$E557867*#REF!","v":{"$error":"#REF!"}}]
[null,null,null,null,null,null,{"$f":"Données!$E557968*#REF!","v":{"$error":"#REF!"}}]
[null,null,null,null,null,null,{"$f":"Données!$E558684*#REF!","v":{"$error":"#REF!"}}]
[null,null,null,null,null,null,{"$f":"Données!$E559226*#REF!","v":{"$error":"#REF!"}}]
[null,null,null,null,null,null,{"$f":"Données!$E559865*#REF!","v":{"$error":"#REF!"}}]
[null,null,null,null,null,null,{"$f":"Données!$E560190*#REF!","v":{"$error":"#REF!"}}]
[null,null,null,null,null,null,{"$f":"Données!$E561046*#REF!","v":{"$error":"#REF!"}}]
[null,null,null,null,null,null,{"$f":"Données!$E561448*#REF!","v":{"$error":"#REF!"}}]
[null,null,null,null,null,null,{"$f":"Données!$E561705*#REF!","v":{"$error":"#REF!"}}]
[null,null,null,null,null,null,{"$f":"Données!$E562183*#REF!","v":{"$error":"#REF!"}}]
[null,null,null,null,null,null,{"$f":"Données!$E563044*#REF!","v":{"$error":"#REF!"}}]
[null,null,null,null,null,null,{"$f":"Données!$E563441*#REF!","v":{"$error":"#REF!"}}]
[null,null,null,null,null,null,{"$f":"Données!$E564225*#REF!","v":{"$error":"#REF!"}}]
[null,null,null,null,null,null,{"$f":"Données!$E564405*#REF!","v":{"$error":"#REF!"}}]
[null,null,null,null,null,null,{"$f":"Données!$E564884*#REF!","v":{"$error":"#REF!"}}]
[null,null,null,null,null,null,{"$f":"Données!$E565663*#REF!","v":{"$error":"#REF!"}}]
[null,null,null,null,null,null,{"$f":"Données!$E566178*#REF!","v":{"$error":"#REF!"}}]
[null,null,null,null,null,null,{"$f":"Données!$E566735*#REF!","v":{"$error":"#REF!"}}]
[null,null,null,null,null,null,{"$f":"Données!$E567142*#REF!","v":{"$error":"#REF!"}}]
[null,null,null,null,null,null,{"$f":"Données!$E567394*#REF!","v":{"$error":"#REF!"}}]
[null,null,null,null,null,null,{"$f":"Données!$E568400*#REF!","v":{"$error":"#REF!"}}]
[null,null,null,null,null,null,{"$f":"Données!$E568575*#REF!","v":{"$error":"#REF!"}}]
[null,null,null,null,null,null,{"$f":"Données!$E569135*#REF!","v":{"$error":"#REF!"}}]
[null,null,null,null,null,null,{"$f":"Données!$E569914*#REF!","v":{"$error":"#REF!"}}]
[null,null,null,null,null,null,{"$f":"Données!$E570393*#REF!","v":{"$error":"#REF!"}}]
[null,null,null,null,null,null,{"$f":"Données!$E570573*#REF!","v":{"$error":"#REF!"}}]
[null,null,null,null,null,null,{"$f":"Données!$E571357*#REF!","v":{"$error":"#REF!"}}]
[null,null,null,null,null,null,{"$f":"Données!$E571754*#REF!","v":{"$error":"#REF!"}}]
[null,null,null,null,null,null,{"$f":"Données!$E572092*#REF!","v":{"$error":"#REF!"}}]
[null,null,null,null,null,null,{"$f":"Données!$E572935*#REF!","v":{"$error":"#REF!"}}]
[null,null,null,null,null,null,{"$f":"Données!$E573350*#REF!","v":{"$error":"#REF!"}}]
[null,null,null,null,null,null,{"$f":"Données!$E573752*#REF!","v":{"$error":"#REF!"}}]
[null,null,null,null,null,null,{"$f":"Données!$E574608*#REF!","v":{"$error":"#REF!"}}]
[null,null,null,null,null,null,{"$f":"Données!$E574933*#REF!","v":{"$error":"#REF!"}}]
[null,null,null,null,null,null,{"$f":"Données!$E575343*#REF!","v":{"$error":"#REF!"}}]
[null,null,null,null,null,null,{"$f":"Données!$E576114*#REF!","v":{"$error":"#REF!"}}]
[null,null,null,null,null,null,{"$f":"Données!$E576307*#REF!","v":{"$error":"#REF!"}}]
[null,null,null,null,null,null,{"$f":"Données!$E576822*#REF!","v":{"$error":"#REF!"}}]
[null,null,null,null,null,null,{"$f":"Données!$E577443*#REF!","v":{"$error":"#REF!"}}]
[null,null,null,null,null,null,{"$f":"Données!$E578309*#REF!","v":{"$error":"#REF!"}}]
[null,null,null,null,null,null,{"$f":"Données!$E578624*#REF!","v":{"$error":"#REF!"}}]
[null,null,null,null,null,null,{"$f":"Données!$E579044*#REF!","v":{"$error":"#REF!"}}]
[null,null,null,null,null,null,{"$f":"Données!$E579805*#REF!","v":{"$error":"#REF!"}}]
[null,null,null,null,null,null,{"$f":"Données!$E580302*#REF!","v":{"$error":"#REF!"}}]
[null,null,null,null,null,null,{"$f":"Données!$E580622*#REF!","v":{"$error":"#REF!"}}]
[null,null,null,null,null,null,{"$f":"Données!$E581037*#REF!","v":{"$error":"#REF!"}}]
[null,null,null,null,null,null,{"$f":"Données!$E581803*#REF!","v":{"$error":"#REF!"}}]
[null,null,null,null,null,null,{"$f":"Données!$E582524*#REF!","v":{"$error":"#REF!"}}]
[null,null,null,null,null,null,{"$f":"Données!$E582984*#REF!","v":{"$error":"#REF!"}}]
[null,null,null,null,null,null,{"$f":"Données!$E583259*#REF!","v":{"$error":"#REF!"}}]
[null,null,null,null,null,null,{"$f":"Données!$E583643*#REF!","v":{"$error":"#REF!"}}]
[null,null,null,null,null,null,{"$f":"Données!$E584517*#REF!","v":{"$error":"#REF!"}}]
[null,null,null,null,null,null,{"$f":"Données!$E584982*#REF!","v":{"$error":"#REF!"}}]
[null,null,null,null,null,null,{"$f":"Données!$E585252*#REF!","v":{"$error":"#REF!"}}]
[null,null,null,null,null,null,{"$f":"Données!$E586163*#REF!","v":{"$error":"#REF!"}}]
[null,null,null,null,null,null,{"$f":"Données!$E586510*#REF!","v":{"$error":"#REF!"}}]
[null,null,null,null,null,null,{"$f":"Données!$E586731*#REF!","v":{"$error":"#REF!"}}]
[null,null,null,null,null,null,{"$f":"Données!$E587492*#REF!","v":{"$error":"#REF!"}}]
[null,null,null,null,null,null,{"$f":"Données!$E587989*#REF!","v":{"$error":"#REF!"}}]
[null,null,null,null,null,null,{"$f":"Données!$E588673*#REF!","v":{"$error":"#REF!"}}]
[null,null,null,null,null,null,{"$f":"Données!$E588953*#REF!","v":{"$error":"#REF!"}}]
[null,null,null,null,null,null,{"$f":"Données!$E589332*#REF!","v":{"$error":"#REF!"}}]
[null,null,null,null,null,null,{"$f":"Données!$E590211*#REF!","v":{"$error":"#REF!"}}]
[null,null,null,null,null,null,{"$f":"Données!$E590513*#REF!","v":{"$error":"#REF!"}}]
[null,null,null,null,null,null,{"$f":"Données!$E590946*#REF!","v":{"$error":"#REF!"}}]
[null,null,null,null,null,null,{"$f":"Données!$E591852*#REF!","v":{"$error":"#REF!"}}]
[null,null,null,null,null,null,{"$f":"Données!$E592204*#REF!","v":{"$error":"#REF!"}}]
[null,null,null,null,null,null,{"$f":"Données!$E592511*#REF!","v":{"$error":"#REF!"}}]
[null,null,null,null,null,null,{"$f":"Données!$E593462*#REF!","v":{"$error":"#REF!"}}]
[null,null,null,null,null,null,{"$f":"Données!$E593692*#REF!","v":{"$error":"#REF!"}}]
[null,null,null,null,null,null,{"$f":"Données!$E594426*#REF!","v":{"$error":"#REF!"}}]
[null,null,null,null,null,null,{"$f":"Données!$E594873*#REF!","v":{"$error":"#REF!"}}]
[null,null,null,null,null,null,{"$f":"Données!$E595161*#REF!","v":{"$error":"#REF!"}}]
[null,null,null,null,null,null,{"$f":"Données!$E595690*#REF!","v":{"$error":"#REF!"}}]
[null,null,null,null,null,null,{"$f":"Données!$E596419*#REF!","v":{"$error":"#REF!"}}]
[null,null,null,null,null,null,{"$f":"Données!$E596871*#REF!","v":{"$error":"#REF!"}}]
[null,null,null,null,null,null,{"$f":"Données!$E597677*#REF!","v":{"$error":"#REF!"}}]
[null,null,null,null,null,null,{"$f":"Données!$E597898*#REF!","v":{"$error":"#REF!"}}]
[null,null,null,null,null,null,{"$f":"Données!$E598722*#REF!","v":{"$error":"#REF!"}}]
[null,null,null,null,null,null,{"$f":"Données!$E599156*#REF!","v":{"$error":"#REF!"}}]
[null,null,null,null,null,null,{"$f":"Données!$E599381*#REF!","v":{"$error":"#REF!"}}]
[null,null,null,null,null,null,{"$f":"Données!$E600120*#REF!","v":{"$error":"#REF!"}}]
[null,null,null,null,null,null,{"$f":"Données!$E600562*#REF!","v":{"$error":"#REF!"}}]
[null,null,null,null,null,null,{"$f":"Données!$E600855*#REF!","v":{"$error":"#REF!"}}]
[null,null,null,null,null,null,{"$f":"Données!$E601743*#REF!","v":{"$error":"#REF!"}}]
[null,null,null,null,null,null,{"$f":"Données!$E602113*#REF!","v":{"$error":"#REF!"}}]
[null,null,null,null,null,null,{"$f":"Données!$E602560*#REF!","v":{"$error":"#REF!"}}]
[null,null,null,null,null,null,{"$f":"Données!$E603371*#REF!","v":{"$error":"#REF!"}}]
[null,null,null,null,null,null,{"$f":"Données!$E603741*#REF!","v":{"$error":"#REF!"}}]
[null,null,null,null,null,null,{"$f":"Données!$E604106*#REF!","v":{"$error":"#REF!"}}]
[null,null,null,null,null,null,{"$f":"Données!$E604922*#REF!","v":{"$error":"#REF!"}}]
[null,null,null,null,null,null,{"$f":"Données!$E605070*#REF!","v":{"$error":"#REF!"}}]
[null,null,null,null,null,null,{"$f":"Données!$E605581*#REF!","v":{"$error":"#REF!"}}]
[null,null,null,null,null,null,{"$f":"Données!$E606328*#REF!","v":{"$error":"#REF!"}}]
[null,null,null,null,null,null,{"$f":"Données!$E606920*#REF!","v":{"$error":"#REF!"}}]
[null,null,null,null,null,null,{"$f":"Données!$E607586*#REF!","v":{"$error":"#REF!"}}]
[null,null,null,null,null,null,{"$f":"Données!$E607807*#REF!","v":{"$error":"#REF!"}}]
[null,null,null,null,null,null,{"$f":"Données!$E608613*#REF!","v":{"$error":"#REF!"}}]
[null,null,null,null,null,null,{"$f":"Données!$E609065*#REF!","v":{"$error":"#REF!"}}]
[null,null,null,null,null,null,{"$f":"Données!$E609430*#REF!","v":{"$error":"#REF!"}}]
[null,null,null,null,null,null,{"$f":"Données!$E609800*#REF!","v":{"$error":"#REF!"}}]
[null,null,null,null,null,null,{"$f":"Données!$E610611*#REF!","v":{"$error":"#REF!"}}]
[null,null,null,null,null,null,{"$f":"Données!$E610764*#REF!","v":{"$error":"#REF!"}}]
[null,null,null,null,null,null,{"$f":"Données!$E611270*#REF!","v":{"$error":"#REF!"}}]
[null,null,null,null,null,null,{"$f":"Données!$E612022*#REF!","v":{"$error":"#REF!"}}]
[null,null,null,null,null,null,{"$f":"Données!$E612451*#REF!","v":{"$error":"#REF!"}}]
[null,null,null,null,null,null,{"$f":"Données!$E613280*#REF!","v":{"$error":"#REF!"}}]
[null,null,null,null,null,null,{"$f":"Données!$E613790*#REF!","v":{"$error":"#REF!"}}]
[null,null,null,null,null,null,{"$f":"Données!$E614015*#REF!","v":{"$error":"#REF!"}}]
[null,null,null,null,null,null,{"$f":"Données!$E614449*#REF!","v":{"$error":"#REF!"}}]
[null,null,null,null,null,null,{"$f":"Données!$E615273*#REF!","v":{"$error":"#REF!"}}]
[null,null,null,null,null,null,{"$f":"Données!$E615630*#REF!","v":{"$error":"#REF!"}}]
[null,null,null,null,null,null,{"$f":"Données!$E616237*#REF!","v":{"$error":"#REF!"}}]
[null,null,null,null,null,null,{"$f":"Données!$E616811*#REF!","v":{"$error":"#REF!"}}]
[null,null,null,null,null,null,{"$f":"Données!$E617495*#REF!","v":{"$error":"#REF!"}}]
[null,null,null,null,null,null,{"$f":"Données!$E617628*#REF!","v":{"$error":"#REF!"}}]
[null,null,null,null,null,null,{"$f":"Données!$E618230*#REF!","v":{"$error":"#REF!"}}]
[null,null,null,null,null,null,{"$f":"Données!$E618974*#REF!","v":{"$error":"#REF!"}}]
[null,null,null,null,null,null,{"$f":"Données!$E619321*#REF!","v":{"$error":"#REF!"}}]
[null,null,null,null,null,null,{"$f":"Données!$E619709*#REF!","v":{"$error":"#REF!"}}]
[null,null,null,null,null,null,{"$f":"Données!$E620660*#REF!","v":{"$error":"#REF!"}}]
[null,null,null,null,null,null,{"$f":"Données!$E620967*#REF!","v":{"$error":"#REF!"}}]
[null,null,null,null,null,null,{"$f":"Données!$E621319*#REF!","v":{"$error":"#REF!"}}]
[null,null,null,null,null,null,{"$f":"Données!$E622225*#REF!","v":{"$error":"#REF!"}}]
[null,null,null,null,null,null,{"$f":"Données!$E622500*#REF!","v":{"$error":"#REF!"}}]
[null,null,null,null,null,null,{"$f":"Données!$E623189*#REF!","v":{"$error":"#REF!"}}]
[null,null,null,null,null,null,{"$f":"Données!$E623681*#REF!","v":{"$error":"#REF!"}}]
[null,null,null,null,null,null,{"$f":"Données!$E623924*#REF!","v":{"$error":"#REF!"}}]
[null,null,null,null,null,null,{"$f":"Données!$E624498*#REF!","v":{"$error":"#REF!"}}]
[null,null,null,null,null,null,{"$f":"Données!$E625182*#REF!","v":{"$error":"#REF!"}}]
[null,null,null,null,null,null,{"$f":"Données!$E625679*#REF!","v":{"$error":"#REF!"}}]
[null,null,null,null,null,null,{"$f":"Données!$E625917*#REF!","v":{"$error":"#REF!"}}]
[null,null,null,null,null,null,{"$f":"Données!$E626860*#REF!","v":{"$error":"#REF!"}}]
[null,null,null,null,null,null,{"$f":"Données!$E627404*#REF!","v":{"$error":"#REF!"}}]
[null,null,null,null,null,null,{"$f":"Données!$E627519*#REF!","v":{"$error":"#REF!"}}]
[null,null,null,null,null,null,{"$f":"Données!$E628139*#REF!","v":{"$error":"#REF!"}}]
[null,null,null,null,null,null,{"$f":"Données!$E628883*#REF!","v":{"$error":"#REF!"}}]
[null,null,null,null,null,null,{"$f":"Données!$E629370*#REF!","v":{"$error":"#REF!"}}]
[null,null,null,null,null,null,{"$f":"Données!$E629618*#REF!","v":{"$error":"#REF!"}}]
[null,null,null,null,null,null,{"$f":"Données!$E630551*#REF!","v":{"$error":"#REF!"}}]
[null,null,null,null,null,null,{"$f":"Données!$E630876*#REF!","v":{"$error":"#REF!"}}]
[null,null,null,null,null,null,{"$f":"Données!$E631368*#REF!","v":{"$error":"#REF!"}}]
[null,null,null,null,null,null,{"$f":"Données!$E632134*#REF!","v":{"$error":"#REF!"}}]
[null,null,null,null,null,null,{"$f":"Données!$E632549*#REF!","v":{"$error":"#REF!"}}]
[null,null,null,null,null,null,{"$f":"Données!$E632869*#REF!","v":{"$error":"#REF!"}}]
[null,null,null,null,null,null,{"$f":"Données!$E633730*#REF!","v":{"$error":"#REF!"}}]
[null,null,null,null,null,null,{"$f":"Données!$E633833*#REF!","v":{"$error":"#REF!"}}]
[null,null,null,null,null,null,{"$f":"Données!$E634389*#REF!","v":{"$error":"#REF!"}}]
[null,null,null,null,null,null,{"$f":"Données!$E635091*#REF!","v":{"$error":"#REF!"}}]
[null,null,null,null,null,null,{"$f":"Données!$E635728*#REF!","v":{"$error":"#REF!"}}]
[null,null,null,null,null,null,{"$f":"Données!$E635826*#REF!","v":{"$error":"#REF!"}}]
[null,null,null,null,null,null,{"$f":"Données!$E636387*#REF!","v":{"$error":"#REF!"}}]
[null,null,null,null,null,null,{"$f":"Données!$E637084*#REF!","v":{"$error":"#REF!"}}]
[null,null,null,null,null,null,{"$f":"Données!$E637568*#REF!","v":{"$error":"#REF!"}}]
[null,null,null,null,null,null,{"$f":"Données!$E638048*#REF!","v":{"$error":"#REF!"}}]
[null,null,null,null,null,null,{"$f":"Données!$E638749*#REF!","v":{"$error":"#REF!"}}]
[null,null,null,null,null,null,{"$f":"Données!$E639306*#REF!","v":{"$error":"#REF!"}}]
[null,null,null,null,null,null,{"$f":"Données!$E639527*#REF!","v":{"$error":"#REF!"}}]
[null,null,null,null,null,null,{"$f":"Données!$E640078*#REF!","v":{"$error":"#REF!"}}]
[null,null,null,null,null,null,{"$f":"Données!$E640785*#REF!","v":{"$error":"#REF!"}}]
[null,null,null,null,null,null,{"$f":"Données!$E641259*#REF!","v":{"$error":"#REF!"}}]
[null,null,null,null,null,null,{"$f":"Données!$E642043*#REF!","v":{"$error":"#REF!"}}]
[null,null,null,null,null,null,{"$f":"Données!$E642598*#REF!","v":{"$error":"#REF!"}}]
[null,null,null,null,null,null,{"$f":"Données!$E642778*#REF!","v":{"$error":"#REF!"}}]
[null,null,null,null,null,null,{"$f":"Données!$E643257*#REF!","v":{"$error":"#REF!"}}]
[null,null,null,null,null,null,{"$f":"Données!$E644036*#REF!","v":{"$error":"#REF!"}}]
[null,null,null,null,null,null,{"$f":"Données!$E644438*#REF!","v":{"$error":"#REF!"}}]
[null,null,null,null,null,null,{"$f":"Données!$E645000*#REF!","v":{"$error":"#REF!"}}]
[null,null,null,null,null,null,{"$f":"Données!$E645619*#REF!","v":{"$error":"#REF!"}}]
[null,null,null,null,null,null,{"$f":"Données!$E646258*#REF!","v":{"$error":"#REF!"}}]
[null,null,null,null,null,null,{"$f":"Données!$E646436*#REF!","v":{"$error":"#REF!"}}]
[null,null,null,null,null,null,{"$f":"Données!$E646993*#REF!","v":{"$error":"#REF!"}}]
[null,null,null,null,null,null,{"$f":"Données!$E647617*#REF!","v":{"$error":"#REF!"}}]
[null,null,null,null,null,null,{"$f":"Données!$E648251*#REF!","v":{"$error":"#REF!"}}]
[null,null,null,null,null,null,{"$f":"Données!$E648798*#REF!","v":{"$error":"#REF!"}}]
[null,null,null,null,null,null,{"$f":"Données!$E649215*#REF!","v":{"$error":"#REF!"}}]
[null,null,null,null,null,null,{"$f":"Données!$E649730*#REF!","v":{"$error":"#REF!"}}]
[null,null,null,null,null,null,{"$f":"Données!$E650127*#REF!","v":{"$error":"#REF!"}}]
[null,null,null,null,null,null,{"$f":"Données!$E650465*#REF!","v":{"$error":"#REF!"}}]
[null,null,null,null,null,null,{"$f":"Données!$E651308*#REF!","v":{"$error":"#REF!"}}]
[null,null,null,null,null,null,{"$f":"Données!$E651952*#REF!","v":{"$error":"#REF!"}}]
[null,null,null,null,null,null,{"$f":"Données!$E652489*#REF!","v":{"$error":"#REF!"}}]
[null,null,null,null,null,null,{"$f":"Données!$E652687*#REF!","v":{"$error":"#REF!"}}]
[null,null,null,null,null,null,{"$f":"Données!$E653306*#REF!","v":{"$error":"#REF!"}}]
[null,null,null,null,null,null,{"$f":"Données!$E653945*#REF!","v":{"$error":"#REF!"}}]
[null,null,null,null,null,null,{"$f":"Données!$E654487*#REF!","v":{"$error":"#REF!"}}]
[null,null,null,null,null,null,{"$f":"Données!$E654680*#REF!","v":{"$error":"#REF!"}}]
[null,null,null,null,null,null,{"$f":"Données!$E655668*#REF!","v":{"$error":"#REF!"}}]
[null,null,null,null,null,null,{"$f":"Données!$E656167*#REF!","v":{"$error":"#REF!"}}]
[null,null,null,null,null,null,{"$f":"Données!$E656327*#REF!","v":{"$error":"#REF!"}}]
[null,null,null,null,null,null,{"$f":"Données!$E656902*#REF!","v":{"$error":"#REF!"}}]
[null,null,null,null,null,null,{"$f":"Données!$E657666*#REF!","v":{"$error":"#REF!"}}]
[null,null,null,null,null,null,{"$f":"Données!$E658160*#REF!","v":{"$error":"#REF!"}}]
[null,null,null,null,null,null,{"$f":"Données!$E658325*#REF!","v":{"$error":"#REF!"}}]
[null,null,null,null,null,null,{"$f":"Données!$E658895*#REF!","v":{"$error":"#REF!"}}]
[null,null,null,null,null,null,{"$f":"Données!$E659506*#REF!","v":{"$error":"#REF!"}}]
[null,null,null,null,null,null,{"$f":"Données!$E659859*#REF!","v":{"$error":"#REF!"}}]
[null,null,null,null,null,null,{"$f":"Données!$E660897*#REF!","v":{"$error":"#REF!"}}]
[null,null,null,null,null,null,{"$f":"Données!$E661357*#REF!","v":{"$error":"#REF!"}}]
[null,null,null,null,null,null,{"$f":"Données!$E661632*#REF!","v":{"$error":"#REF!"}}]
[null,null,null,null,null,null,{"$f":"Données!$E662016*#REF!","v":{"$error":"#REF!"}}]
[null,null,null,null,null,null,{"$f":"Données!$E662596*#REF!","v":{"$error":"#REF!"}}]
[null,null,null,null,null,null,{"$f":"Données!$E663197*#REF!","v":{"$error":"#REF!"}}]
[null,null,null,null,null,null,{"$f":"Données!$E663854*#REF!","v":{"$error":"#REF!"}}]
[null,null,null,null,null,null,{"$f":"Données!$E664536*#REF!","v":{"$error":"#REF!"}}]
[null,null,null,null,null,null,{"$f":"Données!$E664589*#REF!","v":{"$error":"#REF!"}}]
[null,null,null,null,null,null,{"$f":"Données!$E665195*#REF!","v":{"$error":"#REF!"}}]
[null,null,null,null,null,null,{"$f":"Données!$E665847*#REF!","v":{"$error":"#REF!"}}]
[null,null,null,null,null,null,{"$f":"Données!$E666376*#REF!","v":{"$error":"#REF!"}}]
[null,null,null,null,null,null,{"$f":"Données!$E666811*#REF!","v":{"$error":"#REF!"}}]
[null,null,null,null,null,null,{"$f":"Données!$E667557*#REF!","v":{"$error":"#REF!"}}]
[null,null,null,null,null,null,{"$f":"Données!$E668069*#REF!","v":{"$error":"#REF!"}}]
[null,null,null,null,null,null,{"$f":"Données!$E668738*#REF!","v":{"$error":"#REF!"}}]
[null,null,null,null,null,null,{"$f":"Données!$E668804*#REF!","v":{"$error":"#REF!"}}]
[null,null,null,null,null,null,{"$f":"Données!$E669555*#REF!","v":{"$error":"#REF!"}}]
[null,null,null,null,null,null,{"$f":"Données!$E670062*#REF!","v":{"$error":"#REF!"}}]
[null,null,null,null,null,null,{"$f":"Données!$E670806*#REF!","v":{"$error":"#REF!"}}]
[null,null,null,null,null,null,{"$f":"Données!$E670884*#REF!","v":{"$error":"#REF!"}}]
[null,null,null,null,null,null,{"$f":"Données!$E671541*#REF!","v":{"$error":"#REF!"}}]
[null,null,null,null,null,null,{"$f":"Données!$E672065*#REF!","v":{"$error":"#REF!"}}]
[null,null,null,null,null,null,{"$f":"Données!$E672799*#REF!","v":{"$error":"#REF!"}}]
[null,null,null,null,null,null,{"$f":"Données!$E673246*#REF!","v":{"$error":"#REF!"}}]
[null,null,null,null,null,null,{"$f":"Données!$E673763*#REF!","v":{"$error":"#REF!"}}]
[null,null,null,null,null,null,{"$f":"Données!$E674427*#REF!","v":{"$error":"#REF!"}}]
[null,null,null,null,null,null,{"$f":"Données!$E674498*#REF!","v":{"$error":"#REF!"}}]
[null,null,null,null,null,null,{"$f":"Données!$E675244*#REF!","v":{"$error":"#REF!"}}]
[null,null,null,null,null,null,{"$f":"Données!$E675756*#REF!","v":{"$error":"#REF!"}}]
[null,null,null,null,null,null,{"$f":"Données!$E676425*#REF!","v":{"$error":"#REF!"}}]
[null,null,null,null,null,null,{"$f":"Données!$E677014*#REF!","v":{"$error":"#REF!"}}]
[null,null,null,null,null,null,{"$f":"Données!$E677606*#REF!","v":{"$error":"#REF!"}}]
[null,null,null,null,null,null,{"$f":"Données!$E677978*#REF!","v":{"$error":"#REF!"}}]
[null,null,null,null,null,null,{"$f":"Données!$E678265*#REF!","v":{"$error":"#REF!"}}]
[null,null,null,null,null,null,{"$f":"Données!$E678713*#REF!","v":{"$error":"#REF!"}}]
[null,null,null,null,null,null,{"$f":"Données!$E679446*#REF!","v":{"$error":"#REF!"}}]
[null,null,null,null,null,null,{"$f":"Données!$E679971*#REF!","v":{"$error":"#REF!"}}]
[null,null,null,null,null,null,{"$f":"Données!$E680263*#REF!","v":{"$error":"#REF!"}}]
[null,null,null,null,null,null,{"$f":"Données!$E681229*#REF!","v":{"$error":"#REF!"}}]
[null,null,null,null,null,null,{"$f":"Données!$E681450*#REF!","v":{"$error":"#REF!"}}]
[null,null,null,null,null,null,{"$f":"Données!$E682114*#REF!","v":{"$error":"#REF!"}}]
[null,null,null,null,null,null,{"$f":"Données!$E682708*#REF!","v":{"$error":"#REF!"}}]
[null,null,null,null,null,null,{"$f":"Données!$E683295*#REF!","v":{"$error":"#REF!"}}]
[null,null,null,null,null,null,{"$f":"Données!$E683443*#REF!","v":{"$error":"#REF!"}}]
[null,null,null,null,null,null,{"$f":"Données!$E683954*#REF!","v":{"$error":"#REF!"}}]
[null,null,null,null,null,null,{"$f":"Données!$E684930*#REF!","v":{"$error":"#REF!"}}]
[null,null,null,null,null,null,{"$f":"Données!$E685135*#REF!","v":{"$error":"#REF!"}}]
[null,null,null,null,null,null,{"$f":"Données!$E685665*#REF!","v":{"$error":"#REF!"}}]
[null,null,null,null,null,null,{"$f":"Données!$E686474*#REF!","v":{"$error":"#REF!"}}]
[null,null,null,null,null,null,{"$f":"Données!$E686923*#REF!","v":{"$error":"#REF!"}}]
[null,null,null,null,null,null,{"$f":"Données!$E687133*#REF!","v":{"$error":"#REF!"}}]
[null,null,null,null,null,null,{"$f":"Données!$E687658*#REF!","v":{"$error":"#REF!"}}]
[null,null,null,null,null,null,{"$f":"Données!$E688314*#REF!","v":{"$error":"#REF!"}}]
[null,null,null,null,null,null,{"$f":"Données!$E688622*#REF!","v":{"$error":"#REF!"}}]
[null,null,null,null,null,null,{"$f":"Données!$E689495*#REF!","v":{"$error":"#REF!"}}]
[null,null,null,null,null,null,{"$f":"Données!$E689880*#REF!","v":{"$error":"#REF!"}}]
[null,null,null,null,null,null,{"$f":"Données!$E690676*#REF!","v":{"$error":"#REF!"}}]
[null,null,null,null,null,null,{"$f":"Données!$E691138*#REF!","v":{"$error":"#REF!"}}]
[null,null,null,null,null,null,{"$f":"Données!$E691359*#REF!","v":{"$error":"#REF!"}}]
[null,null,null,null,null,null,{"$f":"Données!$E692005*#REF!","v":{"$error":"#REF!"}}]
[null,null,null,null,null,null,{"$f":"Données!$E692617*#REF!","v":{"$error":"#REF!"}}]
[null,null,null,null,null,null,{"$f":"Données!$E692822*#REF!","v":{"$error":"#REF!"}}]
[null,null,null,null,null,null,{"$f":"Données!$E693352*#REF!","v":{"$error":"#REF!"}}]
[null,null,null,null,null,null,{"$f":"Données!$E694003*#REF!","v":{"$error":"#REF!"}}]
[null,null,null,null,null,null,{"$f":"Données!$E694610*#REF!","v":{"$error":"#REF!"}}]
[null,null,null,null,null,null,{"$f":"Données!$E695184*#REF!","v":{"$error":"#REF!"}}]
[null,null,null,null,null,null,{"$f":"Données!$E695574*#REF!","v":{"$error":"#REF!"}}]
[null,null,null,null,null,null,{"$f":"Données!$E696365*#REF!","v":{"$error":"#REF!"}}]
[null,null,null,null,null,null,{"$f":"Données!$E696832*#REF!","v":{"$error":"#REF!"}}]
[null,null,null,null,null,null,{"$f":"Données!$E697024*#REF!","v":{"$error":"#REF!"}}]
[null,null,null,null,null,null,{"$f":"Données!$E697567*#REF!","v":{"$error":"#REF!"}}]
[null,null,null,null,null,null,{"$f":"Données!$E698363*#REF!","v":{"$error":"#REF!"}}]
[null,null,null,null,null,null,{"$f":"Données!$E698825*#REF!","v":{"$error":"#REF!"}}]
[null,null,null,null,null,null,{"$f":"Données!$E699544*#REF!","v":{"$error":"#REF!"}}]
[null,null,null,null,null,null,{"$f":"Données!$E699789*#REF!","v":{"$error":"#REF!"}}]
[null,null,null,null,null,null,{"$f":"Données!$E700203*#REF!","v":{"$error":"#REF!"}}]
[null,null,null,null,null,null,{"$f":"Données!$E701047*#REF!","v":{"$error":"#REF!"}}]
[null,null,null,null,null,null,{"$f":"Données!$E701384*#REF!","v":{"$error":"#REF!"}}]
[null,null,null,null,null,null,{"$f":"Données!$E701782*#REF!","v":{"$error":"#REF!"}}]
[null,null,null,null,null,null,{"$f":"Données!$E702526*#REF!","v":{"$error":"#REF!"}}]
[null,null,null,null,null,null,{"$f":"Données!$E702713*#REF!","v":{"$error":"#REF!"}}]
[null,null,null,null,null,null,{"$f":"Données!$E703261*#REF!","v":{"$error":"#REF!"}}]
[null,null,null,null,null,null,{"$f":"Données!$E704052*#REF!","v":{"$error":"#REF!"}}]
[null,null,null,null,null,null,{"$f":"Données!$E704519*#REF!","v":{"$error":"#REF!"}}]
[null,null,null,null,null,null,{"$f":"Données!$E705233*#REF!","v":{"$error":"#REF!"}}]
[null,null,null,null,null,null,{"$f":"Données!$E705777*#REF!","v":{"$error":"#REF!"}}]
[null,null,null,null,null,null,{"$f":"Données!$E705892*#REF!","v":{"$error":"#REF!"}}]
[null,null,null,null,null,null,{"$f":"Données!$E706741*#REF!","v":{"$error":"#REF!"}}]
[null,null,null,null,null,null,{"$f":"Données!$E707073*#REF!","v":{"$error":"#REF!"}}]
[null,null,null,null,null,null,{"$f":"Données!$E707476*#REF!","v":{"$error":"#REF!"}}]
[null,null,null,null,null,null,{"$f":"Données!$E708254*#REF!","v":{"$error":"#REF!"}}]
[null,null,null,null,null,null,{"$f":"Données!$E708734*#REF!","v":{"$error":"#REF!"}}]
[null,null,null,null,null,null,{"$f":"Données!$E709071*#REF!","v":{"$error":"#REF!"}}]
[null,null,null,null,null,null,{"$f":"Données!$E709992*#REF!","v":{"$error":"#REF!"}}]
[null,null,null,null,null,null,{"$f":"Données!$E710252*#REF!","v":{"$error":"#REF!"}}]
[null,null,null,null,null,null,{"$f":"Données!$E710956*#REF!","v":{"$error":"#REF!"}}]
[null,null,null,null,null,null,{"$f":"Données!$E711433*#REF!","v":{"$error":"#REF!"}}]
[null,null,null,null,null,null,{"$f":"Données!$E711691*#REF!","v":{"$error":"#REF!"}}]
[null,null,null,null,null,null,{"$f":"Données!$E712206*#REF!","v":{"$error":"#REF!"}}]
[null,null,null,null,null,null,{"$f":"Données!$E712762*#REF!","v":{"$error":"#REF!"}}]
[null,null,null,null,null,null,{"$f":"Données!$E713170*#REF!","v":{"$error":"#REF!"}}]
[null,null,null,null,null,null,{"$f":"Données!$E713943*#REF!","v":{"$error":"#REF!"}}]
[null,null,null,null,null,null,{"$f":"Données!$E714428*#REF!","v":{"$error":"#REF!"}}]
[null,null,null,null,null,null,{"$f":"Données!$E715124*#REF!","v":{"$error":"#REF!"}}]
[null,null,null,null,null,null,{"$f":"Données!$E715686*#REF!","v":{"$error":"#REF!"}}]
[null,null,null,null,null,null,{"$f":"Données!$E715941*#REF!","v":{"$error":"#REF!"}}]
[null,null,null,null,null,null,{"$f":"Données!$E716421*#REF!","v":{"$error":"#REF!"}}]
[null,null,null,null,null,null,{"$f":"Données!$E717122*#REF!","v":{"$error":"#REF!"}}]
[null,null,null,null,null,null,{"$f":"Données!$E717385*#REF!","v":{"$error":"#REF!"}}]
[null,null,null,null,null,null,{"$f":"Données!$E718303*#REF!","v":{"$error":"#REF!"}}]
[null,null,null,null,null,null,{"$f":"Données!$E718643*#REF!","v":{"$error":"#REF!"}}]
[null,null,null,null,null,null,{"$f":"Données!$E718962*#REF!","v":{"$error":"#REF!"}}]
[null,null,null,null,null,null,{"$f":"Données!$E719901*#REF!","v":{"$error":"#REF!"}}]
[null,null,null,null,null,null,{"$f":"Données!$E720301*#REF!","v":{"$error":"#REF!"}}]
[null,null,null,null,null,null,{"$f":"Données!$E720636*#REF!","v":{"$error":"#REF!"}}]
[null,null,null,null,null,null,{"$f":"Données!$E721482*#REF!","v":{"$error":"#REF!"}}]
[null,null,null,null,null,null,{"$f":"Données!$E721600*#REF!","v":{"$error":"#REF!"}}]
[null,null,null,null,null,null,{"$f":"Données!$E722141*#REF!","v":{"$error":"#REF!"}}]
[null,null,null,null,null,null,{"$f":"Données!$E722858*#REF!","v":{"$error":"#REF!"}}]
[null,null,null,null,null,null,{"$f":"Données!$E723373*#REF!","v":{"$error":"#REF!"}}]
[null,null,null,null,null,null,{"$f":"Données!$E723992*#REF!","v":{"$error":"#REF!"}}]
[null,null,null,null,null,null,{"$f":"Données!$E724337*#REF!","v":{"$error":"#REF!"}}]
[null,null,null,null,null,null,{"$f":"Données!$E725173*#REF!","v":{"$error":"#REF!"}}]
[null,null,null,null,null,null,{"$f":"Données!$E725595*#REF!","v":{"$error":"#REF!"}}]
[null,null,null,null,null,null,{"$f":"Données!$E725832*#REF!","v":{"$error":"#REF!"}}]
[null,null,null,null,null,null,{"$f":"Données!$E726330*#REF!","v":{"$error":"#REF!"}}]
[null,null,null,null,null,null,{"$f":"Données!$E727171*#REF!","v":{"$error":"#REF!"}}]
[null,null,null,null,null,null,{"$f":"Données!$E727588*#REF!","v":{"$error":"#REF!"}}]
[null,null,null,null,null,null,{"$f":"Données!$E727830*#REF!","v":{"$error":"#REF!"}}]
[null,null,null,null,null,null,{"$f":"Données!$E728552*#REF!","v":{"$error":"#REF!"}}]
[null,null,null,null,null,null,{"$f":"Données!$E729011*#REF!","v":{"$error":"#REF!"}}]
[null,null,null,null,null,null,{"$f":"Données!$E729810*#REF!","v":{"$error":"#REF!"}}]
[null,null,null,null,null,null,{"$f":"Données!$E730192*#REF!","v":{"$error":"#REF!"}}]
[null,null,null,null,null,null,{"$f":"Données!$E730545*#REF!","v":{"$error":"#REF!"}}]
[null,null,null,null,null,null,{"$f":"Données!$E731009*#REF!","v":{"$error":"#REF!"}}]
[null,null,null,null,null,null,{"$f":"Données!$E731803*#REF!","v":{"$error":"#REF!"}}]
[null,null,null,null,null,null,{"$f":"Données!$E732190*#REF!","v":{"$error":"#REF!"}}]
[null,null,null,null,null,null,{"$f":"Données!$E732767*#REF!","v":{"$error":"#REF!"}}]
[null,null,null,null,null,null,{"$f":"Données!$E733282*#REF!","v":{"$error":"#REF!"}}]
[null,null,null,null,null,null,{"$f":"Données!$E734041*#REF!","v":{"$error":"#REF!"}}]
[null,null,null,null,null,null,{"$f":"Données!$E734540*#REF!","v":{"$error":"#REF!"}}]
[null,null,null,null,null,null,{"$f":"Données!$E734700*#REF!","v":{"$error":"#REF!"}}]
[null,null,null,null,null,null,{"$f":"Données!$E735504*#REF!","v":{"$error":"#REF!"}}]
[null,null,null,null,null,null,{"$f":"Données!$E735881*#REF!","v":{"$error":"#REF!"}}]
[null,null,null,null,null,null,{"$f":"Données!$E736239*#REF!","v":{"$error":"#REF!"}}]
[null,null,null,null,null,null,{"$f":"Données!$E737062*#REF!","v":{"$error":"#REF!"}}]
[null,null,null,null,null,null,{"$f":"Données!$E737497*#REF!","v":{"$error":"#REF!"}}]
[null,null,null,null,null,null,{"$f":"Données!$E737879*#REF!","v":{"$error":"#REF!"}}]
[null,null,null,null,null,null,{"$f":"Données!$E738755*#REF!","v":{"$error":"#REF!"}}]
[null,null,null,null,null,null,{"$f":"Données!$E739060*#REF!","v":{"$error":"#REF!"}}]
[null,null,null,null,null,null,{"$f":"Données!$E739719*#REF!","v":{"$error":"#REF!"}}]
[null,null,null,null,null,null,{"$f":"Données!$E740241*#REF!","v":{"$error":"#REF!"}}]
[null,null,null,null,null,null,{"$f":"Données!$E740454*#REF!","v":{"$error":"#REF!"}}]
[null,null,null,null,null,null,{"$f":"Données!$E740900*#REF!","v":{"$error":"#REF!"}}]
[null,null,null,null,null,null,{"$f":"Données!$E741712*#REF!","v":{"$error":"#REF!"}}]
[null,null,null,null,null,null,{"$f":"Données!$E742239*#REF!","v":{"$error":"#REF!"}}]
[null,null,null,null,null,null,{"$f":"Données!$E742447*#REF!","v":{"$error":"#REF!"}}]
[null,null,null,null,null,null,{"$f":"Données!$E743420*#REF!","v":{"$error":"#REF!"}}]
[null,null,null,null,null,null,{"$f":"Données!$E743705*#REF!","v":{"$error":"#REF!"}}]
[null,null,null,null,null,null,{"$f":"Données!$E744449*#REF!","v":{"$error":"#REF!"}}]
[null,null,null,null,null,null,{"$f":"Données!$E744749*#REF!","v":{"$error":"#REF!"}}]
[null,null,null,null,null,null,{"$f":"Données!$E745184*#REF!","v":{"$error":"#REF!"}}]
[null,null,null,null,null,null,{"$f":"Données!$E745930*#REF!","v":{"$error":"#REF!"}}]
[null,null,null,null,null,null,{"$f":"Données!$E746148*#REF!","v":{"$error":"#REF!"}}]
[null,null,null,null,null,null,{"$f":"Données!$E747111*#REF!","v":{"$error":"#REF!"}}]
[null,null,null,null,null,null,{"$f":"Données!$E747406*#REF!","v":{"$error":"#REF!"}}]
[null,null,null,null,null,null,{"$f":"Données!$E747770*#REF!","v":{"$error":"#REF!"}}]
[null,null,null,null,null,null,{"$f":"Données!$E748664*#REF!","v":{"$error":"#REF!"}}]
[null,null,null,null,null,null,{"$f":"Données!$E749109*#REF!","v":{"$error":"#REF!"}}]
[null,null,null,null,null,null,{"$f":"Données!$E749399*#REF!","v":{"$error":"#REF!"}}]
[null,null,null,null,null,null,{"$f":"Données!$E749768*#REF!","v":{"$error":"#REF!"}}]
[null,null,null,null,null,null,{"$f":"Données!$E750363*#REF!","v":{"$error":"#REF!"}}]
[null,null,null,null,null,null,{"$f":"Données!$E750949*#REF!","v":{"$error":"#REF!"}}]
[null,null,null,null,null,null,{"$f":"Données!$E751621*#REF!","v":{"$error":"#REF!"}}]
[null,null,null,null,null,null,{"$f":"Données!$E752130*#REF!","v":{"$error":"#REF!"}}]
[null,null,null,null,null,null,{"$f":"Données!$E752356*#REF!","v":{"$error":"#REF!"}}]
[null,null,null,null,null,null,{"$f":"Données!$E752947*#REF!","v":{"$error":"#REF!"}}]
[null,null,null,null,null,null,{"$f":"Données!$E753614*#REF!","v":{"$error":"#REF!"}}]
[null,null,null,null,null,null,{"$f":"Données!$E754358*#REF!","v":{"$error":"#REF!"}}]
[null,null,null,null,null,null,{"$f":"Données!$E754640*#REF!","v":{"$error":"#REF!"}}]
[null,null,null,null,null,null,{"$f":"Données!$E755093*#REF!","v":{"$error":"#REF!"}}]
[null,null,null,null,null,null,{"$f":"Données!$E755979*#REF!","v":{"$error":"#REF!"}}]
[null,null,null,null,null,null,{"$f":"Données!$E756351*#REF!","v":{"$error":"#REF!"}}]
[null,null,null,null,null,null,{"$f":"Données!$E756638*#REF!","v":{"$error":"#REF!"}}]
[null,null,null,null,null,null,{"$f":"Données!$E757315*#REF!","v":{"$error":"#REF!"}}]
[null,null,null,null,null,null,{"$f":"Données!$E757819*#REF!","v":{"$error":"#REF!"}}]
[null,null,null,null,null,null,{"$f":"Données!$E758573*#REF!","v":{"$error":"#REF!"}}]
[null,null,null,null,null,null,{"$f":"Données!$E759000*#REF!","v":{"$error":"#REF!"}}]
[null,null,null,null,null,null,{"$f":"Données!$E759308*#REF!","v":{"$error":"#REF!"}}]
[null,null,null,null,null,null,{"$f":"Données!$E759817*#REF!","v":{"$error":"#REF!"}}]
[null,null,null,null,null,null,{"$f":"Données!$E760566*#REF!","v":{"$error":"#REF!"}}]
[null,null,null,null,null,null,{"$f":"Données!$E760998*#REF!","v":{"$error":"#REF!"}}]
[null,null,null,null,null,null,{"$f":"Données!$E761530*#REF!","v":{"$error":"#REF!"}}]
[null,null,null,null,null,null,{"$f":"Données!$E762179*#REF!","v":{"$error":"#REF!"}}]
[null,null,null,null,null,null,{"$f":"Données!$E762788*#REF!","v":{"$error":"#REF!"}}]
[null,null,null,null,null,null,{"$f":"Données!$E762838*#REF!","v":{"$error":"#REF!"}}]
[null,null,null,null,null,null,{"$f":"Données!$E763523*#REF!","v":{"$error":"#REF!"}}]
[null,null,null,null,null,null,{"$f":"Données!$E764177*#REF!","v":{"$error":"#REF!"}}]
[null,null,null,null,null,null,{"$f":"Données!$E764781*#REF!","v":{"$error":"#REF!"}}]
[null,null,null,null,null,null,{"$f":"Données!$E765002*#REF!","v":{"$error":"#REF!"}}]
[null,null,null,null,null,null,{"$f":"Données!$E765870*#REF!","v":{"$error":"#REF!"}}]
[null,null,null,null,null,null,{"$f":"Données!$E766260*#REF!","v":{"$error":"#REF!"}}]
[null,null,null,null,null,null,{"$f":"Données!$E766687*#REF!","v":{"$error":"#REF!"}}]
[null,null,null,null,null,null,{"$f":"Données!$E766995*#REF!","v":{"$error":"#REF!"}}]
[null,null,null,null,null,null,{"$f":"Données!$E767868*#REF!","v":{"$error":"#REF!"}}]
[null,null,null,null,null,null,{"$f":"Données!$E768482*#REF!","v":{"$error":"#REF!"}}]
[null,null,null,null,null,null,{"$f":"Données!$E769049*#REF!","v":{"$error":"#REF!"}}]
[null,null,null,null,null,null,{"$f":"Données!$E769217*#REF!","v":{"$error":"#REF!"}}]
[null,null,null,null,null,null,{"$f":"Données!$E769708*#REF!","v":{"$error":"#REF!"}}]
[null,null,null,null,null,null,{"$f":"Données!$E770475*#REF!","v":{"$error":"#REF!"}}]
[null,null,null,null,null,null,{"$f":"Données!$E771047*#REF!","v":{"$error":"#REF!"}}]
[null,null,null,null,null,null,{"$f":"Données!$E771210*#REF!","v":{"$error":"#REF!"}}]
[null,null,null,null,null,null,{"$f":"Données!$E771706*#REF!","v":{"$error":"#REF!"}}]
[null,null,null,null,null,null,{"$f":"Données!$E772468*#REF!","v":{"$error":"#REF!"}}]
[null,null,null,null,null,null,{"$f":"Données!$E772887*#REF!","v":{"$error":"#REF!"}}]
[null,null,null,null,null,null,{"$f":"Données!$E773432*#REF!","v":{"$error":"#REF!"}}]
[null,null,null,null,null,null,{"$f":"Données!$E774068*#REF!","v":{"$error":"#REF!"}}]
[null,null,null,null,null,null,{"$f":"Données!$E774690*#REF!","v":{"$error":"#REF!"}}]
[null,null,null,null,null,null,{"$f":"Données!$E774911*#REF!","v":{"$error":"#REF!"}}]
[null,null,null,null,null,null,{"$f":"Données!$E775397*#REF!","v":{"$error":"#REF!"}}]
[null,null,null,null,null,null,{"$f":"Données!$E776169*#REF!","v":{"$error":"#REF!"}}]
[null,null,null,null,null,null,{"$f":"Données!$E776578*#REF!","v":{"$error":"#REF!"}}]
[null,null,null,null,null,null,{"$f":"Données!$E777427*#REF!","v":{"$error":"#REF!"}}]
[null,null,null,null,null,null,{"$f":"Données!$E777917*#REF!","v":{"$error":"#REF!"}}]
[null,null,null,null,null,null,{"$f":"Données!$E778162*#REF!","v":{"$error":"#REF!"}}]
[null,null,null,null,null,null,{"$f":"Données!$E778576*#REF!","v":{"$error":"#REF!"}}]
[null,null,null,null,null,null,{"$f":"Données!$E779126*#REF!","v":{"$error":"#REF!"}}]
[null,null,null,null,null,null,{"$f":"Données!$E779757*#REF!","v":{"$error":"#REF!"}}]
[null,null,null,null,null,null,{"$f":"Données!$E780384*#REF!","v":{"$error":"#REF!"}}]
[null,null,null,null,null,null,{"$f":"Données!$E780938*#REF!","v":{"$error":"#REF!"}}]
[null,null,null,null,null,null,{"$f":"Données!$E781119*#REF!","v":{"$error":"#REF!"}}]
[null,null,null,null,null,null,{"$f":"Données!$E781755*#REF!","v":{"$error":"#REF!"}}]
[null,null,null,null,null,null,{"$f":"Données!$E782377*#REF!","v":{"$error":"#REF!"}}]
[null,null,null,null,null,null,{"$f":"Données!$E782936*#REF!","v":{"$error":"#REF!"}}]
[null,null,null,null,null,null,{"$f":"Données!$E783635*#REF!","v":{"$error":"#REF!"}}]
[null,null,null,null,null,null,{"$f":"Données!$E784117*#REF!","v":{"$error":"#REF!"}}]
[null,null,null,null,null,null,{"$f":"Données!$E784599*#REF!","v":{"$error":"#REF!"}}]
[null,null,null,null,null,null,{"$f":"Données!$E784776*#REF!","v":{"$error":"#REF!"}}]
[null,null,null,null,null,null,{"$f":"Données!$E785334*#REF!","v":{"$error":"#REF!"}}]
[null,null,null,null,null,null,{"$f":"Données!$E786078*#REF!","v":{"$error":"#REF!"}}]
[null,null,null,null,null,null,{"$f":"Données!$E786627*#REF!","v":{"$error":"#REF!"}}]
[null,null,null,null,null,null,{"$f":"Données!$E787336*#REF!","v":{"$error":"#REF!"}}]
[null,null,null,null,null,null,{"$f":"Données!$E787808*#REF!","v":{"$error":"#REF!"}}]
[null,null,null,null,null,null,{"$f":"Données!$E788071*#REF!","v":{"$error":"#REF!"}}]
[null,null,null,null,null,null,{"$f":"Données!$E788625*#REF!","v":{"$error":"#REF!"}}]
[null,null,null,null,null,null,{"$f":"Données!$E789329*#REF!","v":{"$error":"#REF!"}}]
[null,null,null,null,null,null,{"$f":"Données!$E789806*#REF!","v":{"$error":"#REF!"}}]
[null,null,null,null,null,null,{"$f":"Données!$E790064*#REF!","v":{"$error":"#REF!"}}]
[null,null,null,null,null,null,{"$f":"Données!$E790987*#REF!","v":{"$error":"#REF!"}}]
[null,null,null,null,null,null,{"$f":"Données!$E791028*#REF!","v":{"$error":"#REF!"}}]
[null,null,null,null,null,null,{"$f":"Données!$E791646*#REF!","v":{"$error":"#REF!"}}]
[null,null,null,null,null,null,{"$f":"Données!$E792286*#REF!","v":{"$error":"#REF!"}}]
[null,null,null,null,null,null,{"$f":"Données!$E792985*#REF!","v":{"$error":"#REF!"}}]
[null,null,null,null,null,null,{"$f":"Données!$E793544*#REF!","v":{"$error":"#REF!"}}]
[null,null,null,null,null,null,{"$f":"Données!$E793644*#REF!","v":{"$error":"#REF!"}}]
[null,null,null,null,null,null,{"$f":"Données!$E794279*#REF!","v":{"$error":"#REF!"}}]
[null,null,null,null,null,null,{"$f":"Données!$E794825*#REF!","v":{"$error":"#REF!"}}]
[null,null,null,null,null,null,{"$f":"Données!$E795243*#REF!","v":{"$error":"#REF!"}}]
[null,null,null,null,null,null,{"$f":"Données!$E795758*#REF!","v":{"$error":"#REF!"}}]
[null,null,null,null,null,null,{"$f":"Données!$E796676*#REF!","v":{"$error":"#REF!"}}]
[null,null,null,null,null,null,{"$f":"Données!$E797245*#REF!","v":{"$error":"#REF!"}}]
[null,null,null,null,null,null,{"$f":"Données!$E797335*#REF!","v":{"$error":"#REF!"}}]
[null,null,null,null,null,null,{"$f":"Données!$E797980*#REF!","v":{"$error":"#REF!"}}]
[null,null,null,null,null,null,{"$f":"Données!$E798516*#REF!","v":{"$error":"#REF!"}}]
[null,null,null,null,null,null,{"$f":"Données!$E799238*#REF!","v":{"$error":"#REF!"}}]
[null,null,null,null,null,null,{"$f":"Données!$E799855*#REF!","v":{"$error":"#REF!"}}]
[null,null,null,null,null,null,{"$f":"Données!$E799973*#REF!","v":{"$error":"#REF!"}}]
[null,null,null,null,null,null,{"$f":"Données!$E800514*#REF!","v":{"$error":"#REF!"}}]
[null,null,null,null,null,null,{"$f":"Données!$E801231*#REF!","v":{"$error":"#REF!"}}]
[null,null,null,null,null,null,{"$f":"Données!$E801695*#REF!","v":{"$error":"#REF!"}}]
[null,null,null,null,null,null,{"$f":"Données!$E802195*#REF!","v":{"$error":"#REF!"}}]
[null,null,null,null,null,null,{"$f":"Données!$E802876*#REF!","v":{"$error":"#REF!"}}]
[null,null,null,null,null,null,{"$f":"Données!$E803453*#REF!","v":{"$error":"#REF!"}}]
[null,null,null,null,null,null,{"$f":"Données!$E803693*#REF!","v":{"$error":"#REF!"}}]
[null,null,null,null,null,null,{"$f":"Données!$E804188*#REF!","v":{"$error":"#REF!"}}]
[null,null,null,null,null,null,{"$f":"Données!$E804874*#REF!","v":{"$error":"#REF!"}}]
[null,null,null,null,null,null,{"$f":"Données!$E805446*#REF!","v":{"$error":"#REF!"}}]
[null,null,null,null,null,null,{"$f":"Données!$E806055*#REF!","v":{"$error":"#REF!"}}]
[null,null,null,null,null,null,{"$f":"Données!$E806410*#REF!","v":{"$error":"#REF!"}}]
[null,null,null,null,null,null,{"$f":"Données!$E806925*#REF!","v":{"$error":"#REF!"}}]
[null,null,null,null,null,null,{"$f":"Données!$E807384*#REF!","v":{"$error":"#REF!"}}]
[null,null,null,null,null,null,{"$f":"Données!$E807889*#REF!","v":{"$error":"#REF!"}}]
[null,null,null,null,null,null,{"$f":"Données!$E808565*#REF!","v":{"$error":"#REF!"}}]
[null,null,null,null,null,null,{"$f":"Données!$E809147*#REF!","v":{"$error":"#REF!"}}]
[null,null,null,null,null,null,{"$f":"Données!$E809746*#REF!","v":{"$error":"#REF!"}}]
[null,null,null,null,null,null,{"$f":"Données!$E809882*#REF!","v":{"$error":"#REF!"}}]
[null,null,null,null,null,null,{"$f":"Données!$E810563*#REF!","v":{"$error":"#REF!"}}]
[null,null,null,null,null,null,{"$f":"Données!$E811140*#REF!","v":{"$error":"#REF!"}}]
[null,null,null,null,null,null,{"$f":"Données!$E811744*#REF!","v":{"$error":"#REF!"}}]
[null,null,null,null,null,null,{"$f":"Données!$E812398*#REF!","v":{"$error":"#REF!"}}]
[null,null,null,null,null,null,{"$f":"Données!$E812925*#REF!","v":{"$error":"#REF!"}}]
[null,null,null,null,null,null,{"$f":"Données!$E813362*#REF!","v":{"$error":"#REF!"}}]
[null,null,null,null,null,null,{"$f":"Données!$E813584*#REF!","v":{"$error":"#REF!"}}]
[null,null,null,null,null,null,{"$f":"Données!$E814097*#REF!","v":{"$error":"#REF!"}}]
[null,null,null,null,null,null,{"$f":"Données!$E814923*#REF!","v":{"$error":"#REF!"}}]
[null,null,null,null,null,null,{"$f":"Données!$E815355*#REF!","v":{"$error":"#REF!"}}]
[null,null,null,null,null,null,{"$f":"Données!$E815582*#REF!","v":{"$error":"#REF!"}}]
[null,null,null,null,null,null,{"$f":"Données!$E816613*#REF!","v":{"$error":"#REF!"}}]
[null,null,null,null,null,null,{"$f":"Données!$E816834*#REF!","v":{"$error":"#REF!"}}]
[null,null,null,null,null,null,{"$f":"Données!$E817433*#REF!","v":{"$error":"#REF!"}}]
[null,null,null,null,null,null,{"$f":"Données!$E818092*#REF!","v":{"$error":"#REF!"}}]
[null,null,null,null,null,null,{"$f":"Données!$E818614*#REF!","v":{"$error":"#REF!"}}]
[null,null,null,null,null,null,{"$f":"Données!$E818827*#REF!","v":{"$error":"#REF!"}}]
[null,null,null,null,null,null,{"$f":"Données!$E819273*#REF!","v":{"$error":"#REF!"}}]
[null,null,null,null,null,null,{"$f":"Données!$E819791*#REF!","v":{"$error":"#REF!"}}]
[null,null,null,null,null,null,{"$f":"Données!$E820454*#REF!","v":{"$error":"#REF!"}}]
[null,null,null,null,null,null,{"$f":"Données!$E821049*#REF!","v":{"$error":"#REF!"}}]
[null,null,null,null,null,null,{"$f":"Données!$E821793*#REF!","v":{"$error":"#REF!"}}]
[null,null,null,null,null,null,{"$f":"Données!$E822307*#REF!","v":{"$error":"#REF!"}}]
[null,null,null,null,null,null,{"$f":"Données!$E822452*#REF!","v":{"$error":"#REF!"}}]
[null,null,null,null,null,null,{"$f":"Données!$E823042*#REF!","v":{"$error":"#REF!"}}]
[null,null,null,null,null,null,{"$f":"Données!$E823633*#REF!","v":{"$error":"#REF!"}}]
[null,null,null,null,null,null,{"$f":"Données!$E824006*#REF!","v":{"$error":"#REF!"}}]
[null,null,null,null,null,null,{"$f":"Données!$E824814*#REF!","v":{"$error":"#REF!"}}]
[null,null,null,null,null,null,{"$f":"Données!$E825264*#REF!","v":{"$error":"#REF!"}}]
[null,null,null,null,null,null,{"$f":"Données!$E825631*#REF!","v":{"$error":"#REF!"}}]
[null,null,null,null,null,null,{"$f":"Données!$E826522*#REF!","v":{"$error":"#REF!"}}]
[null,null,null,null,null,null,{"$f":"Données!$E826812*#REF!","v":{"$error":"#REF!"}}]
[null,null,null,null,null,null,{"$f":"Données!$E827257*#REF!","v":{"$error":"#REF!"}}]
[null,null,null,null,null,null,{"$f":"Données!$E828001*#REF!","v":{"$error":"#REF!"}}]
[null,null,null,null,null,null,{"$f":"Données!$E828141*#REF!","v":{"$error":"#REF!"}}]
[null,null,null,null,null,null,{"$f":"Données!$E828736*#REF!","v":{"$error":"#REF!"}}]
[null,null,null,null,null,null,{"$f":"Données!$E829322*#REF!","v":{"$error":"#REF!"}}]
[null,null,null,null,null,null,{"$f":"Données!$E829994*#REF!","v":{"$error":"#REF!"}}]
[null,null,null,null,null,null,{"$f":"Données!$E830503*#REF!","v":{"$error":"#REF!"}}]
[null,null,null,null,null,null,{"$f":"Données!$E830958*#REF!","v":{"$error":"#REF!"}}]
[null,null,null,null,null,null,{"$f":"Données!$E831684*#REF!","v":{"$error":"#REF!"}}]
[null,null,null,null,null,null,{"$f":"Données!$E832216*#REF!","v":{"$error":"#REF!"}}]
[null,null,null,null,null,null,{"$f":"Données!$E832501*#REF!","v":{"$error":"#REF!"}}]
[null,null,null,null,null,null,{"$f":"Données!$E832951*#REF!","v":{"$error":"#REF!"}}]
[null,null,null,null,null,null,{"$f":"Données!$E833682*#REF!","v":{"$error":"#REF!"}}]
[null,null,null,null,null,null,{"$f":"Données!$E834209*#REF!","v":{"$error":"#REF!"}}]
[null,null,null,null,null,null,{"$f":"Données!$E834863*#REF!","v":{"$error":"#REF!"}}]
[null,null,null,null,null,null,{"$f":"Données!$E835173*#REF!","v":{"$error":"#REF!"}}]
[null,null,null,null,null,null,{"$f":"Données!$E835522*#REF!","v":{"$error":"#REF!"}}]
[null,null,null,null,null,null,{"$f":"Données!$E836431*#REF!","v":{"$error":"#REF!"}}]
[null,null,null,null,null,null,{"$f":"Données!$E836861*#REF!","v":{"$error":"#REF!"}}]
[null,null,null,null,null,null,{"$f":"Données!$E837166*#REF!","v":{"$error":"#REF!"}}]
[null,null,null,null,null,null,{"$f":"Données!$E837910*#REF!","v":{"$error":"#REF!"}}]
[null,null,null,null,null,null,{"$f":"Données!$E838554*#REF!","v":{"$error":"#REF!"}}]
[null,null,null,null,null,null,{"$f":"Données!$E838645*#REF!","v":{"$error":"#REF!"}}]
[null,null,null,null,null,null,{"$f":"Données!$E839371*#REF!","v":{"$error":"#REF!"}}]
[null,null,null,null,null,null,{"$f":"Données!$E839903*#REF!","v":{"$error":"#REF!"}}]
[null,null,null,null,null,null,{"$f":"Données!$E840552*#REF!","v":{"$error":"#REF!"}}]
[null,null,null,null,null,null,{"$f":"Données!$E841161*#REF!","v":{"$error":"#REF!"}}]
[null,null,null,null,null,null,{"$f":"Données!$E841211*#REF!","v":{"$error":"#REF!"}}]
[null,null,null,null,null,null,{"$f":"Données!$E842125*#REF!","v":{"$error":"#REF!"}}]
[null,null,null,null,null,null,{"$f":"Données!$E842392*#REF!","v":{"$error":"#REF!"}}]
[null,null,null,null,null,null,{"$f":"Données!$E842860*#REF!","v":{"$error":"#REF!"}}]
[null,null,null,null,null,null,{"$f":"Données!$E843731*#REF!","v":{"$error":"#REF!"}}]
[null,null,null,null,null,null,{"$f":"Données!$E844118*#REF!","v":{"$error":"#REF!"}}]
[null,null,null,null,null,null,{"$f":"Données!$E844390*#REF!","v":{"$error":"#REF!"}}]
[null,null,null,null,null,null,{"$f":"Données!$E844853*#REF!","v":{"$error":"#REF!"}}]
[null,null,null,null,null,null,{"$f":"Données!$E845571*#REF!","v":{"$error":"#REF!"}}]
[null,null,null,null,null,null,{"$f":"Données!$E846340*#REF!","v":{"$error":"#REF!"}}]
[null,null,null,null,null,null,{"$f":"Données!$E846752*#REF!","v":{"$error":"#REF!"}}]
[null,null,null,null,null,null,{"$f":"Données!$E847075*#REF!","v":{"$error":"#REF!"}}]
[null,null,null,null,null,null,{"$f":"Données!$E847933*#REF!","v":{"$error":"#REF!"}}]
[null,null,null,null,null,null,{"$f":"Données!$E848333*#REF!","v":{"$error":"#REF!"}}]
[null,null,null,null,null,null,{"$f":"Données!$E848554*#REF!","v":{"$error":"#REF!"}}]
[null,null,null,null,null,null,{"$f":"Données!$E849262*#REF!","v":{"$error":"#REF!"}}]
[null,null,null,null,null,null,{"$f":"Données!$E849812*#REF!","v":{"$error":"#REF!"}}]
[null,null,null,null,null,null,{"$f":"Données!$E850079*#REF!","v":{"$error":"#REF!"}}]
[null,null,null,null,null,null,{"$f":"Données!$E851070*#REF!","v":{"$error":"#REF!"}}]
[null,null,null,null,null,null,{"$f":"Données!$E851260*#REF!","v":{"$error":"#REF!"}}]
[null,null,null,null,null,null,{"$f":"Données!$E851805*#REF!","v":{"$error":"#REF!"}}]
[null,null,null,null,null,null,{"$f":"Données!$E852441*#REF!","v":{"$error":"#REF!"}}]
[null,null,null,null,null,null,{"$f":"Données!$E852769*#REF!","v":{"$error":"#REF!"}}]
[null,null,null,null,null,null,{"$f":"Données!$E853622*#REF!","v":{"$error":"#REF!"}}]
[null,null,null,null,null,null,{"$f":"Données!$E854027*#REF!","v":{"$error":"#REF!"}}]
[null,null,null,null,null,null,{"$f":"Données!$E854439*#REF!","v":{"$error":"#REF!"}}]
[null,null,null,null,null,null,{"$f":"Données!$E854762*#REF!","v":{"$error":"#REF!"}}]
[null,null,null,null,null,null,{"$f":"Données!$E855620*#REF!","v":{"$error":"#REF!"}}]
[null,null,null,null,null,null,{"$f":"Données!$E856020*#REF!","v":{"$error":"#REF!"}}]
[null,null,null,null,null,null,{"$f":"Données!$E856801*#REF!","v":{"$error":"#REF!"}}]
[null,null,null,null,null,null,{"$f":"Données!$E856984*#REF!","v":{"$error":"#REF!"}}]
[null,null,null,null,null,null,{"$f":"Données!$E857460*#REF!","v":{"$error":"#REF!"}}]
[null,null,null,null,null,null,{"$f":"Données!$E858242*#REF!","v":{"$error":"#REF!"}}]
[null,null,null,null,null,null,{"$f":"Données!$E858757*#REF!","v":{"$error":"#REF!"}}]
[null,null,null,null,null,null,{"$f":"Données!$E859311*#REF!","v":{"$error":"#REF!"}}]
[null,null,null,null,null,null,{"$f":"Données!$E859721*#REF!","v":{"$error":"#REF!"}}]
[null,null,null,null,null,null,{"$f":"Données!$E860492*#REF!","v":{"$error":"#REF!"}}]
[null,null,null,null,null,null,{"$f":"Données!$E860979*#REF!","v":{"$error":"#REF!"}}]
[null,null,null,null,null,null,{"$f":"Données!$E861309*#REF!","v":{"$error":"#REF!"}}]
[null,null,null,null,null,null,{"$f":"Données!$E861714*#REF!","v":{"$error":"#REF!"}}]
[null,null,null,null,null,null,{"$f":"Données!$E862490*#REF!","v":{"$error":"#REF!"}}]
[null,null,null,null,null,null,{"$f":"Données!$E862972*#REF!","v":{"$error":"#REF!"}}]
[null,null,null,null,null,null,{"$f":"Données!$E863149*#REF!","v":{"$error":"#REF!"}}]
[null,null,null,null,null,null,{"$f":"Données!$E863936*#REF!","v":{"$error":"#REF!"}}]
[null,null,null,null,null,null,{"$f":"Données!$E864330*#REF!","v":{"$error":"#REF!"}}]
[null,null,null,null,null,null,{"$f":"Données!$E865194*#REF!","v":{"$error":"#REF!"}}]
[null,null,null,null,null,null,{"$f":"Données!$E865511*#REF!","v":{"$error":"#REF!"}}]
[null,null,null,null,null,null,{"$f":"Données!$E865929*#REF!","v":{"$error":"#REF!"}}]
[null,null,null,null,null,null,{"$f":"Données!$E866328*#REF!","v":{"$error":"#REF!"}}]
[null,null,null,null,null,null,{"$f":"Données!$E867187*#REF!","v":{"$error":"#REF!"}}]
[null,null,null,null,null,null,{"$f":"Données!$E867509*#REF!","v":{"$error":"#REF!"}}]
[null,null,null,null,null,null,{"$f":"Données!$E868151*#REF!","v":{"$error":"#REF!"}}]
[null,null,null,null,null,null,{"$f":"Données!$E868690*#REF!","v":{"$error":"#REF!"}}]
[null,null,null,null,null,null,{"$f":"Données!$E868886*#REF!","v":{"$error":"#REF!"}}]
[null,null,null,null,null,null,{"$f":"Données!$E869401*#REF!","v":{"$error":"#REF!"}}]
[null,null,null,null,null,null,{"$f":"Données!$E870019*#REF!","v":{"$error":"#REF!"}}]
[null,null,null,null,null,null,{"$f":"Données!$E870888*#REF!","v":{"$error":"#REF!"}}]
[null,null,null,null,null,null,{"$f":"Données!$E871200*#REF!","v":{"$error":"#REF!"}}]
[null,null,null,null,null,null,{"$f":"Données!$E871623*#REF!","v":{"$error":"#REF!"}}]
[null,null,null,null,null,null,{"$f":"Données!$E872017*#REF!","v":{"$error":"#REF!"}}]
[null,null,null,null,null,null,{"$f":"Données!$E872881*#REF!","v":{"$error":"#REF!"}}]
[null,null,null,null,null,null,{"$f":"Données!$E873198*#REF!","v":{"$error":"#REF!"}}]
[null,null,null,null,null,null,{"$f":"Données!$E873616*#REF!","v":{"$error":"#REF!"}}]
[null,null,null,null,null,null,{"$f":"Données!$E874379*#REF!","v":{"$error":"#REF!"}}]
[null,null,null,null,null,null,{"$f":"Données!$E875103*#REF!","v":{"$error":"#REF!"}}]
[null,null,null,null,null,null,{"$f":"Données!$E875560*#REF!","v":{"$error":"#REF!"}}]
[null,null,null,null,null,null,{"$f":"Données!$E875838*#REF!","v":{"$error":"#REF!"}}]
[null,null,null,null,null,null,{"$f":"Données!$E876219*#REF!","v":{"$error":"#REF!"}}]
[null,null,null,null,null,null,{"$f":"Données!$E877096*#REF!","v":{"$error":"#REF!"}}]
[null,null,null,null,null,null,{"$f":"Données!$E877558*#REF!","v":{"$error":"#REF!"}}]
[null,null,null,null,null,null,{"$f":"Données!$E877831*#REF!","v":{"$error":"#REF!"}}]
[null,null,null,null,null,null,{"$f":"Données!$E878739*#REF!","v":{"$error":"#REF!"}}]
[null,null,null,null,null,null,{"$f":"Données!$E879318*#REF!","v":{"$error":"#REF!"}}]
[null,null,null,null,null,null,{"$f":"Données!$E879833*#REF!","v":{"$error":"#REF!"}}]
[null,null,null,null,null,null,{"$f":"Données!$E880068*#REF!","v":{"$error":"#REF!"}}]
[null,null,null,null,null,null,{"$f":"Données!$E880568*#REF!","v":{"$error":"#REF!"}}]
[null,null,null,null,null,null,{"$f":"Données!$E881249*#REF!","v":{"$error":"#REF!"}}]
[null,null,null,null,null,null,{"$f":"Données!$E881532*#REF!","v":{"$error":"#REF!"}}]
[null,null,null,null,null,null,{"$f":"Données!$E882430*#REF!","v":{"$error":"#REF!"}}]
[null,null,null,null,null,null,{"$f":"Données!$E882790*#REF!","v":{"$error":"#REF!"}}]
[null,null,null,null,null,null,{"$f":"Données!$E883247*#REF!","v":{"$error":"#REF!"}}]
[null,null,null,null,null,null,{"$f":"Données!$E883525*#REF!","v":{"$error":"#REF!"}}]
[null,null,null,null,null,null,{"$f":"Données!$E884428*#REF!","v":{"$error":"#REF!"}}]
[null,null,null,null,null,null,{"$f":"Données!$E884783*#REF!","v":{"$error":"#REF!"}}]
[null,null,null,null,null,null,{"$f":"Données!$E885087*#REF!","v":{"$error":"#REF!"}}]
[null,null,null,null,null,null,{"$f":"Données!$E885747*#REF!","v":{"$error":"#REF!"}}]
[null,null,null,null,null,null,{"$f":"Données!$E886268*#REF!","v":{"$error":"#REF!"}}]
[null,null,null,null,null,null,{"$f":"Données!$E887005*#REF!","v":{"$error":"#REF!"}}]
[null,null,null,null,null,null,{"$f":"Données!$E887449*#REF!","v":{"$error":"#REF!"}}]
[null,null,null,null,null,null,{"$f":"Données!$E887740*#REF!","v":{"$error":"#REF!"}}]
[null,null,null,null,null,null,{"$f":"Données!$E888266*#REF!","v":{"$error":"#REF!"}}]
[null,null,null,null,null,null,{"$f":"Données!$E888998*#REF!","v":{"$error":"#REF!"}}]
[null,null,null,null,null,null,{"$f":"Données!$E889447*#REF!","v":{"$error":"#REF!"}}]
[null,null,null,null,null,null,{"$f":"Données!$E889962*#REF!","v":{"$error":"#REF!"}}]
[null,null,null,null,null,null,{"$f":"Données!$E890477*#REF!","v":{"$error":"#REF!"}}]
[null,null,null,null,null,null,{"$f":"Données!$E891298*#REF!","v":{"$error":"#REF!"}}]
[null,null,null,null,null,null,{"$f":"Données!$E891735*#REF!","v":{"$error":"#REF!"}}]
[null,null,null,null,null,null,{"$f":"Données!$E891957*#REF!","v":{"$error":"#REF!"}}]
[null,null,null,null,null,null,{"$f":"Données!$E892699*#REF!","v":{"$error":"#REF!"}}]
[null,null,null,null,null,null,{"$f":"Données!$E893138*#REF!","v":{"$error":"#REF!"}}]
[null,null,null,null,null,null,{"$f":"Données!$E893434*#REF!","v":{"$error":"#REF!"}}]
[null,null,null,null,null,null,{"$f":"Données!$E894319*#REF!","v":{"$error":"#REF!"}}]
[null,null,null,null,null,null,{"$f":"Données!$E894692*#REF!","v":{"$error":"#REF!"}}]
[null,null,null,null,null,null,{"$f":"Données!$E895136*#REF!","v":{"$error":"#REF!"}}]
[null,null,null,null,null,null,{"$f":"Données!$E895950*#REF!","v":{"$error":"#REF!"}}]
[null,null,null,null,null,null,{"$f":"Données!$E896317*#REF!","v":{"$error":"#REF!"}}]
[null,null,null,null,null,null,{"$f":"Données!$E896914*#REF!","v":{"$error":"#REF!"}}]
[null,null,null,null,null,null,{"$f":"Données!$E897498*#REF!","v":{"$error":"#REF!"}}]
[null,null,null,null,null,null,{"$f":"Données!$E897649*#REF!","v":{"$error":"#REF!"}}]
[null,null,null,null,null,null,{"$f":"Données!$E898157*#REF!","v":{"$error":"#REF!"}}]
[null,null,null,null,null,null,{"$f":"Données!$E898907*#REF!","v":{"$error":"#REF!"}}]
[null,null,null,null,null,null,{"$f":"Données!$E899496*#REF!","v":{"$error":"#REF!"}}]
[null,null,null,null,null,null,{"$f":"Données!$E900165*#REF!","v":{"$error":"#REF!"}}]
[null,null,null,null,null,null,{"$f":"Données!$E900386*#REF!","v":{"$error":"#REF!"}}]
[null,null,null,null,null,null,{"$f":"Données!$E900825*#REF!","v":{"$error":"#REF!"}}]
[null,null,null,null,null,null,{"$f":"Données!$E901644*#REF!","v":{"$error":"#REF!"}}]
[null,null,null,null,null,null,{"$f":"Données!$E902006*#REF!","v":{"$error":"#REF!"}}]
[null,null,null,null,null,null,{"$f":"Données!$E902379*#REF!","v":{"$error":"#REF!"}}]
[null,null,null,null,null,null,{"$f":"Données!$E903187*#REF!","v":{"$error":"#REF!"}}]
[null,null,null,null,null,null,{"$f":"Données!$E903866*#REF!","v":{"$error":"#REF!"}}]
[null,null,null,null,null,null,{"$f":"Données!$E904368*#REF!","v":{"$error":"#REF!"}}]
[null,null,null,null,null,null,{"$f":"Données!$E904601*#REF!","v":{"$error":"#REF!"}}]
[null,null,null,null,null,null,{"$f":"Données!$E905027*#REF!","v":{"$error":"#REF!"}}]
[null,null,null,null,null,null,{"$f":"Données!$E905859*#REF!","v":{"$error":"#REF!"}}]
[null,null,null,null,null,null,{"$f":"Données!$E906366*#REF!","v":{"$error":"#REF!"}}]
[null,null,null,null,null,null,{"$f":"Données!$E906594*#REF!","v":{"$error":"#REF!"}}]
[null,null,null,null,null,null,{"$f":"Données!$E907025*#REF!","v":{"$error":"#REF!"}}]
[null,null,null,null,null,null,{"$f":"Données!$E907558*#REF!","v":{"$error":"#REF!"}}]
[null,null,null,null,null,null,{"$f":"Données!$E908206*#REF!","v":{"$error":"#REF!"}}]
[null,null,null,null,null,null,{"$f":"Données!$E908816*#REF!","v":{"$error":"#REF!"}}]
[null,null,null,null,null,null,{"$f":"Données!$E909387*#REF!","v":{"$error":"#REF!"}}]
[null,null,null,null,null,null,{"$f":"Données!$E910074*#REF!","v":{"$error":"#REF!"}}]
[null,null,null,null,null,null,{"$f":"Données!$E910204*#REF!","v":{"$error":"#REF!"}}]
[null,null,null,null,null,null,{"$f":"Données!$E910809*#REF!","v":{"$error":"#REF!"}}]
[null,null,null,null,null,null,{"$f":"Données!$E911553*#REF!","v":{"$error":"#REF!"}}]
[null,null,null,null,null,null,{"$f":"Données!$E911897*#REF!","v":{"$error":"#REF!"}}]
[null,null,null,null,null,null,{"$f":"Données!$E912288*#REF!","v":{"$error":"#REF!"}}]
[null,null,null,null,null,null,{"$f":"Données!$E913236*#REF!","v":{"$error":"#REF!"}}]
[null,null,null,null,null,null,{"$f":"Données!$E913546*#REF!","v":{"$error":"#REF!"}}]
[null,null,null,null,null,null,{"$f":"Données!$E913895*#REF!","v":{"$error":"#REF!"}}]
[null,null,null,null,null,null,{"$f":"Données!$E914510*#REF!","v":{"$error":"#REF!"}}]
[null,null,null,null,null,null,{"$f":"Données!$E915076*#REF!","v":{"$error":"#REF!"}}]
[null,null,null,null,null,null,{"$f":"Données!$E915768*#REF!","v":{"$error":"#REF!"}}]
[null,null,null,null,null,null,{"$f":"Données!$E916257*#REF!","v":{"$error":"#REF!"}}]
[null,null,null,null,null,null,{"$f":"Données!$E916503*#REF!","v":{"$error":"#REF!"}}]
[null,null,null,null,null,null,{"$f":"Données!$E917074*#REF!","v":{"$error":"#REF!"}}]
[null,null,null,null,null,null,{"$f":"Données!$E917761*#REF!","v":{"$error":"#REF!"}}]
[null,null,null,null,null,null,{"$f":"Données!$E918255*#REF!","v":{"$error":"#REF!"}}]
[null,null,null,null,null,null,{"$f":"Données!$E918725*#REF!","v":{"$error":"#REF!"}}]
[null,null,null,null,null,null,{"$f":"Données!$E919436*#REF!","v":{"$error":"#REF!"}}]
[null,null,null,null,null,null,{"$f":"Données!$E919983*#REF!","v":{"$error":"#REF!"}}]
[null,null,null,null,null,null,{"$f":"Données!$E920095*#REF!","v":{"$error":"#REF!"}}]
[null,null,null,null,null,null,{"$f":"Données!$E920718*#REF!","v":{"$error":"#REF!"}}]
[null,null,null,null,null,null,{"$f":"Données!$E921462*#REF!","v":{"$error":"#REF!"}}]
[null,null,null,null,null,null,{"$f":"Données!$E921946*#REF!","v":{"$error":"#REF!"}}]
[null,null,null,null,null,null,{"$f":"Données!$E922197*#REF!","v":{"$error":"#REF!"}}]
[null,null,null,null,null,null,{"$f":"Données!$E923127*#REF!","v":{"$error":"#REF!"}}]
[null,null,null,null,null,null,{"$f":"Données!$E923455*#REF!","v":{"$error":"#REF!"}}]
[null,null,null,null,null,null,{"$f":"Données!$E923944*#REF!","v":{"$error":"#REF!"}}]
[null,null,null,null,null,null,{"$f":"Données!$E924713*#REF!","v":{"$error":"#REF!"}}]
[null,null,null,null,null,null,{"$f":"Données!$E925125*#REF!","v":{"$error":"#REF!"}}]
[null,null,null,null,null,null,{"$f":"Données!$E925677*#REF!","v":{"$error":"#REF!"}}]
[null,null,null,null,null,null,{"$f":"Données!$E926306*#REF!","v":{"$error":"#REF!"}}]
[null,null,null,null,null,null,{"$f":"Données!$E926412*#REF!","v":{"$error":"#REF!"}}]
[null,null,null,null,null,null,{"$f":"Données!$E926965*#REF!","v":{"$error":"#REF!"}}]
[null,null,null,null,null,null,{"$f":"Données!$E927670*#REF!","v":{"$error":"#REF!"}}]
[null,null,null,null,null,null,{"$f":"Données!$E928304*#REF!","v":{"$error":"#REF!"}}]
[null,null,null,null,null,null,{"$f":"Données!$E928928*#REF!","v":{"$error":"#REF!"}}]
[null,null,null,null,null,null,{"$f":"Données!$E928963*#REF!","v":{"$error":"#REF!"}}]
[null,null,null,null,null,null,{"$f":"Données!$E929892*#REF!","v":{"$error":"#REF!"}}]
[null,null,null,null,null,null,{"$f":"Données!$E930144*#REF!","v":{"$error":"#REF!"}}]
[null,null,null,null,null,null,{"$f":"Données!$E930627*#REF!","v":{"$error":"#REF!"}}]
[null,null,null,null,null,null,{"$f":"Données!$E931325*#REF!","v":{"$error":"#REF!"}}]
[null,null,null,null,null,null,{"$f":"Données!$E931885*#REF!","v":{"$error":"#REF!"}}]
[null,null,null,null,null,null,{"$f":"Données!$E932106*#REF!","v":{"$error":"#REF!"}}]
[null,null,null,null,null,null,{"$f":"Données!$E932654*#REF!","v":{"$error":"#REF!"}}]
[null,null,null,null,null,null,{"$f":"Données!$E933364*#REF!","v":{"$error":"#REF!"}}]
[null,null,null,null,null,null,{"$f":"Données!$E933835*#REF!","v":{"$error":"#REF!"}}]
[null,null,null,null,null,null,{"$f":"Données!$E934622*#REF!","v":{"$error":"#REF!"}}]
[null,null,null,null,null,null,{"$f":"Données!$E935174*#REF!","v":{"$error":"#REF!"}}]
[null,null,null,null,null,null,{"$f":"Données!$E935357*#REF!","v":{"$error":"#REF!"}}]
[null,null,null,null,null,null,{"$f":"Données!$E935833*#REF!","v":{"$error":"#REF!"}}]
[null,null,null,null,null,null,{"$f":"Données!$E936321*#REF!","v":{"$error":"#REF!"}}]
[null,null,null,null,null,null,{"$f":"Données!$E937014*#REF!","v":{"$error":"#REF!"}}]
[null,null,null,null,null,null,{"$f":"Données!$E937579*#REF!","v":{"$error":"#REF!"}}]
[null,null,null,null,null,null,{"$f":"Données!$E938195*#REF!","v":{"$error":"#REF!"}}]
[null,null,null,null,null,null,{"$f":"Données!$E938837*#REF!","v":{"$error":"#REF!"}}]
[null,null,null,null,null,null,{"$f":"Données!$E939012*#REF!","v":{"$error":"#REF!"}}]
[null,null,null,null,null,null,{"$f":"Données!$E939572*#REF!","v":{"$error":"#REF!"}}]
[null,null,null,null,null,null,{"$f":"Données!$E940193*#REF!","v":{"$error":"#REF!"}}]
[null,null,null,null,null,null,{"$f":"Données!$E940830*#REF!","v":{"$error":"#REF!"}}]
[null,null,null,null,null,null,{"$f":"Données!$E941374*#REF!","v":{"$error":"#REF!"}}]
[null,null,null,null,null,null,{"$f":"Données!$E941794*#REF!","v":{"$error":"#REF!"}}]
[null,null,null,null,null,null,{"$f":"Données!$E942309*#REF!","v":{"$error":"#REF!"}}]
[null,null,null,null,null,null,{"$f":"Données!$E942703*#REF!","v":{"$error":"#REF!"}}]
[null,null,null,null,null,null,{"$f":"Données!$E943273*#REF!","v":{"$error":"#REF!"}}]
[null,null,null,null,null,null,{"$f":"Données!$E943884*#REF!","v":{"$error":"#REF!"}}]
[null,null,null,null,null,null,{"$f":"Données!$E944531*#REF!","v":{"$error":"#REF!"}}]
[null,null,null,null,null,null,{"$f":"Données!$E945065*#REF!","v":{"$error":"#REF!"}}]
[null,null,null,null,null,null,{"$f":"Données!$E945266*#REF!","v":{"$error":"#REF!"}}]
[null,null,null,null,null,null,{"$f":"Données!$E945882*#REF!","v":{"$error":"#REF!"}}]
[null,null,null,null,null,null,{"$f":"Données!$E946524*#REF!","v":{"$error":"#REF!"}}]
[null,null,null,null,null,null,{"$f":"Données!$E947063*#REF!","v":{"$error":"#REF!"}}]
[null,null,null,null,null,null,{"$f":"Données!$E947488*#REF!","v":{"$error":"#REF!"}}]
[null,null,null,null,null,null,{"$f":"Données!$E948244*#REF!","v":{"$error":"#REF!"}}]
[null,null,null,null,null,null,{"$f":"Données!$E948746*#REF!","v":{"$error":"#REF!"}}]
[null,null,null,null,null,null,{"$f":"Données!$E948903*#REF!","v":{"$error":"#REF!"}}]
[null,null,null,null,null,null,{"$f":"Données!$E949481*#REF!","v":{"$error":"#REF!"}}]
[null,null,null,null,null,null,{"$f":"Données!$E950242*#REF!","v":{"$error":"#REF!"}}]
[null,null,null,null,null,null,{"$f":"Données!$E950739*#REF!","v":{"$error":"#REF!"}}]
[null,null,null,null,null,null,{"$f":"Données!$E951423*#REF!","v":{"$error":"#REF!"}}]
[null,null,null,null,null,null,{"$f":"Données!$E951474*#REF!","v":{"$error":"#REF!"}}]
[null,null,null,null,null,null,{"$f":"Données!$E952082*#REF!","v":{"$error":"#REF!"}}]
[null,null,null,null,null,null,{"$f":"Données!$E952961*#REF!","v":{"$error":"#REF!"}}]
[null,null,null,null,null,null,{"$f":"Données!$E953476*#REF!","v":{"$error":"#REF!"}}]
[null,null,null,null,null,null,{"$f":"Données!$E953933*#REF!","v":{"$error":"#REF!"}}]
[null,null,null,null,null,null,{"$f":"Données!$E954440*#REF!","v":{"$error":"#REF!"}}]
[null,null,null,null,null,null,{"$f":"Données!$E954592*#REF!","v":{"$error":"#REF!"}}]
[null,null,null,null,null,null,{"$f":"Données!$E955175*#REF!","v":{"$error":"#REF!"}}]
[null,null,null,null,null,null,{"$f":"Données!$E955773*#REF!","v":{"$error":"#REF!"}}]
[null,null,null,null,null,null,{"$f":"Données!$E956433*#REF!","v":{"$error":"#REF!"}}]
[null,null,null,null,null,null,{"$f":"Données!$E957112*#REF!","v":{"$error":"#REF!"}}]
[null,null,null,null,null,null,{"$f":"Données!$E957691*#REF!","v":{"$error":"#REF!"}}]
[null,null,null,null,null,null,{"$f":"Données!$E957771*#REF!","v":{"$error":"#REF!"}}]
[null,null,null,null,null,null,{"$f":"Données!$E958655*#REF!","v":{"$error":"#REF!"}}]
[null,null,null,null,null,null,{"$f":"Données!$E958952*#REF!","v":{"$error":"#REF!"}}]
[null,null,null,null,null,null,{"$f":"Données!$E959390*#REF!","v":{"$error":"#REF!"}}]
[null,null,null,null,null,null,{"$f":"Données!$E960133*#REF!","v":{"$error":"#REF!"}}]
[null,null,null,null,null,null,{"$f":"Données!$E960648*#REF!","v":{"$error":"#REF!"}}]
[null,null,null,null,null,null,{"$f":"Données!$E960950*#REF!","v":{"$error":"#REF!"}}]
[null,null,null,null,null,null,{"$f":"Données!$E961383*#REF!","v":{"$error":"#REF!"}}]
[null,null,null,null,null,null,{"$f":"Données!$E962131*#REF!","v":{"$error":"#REF!"}}]
[null,null,null,null,null,null,{"$f":"Données!$E962641*#REF!","v":{"$error":"#REF!"}}]
[null,null,null,null,null,null,{"$f":"Données!$E963385*#REF!","v":{"$error":"#REF!"}}]
[null,null,null,null,null,null,{"$f":"Données!$E963460*#REF!","v":{"$error":"#REF!"}}]
[null,null,null,null,null,null,{"$f":"Données!$E964120*#REF!","v":{"$error":"#REF!"}}]
[null,null,null,null,null,null,{"$f":"Données!$E964641*#REF!","v":{"$error":"#REF!"}}]
[null,null,null,null,null,null,{"$f":"Données!$E965084*#REF!","v":{"$error":"#REF!"}}]
[null,null,null,null,null,null,{"$f":"Données!$E965822*#REF!","v":{"$error":"#REF!"}}]
[null,null,null,null,null,null,{"$f":"Données!$E966342*#REF!","v":{"$error":"#REF!"}}]
[null,null,null,null,null,null,{"$f":"Données!$E967003*#REF!","v":{"$error":"#REF!"}}]
[null,null,null,null,null,null,{"$f":"Données!$E967600*#REF!","v":{"$error":"#REF!"}}]
[null,null,null,null,null,null,{"$f":"Données!$E967820*#REF!","v":{"$error":"#REF!"}}]
[null,null,null,null,null,null,{"$f":"Données!$E968335*#REF!","v":{"$error":"#REF!"}}]
[null,null,null,null,null,null,{"$f":"Données!$E969001*#REF!","v":{"$error":"#REF!"}}]
[null,null,null,null,null,null,{"$f":"Données!$E969593*#REF!","v":{"$error":"#REF!"}}]
[null,null,null,null,null,null,{"$f":"Données!$E970182*#REF!","v":{"$error":"#REF!"}}]
[null,null,null,null,null,null,{"$f":"Données!$E970557*#REF!","v":{"$error":"#REF!"}}]
[null,null,null,null,null,null,{"$f":"Données!$E970841*#REF!","v":{"$error":"#REF!"}}]
[null,null,null,null,null,null,{"$f":"Données!$E971292*#REF!","v":{"$error":"#REF!"}}]
[null,null,null,null,null,null,{"$f":"Données!$E972180*#REF!","v":{"$error":"#REF!"}}]
[null,null,null,null,null,null,{"$f":"Données!$E972550*#REF!","v":{"$error":"#REF!"}}]
[null,null,null,null,null,null,{"$f":"Données!$E973361*#REF!","v":{"$error":"#REF!"}}]
[null,null,null,null,null,null,{"$f":"Données!$E973808*#REF!","v":{"$error":"#REF!"}}]
[null,null,null,null,null,null,{"$f":"Données!$E974029*#REF!","v":{"$error":"#REF!"}}]
[null,null,null,null,null,null,{"$f":"Données!$E974690*#REF!","v":{"$error":"#REF!"}}]
[null,null,null,null,null,null,{"$f":"Données!$E975287*#REF!","v":{"$error":"#REF!"}}]
[null,null,null,null,null,null,{"$f":"Données!$E975871*#REF!","v":{"$error":"#REF!"}}]
[null,null,null,null,null,null,{"$f":"Données!$E976251*#REF!","v":{"$error":"#REF!"}}]
[null,null,null,null,null,null,{"$f":"Données!$E976530*#REF!","v":{"$error":"#REF!"}}]
[null,null,null,null,null,null,{"$f":"Données!$E977509*#REF!","v":{"$error":"#REF!"}}]
[null,null,null,null,null,null,{"$f":"Données!$E977711*#REF!","v":{"$error":"#REF!"}}]
[null,null,null,null,null,null,{"$f":"Données!$E978244*#REF!","v":{"$error":"#REF!"}}]
[null,null,null,null,null,null,{"$f":"Données!$E979050*#REF!","v":{"$error":"#REF!"}}]
[null,null,null,null,null,null,{"$f":"Données!$E979502*#REF!","v":{"$error":"#REF!"}}]
[null,null,null,null,null,null,{"$f":"Données!$E979709*#REF!","v":{"$error":"#REF!"}}]
[null,null,null,null,null,null,{"$f":"Données!$E980237*#REF!","v":{"$error":"#REF!"}}]
[null,null,null,null,null,null,{"$f":"Données!$E980890*#REF!","v":{"$error":"#REF!"}}]
[null,null,null,null,null,null,{"$f":"Données!$E981724*#REF!","v":{"$error":"#REF!"}}]
[null,null,null,null,null,null,{"$f":"Données!$E982071*#REF!","v":{"$error":"#REF!"}}]
[null,null,null,null,null,null,{"$f":"Données!$E982459*#REF!","v":{"$error":"#REF!"}}]
[null,null,null,null,null,null,{"$f":"Données!$E982888*#REF!","v":{"$error":"#REF!"}}]
[null,null,null,null,null,null,{"$f":"Données!$E983717*#REF!","v":{"$error":"#REF!"}}]
[null,null,null,null,null,null,{"$f":"Données!$E983938*#REF!","v":{"$error":"#REF!"}}]
[null,null,null,null,null,null,{"$f":"Données!$E984581*#REF!","v":{"$error":"#REF!"}}]
[null,null,null,null,null,null,{"$f":"Données!$E985196*#REF!","v":{"$error":"#REF!"}}]
[null,null,null,null,null,null,{"$f":"Données!$E985398*#REF!","v":{"$error":"#REF!"}}]
[null,null,null,null,null,null,{"$f":"Données!$E985931*#REF!","v":{"$error":"#REF!"}}]
[null,null,null,null,null,null,{"$f":"Données!$E986579*#REF!","v":{"$error":"#REF!"}}]
[null,null,null,null,null,null,{"$f":"Données!$E987189*#REF!","v":{"$error":"#REF!"}}]
[null,null,null,null,null,null,{"$f":"Données!$E987760*#REF!","v":{"$error":"#REF!"}}]
[null,null,null,null,null,null,{"$f":"Données!$E988153*#REF!","v":{"$error":"#REF!"}}]
[null,null,null,null,null,null,{"$f":"Données!$E988941*#REF!","v":{"$error":"#REF!"}}]
[null,null,null,null,null,null,{"$f":"Données!$E989411*#REF!","v":{"$error":"#REF!"}}]
[null,null,null,null,null,null,{"$f":"Données!$E989758*#REF!","v":{"$error":"#REF!"}}]
[null,null,null,null,null,null,{"$f":"Données!$E990146*#REF!","v":{"$error":"#REF!"}}]
[null,null,null,null,null,null,{"$f":"Données!$E990939*#REF!","v":{"$error":"#REF!"}}]
[null,null,null,null,null,null,{"$f":"Données!$E991404*#REF!","v":{"$error":"#REF!"}}]
[null,null,null,null,null,null,{"$f":"Données!$E992120*#REF!","v":{"$error":"#REF!"}}]
[null,null,null,null,null,null,{"$f":"Données!$E992368*#REF!","v":{"$error":"#REF!"}}]
[null,null,null,null,null,null,{"$f":"Données!$E992779*#REF!","v":{"$error":"#REF!"}}]
[null,null,null,null,null,null,{"$f":"Données!$E993626*#REF!","v":{"$error":"#REF!"}}]
[null,null,null,null,null,null,{"$f":"Données!$E994118*#REF!","v":{"$error":"#REF!"}}]
[null,null,null,null,null,null,{"$f":"Données!$E994361*#REF!","v":{"$error":"#REF!"}}]
[null,null,null,null,null,null,{"$f":"Données!$E995105*#REF!","v":{"$error":"#REF!"}}]
[null,null,null,null,null,null,{"$f":"Données!$E995811*#REF!","v":{"$error":"#REF!"}}]
[null,null,null,null,null,null,{"$f":"Données!$E996363*#REF!","v":{"$error":"#REF!"}}]
[null,null,null,null,null,null,{"$f":"Données!$E996628*#REF!","v":{"$error":"#REF!"}}]
[null,null,null,null,null,null,{"$f":"Données!$E997098*#REF!","v":{"$error":"#REF!"}}]
[null,null,null,null,null,null,{"$f":"Données!$E997809*#REF!","v":{"$error":"#REF!"}}]
[null,null,null,null,null,null,{"$f":"Données!$E998356*#REF!","v":{"$error":"#REF!"}}]
[null,null,null,null,null,null,{"$f":"Données!$E998468*#REF!","v":{"$error":"#REF!"}}]
[null,null,null,null,null,null,{"$f":"Données!$E999320*#REF!","v":{"$error":"#REF!"}}]
[null,null,null,null,null,null,{"$f":"Données!$E999649*#REF!","v":{"$error":"#REF!"}}]
[null,null,null,null,null,null,{"$f":"Données!$E1000055*#REF!","v":{"$error":"#REF!"}}]
[null,null,null,null,null,null,{"$f":"Données!$E1000988*#REF!","v":{"$error":"#REF!"}}]
[null,null,null,null,null,null,{"$f":"Données!$E1001313*#REF!","v":{"$error":"#REF!"}}]
[null,null,null,null,null,null,{"$f":"Données!$E1001647*#REF!","v":{"$error":"#REF!"}}]
[null,null,null,null,null,null,{"$f":"Données!$E1002571*#REF!","v":{"$error":"#REF!"}}]
[null,null,null,null,null,null,{"$f":"Données!$E1002828*#REF!","v":{"$error":"#REF!"}}]
[null,null,null,null,null,null,{"$f":"Données!$E1003535*#REF!","v":{"$error":"#REF!"}}]
[null,null,null,null,null,null,{"$f":"Données!$E1004009*#REF!","v":{"$error":"#REF!"}}]
[null,null,null,null,null,null,{"$f":"Données!$E1004270*#REF!","v":{"$error":"#REF!"}}]
[null,null,null,null,null,null,{"$f":"Données!$E1005014*#REF!","v":{"$error":"#REF!"}}]
[null,null,null,null,null,null,{"$f":"Données!$E1005338*#REF!","v":{"$error":"#REF!"}}]
[null,null,null,null,null,null,{"$f":"Données!$E1006272*#REF!","v":{"$error":"#REF!"}}]
[null,null,null,null,null,null,{"$f":"Données!$E1006519*#REF!","v":{"$error":"#REF!"}}]
[null,null,null,null,null,null,{"$f":"Données!$E1007007*#REF!","v":{"$error":"#REF!"}}]
[null,null,null,null,null,null,{"$f":"Données!$E1007858*#REF!","v":{"$error":"#REF!"}}]
[null,null,null,null,null,null,{"$f":"Données!$E1008265*#REF!","v":{"$error":"#REF!"}}]
[null,null,null,null,null,null,{"$f":"Données!$E1008517*#REF!","v":{"$error":"#REF!"}}]
[null,null,null,null,null,null,{"$f":"Données!$E1009000*#REF!","v":{"$error":"#REF!"}}]
[null,null,null,null,null,null,{"$f":"Données!$E1009698*#REF!","v":{"$error":"#REF!"}}]
[null,null,null,null,null,null,{"$f":"Données!$E1009964*#REF!","v":{"$error":"#REF!"}}]
[null,null,null,null,null,null,{"$f":"Données!$E1010879*#REF!","v":{"$error":"#REF!"}}]
[null,null,null,null,null,null,{"$f":"Données!$E1011222*#REF!","v":{"$error":"#REF!"}}]
[null,null,null,null,null,null,{"$f":"Données!$E1011696*#REF!","v":{"$error":"#REF!"}}]
[null,null,null,null,null,null,{"$f":"Données!$E1012480*#REF!","v":{"$error":"#REF!"}}]
[null,null,null,null,null,null,{"$f":"Données!$E1012877*#REF!","v":{"$error":"#REF!"}}]
[null,null,null,null,null,null,{"$f":"Données!$E1013215*#REF!","v":{"$error":"#REF!"}}]
[null,null,null,null,null,null,{"$f":"Données!$E1014058*#REF!","v":{"$error":"#REF!"}}]
[null,null,null,null,null,null,{"$f":"Données!$E1014179*#REF!","v":{"$error":"#REF!"}}]
[null,null,null,null,null,null,{"$f":"Données!$E1014717*#REF!","v":{"$error":"#REF!"}}]
[null,null,null,null,null,null,{"$f":"Données!$E1015437*#REF!","v":{"$error":"#REF!"}}]
[null,null,null,null,null,null,{"$f":"Données!$E1015952*#REF!","v":{"$error":"#REF!"}}]
[null,null,null,null,null,null,{"$f":"Données!$E1016568*#REF!","v":{"$error":"#REF!"}}]
[null,null,null,null,null,null,{"$f":"Données!$E1016916*#REF!","v":{"$error":"#REF!"}}]
[null,null,null,null,null,null,{"$f":"Données!$E1017749*#REF!","v":{"$error":"#REF!"}}]
[null,null,null,null,null,null,{"$f":"Données!$E1018174*#REF!","v":{"$error":"#REF!"}}]
[null,null,null,null,null,null,{"$f":"Données!$E1018566*#REF!","v":{"$error":"#REF!"}}]
[null,null,null,null,null,null,{"$f":"Données!$E1018909*#REF!","v":{"$error":"#REF!"}}]
[null,null,null,null,null,null,{"$f":"Données!$E1019747*#REF!","v":{"$error":"#REF!"}}]
[null,null,null,null,null,null,{"$f":"Données!$E1020167*#REF!","v":{"$error":"#REF!"}}]
[null,null,null,null,null,null,{"$f":"Données!$E1020406*#REF!","v":{"$error":"#REF!"}}]
[null,null,null,null,null,null,{"$f":"Données!$E1021131*#REF!","v":{"$error":"#REF!"}}]
[null,null,null,null,null,null,{"$f":"Données!$E1021587*#REF!","v":{"$error":"#REF!"}}]
[null,null,null,null,null,null,{"$f":"Données!$E1022389*#REF!","v":{"$error":"#REF!"}}]
[null,null,null,null,null,null,{"$f":"Données!$E1022926*#REF!","v":{"$error":"#REF!"}}]
[null,null,null,null,null,null,{"$f":"Données!$E1023124*#REF!","v":{"$error":"#REF!"}}]
[null,null,null,null,null,null,{"$f":"Données!$E1023585*#REF!","v":{"$error":"#REF!"}}]
[null,null,null,null,null,null,{"$f":"Données!$E1024382*#REF!","v":{"$error":"#REF!"}}]
[null,null,null,null,null,null,{"$f":"Données!$E1024766*#REF!","v":{"$error":"#REF!"}}]
[null,null,null,null,null,null,{"$f":"Données!$E1025346*#REF!","v":{"$error":"#REF!"}}]
[null,null,null,null,null,null,{"$f":"Données!$E1025861*#REF!","v":{"$error":"#REF!"}}]
[null,null,null,null,null,null,{"$f":"Données!$E1026617*#REF!","v":{"$error":"#REF!"}}]
[null,null,null,null,null,null,{"$f":"Données!$E1027119*#REF!","v":{"$error":"#REF!"}}]
[null,null,null,null,null,null,{"$f":"Données!$E1027276*#REF!","v":{"$error":"#REF!"}}]
[null,null,null,null,null,null,{"$f":"Données!$E1028083*#REF!","v":{"$error":"#REF!"}}]
[null,null,null,null,null,null,{"$f":"Données!$E1028457*#REF!","v":{"$error":"#REF!"}}]
[null,null,null,null,null,null,{"$f":"Données!$E1028818*#REF!","v":{"$error":"#REF!"}}]
[null,null,null,null,null,null,{"$f":"Données!$E1029796*#REF!","v":{"$error":"#REF!"}}]
[null,null,null,null,null,null,{"$f":"Données!$E1030076*#REF!","v":{"$error":"#REF!"}}]
[null,null,null,null,null,null,{"$f":"Données!$E1030455*#REF!","v":{"$error":"#REF!"}}]
[null,null,null,null,null,null,{"$f":"Données!$E1031334*#REF!","v":{"$error":"#REF!"}}]
[null,null,null,null,null,null,{"$f":"Données!$E1031636*#REF!","v":{"$error":"#REF!"}}]
[null,null,null,null,null,null,{"$f":"Données!$E1032298*#REF!","v":{"$error":"#REF!"}}]
[null,null,null,null,null,null,{"$f":"Données!$E1032817*#REF!","v":{"$error":"#REF!"}}]
[null,null,null,null,null,null,{"$f":"Données!$E1033033*#REF!","v":{"$error":"#REF!"}}]
[null,null,null,null,null,null,{"$f":"Données!$E1033476*#REF!","v":{"$error":"#REF!"}}]
[null,null,null,null,null,null,{"$f":"Données!$E1034291*#REF!","v":{"$error":"#REF!"}}]
[null,null,null,null,null,null,{"$f":"Données!$E1034815*#REF!","v":{"$error":"#REF!"}}]
[null,null,null,null,null,null,{"$f":"Données!$E1035549*#REF!","v":{"$error":"#REF!"}}]
[null,null,null,null,null,null,{"$f":"Données!$E1035996*#REF!","v":{"$error":"#REF!"}}]
[null,null,null,null,null,null,{"$f":"Données!$E1036513*#REF!","v":{"$error":"#REF!"}}]
[null,null,null,null,null,null,{"$f":"Données!$E1037028*#REF!","v":{"$error":"#REF!"}}]
[null,null,null,null,null,null,{"$f":"Données!$E1037325*#REF!","v":{"$error":"#REF!"}}]
[null,null,null,null,null,null,{"$f":"Données!$E1037763*#REF!","v":{"$error":"#REF!"}}]
[null,null,null,null,null,null,{"$f":"Données!$E1038506*#REF!","v":{"$error":"#REF!"}}]
[null,null,null,null,null,null,{"$f":"Données!$E1038727*#REF!","v":{"$error":"#REF!"}}]
[null,null,null,null,null,null,{"$f":"Données!$E1039687*#REF!","v":{"$error":"#REF!"}}]
[null,null,null,null,null,null,{"$f":"Données!$E1039985*#REF!","v":{"$error":"#REF!"}}]
[null,null,null,null,null,null,{"$f":"Données!$E1040504*#REF!","v":{"$error":"#REF!"}}]
[null,null,null,null,null,null,{"$f":"Données!$E1041243*#REF!","v":{"$error":"#REF!"}}]
[null,null,null,null,null,null,{"$f":"Données!$E1041685*#REF!","v":{"$error":"#REF!"}}]
[null,null,null,null,null,null,{"$f":"Données!$E1041978*#REF!","v":{"$error":"#REF!"}}]
[null,null,null,null,null,null,{"$f":"Données!$E1042866*#REF!","v":{"$error":"#REF!"}}]
[null,null,null,null,null,null,{"$f":"Données!$E1042942*#REF!","v":{"$error":"#REF!"}}]
[null,null,null,null,null,null,{"$f":"Données!$E1043525*#REF!","v":{"$error":"#REF!"}}]
[null,null,null,null,null,null,{"$f":"Données!$E1044200*#REF!","v":{"$error":"#REF!"}}]
[null,null,null,null,null,null,{"$f":"Données!$E1044706*#REF!","v":{"$error":"#REF!"}}]
[null,null,null,null,null,null,{"$f":"Données!$E1045458*#REF!","v":{"$error":"#REF!"}}]
[null,null,null,null,null,null,{"$f":"Données!$E1045523*#REF!","v":{"$error":"#REF!"}}]
[null,null,null,null,null,null,{"$f":"Données!$E1046193*#REF!","v":{"$error":"#REF!"}}]
[null,null,null,null,null,null,{"$f":"Données!$E1046937*#REF!","v":{"$error":"#REF!"}}]
[null,null,null,null,null,null,{"$f":"Données!$E1047051*#REF!","v":{"$error":"#REF!"}}]
[null,null,null,null,null,null,{"$f":"Données!$E1047052*#REF!","v":{"$error":"#REF!"}}]
[null,null,null,null,null,null,{"$f":"Données!$E1047053*#REF!","v":{"$error":"#REF!"}}]
[null,null,null,null,null,null,{"$f":"Données!$E1047054*#REF!","v":{"$error":"#REF!"}}]
[null,null,null,null,null,null,{"$f":"Données!$E1047055*#REF!","v":{"$error":"#REF!"}}]
[null,null,null,null,null,null,{"$f":"Données!$E1047056*#REF!","v":{"$error":"#REF!"}}]
[null,null,null,null,null,null,{"$f":"Données!$E1047057*#REF!","v":{"$error":"#REF!"}}]
[null,null,null,null,null,null,{"$f":"Données!$E1047058*#REF!","v":{"$error":"#REF!"}}]
[null,null,null,null,null,null,{"$f":"Données!$E1047059*#REF!","v":{"$error":"#REF!"}}]
[null,null,null,null,null,null,{"$f":"Données!$E1047060*#REF!","v":{"$error":"#REF!"}}]
[null,null,null,null,null,null,{"$f":"Données!$E1047061*#REF!","v":{"$error":"#REF!"}}]
[null,null,null,null,null,null,{"$f":"Données!$E1047062*#REF!","v":{"$error":"#REF!"}}]
[null,null,null,null,null,null,{"$f":"Données!$E1047063*#REF!","v":{"$error":"#REF!"}}]
[null,null,null,null,null,null,{"$f":"Données!$E1047064*#REF!","v":{"$error":"#REF!"}}]
[null,null,null,null,null,null,{"$f":"Données!$E1047065*#REF!","v":{"$error":"#REF!"}}]
[null,null,null,null,null,null,{"$f":"Données!$E1047066*#REF!","v":{"$error":"#REF!"}}]
[null,null,null,null,null,null,{"$f":"Données!$E1047067*#REF!","v":{"$error":"#REF!"}}]
[null,null,null,null,null,null,{"$f":"Données!$E1047068*#REF!","v":{"$error":"#REF!"}}]
[null,null,null,null,null,null,{"$f":"Données!$E1047069*#REF!","v":{"$error":"#REF!"}}]
[null,null,null,null,null,null,{"$f":"Données!$E1047070*#REF!","v":{"$error":"#REF!"}}]
[null,null,null,null,null,null,{"$f":"Données!$E1047071*#REF!","v":{"$error":"#REF!"}}]
[null,null,null,null,null,null,{"$f":"Données!$E1047072*#REF!","v":{"$error":"#REF!"}}]
[null,null,null,null,null,null,{"$f":"Données!$E1047073*#REF!","v":{"$error":"#REF!"}}]
[null,null,null,null,null,null,{"$f":"Données!$E1047074*#REF!","v":{"$error":"#REF!"}}]
[null,null,null,null,null,null,{"$f":"Données!$E1047075*#REF!","v":{"$error":"#REF!"}}]
[null,null,null,null,null,null,{"$f":"Données!$E1047076*#REF!","v":{"$error":"#REF!"}}]
[null,null,null,null,null,null,{"$f":"Données!$E1047077*#REF!","v":{"$error":"#REF!"}}]
[null,null,null,null,null,null,{"$f":"Données!$E1047078*#REF!","v":{"$error":"#REF!"}}]
[null,null,null,null,null,null,{"$f":"Données!$E1047079*#REF!","v":{"$error":"#REF!"}}]
[null,null,null,null,null,null,{"$f":"Données!$E1047080*#REF!","v":{"$error":"#REF!"}}]
[null,null,null,null,null,null,{"$f":"Données!$E1047081*#REF!","v":{"$error":"#REF!"}}]
[null,null,null,null,null,null,{"$f":"Données!$E1047082*#REF!","v":{"$error":"#REF!"}}]
[null,null,null,null,null,null,{"$f":"Données!$E1047083*#REF!","v":{"$error":"#REF!"}}]
[null,null,null,null,null,null,{"$f":"Données!$E1047084*#REF!","v":{"$error":"#REF!"}}]
[null,null,null,null,null,null,{"$f":"Données!$E1047085*#REF!","v":{"$error":"#REF!"}}]
[null,null,null,null,null,null,{"$f":"Données!$E1047086*#REF!","v":{"$error":"#REF!"}}]
[null,null,null,null,null,null,{"$f":"Données!$E1047087*#REF!","v":{"$error":"#REF!"}}]
[null,null,null,null,null,null,{"$f":"Données!$E1047088*#REF!","v":{"$error":"#REF!"}}]
[null,null,null,null,null,null,{"$f":"Données!$E1047089*#REF!","v":{"$error":"#REF!"}}]
[null,null,null,null,null,null,{"$f":"Données!$E1047090*#REF!","v":{"$error":"#REF!"}}]
[null,null,null,null,null,null,{"$f":"Données!$E1047091*#REF!","v":{"$error":"#REF!"}}]
[null,null,null,null,null,null,{"$f":"Données!$E1047092*#REF!","v":{"$error":"#REF!"}}]
[null,null,null,null,null,null,{"$f":"Données!$E1047093*#REF!","v":{"$error":"#REF!"}}]
[null,null,null,null,null,null,{"$f":"Données!$E1047094*#REF!","v":{"$error":"#REF!"}}]
[null,null,null,null,null,null,{"$f":"Données!$E1047095*#REF!","v":{"$error":"#REF!"}}]
[null,null,null,null,null,null,{"$f":"Données!$E1047096*#REF!","v":{"$error":"#REF!"}}]
[null,null,null,null,null,null,{"$f":"Données!$E1047097*#REF!","v":{"$error":"#REF!"}}]
[null,null,null,null,null,null,{"$f":"Données!$E1047098*#REF!","v":{"$error":"#REF!"}}]
[null,null,null,null,null,null,{"$f":"Données!$E1047099*#REF!","v":{"$error":"#REF!"}}]
[null,null,null,null,null,null,{"$f":"Données!$E1047100*#REF!","v":{"$error":"#REF!"}}]
[null,null,null,null,null,null,{"$f":"Données!$E1047101*#REF!","v":{"$error":"#REF!"}}]
[null,null,null,null,null,null,{"$f":"Données!$E1047102*#REF!","v":{"$error":"#REF!"}}]
[null,null,null,null,null,null,{"$f":"Données!$E1047103*#REF!","v":{"$error":"#REF!"}}]
[null,null,null,null,null,null,{"$f":"Données!$E1047104*#REF!","v":{"$error":"#REF!"}}]
[null,null,null,null,null,null,{"$f":"Données!$E1047105*#REF!","v":{"$error":"#REF!"}}]
[null,null,null,null,null,null,{"$f":"Données!$E1047106*#REF!","v":{"$error":"#REF!"}}]
[null,null,null,null,null,null,{"$f":"Données!$E1047107*#REF!","v":{"$error":"#REF!"}}]
[null,null,null,null,null,null,{"$f":"Données!$E1047108*#REF!","v":{"$error":"#REF!"}}]
[null,null,null,null,null,null,{"$f":"Données!$E1047109*#REF!","v":{"$error":"#REF!"}}]
[null,null,null,null,null,null,{"$f":"Données!$E1047110*#REF!","v":{"$error":"#REF!"}}]
[null,null,null,null,null,null,{"$f":"Données!$E1047111*#REF!","v":{"$error":"#REF!"}}]
[null,null,null,null,null,null,{"$f":"Données!$E1047112*#REF!","v":{"$error":"#REF!"}}]
[null,null,null,null,null,null,{"$f":"Données!$E1047113*#REF!","v":{"$error":"#REF!"}}]
[null,null,null,null,null,null,{"$f":"Données!$E1047114*#REF!","v":{"$error":"#REF!"}}]
[null,null,null,null,null,null,{"$f":"Données!$E1047115*#REF!","v":{"$error":"#REF!"}}]
[null,null,null,null,null,null,{"$f":"Données!$E1047116*#REF!","v":{"$error":"#REF!"}}]
[null,null,null,null,null,null,{"$f":"Données!$E1047117*#REF!","v":{"$error":"#REF!"}}]
[null,null,null,null,null,null,{"$f":"Données!$E1047118*#REF!","v":{"$error":"#REF!"}}]
[null,null,null,null,null,null,{"$f":"Données!$E1047119*#REF!","v":{"$error":"#REF!"}}]
[null,null,null,null,null,null,{"$f":"Données!$E1047120*#REF!","v":{"$error":"#REF!"}}]
[null,null,null,null,null,null,{"$f":"Données!$E1047121*#REF!","v":{"$error":"#REF!"}}]
[null,null,null,null,null,null,{"$f":"Données!$E1047122*#REF!","v":{"$error":"#REF!"}}]
[null,null,null,null,null,null,{"$f":"Données!$E1047123*#REF!","v":{"$error":"#REF!"}}]
[null,null,null,null,null,null,{"$f":"Données!$E1047124*#REF!","v":{"$error":"#REF!"}}]
[null,null,null,null,null,null,{"$f":"Données!$E1047125*#REF!","v":{"$error":"#REF!"}}]
[null,null,null,null,null,null,{"$f":"Données!$E1047126*#REF!","v":{"$error":"#REF!"}}]
[null,null,null,null,null,null,{"$f":"Données!$E1047127*#REF!","v":{"$error":"#REF!"}}]
[null,null,null,null,null,null,{"$f":"Données!$E1047128*#REF!","v":{"$error":"#REF!"}}]
[null,null,null,null,null,null,{"$f":"Données!$E1047129*#REF!","v":{"$error":"#REF!"}}]
[null,null,null,null,null,null,{"$f":"Données!$E1047130*#REF!","v":{"$error":"#REF!"}}]
[null,null,null,null,null,null,{"$f":"Données!$E1047131*#REF!","v":{"$error":"#REF!"}}]
[null,null,null,null,null,null,{"$f":"Données!$E1047132*#REF!","v":{"$error":"#REF!"}}]
[null,null,null,null,null,null,{"$f":"Données!$E1047133*#REF!","v":{"$error":"#REF!"}}]
[null,null,null,null,null,null,{"$f":"Données!$E1047134*#REF!","v":{"$error":"#REF!"}}]
[null,null,null,null,null,null,{"$f":"Données!$E1047135*#REF!","v":{"$error":"#REF!"}}]
[null,null,null,null,null,null,{"$f":"Données!$E1047136*#REF!","v":{"$error":"#REF!"}}]
[null,null,null,null,null,null,{"$f":"Données!$E1047137*#REF!","v":{"$error":"#REF!"}}]
[null,null,null,null,null,null,{"$f":"Données!$E1047138*#REF!","v":{"$error":"#REF!"}}]
[null,null,null,null,null,null,{"$f":"Données!$E1047139*#REF!","v":{"$error":"#REF!"}}]
[null,null,null,null,null,null,{"$f":"Données!$E1047140*#REF!","v":{"$error":"#REF!"}}]
[null,null,null,null,null,null,{"$f":"Données!$E1047141*#REF!","v":{"$error":"#REF!"}}]
[null,null,null,null,null,null,{"$f":"Données!$E1047142*#REF!","v":{"$error":"#REF!"}}]
[null,null,null,null,null,null,{"$f":"Données!$E1047143*#REF!","v":{"$error":"#REF!"}}]
[null,null,null,null,null,null,{"$f":"Données!$E1047144*#REF!","v":{"$error":"#REF!"}}]
[null,null,null,null,null,null,{"$f":"Données!$E1047145*#REF!","v":{"$error":"#REF!"}}]
[null,null,null,null,null,null,{"$f":"Données!$E1047146*#REF!","v":{"$error":"#REF!"}}]
[null,null,null,null,null,null,{"$f":"Données!$E1047147*#REF!","v":{"$error":"#REF!"}}]
[null,null,null,null,null,null,{"$f":"Données!$E1047148*#REF!","v":{"$error":"#REF!"}}]
[null,null,null,null,null,null,{"$f":"Données!$E1047149*#REF!","v":{"$error":"#REF!"}}]
[null,null,null,null,null,null,{"$f":"Données!$E1047150*#REF!","v":{"$error":"#REF!"}}]
[null,null,null,null,null,null,{"$f":"Données!$E1047151*#REF!","v":{"$error":"#REF!"}}]
[null,null,null,null,null,null,{"$f":"Données!$E1047152*#REF!","v":{"$error":"#REF!"}}]
[null,null,null,null,null,null,{"$f":"Données!$E1047153*#REF!","v":{"$error":"#REF!"}}]
[null,null,null,null,null,null,{"$f":"Données!$E1047154*#REF!","v":{"$error":"#REF!"}}]
[null,null,null,null,null,null,{"$f":"Données!$E1047155*#REF!","v":{"$error":"#REF!"}}]
[null,null,null,null,null,null,{"$f":"Données!$E1047156*#REF!","v":{"$error":"#REF!"}}]
[null,null,null,null,null,null,{"$f":"Données!$E1047157*#REF!","v":{"$error":"#REF!"}}]
[null,null,null,null,null,null,{"$f":"Données!$E1047158*#REF!","v":{"$error":"#REF!"}}]
[null,null,null,null,null,null,{"$f":"Données!$E1047159*#REF!","v":{"$error":"#REF!"}}]
[null,null,null,null,null,null,{"$f":"Données!$E1047160*#REF!","v":{"$error":"#REF!"}}]
[null,null,null,null,null,null,{"$f":"Données!$E1047161*#REF!","v":{"$error":"#REF!"}}]
[null,null,null,null,null,null,{"$f":"Données!$E1047162*#REF!","v":{"$error":"#REF!"}}]
[null,null,null,null,null,null,{"$f":"Données!$E1047163*#REF!","v":{"$error":"#REF!"}}]
[null,null,null,null,null,null,{"$f":"Données!$E1047164*#REF!","v":{"$error":"#REF!"}}]
[null,null,null,null,null,null,{"$f":"Données!$E1047165*#REF!","v":{"$error":"#REF!"}}]
[null,null,null,null,null,null,{"$f":"Données!$E1047166*#REF!","v":{"$error":"#REF!"}}]
[null,null,null,null,null,null,{"$f":"Données!$E1047167*#REF!","v":{"$error":"#REF!"}}]
[null,null,null,null,null,null,{"$f":"Données!$E1047168*#REF!","v":{"$error":"#REF!"}}]
[null,null,null,null,null,null,{"$f":"Données!$E1047169*#REF!","v":{"$error":"#REF!"}}]
[null,null,null,null,null,null,{"$f":"Données!$E1047170*#REF!","v":{"$error":"#REF!"}}]
[null,null,null,null,null,null,{"$f":"Données!$E1047171*#REF!","v":{"$error":"#REF!"}}]
[null,null,null,null,null,null,{"$f":"Données!$E1047172*#REF!","v":{"$error":"#REF!"}}]
[null,null,null,null,null,null,{"$f":"Données!$E1047173*#REF!","v":{"$error":"#REF!"}}]
[null,null,null,null,null,null,{"$f":"Données!$E1047174*#REF!","v":{"$error":"#REF!"}}]
[null,null,null,null,null,null,{"$f":"Données!$E1047175*#REF!","v":{"$error":"#REF!"}}]
[null,null,null,null,null,null,{"$f":"Données!$E1047176*#REF!","v":{"$error":"#REF!"}}]
[null,null,null,null,null,null,{"$f":"Données!$E1047177*#REF!","v":{"$error":"#REF!"}}]
[null,null,null,null,null,null,{"$f":"Données!$E1047178*#REF!","v":{"$error":"#REF!"}}]
[null,null,null,null,null,null,{"$f":"Données!$E1047179*#REF!","v":{"$error":"#REF!"}}]
[null,null,null,null,null,null,{"$f":"Données!$E1047180*#REF!","v":{"$error":"#REF!"}}]
[null,null,null,null,null,null,{"$f":"Données!$E1047181*#REF!","v":{"$error":"#REF!"}}]
[null,null,null,null,null,null,{"$f":"Données!$E1047182*#REF!","v":{"$error":"#REF!"}}]
[null,null,null,null,null,null,{"$f":"Données!$E1047183*#REF!","v":{"$error":"#REF!"}}]
[null,null,null,null,null,null,{"$f":"Données!$E1047184*#REF!","v":{"$error":"#REF!"}}]
[null,null,null,null,null,null,{"$f":"Données!$E1047185*#REF!","v":{"$error":"#REF!"}}]
[null,null,null,null,null,null,{"$f":"Données!$E1047186*#REF!","v":{"$error":"#REF!"}}]
[null,null,null,null,null,null,{"$f":"Données!$E1047187*#REF!","v":{"$error":"#REF!"}}]
[null,null,null,null,null,null,{"$f":"Données!$E1047188*#REF!","v":{"$error":"#REF!"}}]
[null,null,null,null,null,null,{"$f":"Données!$E1047189*#REF!","v":{"$error":"#REF!"}}]
[null,null,null,null,null,null,{"$f":"Données!$E1047190*#REF!","v":{"$error":"#REF!"}}]
[null,null,null,null,null,null,{"$f":"Données!$E1047191*#REF!","v":{"$error":"#REF!"}}]
[null,null,null,null,null,null,{"$f":"Données!$E1047192*#REF!","v":{"$error":"#REF!"}}]
[null,null,null,null,null,null,{"$f":"Données!$E1047193*#REF!","v":{"$error":"#REF!"}}]
[null,null,null,null,null,null,{"$f":"Données!$E1047194*#REF!","v":{"$error":"#REF!"}}]
[null,null,null,null,null,null,{"$f":"Données!$E1047195*#REF!","v":{"$error":"#REF!"}}]
[null,null,null,null,null,null,{"$f":"Données!$E1047196*#REF!","v":{"$error":"#REF!"}}]
[null,null,null,null,null,null,{"$f":"Données!$E1047197*#REF!","v":{"$error":"#REF!"}}]
[null,null,null,null,null,null,{"$f":"Données!$E1047198*#REF!","v":{"$error":"#REF!"}}]
[null,null,null,null,null,null,{"$f":"Données!$E1047199*#REF!","v":{"$error":"#REF!"}}]
[null,null,null,null,null,null,{"$f":"Données!$E1047200*#REF!","v":{"$error":"#REF!"}}]
[null,null,null,null,null,null,{"$f":"Données!$E1047201*#REF!","v":{"$error":"#REF!"}}]
[null,null,null,null,null,null,{"$f":"Données!$E1047202*#REF!","v":{"$error":"#REF!"}}]
[null,null,null,null,null,null,{"$f":"Données!$E1047203*#REF!","v":{"$error":"#REF!"}}]
[null,null,null,null,null,null,{"$f":"Données!$E1047204*#REF!","v":{"$error":"#REF!"}}]
[null,null,null,null,null,null,{"$f":"Données!$E1047205*#REF!","v":{"$error":"#REF!"}}]
[null,null,null,null,null,null,{"$f":"Données!$E1047206*#REF!","v":{"$error":"#REF!"}}]
[null,null,null,null,null,null,{"$f":"Données!$E1047207*#REF!","v":{"$error":"#REF!"}}]
[null,null,null,null,null,null,{"$f":"Données!$E1047208*#REF!","v":{"$error":"#REF!"}}]
[null,null,null,null,null,null,{"$f":"Données!$E1047209*#REF!","v":{"$error":"#REF!"}}]
[null,null,null,null,null,null,{"$f":"Données!$E1047210*#REF!","v":{"$error":"#REF!"}}]
[null,null,null,null,null,null,{"$f":"Données!$E1047211*#REF!","v":{"$error":"#REF!"}}]
[null,null,null,null,null,null,{"$f":"Données!$E1047212*#REF!","v":{"$error":"#REF!"}}]
[null,null,null,null,null,null,{"$f":"Données!$E1047213*#REF!","v":{"$error":"#REF!"}}]
[null,null,null,null,null,null,{"$f":"Données!$E1047214*#REF!","v":{"$error":"#REF!"}}]
[null,null,null,null,null,null,{"$f":"Données!$E1047215*#REF!","v":{"$error":"#REF!"}}]
[null,null,null,null,null,null,{"$f":"Données!$E1047216*#REF!","v":{"$error":"#REF!"}}]
[null,null,null,null,null,null,{"$f":"Données!$E1047217*#REF!","v":{"$error":"#REF!"}}]
[null,null,null,null,null,null,{"$f":"Données!$E1047218*#REF!","v":{"$error":"#REF!"}}]
[null,null,null,null,null,null,{"$f":"Données!$E1047219*#REF!","v":{"$error":"#REF!"}}]
[null,null,null,null,null,null,{"$f":"Données!$E1047220*#REF!","v":{"$error":"#REF!"}}]
[null,null,null,null,null,null,{"$f":"Données!$E1047221*#REF!","v":{"$error":"#REF!"}}]
[null,null,null,null,null,null,{"$f":"Données!$E1047222*#REF!","v":{"$error":"#REF!"}}]
[null,null,null,null,null,null,{"$f":"Données!$E1047223*#REF!","v":{"$error":"#REF!"}}]
[null,null,null,null,null,null,{"$f":"Données!$E1047224*#REF!","v":{"$error":"#REF!"}}]
[null,null,null,null,null,null,{"$f":"Données!$E1047225*#REF!","v":{"$error":"#REF!"}}]
[null,null,null,null,null,null,{"$f":"Données!$E1047226*#REF!","v":{"$error":"#REF!"}}]
[null,null,null,null,null,null,{"$f":"Données!$E1047227*#REF!","v":{"$error":"#REF!"}}]
[null,null,null,null,null,null,{"$f":"Données!$E1047228*#REF!","v":{"$error":"#REF!"}}]
[null,null,null,null,null,null,{"$f":"Données!$E1047229*#REF!","v":{"$error":"#REF!"}}]
[null,null,null,null,null,null,{"$f":"Données!$E1047230*#REF!","v":{"$error":"#REF!"}}]
[null,null,null,null,null,null,{"$f":"Données!$E1047231*#REF!","v":{"$error":"#REF!"}}]
[null,null,null,null,null,null,{"$f":"Données!$E1047232*#REF!","v":{"$error":"#REF!"}}]
[null,null,null,null,null,null,{"$f":"Données!$E1047233*#REF!","v":{"$error":"#REF!"}}]
[null,null,null,null,null,null,{"$f":"Données!$E1047234*#REF!","v":{"$error":"#REF!"}}]
[null,null,null,null,null,null,{"$f":"Données!$E1047235*#REF!","v":{"$error":"#REF!"}}]
[null,null,null,null,null,null,{"$f":"Données!$E1047236*#REF!","v":{"$error":"#REF!"}}]
[null,null,null,null,null,null,{"$f":"Données!$E1047237*#REF!","v":{"$error":"#REF!"}}]
[null,null,null,null,null,null,{"$f":"Données!$E1047238*#REF!","v":{"$error":"#REF!"}}]
[null,null,null,null,null,null,{"$f":"Données!$E1047239*#REF!","v":{"$error":"#REF!"}}]
[null,null,null,null,null,null,{"$f":"Données!$E1047240*#REF!","v":{"$error":"#REF!"}}]
[null,null,null,null,null,null,{"$f":"Données!$E1047241*#REF!","v":{"$error":"#REF!"}}]
[null,null,null,null,null,null,{"$f":"Données!$E1047242*#REF!","v":{"$error":"#REF!"}}]
[null,null,null,null,null,null,{"$f":"Données!$E1047243*#REF!","v":{"$error":"#REF!"}}]
[null,null,null,null,null,null,{"$f":"Données!$E1047244*#REF!","v":{"$error":"#REF!"}}]
[null,null,null,null,null,null,{"$f":"Données!$E1047245*#REF!","v":{"$error":"#REF!"}}]
[null,null,null,null,null,null,{"$f":"Données!$E1047246*#REF!","v":{"$error":"#REF!"}}]
[null,null,null,null,null,null,{"$f":"Données!$E1047247*#REF!","v":{"$error":"#REF!"}}]
[null,null,null,null,null,null,{"$f":"Données!$E1047248*#REF!","v":{"$error":"#REF!"}}]
[null,null,null,null,null,null,{"$f":"Données!$E1047249*#REF!","v":{"$error":"#REF!"}}]
[null,null,null,null,null,null,{"$f":"Données!$E1047250*#REF!","v":{"$error":"#REF!"}}]
[null,null,null,null,null,null,{"$f":"Données!$E1047251*#REF!","v":{"$error":"#REF!"}}]
[null,null,null,null,null,null,{"$f":"Données!$E1047252*#REF!","v":{"$error":"#REF!"}}]
[null,null,null,null,null,null,{"$f":"Données!$E1047253*#REF!","v":{"$error":"#REF!"}}]
[null,null,null,null,null,null,{"$f":"Données!$E1047254*#REF!","v":{"$error":"#REF!"}}]
[null,null,null,null,null,null,{"$f":"Données!$E1047255*#REF!","v":{"$error":"#REF!"}}]
[null,null,null,null,null,null,{"$f":"Données!$E1047256*#REF!","v":{"$error":"#REF!"}}]
[null,null,null,null,null,null,{"$f":"Données!$E1047257*#REF!","v":{"$error":"#REF!"}}]
[null,null,null,null,null,null,{"$f":"Données!$E1047258*#REF!","v":{"$error":"#REF!"}}]
[null,null,null,null,null,null,{"$f":"Données!$E1047259*#REF!","v":{"$error":"#REF!"}}]
[null,null,null,null,null,null,{"$f":"Données!$E1047260*#REF!","v":{"$error":"#REF!"}}]
[null,null,null,null,null,null,{"$f":"Données!$E1047261*#REF!","v":{"$error":"#REF!"}}]
[null,null,null,null,null,null,{"$f":"Données!$E1047262*#REF!","v":{"$error":"#REF!"}}]
[null,null,null,null,null,null,{"$f":"Données!$E1047263*#REF!","v":{"$error":"#REF!"}}]
[null,null,null,null,null,null,{"$f":"Données!$E1047264*#REF!","v":{"$error":"#REF!"}}]
[null,null,null,null,null,null,{"$f":"Données!$E1047265*#REF!","v":{"$error":"#REF!"}}]
[null,null,null,null,null,null,{"$f":"Données!$E1047266*#REF!","v":{"$error":"#REF!"}}]
[null,null,null,null,null,null,{"$f":"Données!$E1047267*#REF!","v":{"$error":"#REF!"}}]
[null,null,null,null,null,null,{"$f":"Données!$E1047268*#REF!","v":{"$error":"#REF!"}}]
[null,null,null,null,null,null,{"$f":"Données!$E1047269*#REF!","v":{"$error":"#REF!"}}]
[null,null,null,null,null,null,{"$f":"Données!$E1047270*#REF!","v":{"$error":"#REF!"}}]
[null,null,null,null,null,null,{"$f":"Données!$E1047271*#REF!","v":{"$error":"#REF!"}}]
[null,null,null,null,null,null,{"$f":"Données!$E1047272*#REF!","v":{"$error":"#REF!"}}]
[null,null,null,null,null,null,{"$f":"Données!$E1047273*#REF!","v":{"$error":"#REF!"}}]
[null,null,null,null,null,null,{"$f":"Données!$E1047274*#REF!","v":{"$error":"#REF!"}}]
[null,null,null,null,null,null,{"$f":"Données!$E1047275*#REF!","v":{"$error":"#REF!"}}]
[null,null,null,null,null,null,{"$f":"Données!$E1047276*#REF!","v":{"$error":"#REF!"}}]
[null,null,null,null,null,null,{"$f":"Données!$E1047277*#REF!","v":{"$error":"#REF!"}}]
[null,null,null,null,null,null,{"$f":"Données!$E1047278*#REF!","v":{"$error":"#REF!"}}]
[null,null,null,null,null,null,{"$f":"Données!$E1047279*#REF!","v":{"$error":"#REF!"}}]
[null,null,null,null,null,null,{"$f":"Données!$E1047280*#REF!","v":{"$error":"#REF!"}}]
[null,null,null,null,null,null,{"$f":"Données!$E1047281*#REF!","v":{"$error":"#REF!"}}]
[null,null,null,null,null,null,{"$f":"Données!$E1047282*#REF!","v":{"$error":"#REF!"}}]
[null,null,null,null,null,null,{"$f":"Données!$E1047283*#REF!","v":{"$error":"#REF!"}}]
[null,null,null,null,null,null,{"$f":"Données!$E1047284*#REF!","v":{"$error":"#REF!"}}]
[null,null,null,null,null,null,{"$f":"Données!$E1047285*#REF!","v":{"$error":"#REF!"}}]
[null,null,null,null,null,null,{"$f":"Données!$E1047286*#REF!","v":{"$error":"#REF!"}}]
[null,null,null,null,null,null,{"$f":"Données!$E1047287*#REF!","v":{"$error":"#REF!"}}]
[null,null,null,null,null,null,{"$f":"Données!$E1047288*#REF!","v":{"$error":"#REF!"}}]
[null,null,null,null,null,null,{"$f":"Données!$E1047289*#REF!","v":{"$error":"#REF!"}}]
[null,null,null,null,null,null,{"$f":"Données!$E1047290*#REF!","v":{"$error":"#REF!"}}]
[null,null,null,null,null,null,{"$f":"Données!$E1047291*#REF!","v":{"$error":"#REF!"}}]
[null,null,null,null,null,null,{"$f":"Données!$E1047292*#REF!","v":{"$error":"#REF!"}}]
[null,null,null,null,null,null,{"$f":"Données!$E1047293*#REF!","v":{"$error":"#REF!"}}]
[null,null,null,null,null,null,{"$f":"Données!$E1047294*#REF!","v":{"$error":"#REF!"}}]
[null,null,null,null,null,null,{"$f":"Données!$E1047295*#REF!","v":{"$error":"#REF!"}}]
[null,null,null,null,null,null,{"$f":"Données!$E1047296*#REF!","v":{"$error":"#REF!"}}]
[null,null,null,null,null,null,{"$f":"Données!$E1047297*#REF!","v":{"$error":"#REF!"}}]
[null,null,null,null,null,null,{"$f":"Données!$E1047298*#REF!","v":{"$error":"#REF!"}}]
[null,null,null,null,null,null,{"$f":"Données!$E1047299*#REF!","v":{"$error":"#REF!"}}]
[null,null,null,null,null,null,{"$f":"Données!$E1047300*#REF!","v":{"$error":"#REF!"}}]
[null,null,null,null,null,null,{"$f":"Données!$E1047301*#REF!","v":{"$error":"#REF!"}}]
[null,null,null,null,null,null,{"$f":"Données!$E1047302*#REF!","v":{"$error":"#REF!"}}]
[null,null,null,null,null,null,{"$f":"Données!$E1047303*#REF!","v":{"$error":"#REF!"}}]
[null,null,null,null,null,null,{"$f":"Données!$E1047304*#REF!","v":{"$error":"#REF!"}}]
[null,null,null,null,null,null,{"$f":"Données!$E1047305*#REF!","v":{"$error":"#REF!"}}]
[null,null,null,null,null,null,{"$f":"Données!$E1047306*#REF!","v":{"$error":"#REF!"}}]
[null,null,null,null,null,null,{"$f":"Données!$E1047307*#REF!","v":{"$error":"#REF!"}}]
[null,null,null,null,null,null,{"$f":"Données!$E1047308*#REF!","v":{"$error":"#REF!"}}]
[null,null,null,null,null,null,{"$f":"Données!$E1047309*#REF!","v":{"$error":"#REF!"}}]
[null,null,null,null,null,null,{"$f":"Données!$E1047310*#REF!","v":{"$error":"#REF!"}}]
[null,null,null,null,null,null,{"$f":"Données!$E1047311*#REF!","v":{"$error":"#REF!"}}]
[null,null,null,null,null,null,{"$f":"Données!$E1047312*#REF!","v":{"$error":"#REF!"}}]
[null,null,null,null,null,null,{"$f":"Données!$E1047313*#REF!","v":{"$error":"#REF!"}}]
[null,null,null,null,null,null,{"$f":"Données!$E1047314*#REF!","v":{"$error":"#REF!"}}]
[null,null,null,null,null,null,{"$f":"Données!$E1047315*#REF!","v":{"$error":"#REF!"}}]
[null,null,null,null,null,null,{"$f":"Données!$E1047316*#REF!","v":{"$error":"#REF!"}}]
[null,null,null,null,null,null,{"$f":"Données!$E1047317*#REF!","v":{"$error":"#REF!"}}]
[null,null,null,null,null,null,{"$f":"Données!$E1047318*#REF!","v":{"$error":"#REF!"}}]
[null,null,null,null,null,null,{"$f":"Données!$E1047319*#REF!","v":{"$error":"#REF!"}}]
[null,null,null,null,null,null,{"$f":"Données!$E1047320*#REF!","v":{"$error":"#REF!"}}]
[null,null,null,null,null,null,{"$f":"Données!$E1047321*#REF!","v":{"$error":"#REF!"}}]
[null,null,null,null,null,null,{"$f":"Données!$E1047322*#REF!","v":{"$error":"#REF!"}}]
[null,null,null,null,null,null,{"$f":"Données!$E1047323*#REF!","v":{"$error":"#REF!"}}]
[null,null,null,null,null,null,{"$f":"Données!$E1047324*#REF!","v":{"$error":"#REF!"}}]
[null,null,null,null,null,null,{"$f":"Données!$E1047325*#REF!","v":{"$error":"#REF!"}}]
[null,null,null,null,null,null,{"$f":"Données!$E1047326*#REF!","v":{"$error":"#REF!"}}]
[null,null,null,null,null,null,{"$f":"Données!$E1047327*#REF!","v":{"$error":"#REF!"}}]
[null,null,null,null,null,null,{"$f":"Données!$E1047328*#REF!","v":{"$error":"#REF!"}}]
[null,null,null,null,null,null,{"$f":"Données!$E1047329*#REF!","v":{"$error":"#REF!"}}]
[null,null,null,null,null,null,{"$f":"Données!$E1047330*#REF!","v":{"$error":"#REF!"}}]
[null,null,null,null,null,null,{"$f":"Données!$E1047331*#REF!","v":{"$error":"#REF!"}}]
[null,null,null,null,null,null,{"$f":"Données!$E1047332*#REF!","v":{"$error":"#REF!"}}]
[null,null,null,null,null,null,{"$f":"Données!$E1047333*#REF!","v":{"$error":"#REF!"}}]
[null,null,null,null,null,null,{"$f":"Données!$E1047334*#REF!","v":{"$error":"#REF!"}}]
[null,null,null,null,null,null,{"$f":"Données!$E1047335*#REF!","v":{"$error":"#REF!"}}]
[null,null,null,null,null,null,{"$f":"Données!$E1047336*#REF!","v":{"$error":"#REF!"}}]
[null,null,null,null,null,null,{"$f":"Données!$E1047337*#REF!","v":{"$error":"#REF!"}}]
[null,null,null,null,null,null,{"$f":"Données!$E1047338*#REF!","v":{"$error":"#REF!"}}]
[null,null,null,null,null,null,{"$f":"Données!$E1047339*#REF!","v":{"$error":"#REF!"}}]
[null,null,null,null,null,null,{"$f":"Données!$E1047340*#REF!","v":{"$error":"#REF!"}}]
[null,null,null,null,null,null,{"$f":"Données!$E1047341*#REF!","v":{"$error":"#REF!"}}]
[null,null,null,null,null,null,{"$f":"Données!$E1047342*#REF!","v":{"$error":"#REF!"}}]
[null,null,null,null,null,null,{"$f":"Données!$E1047343*#REF!","v":{"$error":"#REF!"}}]
[null,null,null,null,null,null,{"$f":"Données!$E1047344*#REF!","v":{"$error":"#REF!"}}]
[null,null,null,null,null,null,{"$f":"Données!$E1047345*#REF!","v":{"$error":"#REF!"}}]
[null,null,null,null,null,null,{"$f":"Données!$E1047346*#REF!","v":{"$error":"#REF!"}}]
[null,null,null,null,null,null,{"$f":"Données!$E1047347*#REF!","v":{"$error":"#REF!"}}]
[null,null,null,null,null,null,{"$f":"Données!$E1047348*#REF!","v":{"$error":"#REF!"}}]
[null,null,null,null,null,null,{"$f":"Données!$E1047349*#REF!","v":{"$error":"#REF!"}}]
[null,null,null,null,null,null,{"$f":"Données!$E1047350*#REF!","v":{"$error":"#REF!"}}]
[null,null,null,null,null,null,{"$f":"Données!$E1047351*#REF!","v":{"$error":"#REF!"}}]
[null,null,null,null,null,null,{"$f":"Données!$E1047352*#REF!","v":{"$error":"#REF!"}}]
[null,null,null,null,null,null,{"$f":"Données!$E1047353*#REF!","v":{"$error":"#REF!"}}]
[null,null,null,null,null,null,{"$f":"Données!$E1047354*#REF!","v":{"$error":"#REF!"}}]
[null,null,null,null,null,null,{"$f":"Données!$E1047355*#REF!","v":{"$error":"#REF!"}}]
[null,null,null,null,null,null,{"$f":"Données!$E1047356*#REF!","v":{"$error":"#REF!"}}]
[null,null,null,null,null,null,{"$f":"Données!$E1047357*#REF!","v":{"$error":"#REF!"}}]
[null,null,null,null,null,null,{"$f":"Données!$E1047358*#REF!","v":{"$error":"#REF!"}}]
[null,null,null,null,null,null,{"$f":"Données!$E1047359*#REF!","v":{"$error":"#REF!"}}]
[null,null,null,null,null,null,{"$f":"Données!$E1047360*#REF!","v":{"$error":"#REF!"}}]
[null,null,null,null,null,null,{"$f":"Données!$E1047361*#REF!","v":{"$error":"#REF!"}}]
[null,null,null,null,null,null,{"$f":"Données!$E1047362*#REF!","v":{"$error":"#REF!"}}]
[null,null,null,null,null,null,{"$f":"Données!$E1047363*#REF!","v":{"$error":"#REF!"}}]
[null,null,null,null,null,null,{"$f":"Données!$E1047364*#REF!","v":{"$error":"#REF!"}}]
[null,null,null,null,null,null,{"$f":"Données!$E1047365*#REF!","v":{"$error":"#REF!"}}]
[null,null,null,null,null,null,{"$f":"Données!$E1047366*#REF!","v":{"$error":"#REF!"}}]
[null,null,null,null,null,null,{"$f":"Données!$E1047367*#REF!","v":{"$error":"#REF!"}}]
[null,null,null,null,null,null,{"$f":"Données!$E1047368*#REF!","v":{"$error":"#REF!"}}]
[null,null,null,null,null,null,{"$f":"Données!$E1047369*#REF!","v":{"$error":"#REF!"}}]
[null,null,null,null,null,null,{"$f":"Données!$E1047370*#REF!","v":{"$error":"#REF!"}}]
[null,null,null,null,null,null,{"$f":"Données!$E1047371*#REF!","v":{"$error":"#REF!"}}]
[null,null,null,null,null,null,{"$f":"Données!$E1047372*#REF!","v":{"$error":"#REF!"}}]
[null,null,null,null,null,null,{"$f":"Données!$E1047373*#REF!","v":{"$error":"#REF!"}}]
[null,null,null,null,null,null,{"$f":"Données!$E1047374*#REF!","v":{"$error":"#REF!"}}]
[null,null,null,null,null,null,{"$f":"Données!$E1047375*#REF!","v":{"$error":"#REF!"}}]
[null,null,null,null,null,null,{"$f":"Données!$E1047376*#REF!","v":{"$error":"#REF!"}}]
[null,null,null,null,null,null,{"$f":"Données!$E1047377*#REF!","v":{"$error":"#REF!"}}]
[null,null,null,null,null,null,{"$f":"Données!$E1047378*#REF!","v":{"$error":"#REF!"}}]
[null,null,null,null,null,null,{"$f":"Données!$E1047379*#REF!","v":{"$error":"#REF!"}}]
[null,null,null,null,null,null,{"$f":"Données!$E1047380*#REF!","v":{"$error":"#REF!"}}]
[null,null,null,null,null,null,{"$f":"Données!$E1047381*#REF!","v":{"$error":"#REF!"}}]
[null,null,null,null,null,null,{"$f":"Données!$E1047382*#REF!","v":{"$error":"#REF!"}}]
[null,null,null,null,null,null,{"$f":"Données!$E1047383*#REF!","v":{"$error":"#REF!"}}]
[null,null,null,null,null,null,{"$f":"Données!$E1047384*#REF!","v":{"$error":"#REF!"}}]
[null,null,null,null,null,null,{"$f":"Données!$E1047385*#REF!","v":{"$error":"#REF!"}}]
[null,null,null,null,null,null,{"$f":"Données!$E1047386*#REF!","v":{"$error":"#REF!"}}]
[null,null,null,null,null,null,{"$f":"Données!$E1047387*#REF!","v":{"$error":"#REF!"}}]
[null,null,null,null,null,null,{"$f":"Données!$E1047388*#REF!","v":{"$error":"#REF!"}}]
[null,null,null,null,null,null,{"$f":"Données!$E1047389*#REF!","v":{"$error":"#REF!"}}]
[null,null,null,null,null,null,{"$f":"Données!$E1047390*#REF!","v":{"$error":"#REF!"}}]
[null,null,null,null,null,null,{"$f":"Données!$E1047391*#REF!","v":{"$error":"#REF!"}}]
[null,null,null,null,null,null,{"$f":"Données!$E1047392*#REF!","v":{"$error":"#REF!"}}]
[null,null,null,null,null,null,{"$f":"Données!$E1047393*#REF!","v":{"$error":"#REF!"}}]
[null,null,null,null,null,null,{"$f":"Données!$E1047394*#REF!","v":{"$error":"#REF!"}}]
[null,null,null,null,null,null,{"$f":"Données!$E1047395*#REF!","v":{"$error":"#REF!"}}]
[null,null,null,null,null,null,{"$f":"Données!$E1047396*#REF!","v":{"$error":"#REF!"}}]
[null,null,null,null,null,null,{"$f":"Données!$E1047397*#REF!","v":{"$error":"#REF!"}}]
[null,null,null,null,null,null,{"$f":"Données!$E1047398*#REF!","v":{"$error":"#REF!"}}]
[null,null,null,null,null,null,{"$f":"Données!$E1047399*#REF!","v":{"$error":"#REF!"}}]
[null,null,null,null,null,null,{"$f":"Données!$E1047400*#REF!","v":{"$error":"#REF!"}}]
[null,null,null,null,null,null,{"$f":"Données!$E1047401*#REF!","v":{"$error":"#REF!"}}]
[null,null,null,null,null,null,{"$f":"Données!$E1047402*#REF!","v":{"$error":"#REF!"}}]
[null,null,null,null,null,null,{"$f":"Données!$E1047403*#REF!","v":{"$error":"#REF!"}}]
[null,null,null,null,null,null,{"$f":"Données!$E1047404*#REF!","v":{"$error":"#REF!"}}]
[null,null,null,null,null,null,{"$f":"Données!$E1047405*#REF!","v":{"$error":"#REF!"}}]
[null,null,null,null,null,null,{"$f":"Données!$E1047406*#REF!","v":{"$error":"#REF!"}}]
[null,null,null,null,null,null,{"$f":"Données!$E1047407*#REF!","v":{"$error":"#REF!"}}]
[null,null,null,null,null,null,{"$f":"Données!$E1047408*#REF!","v":{"$error":"#REF!"}}]
[null,null,null,null,null,null,{"$f":"Données!$E1047409*#REF!","v":{"$error":"#REF!"}}]
[null,null,null,null,null,null,{"$f":"Données!$E1047410*#REF!","v":{"$error":"#REF!"}}]
[null,null,null,null,null,null,{"$f":"Données!$E1047411*#REF!","v":{"$error":"#REF!"}}]
[null,null,null,null,null,null,{"$f":"Données!$E1047412*#REF!","v":{"$error":"#REF!"}}]
[null,null,null,null,null,null,{"$f":"Données!$E1047413*#REF!","v":{"$error":"#REF!"}}]
[null,null,null,null,null,null,{"$f":"Données!$E1047414*#REF!","v":{"$error":"#REF!"}}]
[null,null,null,null,null,null,{"$f":"Données!$E1047415*#REF!","v":{"$error":"#REF!"}}]
[null,null,null,null,null,null,{"$f":"Données!$E1047416*#REF!","v":{"$error":"#REF!"}}]
[null,null,null,null,null,null,{"$f":"Données!$E1047417*#REF!","v":{"$error":"#REF!"}}]
[null,null,null,null,null,null,{"$f":"Données!$E1047418*#REF!","v":{"$error":"#REF!"}}]
[null,null,null,null,null,null,{"$f":"Données!$E1047419*#REF!","v":{"$error":"#REF!"}}]
[null,null,null,null,null,null,{"$f":"Données!$E1047420*#REF!","v":{"$error":"#REF!"}}]
[null,null,null,null,null,null,{"$f":"Données!$E1047421*#REF!","v":{"$error":"#REF!"}}]
[null,null,null,null,null,null,{"$f":"Données!$E1047422*#REF!","v":{"$error":"#REF!"}}]
[null,null,null,null,null,null,{"$f":"Données!$E1047423*#REF!","v":{"$error":"#REF!"}}]
[null,null,null,null,null,null,{"$f":"Données!$E1047424*#REF!","v":{"$error":"#REF!"}}]
[null,null,null,null,null,null,{"$f":"Données!$E1047425*#REF!","v":{"$error":"#REF!"}}]
[null,null,null,null,null,null,{"$f":"Données!$E1047426*#REF!","v":{"$error":"#REF!"}}]
[null,null,null,null,null,null,{"$f":"Données!$E1047427*#REF!","v":{"$error":"#REF!"}}]
[null,null,null,null,null,null,{"$f":"Données!$E1047428*#REF!","v":{"$error":"#REF!"}}]
[null,null,null,null,null,null,{"$f":"Données!$E1047429*#REF!","v":{"$error":"#REF!"}}]
[null,null,null,null,null,null,{"$f":"Données!$E1047430*#REF!","v":{"$error":"#REF!"}}]
[null,null,null,null,null,null,{"$f":"Données!$E1047431*#REF!","v":{"$error":"#REF!"}}]
[null,null,null,null,null,null,{"$f":"Données!$E1047432*#REF!","v":{"$error":"#REF!"}}]
[null,null,null,null,null,null,{"$f":"Données!$E1047433*#REF!","v":{"$error":"#REF!"}}]
[null,null,null,null,null,null,{"$f":"Données!$E1047434*#REF!","v":{"$error":"#REF!"}}]
[null,null,null,null,null,null,{"$f":"Données!$E1047435*#REF!","v":{"$error":"#REF!"}}]
[null,null,null,null,null,null,{"$f":"Données!$E1047436*#REF!","v":{"$error":"#REF!"}}]
[null,null,null,null,null,null,{"$f":"Données!$E1047437*#REF!","v":{"$error":"#REF!"}}]
[null,null,null,null,null,null,{"$f":"Données!$E1047438*#REF!","v":{"$error":"#REF!"}}]
[null,null,null,null,null,null,{"$f":"Données!$E1047439*#REF!","v":{"$error":"#REF!"}}]
[null,null,null,null,null,null,{"$f":"Données!$E1047440*#REF!","v":{"$error":"#REF!"}}]
[null,null,null,null,null,null,{"$f":"Données!$E1047441*#REF!","v":{"$error":"#REF!"}}]
[null,null,null,null,null,null,{"$f":"Données!$E1047442*#REF!","v":{"$error":"#REF!"}}]
[null,null,null,null,null,null,{"$f":"Données!$E1047443*#REF!","v":{"$error":"#REF!"}}]
[null,null,null,null,null,null,{"$f":"Données!$E1047444*#REF!","v":{"$error":"#REF!"}}]
[null,null,null,null,null,null,{"$f":"Données!$E1047445*#REF!","v":{"$error":"#REF!"}}]
[null,null,null,null,null,null,{"$f":"Données!$E1047446*#REF!","v":{"$error":"#REF!"}}]
[null,null,null,null,null,null,{"$f":"Données!$E1047447*#REF!","v":{"$error":"#REF!"}}]
[null,null,null,null,null,null,{"$f":"Données!$E1047448*#REF!","v":{"$error":"#REF!"}}]
[null,null,null,null,null,null,{"$f":"Données!$E1047449*#REF!","v":{"$error":"#REF!"}}]
[null,null,null,null,null,null,{"$f":"Données!$E1047450*#REF!","v":{"$error":"#REF!"}}]
[null,null,null,null,null,null,{"$f":"Données!$E1047451*#REF!","v":{"$error":"#REF!"}}]
[null,null,null,null,null,null,{"$f":"Données!$E1047452*#REF!","v":{"$error":"#REF!"}}]
[null,null,null,null,null,null,{"$f":"Données!$E1047453*#REF!","v":{"$error":"#REF!"}}]
[null,null,null,null,null,null,{"$f":"Données!$E1047454*#REF!","v":{"$error":"#REF!"}}]
[null,null,null,null,null,null,{"$f":"Données!$E1047455*#REF!","v":{"$error":"#REF!"}}]
[null,null,null,null,null,null,{"$f":"Données!$E1047456*#REF!","v":{"$error":"#REF!"}}]
[null,null,null,null,null,null,{"$f":"Données!$E1047457*#REF!","v":{"$error":"#REF!"}}]
[null,null,null,null,null,null,{"$f":"Données!$E1047458*#REF!","v":{"$error":"#REF!"}}]
[null,null,null,null,null,null,{"$f":"Données!$E1047459*#REF!","v":{"$error":"#REF!"}}]
[null,null,null,null,null,null,{"$f":"Données!$E1047460*#REF!","v":{"$error":"#REF!"}}]
[null,null,null,null,null,null,{"$f":"Données!$E1047461*#REF!","v":{"$error":"#REF!"}}]
[null,null,null,null,null,null,{"$f":"Données!$E1047462*#REF!","v":{"$error":"#REF!"}}]
[null,null,null,null,null,null,{"$f":"Données!$E1047463*#REF!","v":{"$error":"#REF!"}}]
[null,null,null,null,null,null,{"$f":"Données!$E1047464*#REF!","v":{"$error":"#REF!"}}]
[null,null,null,null,null,null,{"$f":"Données!$E1047465*#REF!","v":{"$error":"#REF!"}}]
[null,null,null,null,null,null,{"$f":"Données!$E1047466*#REF!","v":{"$error":"#REF!"}}]
[null,null,null,null,null,null,{"$f":"Données!$E1047467*#REF!","v":{"$error":"#REF!"}}]
[null,null,null,null,null,null,{"$f":"Données!$E1047468*#REF!","v":{"$error":"#REF!"}}]
[null,null,null,null,null,null,{"$f":"Données!$E1047469*#REF!","v":{"$error":"#REF!"}}]
[null,null,null,null,null,null,{"$f":"Données!$E1047470*#REF!","v":{"$error":"#REF!"}}]
[null,null,null,null,null,null,{"$f":"Données!$E1047471*#REF!","v":{"$error":"#REF!"}}]
[null,null,null,null,null,null,{"$f":"Données!$E1047472*#REF!","v":{"$error":"#REF!"}}]
[null,null,null,null,null,null,{"$f":"Données!$E1047473*#REF!","v":{"$error":"#REF!"}}]
[null,null,null,null,null,null,{"$f":"Données!$E1047474*#REF!","v":{"$error":"#REF!"}}]
[null,null,null,null,null,null,{"$f":"Données!$E1047475*#REF!","v":{"$error":"#REF!"}}]
[null,null,null,null,null,null,{"$f":"Données!$E1047476*#REF!","v":{"$error":"#REF!"}}]
[null,null,null,null,null,null,{"$f":"Données!$E1047477*#REF!","v":{"$error":"#REF!"}}]
[null,null,null,null,null,null,{"$f":"Données!$E1047478*#REF!","v":{"$error":"#REF!"}}]
[null,null,null,null,null,null,{"$f":"Données!$E1047479*#REF!","v":{"$error":"#REF!"}}]
[null,null,null,null,null,null,{"$f":"Données!$E1047480*#REF!","v":{"$error":"#REF!"}}]
[null,null,null,null,null,null,{"$f":"Données!$E1047481*#REF!","v":{"$error":"#REF!"}}]
[null,null,null,null,null,null,{"$f":"Données!$E1047482*#REF!","v":{"$error":"#REF!"}}]
[null,null,null,null,null,null,{"$f":"Données!$E1047483*#REF!","v":{"$error":"#REF!"}}]
[null,null,null,null,null,null,{"$f":"Données!$E1047484*#REF!","v":{"$error":"#REF!"}}]
[null,null,null,null,null,null,{"$f":"Données!$E1047485*#REF!","v":{"$error":"#REF!"}}]
[null,null,null,null,null,null,{"$f":"Données!$E1047486*#REF!","v":{"$error":"#REF!"}}]
[null,null,null,null,null,null,{"$f":"Données!$E1047487*#REF!","v":{"$error":"#REF!"}}]
[null,null,null,null,null,null,{"$f":"Données!$E1047488*#REF!","v":{"$error":"#REF!"}}]
[null,null,null,null,null,null,{"$f":"Données!$E1047489*#REF!","v":{"$error":"#REF!"}}]
[null,null,null,null,null,null,{"$f":"Données!$E1047490*#REF!","v":{"$error":"#REF!"}}]
[null,null,null,null,null,null,{"$f":"Données!$E1047491*#REF!","v":{"$error":"#REF!"}}]
[null,null,null,null,null,null,{"$f":"Données!$E1047492*#REF!","v":{"$error":"#REF!"}}]
[null,null,null,null,null,null,{"$f":"Données!$E1047493*#REF!","v":{"$error":"#REF!"}}]
[null,null,null,null,null,null,{"$f":"Données!$E1047494*#REF!","v":{"$error":"#REF!"}}]
[null,null,null,null,null,null,{"$f":"Données!$E1047495*#REF!","v":{"$error":"#REF!"}}]
[null,null,null,null,null,null,{"$f":"Données!$E1047496*#REF!","v":{"$error":"#REF!"}}]
[null,null,null,null,null,null,{"$f":"Données!$E1047497*#REF!","v":{"$error":"#REF!"}}]
[null,null,null,null,null,null,{"$f":"Données!$E1047498*#REF!","v":{"$error":"#REF!"}}]
[null,null,null,null,null,null,{"$f":"Données!$E1047499*#REF!","v":{"$error":"#REF!"}}]
[null,null,null,null,null,null,{"$f":"Données!$E1047500*#REF!","v":{"$error":"#REF!"}}]
[null,null,null,null,null,null,{"$f":"Données!$E1047501*#REF!","v":{"$error":"#REF!"}}]
[null,null,null,null,null,null,{"$f":"Données!$E1047502*#REF!","v":{"$error":"#REF!"}}]
[null,null,null,null,null,null,{"$f":"Données!$E1047503*#REF!","v":{"$error":"#REF!"}}]
[null,null,null,null,null,null,{"$f":"Données!$E1047504*#REF!","v":{"$error":"#REF!"}}]
[null,null,null,null,null,null,{"$f":"Données!$E1047505*#REF!","v":{"$error":"#REF!"}}]
[null,null,null,null,null,null,{"$f":"Données!$E1047506*#REF!","v":{"$error":"#REF!"}}]
[null,null,null,null,null,null,{"$f":"Données!$E1047507*#REF!","v":{"$error":"#REF!"}}]
[null,null,null,null,null,null,{"$f":"Données!$E1047508*#REF!","v":{"$error":"#REF!"}}]
[null,null,null,null,null,null,{"$f":"Données!$E1047509*#REF!","v":{"$error":"#REF!"}}]
[null,null,null,null,null,null,{"$f":"Données!$E1047510*#REF!","v":{"$error":"#REF!"}}]
[null,null,null,null,null,null,{"$f":"Données!$E1047511*#REF!","v":{"$error":"#REF!"}}]
[null,null,null,null,null,null,{"$f":"Données!$E1047512*#REF!","v":{"$error":"#REF!"}}]
[null,null,null,null,null,null,{"$f":"Données!$E1047513*#REF!","v":{"$error":"#REF!"}}]
[null,null,null,null,null,null,{"$f":"Données!$E1047514*#REF!","v":{"$error":"#REF!"}}]
[null,null,null,null,null,null,{"$f":"Données!$E1047515*#REF!","v":{"$error":"#REF!"}}]
[null,null,null,null,null,null,{"$f":"Données!$E1047516*#REF!","v":{"$error":"#REF!"}}]
[null,null,null,null,null,null,{"$f":"Données!$E1047517*#REF!","v":{"$error":"#REF!"}}]
[null,null,null,null,null,null,{"$f":"Données!$E1047518*#REF!","v":{"$error":"#REF!"}}]
[null,null,null,null,null,null,{"$f":"Données!$E1047519*#REF!","v":{"$error":"#REF!"}}]
[null,null,null,null,null,null,{"$f":"Données!$E1047520*#REF!","v":{"$error":"#REF!"}}]
[null,null,null,null,null,null,{"$f":"Données!$E1047521*#REF!","v":{"$error":"#REF!"}}]
[null,null,null,null,null,null,{"$f":"Données!$E1047522*#REF!","v":{"$error":"#REF!"}}]
[null,null,null,null,null,null,{"$f":"Données!$E1047523*#REF!","v":{"$error":"#REF!"}}]
[null,null,null,null,null,null,{"$f":"Données!$E1047524*#REF!","v":{"$error":"#REF!"}}]
[null,null,null,null,null,null,{"$f":"Données!$E1047525*#REF!","v":{"$error":"#REF!"}}]
[null,null,null,null,null,null,{"$f":"Données!$E1047526*#REF!","v":{"$error":"#REF!"}}]
[null,null,null,null,null,null,{"$f":"Données!$E1047527*#REF!","v":{"$error":"#REF!"}}]
[null,null,null,null,null,null,{"$f":"Données!$E1047528*#REF!","v":{"$error":"#REF!"}}]
[null,null,null,null,null,null,{"$f":"Données!$E1047529*#REF!","v":{"$error":"#REF!"}}]
[null,null,null,null,null,null,{"$f":"Données!$E1047530*#REF!","v":{"$error":"#REF!"}}]
[null,null,null,null,null,null,{"$f":"Données!$E1047531*#REF!","v":{"$error":"#REF!"}}]
[null,null,null,null,null,null,{"$f":"Données!$E1047532*#REF!","v":{"$error":"#REF!"}}]
[null,null,null,null,null,null,{"$f":"Données!$E1047533*#REF!","v":{"$error":"#REF!"}}]
[null,null,null,null,null,null,{"$f":"Données!$E1047534*#REF!","v":{"$error":"#REF!"}}]
[null,null,null,null,null,null,{"$f":"Données!$E1047535*#REF!","v":{"$error":"#REF!"}}]
[null,null,null,null,null,null,{"$f":"Données!$E1047536*#REF!","v":{"$error":"#REF!"}}]
[null,null,null,null,null,null,{"$f":"Données!$E1047537*#REF!","v":{"$error":"#REF!"}}]
[null,null,null,null,null,null,{"$f":"Données!$E1047538*#REF!","v":{"$error":"#REF!"}}]
[null,null,null,null,null,null,{"$f":"Données!$E1047539*#REF!","v":{"$error":"#REF!"}}]
[null,null,null,null,null,null,{"$f":"Données!$E1047540*#REF!","v":{"$error":"#REF!"}}]
[null,null,null,null,null,null,{"$f":"Données!$E1047541*#REF!","v":{"$error":"#REF!"}}]
[null,null,null,null,null,null,{"$f":"Données!$E1047542*#REF!","v":{"$error":"#REF!"}}]
[null,null,null,null,null,null,{"$f":"Données!$E1047543*#REF!","v":{"$error":"#REF!"}}]
[null,null,null,null,null,null,{"$f":"Données!$E1047544*#REF!","v":{"$error":"#REF!"}}]
[null,null,null,null,null,null,{"$f":"Données!$E1047545*#REF!","v":{"$error":"#REF!"}}]
[null,null,null,null,null,null,{"$f":"Données!$E1047546*#REF!","v":{"$error":"#REF!"}}]
[null,null,null,null,null,null,{"$f":"Données!$E1047547*#REF!","v":{"$error":"#REF!"}}]
[null,null,null,null,null,null,{"$f":"Données!$E1047548*#REF!","v":{"$error":"#REF!"}}]
[null,null,null,null,null,null,{"$f":"Données!$E1047549*#REF!","v":{"$error":"#REF!"}}]
[null,null,null,null,null,null,{"$f":"Données!$E1047550*#REF!","v":{"$error":"#REF!"}}]

{"sheet":"listes","index":6,"n_rows":607,"n_cols":12,"rows_kept":607,"cut":false,"hidden":true,"merged":[]}
[]
[null,"type","PEB avant","PEB après","CP","finition avant","finition après","VecteursEnergétiques","Prix énergie","Column1","PV","Column2"]
[null,"Maison","[Choisir une valeur]","[Choisir une valeur]","[Choisir une valeur]","[Choisir une valeur]","[Choisir une valeur]","Aucun",{"$f":"CalculFinancier!E36","v":0.107},"pas d'application","[Choisir une valeur]","[Choisir une valeur]"]
[null,"Appartement","G","A",1300,"1- premium","1- premium","Mazout",{"$f":"I3","v":0.107},"litres/an","panneaux","Oui"]
[null,null,"F","B",1301,"2 - rénové","2 - rénové","Gaz",{"$f":"CalculFinancier!E37","v":0.39300000000000002},"kWh/an","kWc","Non"]
[null,null,"E","C",1310,"3 - correctes","3 - correctes","Electricité",{"$f":"CalculFinancier!E38","v":4.4999999999999998E-2},"kWh/an"]
[null,null,"D","D",1315,"4 - à rafraîchir","4 - à rafraîchir","Bois (pellets)",0.1,"kg/an"]
[null,null,"C","E",1320,"5 - à rénover","5 - à rénover","Bois (buches)",null,"stères/an"]
[null,null,"B","F",1325]
[null,null,"A","G",1330]
[null,null,null,null,1331]
[null,null,null,null,1332]
[null,null,null,null,1340]
[null,null,null,null,1341]
[null,null,null,null,1342]
[null,null,null,null,1348]
[null,null,null,null,1350]
[null,null,null,null,1357]
[null,null,null,null,1360]
[null,null,null,null,1367]
[null,null,null,null,1370]
[null,null,null,null,1380]
[null,null,null,null,1390]
[null,null,null,null,1400]
[null,null,null,null,1401]
[null,null,null,null,1402]
[null,null,null,null,1404]
[null,null,null,null,1410]
[null,null,null,null,1420]
[null,null,null,null,1421]
[null,null,null,null,1428]
[null,null,null,null,1430]
[null,null,null,null,1435]
[null,null,null,null,1440]
[null,null,null,null,1450]
[null,null,null,null,1457]
[null,null,null,null,1460]
[null,null,null,null,1461]
[null,null,null,null,1470]
[null,null,null,null,1471]
[null,null,null,null,1472]
[null,null,null,null,1473]
[null,null,null,null,1474]
[null,null,null,null,1476]
[null,null,null,null,1480]
[null,null,null,null,1490]
[null,null,null,null,1495]
[null,null,null,null,4000]
[null,null,null,null,4020]
[null,null,null,null,4030]
[null,null,null,null,4031]
[null,null,null,null,4032]
[null,null,null,null,4040]
[null,null,null,null,4041]
[null,null,null,null,4042]
[null,null,null,null,4050]
[null,null,null,null,4051]
[null,null,null,null,4052]
[null,null,null,null,4053]
[null,null,null,null,4100]
[null,null,null,null,4101]
[null,null,null,null,4102]
[null,null,null,null,4120]
[null,null,null,null,4121]
[null,null,null,null,4122]
[null,null,null,null,4130]
[null,null,null,null,4140]
[null,null,null,null,4141]
[null,null,null,null,4160]
[null,null,null,null,4161]
[null,null,null,null,4162]
[null,null,null,null,4163]
[null,null,null,null,4170]
[null,null,null,null,4171]
[null,null,null,null,4180]
[null,null,null,null,4181]
[null,null,null,null,4190]
[null,null,null,null,4210]
[null,null,null,null,4217]
[null,null,null,null,4218]
[null,null,null,null,4219]
[null,null,null,null,4250]
[null,null,null,null,4252]
[null,null,null,null,4253]
[null,null,null,null,4254]
[null,null,null,null,4257]
[null,null,null,null,4260]
[null,null,null,null,4261]
[null,null,null,null,4263]
[null,null,null,null,4280]
[null,null,null,null,4287]
[null,null,null,null,4300]
[null,null,null,null,4317]
[null,null,null,null,4340]
[null,null,null,null,4342]
[null,null,null,null,4347]
[null,null,null,null,4350]
[null,null,null,null,4351]
[null,null,null,null,4357]
[null,null,null,null,4360]
[null,null,null,null,4367]
[null,null,null,null,4400]
[null,null,null,null,4420]
[null,null,null,null,4430]
[null,null,null,null,4431]
[null,null,null,null,4432]
[null,null,null,null,4450]
[null,null,null,null,4451]
[null,null,null,null,4452]
[null,null,null,null,4453]
[null,null,null,null,4458]
[null,null,null,null,4460]
[null,null,null,null,4470]
[null,null,null,null,4480]
[null,null,null,null,4500]
[null,null,null,null,4520]
[null,null,null,null,4530]
[null,null,null,null,4537]
[null,null,null,null,4540]
[null,null,null,null,4550]
[null,null,null,null,4557]
[null,null,null,null,4560]
[null,null,null,null,4570]
[null,null,null,null,4577]
[null,null,null,null,4590]
[null,null,null,null,4600]
[null,null,null,null,4601]
[null,null,null,null,4602]
[null,null,null,null,4606]
[null,null,null,null,4607]
[null,null,null,null,4608]
[null,null,null,null,4610]
[null,null,null,null,4620]
[null,null,null,null,4621]
[null,null,null,null,4623]
[null,null,null,null,4624]
[null,null,null,null,4630]
[null,null,null,null,4631]
[null,null,null,null,4632]
[null,null,null,null,4633]
[null,null,null,null,4650]
[null,null,null,null,4651]
[null,null,null,null,4652]
[null,null,null,null,4653]
[null,null,null,null,4654]
[null,null,null,null,4670]
[null,null,null,null,4671]
[null,null,null,null,4672]
[null,null,null,null,4680]
[null,null,null,null,4681]
[null,null,null,null,4682]
[null,null,null,null,4683]
[null,null,null,null,4684]
[null,null,null,null,4690]
[null,null,null,null,4700]
[null,null,null,null,4701]
[null,null,null,null,4710]
[null,null,null,null,4711]
[null,null,null,null,4720]
[null,null,null,null,4721]
[null,null,null,null,4728]
[null,null,null,null,4730]
[null,null,null,null,4731]
[null,null,null,null,4750]
[null,null,null,null,4760]
[null,null,null,null,4761]
[null,null,null,null,4770]
[null,null,null,null,4771]
[null,null,null,null,4780]
[null,null,null,null,4782]
[null,null,null,null,4783]
[null,null,null,null,4784]
[null,null,null,null,4790]
[null,null,null,null,4791]
[null,null,null,null,4800]
[null,null,null,null,4801]
[null,null,null,null,4802]
[null,null,null,null,4820]
[null,null,null,null,4821]
[null,null,null,null,4830]
[null,null,null,null,4831]
[null,null,null,null,4834]
[null,null,null,null,4837]
[null,null,null,null,4840]
[null,null,null,null,4841]
[null,null,null,null,4845]
[null,null,null,null,4850]
[null,null,null,null,4851]
[null,null,null,null,4852]
[null,null,null,null,4860]
[null,null,null,null,4861]
[null,null,null,null,4870]
[null,null,null,null,4877]
[null,null,null,null,4880]
[null,null,null,null,4890]
[null,null,null,null,4900]
[null,null,null,null,4910]
[null,null,null,null,4920]
[null,null,null,null,4950]
[null,null,null,null,4960]
[null,null,null,null,4970]
[null,null,null,null,4980]
[null,null,null,null,4983]
[null,null,null,null,4987]
[null,null,null,null,4990]
[null,null,null,null,5000]
[null,null,null,null,5001]
[null,null,null,null,5002]
[null,null,null,null,5003]
[null,null,null,null,5004]
[null,null,null,null,5020]
[null,null,null,null,5021]
[null,null,null,null,5022]
[null,null,null,null,5024]
[null,null,null,null,5030]
[null,null,null,null,5031]
[null,null,null,null,5032]
[null,null,null,null,5060]
[null,null,null,null,5070]
[null,null,null,null,5080]
[null,null,null,null,5081]
[null,null,null,null,5100]
[null,null,null,null,5101]
[null,null,null,null,5140]
[null,null,null,null,5150]
[null,null,null,null,5170]
[null,null,null,null,5190]
[null,null,null,null,5300]
[null,null,null,null,5310]
[null,null,null,null,5330]
[null,null,null,null,5332]
[null,null,null,null,5333]
[null,null,null,null,5334]
[null,null,null,null,5336]
[null,null,null,null,5340]
[null,null,null,null,5350]
[null,null,null,null,5351]
[null,null,null,null,5353]
[null,null,null,null,5354]
[null,null,null,null,5360]
[null,null,null,null,5361]
[null,null,null,null,5362]
[null,null,null,null,5363]
[null,null,null,null,5364]
[null,null,null,null,5370]
[null,null,null,null,5372]
[null,null,null,null,5374]
[null,null,null,null,5376]
[null,null,null,null,5377]
[null,null,null,null,5380]
[null,null,null,null,5500]
[null,null,null,null,5501]
[null,null,null,null,5502]
[null,null,null,null,5503]
[null,null,null,null,5504]
[null,null,null,null,5520]
[null,null,null,null,5521]
[null,null,null,null,5522]
[null,null,null,null,5523]
[null,null,null,null,5524]
[null,null,null,null,5530]
[null,null,null,null,5537]
[null,null,null,null,5540]
[null,null,null,null,5541]
[null,null,null,null,5542]
[null,null,null,null,5543]
[null,null,null,null,5544]
[null,null,null,null,5550]
[null,null,null,null,5555]
[null,null,null,null,5560]
[null,null,null,null,5561]
[null,null,null,null,5562]
[null,null,null,null,5563]
[null,null,null,null,5564]
[null,null,null,null,5570]
[null,null,null,null,5571]
[null,null,null,null,5572]
[null,null,null,null,5573]
[null,null,null,null,5574]
[null,null,null,null,5575]
[null,null,null,null,5576]
[null,null,null,null,5580]
[null,null,null,null,5590]
[null,null,null,null,5600]
[null,null,null,null,5620]
[null,null,null,null,5621]
[null,null,null,null,5630]
[null,null,null,null,5640]
[null,null,null,null,5641]
[null,null,null,null,5644]
[null,null,null,null,5646]
[null,null,null,null,5650]
[null,null,null,null,5651]
[null,null,null,null,5660]
[null,null,null,null,5670]
[null,null,null,null,5680]
[null,null,null,null,6000]
[null,null,null,null,6001]
[null,null,null,null,6010]
[null,null,null,null,6020]
[null,null,null,null,6030]
[null,null,null,null,6031]
[null,null,null,null,6032]
[null,null,null,null,6040]
[null,null,null,null,6041]
[null,null,null,null,6042]
[null,null,null,null,6043]
[null,null,null,null,6044]
[null,null,null,null,6060]
[null,null,null,null,6061]
[null,null,null,null,6110]
[null,null,null,null,6111]
[null,null,null,null,6120]
[null,null,null,null,6140]
[null,null,null,null,6141]
[null,null,null,null,6142]
[null,null,null,null,6150]
[null,null,null,null,6180]
[null,null,null,null,6181]
[null,null,null,null,6182]
[null,null,null,null,6183]
[null,null,null,null,6200]
[null,null,null,null,6210]
[null,null,null,null,6211]
[null,null,null,null,6220]
[null,null,null,null,6221]
[null,null,null,null,6222]
[null,null,null,null,6223]
[null,null,null,null,6224]
[null,null,null,null,6230]
[null,null,null,null,6238]
[null,null,null,null,6240]
[null,null,null,null,6250]
[null,null,null,null,6280]
[null,null,null,null,6440]
[null,null,null,null,6441]
[null,null,null,null,6460]
[null,null,null,null,6461]
[null,null,null,null,6462]
[null,null,null,null,6463]
[null,null,null,null,6464]
[null,null,null,null,6470]
[null,null,null,null,6500]
[null,null,null,null,6511]
[null,null,null,null,6530]
[null,null,null,null,6531]
[null,null,null,null,6532]
[null,null,null,null,6533]
[null,null,null,null,6534]
[null,null,null,null,6536]
[null,null,null,null,6540]
[null,null,null,null,6542]
[null,null,null,null,6543]
[null,null,null,null,6560]
[null,null,null,null,6567]
[null,null,null,null,6590]
[null,null,null,null,6591]
[null,null,null,null,6592]
[null,null,null,null,6593]
[null,null,null,null,6594]
[null,null,null,null,6596]
[null,null,null,null,6600]
[null,null,null,null,6630]
[null,null,null,null,6637]
[null,null,null,null,6640]
[null,null,null,null,6642]
[null,null,null,null,6660]
[null,null,null,null,6661]
[null,null,null,null,6662]
[null,null,null,null,6663]
[null,null,null,null,6666]
[null,null,null,null,6670]
[null,null,null,null,6671]
[null,null,null,null,6672]
[null,null,null,null,6673]
[null,null,null,null,6674]
[null,null,null,null,6680]
[null,null,null,null,6681]
[null,null,null,null,6686]
[null,null,null,null,6687]
[null,null,null,null,6688]
[null,null,null,null,6690]
[null,null,null,null,6692]
[null,null,null,null,6698]
[null,null,null,null,6700]
[null,null,null,null,6704]
[null,null,null,null,6706]
[null,null,null,null,6717]
[null,null,null,null,6720]
[null,null,null,null,6721]
[null,null,null,null,6723]
[null,null,null,null,6724]
[null,null,null,null,6730]
[null,null,null,null,6740]
[null,null,null,null,6741]
[null,null,null,null,6742]
[null,null,null,null,6743]
[null,null,null,null,6747]
[null,null,null,null,6750]
[null,null,null,null,6760]
[null,null,null,null,6761]
[null,null,null,null,6762]
[null,null,null,null,6767]
[null,null,null,null,6769]
[null,null,null,null,6780]
[null,null,null,null,6781]
[null,null,null,null,6782]
[null,null,null,null,6790]
[null,null,null,null,6791]
[null,null,null,null,6792]
[null,null,null,null,6800]
[null,null,null,null,6810]
[null,null,null,null,6811]
[null,null,null,null,6812]
[null,null,null,null,6813]
[null,null,null,null,6820]
[null,null,null,null,6821]
[null,null,null,null,6823]
[null,null,null,null,6824]
[null,null,null,null,6830]
[null,null,null,null,6831]
[null,null,null,null,6832]
[null,null,null,null,6833]
[null,null,null,null,6834]
[null,null,null,null,6836]
[null,null,null,null,6838]
[null,null,null,null,6840]
[null,null,null,null,6850]
[null,null,null,null,6851]
[null,null,null,null,6852]
[null,null,null,null,6853]
[null,null,null,null,6856]
[null,null,null,null,6860]
[null,null,null,null,6870]
[null,null,null,null,6880]
[null,null,null,null,6887]
[null,null,null,null,6890]
[null,null,null,null,6900]
[null,null,null,null,6920]
[null,null,null,null,6921]
[null,null,null,null,6922]
[null,null,null,null,6924]
[null,null,null,null,6927]
[null,null,null,null,6929]
[null,null,null,null,6940]
[null,null,null,null,6941]
[null,null,null,null,6950]
[null,null,null,null,6951]
[null,null,null,null,6952]
[null,null,null,null,6953]
[null,null,null,null,6960]
[null,null,null,null,6970]
[null,null,null,null,6971]
[null,null,null,null,6972]
[null,null,null,null,6980]
[null,null,null,null,6982]
[null,null,null,null,6983]
[null,null,null,null,6984]
[null,null,null,null,6986]
[null,null,null,null,6987]
[null,null,null,null,6990]
[null,null,null,null,6997]
[null,null,null,null,7000]
[null,null,null,null,7011]
[null,null,null,null,7012]
[null,null,null,null,7020]
[null,null,null,null,7021]
[null,null,null,null,7022]
[null,null,null,null,7024]
[null,null,null,null,7030]
[null,null,null,null,7031]
[null,null,null,null,7032]
[null,null,null,null,7033]
[null,null,null,null,7034]
[null,null,null,null,7040]
[null,null,null,null,7041]
[null,null,null,null,7050]
[null,null,null,null,7060]
[null,null,null,null,7061]
[null,null,null,null,7062]
[null,null,null,null,7063]
[null,null,null,null,7070]
[null,null,null,null,7080]
[null,null,null,null,7090]
[null,null,null,null,7100]
[null,null,null,null,7110]
[null,null,null,null,7120]
[null,null,null,null,7130]
[null,null,null,null,7131]
[null,null,null,null,7133]
[null,null,null,null,7134]
[null,null,null,null,7140]
[null,null,null,null,7141]
[null,null,null,null,7160]
[null,null,null,null,7170]
[null,null,null,null,7180]
[null,null,null,null,7181]
[null,null,null,null,7190]
[null,null,null,null,7191]
[null,null,null,null,7300]
[null,null,null,null,7301]
[null,null,null,null,7320]
[null,null,null,null,7321]
[null,null,null,null,7322]
[null,null,null,null,7330]
[null,null,null,null,7331]
[null,null,null,null,7332]
[null,null,null,null,7333]
[null,null,null,null,7334]
[null,null,null,null,7340]
[null,null,null,null,7350]
[null,null,null,null,7370]
[null,null,null,null,7380]
[null,null,null,null,7382]
[null,null,null,null,7387]
[null,null,null,null,7390]
[null,null,null,null,7500]
[null,null,null,null,7501]
[null,null,null,null,7502]
[null,null,null,null,7503]
[null,null,null,null,7504]
[null,null,null,null,7506]
[null,null,null,null,7520]
[null,null,null,null,7521]
[null,null,null,null,7522]
[null,null,null,null,7530]
[null,null,null,null,7531]
[null,null,null,null,7532]
[null,null,null,null,7533]
[null,null,null,null,7534]
[null,null,null,null,7536]
[null,null,null,null,7538]
[null,null,null,null,7540]
[null,null,null,null,7542]
[null,null,null,null,7543]
[null,null,null,null,7548]
[null,null,null,null,7600]
[null,null,null,null,7601]
[null,null,null,null,7602]
[null,null,null,null,7603]
[null,null,null,null,7604]
[null,null,null,null,7608]
[null,null,null,null,7610]
[null,null,null,null,7611]
[null,null,null,null,7618]
[null,null,null,null,7620]
[null,null,null,null,7621]
[null,null,null,null,7622]
[null,null,null,null,7623]
[null,null,null,null,7624]
[null,null,null,null,7640]
[null,null,null,null,7641]
[null,null,null,null,7642]
[null,null,null,null,7643]
[null,null,null,null,7700]
[null,null,null,null,7711]
[null,null,null,null,7712]
[null,null,null,null,7730]
[null,null,null,null,7740]
[null,null,null,null,7742]
[null,null,null,null,7743]
[null,null,null,null,7750]
[null,null,null,null,7760]
[null,null,null,null,7780]
[null,null,null,null,7781]
[null,null,null,null,7782]
[null,null,null,null,7783]
[null,null,null,null,7784]
[null,null,null,null,7800]
[null,null,null,null,7801]
[null,null,null,null,7802]
[null,null,null,null,7803]
[null,null,null,null,7804]
[null,null,null,null,7810]
[null,null,null,null,7811]
[null,null,null,null,7812]
[null,null,null,null,7822]
[null,null,null,null,7823]
[null,null,null,null,7830]
[null,null,null,null,7850]
[null,null,null,null,7860]
[null,null,null,null,7861]
[null,null,null,null,7862]
[null,null,null,null,7863]
[null,null,null,null,7864]
[null,null,null,null,7866]
[null,null,null,null,7870]
[null,null,null,null,7880]
[null,null,null,null,7890]
[null,null,null,null,7900]
[null,null,null,null,7901]
[null,null,null,null,7903]
[null,null,null,null,7904]
[null,null,null,null,7906]
[null,null,null,null,7910]
[null,null,null,null,7911]
[null,null,null,null,7912]
[null,null,null,null,7940]
[null,null,null,null,7941]
[null,null,null,null,7942]
[null,null,null,null,7943]
[null,null,null,null,7950]
[null,null,null,null,7951]
[null,null,null,null,7970]
[null,null,null,null,7971]
[null,null,null,null,7972]
[null,null,null,null,7973,null,null,null,{"$f":"CalculFinancier!E640","v":0}]

{"sheet":"1.t.de.fi","index":7,"n_rows":254,"n_cols":25,"rows_kept":254,"cut":false,"hidden":true,"merged":[[194,2,205,2],[194,14,205,14],[242,2,253,2],[242,14,253,14],[206,2,217,2],[206,14,217,14],[218,2,229,2],[218,14,229,14],[230,2,241,2],[230,14,241,14],[158,2,169,2],[158,14,169,14],[170,2,181,2],[170,14,181,14],[182,2,193,2],[182,14,193,14],[122,2,133,2],[122,14,133,14],[134,2,145,2],[134,14,145,14],[146,2,157,2],[146,14,157,14],[86,2,97,2],[86,14,97,14],[98,2,109,2],[98,14,109,14],[110,2,121,2],[110,14,121,14],[50,2,61,2],[50,14,61,14],[62,2,73,2],[62,14,73,14],[74,2,85,2],[74,14,85,14],[12,14,13,14],[12,15,13,15],[12,16,13,16],[12,17,13,17],[12,18,13,18],[26,2,37,2],[26,14,37,14],[38,2,49,2],[38,14,49,14],[14,2,25,2],[14,14,25,14],[0,15,0,26],[12,2,13,2],[12,3,13,3],[12,4,13,4],[12,5,13,5],[12,6,13,6],[12,7,13,7],[12,9,13,9],[12,10,13,10],[12,11,13,11],[12,19,13,19],[12,21,13,21],[12,22,13,22],[12,23,13,23],[12,24,13,24],[12,12,13,12]]}
[null,null,null,null,null,null,null,null,null,null,null,null,null,null,null,"Tableaux de financement"]
[null,null,null,null,null,null,null,null,null,null,null,null,null,null,null,null,"calculé via macro "]
[null,null,null,null,null,null,null,null,null,null,null,null,null,null,null,null,"calcul dans la feuille"]
[null,null,null,null,null,null,null,null,null,null,null,null,null,null,null,null,"Eléments liés à une autre feuille"]
[]
[null,null,null,null,null,null,null,null,null,null,null,null,null,null,null,"Taux d'emprunt ",{"$f":"CalculFinancier!$E$43","v":0.04}]
[null,null,null,null,null,null,null,null,null,null,null,null,null,null,null,"Durée de l'emprunt",{"$f":"Données!$AC$17","v":240},"mois"]
[null,null,null,null,null,null,null,null,null,null,null,null,null,null,null,"Montant à financer (hors prime)",{"$f":"CalculFinancier!$E$31","v":120000},"€"]
[]
[]
[]
[]
[null,null,null,null,null,null,null,null,null,null,null,null,null,null,"Années","Mois","Capital restant du","Mensualité (K+i)","dont K","dont i",null,"Années","Capital remboursé","Intérêts remboursés","Annuités"]
[]
[null,null,null,null,null,null,null,null,null,null,null,null,null,null,1,1,119672.82360484071,{"$f":"($Q$8*$Q$6/12)/(1-(1+($Q$6/12))^-$Q$7)","v":727.17639515928954},327.17639515928954,400,null,1,{"$f":"SUM(S15:S26)","v":3998.9013437172744},{"$f":"SUM(T15:T26)","v":4727.2153981941992},{"$f":"W15+X15","v":8726.1167419114736}]
[null,null,null,null,null,null,null,null,null,null,null,null,null,null,null,2,{"$f":"Q15-S16","v":119344.55662169756},{"$f":"IF(T16=0,0,$R$15)","v":727.17639515928954},{"$f":"IF(T16=0,0,R16-T16)","v":328.26698314315382},{"$f":"IF(($Q$6/12)*Q15<=0,0,($Q$6/12)*Q15)","v":398.90941201613572},null,2,{"$f":"SUM(S27:S38)","v":4161.8227544443362},{"$f":"SUM(T27:T38)","v":4564.2939874671383},{"$f":"W16+X16","v":8726.1167419114754}]
[null,null,null,null,null,null,null,null,null,null,null,null,null,null,null,3,{"$f":"Q16-S17","v":119015.19541527725},{"$f":"IF(T17=0,0,$R$15)","v":727.17639515928954},{"$f":"IF(T17=0,0,R17-T17)","v":329.36120642029766},{"$f":"IF(($Q$6/12)*Q16<=0,0,($Q$6/12)*Q16)","v":397.81518873899188},null,3,{"$f":"SUM(S39:S50)","v":4331.381834819088},{"$f":"SUM(T39:T50)","v":4394.7349070923883},8726.1167419114754]
[null,null,null,null,null,null,null,null,null,null,null,null,null,null,null,4,118684.73633816889,727.17639515928954,330.45907710836536,396.71731805092418,null,4,{"$f":"SUM(S51:S62)","v":4507.849013744365},{"$f":"SUM(T51:T62)","v":4218.2677281671085},{"$f":"W18+X18","v":8726.1167419114736}]
[null,null,null,null,null,null,null,null,null,null,null,null,null,null,null,5,118353.1757308035,727.17639515928954,331.5606073653932,395.61578779389635,null,5,{"$f":"SUM(S63:S74)","v":4691.5057378137635},{"$f":"SUM(T63:T74)","v":4034.6110040977105},8726.1167419114736]
[null,null,null,null,null,null,null,null,null,null,null,null,null,null,null,6,118020.50992141356,727.17639515928954,332.66580938994451,394.51058576934503,null,6,{"$f":"SUM(S75:S86)","v":4882.6449201893438},{"$f":"SUM(T75:T86)","v":3843.4718217221307},{"$f":"W20+X20","v":8726.1167419114754}]
[null,null,null,null,null,null,null,null,null,null,null,null,null,null,null,7,117686.73522599231,727.17639515928954,333.77469542124436,393.40169973804518,null,7,{"$f":"SUM(S87:S98)","v":5081.571407767331},{"$f":"SUM(T87:T98)","v":3644.5453341441435},{"$f":"W21+X21","v":8726.1167419114754}]
[null,null,null,null,null,null,null,null,null,null,null,null,null,null,null,8,117351.84794825299,727.17639515928954,334.88727773931515,392.28911741997439,null,8,{"$f":"SUM(S99:S110)","v":5288.6024673768579},{"$f":"SUM(T99:T110)","v":3437.5142745346166},8726.1167419114754]
[null,null,null,null,null,null,null,null,null,null,null,null,null,null,null,9,117015.84437958788,727.17639515928954,336.00356866511288,391.17282649417666,null,9,{"$f":"SUM(S111:S122)","v":5504.0682917871973},{"$f":"SUM(T111:T122)","v":3222.0484501242777},8726.1167419114754]
[null,null,null,null,null,null,null,null,null,null,null,null,null,null,null,10,116678.72079902721,727.17639515928954,337.12358056066324,390.0528145986263,null,10,{"$f":"SUM(S123:S134)","v":5728.3125263304973},{"$f":"SUM(T123:T134)","v":2997.8042155809767},8726.1167419114736]
[null,null,null,null,null,null,null,null,null,null,null,null,null,null,null,11,116340.47347319801,727.17639515928954,338.24732582919881,388.92906933009073,null,11,{"$f":"SUM(S135:S146)","v":5961.6928169799612},{"$f":"SUM(T135:T146)","v":2764.4239249315142},8726.1167419114754]
[null,null,null,null,null,null,null,null,null,null,null,null,null,null,null,12,116001.09865628272,727.17639515928954,339.37481691529615,387.80157824399339,null,12,{"$f":"SUM(S147:S158)","v":6204.5813807575505},{"$f":"SUM(T147:T158)","v":2521.535361153924},8726.1167419114754]
[null,null,null,null,null,null,null,null,null,null,null,null,null,null,2,13,115660.59258997771,727.17639515928954,340.5060663050138,386.67032885427574,null,13,{"$f":"SUM(S159:S170)","v":6457.3655993810125},{"$f":"SUM(T159:T170)","v":2268.7511425304619},8726.1167419114754]
[null,null,null,null,null,null,null,null,null,null,null,null,null,null,null,14,115318.95150345168,727.17639515928954,341.64108652603051,385.53530863325904,null,14,{"$f":"SUM(S171:S182)","v":6720.4486370969671},{"$f":"SUM(T171:T182)","v":2005.6681048145072},8726.1167419114736]
[null,null,null,null,null,null,null,null,null,null,null,null,null,null,null,15,114976.1716133039,727.17639515928954,342.77989014778393,384.39650501150561,null,15,{"$f":"SUM(S183:S194)","v":6994.2500836854952},{"$f":"SUM(T183:T194)","v":1731.8666582259793},8726.1167419114754]
[null,null,null,null,null,null,null,null,null,null,null,null,null,null,null,16,114632.24912352228,727.17639515928954,343.92248978160984,383.2539053776797,null,16,{"$f":"SUM(S195:S206)","v":7279.2066236617093},{"$f":"SUM(T195:T206)","v":1446.9101182497645},8726.1167419114736]
[null,null,null,null,null,null,null,null,null,null,null,null,null,null,null,17,114287.18022544141,727.17639515928954,345.06889808088192,382.10749707840762,null,17,{"$f":"SUM(S207:S218)","v":7575.7727327416396},{"$f":"SUM(T207:T218)","v":1150.3440091698337},8726.1167419114736]
[null,null,null,null,null,null,null,null,null,null,null,null,null,null,null,18,113940.96109770026,727.17639515928954,346.21912774115151,380.95726741813803,null,18,{"$f":"SUM(S219:S230)","v":7884.421402683206},{"$f":"SUM(T219:T230)","v":841.69533922826838},8726.1167419114736]
[null,null,null,null,null,null,null,null,null,null,null,null,null,null,null,19,113593.58790619997,727.17639515928954,347.37319150028867,379.80320365900087,null,19,{"$f":"SUM(S231:S242)","v":8205.6448956583317},{"$f":"SUM(T231:T242)","v":520.47184625314276},8726.1167419114754]
[null,null,null,null,null,null,null,null,null,null,null,null,null,null,null,20,113245.05680406134,727.17639515928954,348.53110213862294,378.6452930206666,null,20,{"$f":"SUM(S243:S254)","v":8539.9555293593476},{"$f":"SUM(T243:T254)","v":186.16121255212599},8726.1167419114736]
[null,null,null,null,null,null,null,null,null,null,null,null,null,null,null,21,112895.36393158225,727.17639515928954,349.69287247908505,377.48352268020449,null,"Total",{"$f":"SUM(W15:W34)","v":119999.99999999526},{"$f":"SUM(X15:X34)","v":54522.334838234208},{"$f":"SUM(Y15:Y34)","v":174522.33483822955}]
[null,null,null,null,null,null,null,null,null,null,null,null,null,null,null,22,112544.50541619491,727.17639515928954,350.85851538734869,376.31787977194085]
[null,null,null,null,null,null,null,null,null,null,null,null,null,null,null,23,112192.47737242293,727.17639515928954,352.02804377197316,375.14835138731638]
[null,null,null,null,null,null,null,null,null,null,null,null,null,null,null,24,111839.27590183838,727.17639515928954,353.20147058454643,373.97492457474311]
[null,null,null,null,null,null,null,null,null,null,null,null,null,null,3,25,111484.89709301855,727.17639515928954,354.37880881982824,372.7975863394613]
[null,null,null,null,null,null,null,null,null,null,null,null,null,null,null,26,111129.33702150265,727.17639515928954,355.56007151589438,371.61632364339516]
[null,null,null,null,null,null,null,null,null,null,null,null,null,null,null,27,110772.59174974838,727.17639515928954,356.74527175428068,370.43112340500886]
[null,null,null,null,null,null,null,null,null,null,null,null,null,null,null,28,110414.65732708825,727.17639515928954,357.93442266012829,369.24197249916125]
[null,null,null,null,null,null,null,null,null,null,null,null,null,null,null,29,110055.52978968593,727.17639515928954,359.1275374023287,368.04885775696084]
[null,null,null,null,null,null,null,null,null,null,null,null,null,null,null,30,109695.20516049226,727.17639515928954,360.32462919366975,366.85176596561979]
[null,null,null,null,null,null,null,null,null,null,null,null,null,null,null,31,109333.67944920129,727.17639515928954,361.52571129098197,365.65068386830757]
[null,null,null,null,null,null,null,null,null,null,null,null,null,null,null,32,108970.948652206,727.17639515928954,362.73079699528523,364.44559816400431]
[null,null,null,null,null,null,null,null,null,null,null,null,null,null,null,33,108607.00875255407,727.17639515928954,363.93989965193617,363.23649550735337]
[null,null,null,null,null,null,null,null,null,null,null,null,null,null,null,34,108241.85571990329,727.17639515928954,365.15303265077591,362.02336250851363]
[null,null,null,null,null,null,null,null,null,null,null,null,null,null,null,35,107875.48551047701,727.17639515928954,366.37020942627851,360.80618573301103]
[null,null,null,null,null,null,null,null,null,null,null,null,null,null,null,36,107507.89406701931,727.17639515928954,367.59144345769948,359.58495170159006]
[null,null,null,null,null,null,null,null,null,null,null,null,null,null,4,37,107139.07731875009,727.17639515928954,368.81674826922517,358.35964689006437]
[null,null,null,null,null,null,null,null,null,null,null,null,null,null,null,38,106769.03118131997,727.17639515928954,370.04613743012254,357.130257729167]
[null,null,null,null,null,null,null,null,null,null,null,null,null,null,null,39,106397.75155676507,727.17639515928954,371.27962455488961,355.89677060439993]
[null,null,null,null,null,null,null,null,null,null,null,null,null,null,null,40,106025.23433346166,727.17639515928954,372.51722330340596,354.65917185588359]
[null,null,null,null,null,null,null,null,null,null,null,null,null,null,null,41,105651.47538608058,727.17639515928954,373.758947381084,353.41744777820554]
[null,null,null,null,null,null,null,null,null,null,null,null,null,null,null,42,105276.47057554156,727.17639515928954,375.00481053902092,352.17158462026862]
[null,null,null,null,null,null,null,null,null,null,null,null,null,null,null,43,104900.21574896741,727.17639515928954,376.25482657415097,350.92156858513857]
[null,null,null,null,null,null,null,null,null,null,null,null,null,null,null,44,104522.70673963802,727.17639515928954,377.50900932939811,349.66738582989143]
[null,null,null,null,null,null,null,null,null,null,null,null,null,null,null,45,104143.93936694419,727.17639515928954,378.76737269382949,348.40902246546005]
[null,null,null,null,null,null,null,null,null,null,null,null,null,null,null,46,103763.90943634139,727.17639515928954,380.02993060280886,347.14646455648068]
[null,null,null,null,null,null,null,null,null,null,null,null,null,null,null,47,103382.61273930324,727.17639515928954,381.29669703815154,345.87969812113801]
[null,null,null,null,null,null,null,null,null,null,null,null,null,null,null,48,103000.04505327495,727.17639515928954,382.56768602827873,344.60870913101081]
[null,null,null,null,null,null,null,null,null,null,null,null,null,null,5,49,102616.20214162658,727.17639515928954,383.84291164837299,343.33348351091655]
[null,null,null,null,null,null,null,null,null,null,null,null,null,null,null,50,102231.07975360604,727.17639515928954,385.12238802053423,342.05400713875531]
[null,null,null,null,null,null,null,null,null,null,null,null,null,null,null,51,101844.6736242921,727.17639515928954,386.40612931393605,340.77026584535349]
[null,null,null,null,null,null,null,null,null,null,null,null,null,null,null,52,101456.97947454712,727.17639515928954,387.6941497449825,339.48224541430704]
[null,null,null,null,null,null,null,null,null,null,null,null,null,null,null,53,101067.99301096964,727.17639515928954,388.98646357746583,338.18993158182371]
[null,null,null,null,null,null,null,null,null,null,null,null,null,null,null,54,100677.70992584692,727.17639515928954,390.28308512272406,336.89331003656548]
[null,null,null,null,null,null,null,null,null,null,null,null,null,null,null,55,100286.12589710712,727.17639515928954,391.58402873979975,335.59236641948979]
[null,null,null,null,null,null,null,null,null,null,null,null,null,null,null,56,99893.236588271524,727.17639515928954,392.88930883559914,334.2870863236904]
[null,null,null,null,null,null,null,null,null,null,null,null,null,null,null,57,99499.037648406476,727.17639515928954,394.1989398650511,332.97745529423844]
[null,null,null,null,null,null,null,null,null,null,null,null,null,null,null,58,99103.524712075203,727.17639515928954,395.51293633126795,331.66345882802159]
[null,null,null,null,null,null,null,null,null,null,null,null,null,null,null,59,98706.693399289492,727.17639515928954,396.83131278570551,330.34508237358403]
[null,null,null,null,null,null,null,null,null,null,null,null,null,null,null,60,98308.539315461167,727.17639515928954,398.15408382832453,329.02231133096501]
[null,null,null,null,null,null,null,null,null,null,null,null,null,null,6,61,97909.058051353408,727.17639515928954,399.48126410775228,327.69513105153726]
[null,null,null,null,null,null,null,null,null,null,null,null,null,null,null,62,97508.245183031962,727.17639515928954,400.81286832144485,326.36352683784469]
[null,null,null,null,null,null,null,null,null,null,null,null,null,null,null,63,97106.096271816117,727.17639515928954,402.14891121584964,325.0274839434399]
[null,null,null,null,null,null,null,null,null,null,null,null,null,null,null,64,96702.606864229543,727.17639515928954,403.48940758656914,323.6869875727204]
[null,null,null,null,null,null,null,null,null,null,null,null,null,null,null,65,96297.772491951022,727.17639515928954,404.83437227852437,322.34202288076517]
[null,null,null,null,null,null,null,null,null,null,null,null,null,null,null,66,95891.588671764897,727.17639515928954,406.18382018611942,320.99257497317012]
[null,null,null,null,null,null,null,null,null,null,null,null,null,null,null,67,{"$f":"Q80-S81","v":95484.050905511496},{"$f":"IF(T81=0,0,$R$15)","v":727.17639515928954},{"$f":"IF(T81=0,0,R81-T81)","v":407.53776625340652},{"$f":"IF(($Q$6/12)*Q80<=0,0,($Q$6/12)*Q80)","v":319.63862890588302}]
[null,null,null,null,null,null,null,null,null,null,null,null,null,null,null,68,95075.154680037245,727.17639515928954,408.8962254742512,318.28016968503835]
[null,null,null,null,null,null,null,null,null,null,null,null,null,null,null,69,94664.895467144743,727.17639515928954,410.25921289249868,316.91718226679086]
[null,null,null,null,null,null,null,null,null,null,null,null,null,null,null,70,94253.268723542598,727.17639515928954,411.62674360214038,315.54965155714916]
[null,null,null,null,null,null,null,null,null,null,null,null,null,null,null,71,93840.269890795113,727.17639515928954,412.99883274748083,314.17756241180871]
[null,null,null,null,null,null,null,null,null,null,null,null,null,null,null,72,93425.894395271811,727.17639515928954,414.3754955233058,312.80089963598374]
[null,null,null,null,null,null,null,null,null,null,null,null,null,null,7,73,93010.137648096759,727.17639515928954,415.75674717505018,311.41964798423936]
[null,null,null,null,null,null,null,null,null,null,null,null,null,null,null,74,92592.995045097792,727.17639515928954,417.14260299896699,310.03379216032255]
[null,null,null,null,null,null,null,null,null,null,null,null,null,null,null,75,92174.461966755494,727.17639515928954,418.5330783422969,308.64331681699264]
[null,null,null,null,null,null,null,null,null,null,null,null,null,null,null,76,91754.53377815205,727.17639515928954,419.92818860343789,307.24820655585165]
[null,null,null,null,null,null,null,null,null,null,null,null,null,null,null,77,91333.205828919934,727.17639515928954,421.327949232116,305.84844592717354]
[null,null,null,null,null,null,null,null,null,null,null,null,null,null,null,78,90910.473453190381,727.17639515928954,422.7323757295564,304.44401942973315]
[null,null,null,null,null,null,null,null,null,null,null,null,null,null,null,79,90486.33196954173,727.17639515928954,424.14148364865491,303.03491151063463]
[null,null,null,null,null,null,null,null,null,null,null,null,null,null,null,80,90060.776680947587,727.17639515928954,425.5552885941504,301.62110656513914]
[null,null,null,null,null,null,null,null,null,null,null,null,null,null,null,81,89633.802874724788,727.17639515928954,426.97380622279758,300.20258893649196]
[null,null,null,null,null,null,null,null,null,null,null,null,null,null,null,82,89205.405822481247,727.17639515928954,428.3970522435402,298.77934291574934]
[null,null,null,null,null,null,null,null,null,null,null,null,null,null,null,83,88775.580780063567,727.17639515928954,429.82504241768538,297.35135274160416]
[null,null,null,null,null,null,null,null,null,null,null,null,null,null,null,84,88344.322987504493,727.17639515928954,431.25779255907764,295.9186026002119]
[null,null,null,null,null,null,null,null,null,null,null,null,null,null,8,85,87911.627668970221,727.17639515928954,432.69531853427452,294.48107662501502]
[null,null,null,null,null,null,null,null,null,null,null,null,null,null,null,86,87477.490032707501,727.17639515928954,434.13763626272214,293.0387588965674]
[null,null,null,null,null,null,null,null,null,null,null,null,null,null,null,87,87041.905270990566,727.17639515928954,435.58476171693121,291.59163344235833]
[null,null,null,null,null,null,null,null,null,null,null,null,null,null,null,88,86604.868560067916,727.17639515928954,437.03671092265432,290.13968423663522]
[null,null,null,null,null,null,null,null,null,null,null,null,null,null,null,89,86166.375060108854,727.17639515928954,438.49349995906312,288.68289520022643]
[null,null,null,null,null,null,null,null,null,null,null,null,null,null,null,90,85726.419915149934,727.17639515928954,439.95514495892667,287.22125020036287]
[null,null,null,null,null,null,null,null,null,null,null,null,null,null,null,91,85284.998253041151,727.17639515928954,441.42166210878975,285.75473305049979]
[null,null,null,null,null,null,null,null,null,null,null,null,null,null,null,92,84842.105185391993,727.17639515928954,442.89306764915233,284.28332751013721]
[null,null,null,null,null,null,null,null,null,null,null,null,null,null,null,93,84397.73580751734,727.17639515928954,444.36937787464956,282.80701728463998]
[null,null,null,null,null,null,null,null,null,null,null,null,null,null,null,94,83951.885198383112,727.17639515928954,445.85060913423172,281.32578602505782]
[null,null,null,null,null,null,null,null,null,null,null,null,null,null,null,95,83504.548420551771,727.17639515928954,447.33677783134584,279.8396173279437]
[null,null,null,null,null,null,null,null,null,null,null,null,null,null,null,96,83055.720520127652,727.17639515928954,448.82790042411693,278.34849473517261]
[null,null,null,null,null,null,null,null,null,null,null,null,null,null,9,97,82605.396526702127,727.17639515928954,450.32399342553066,276.85240173375888]
[null,null,null,null,null,null,null,null,null,null,null,null,null,null,null,98,82153.571453298515,727.17639515928954,451.82507340361576,275.35132175567378]
[null,null,null,null,null,null,null,null,null,null,null,null,null,null,null,99,81700.240296316886,727.17639515928954,453.33115698162783,273.84523817766171]
[null,null,null,null,null,null,null,null,null,null,null,null,null,null,null,100,81245.398035478647,727.17639515928954,454.84226083823324,272.3341343210563]
[null,null,null,null,null,null,null,null,null,null,null,null,null,null,null,101,80789.039633770954,727.17639515928954,456.35840170769404,270.8179934515955]
[null,null,null,null,null,null,null,null,null,null,null,null,null,null,null,102,80331.160037390902,727.17639515928954,457.87959638005299,269.29679877923655]
[null,null,null,null,null,null,null,null,null,null,null,null,null,null,null,103,79871.754175689581,727.17639515928954,459.40586170131985,267.77053345796969]
[null,null,null,null,null,null,null,null,null,null,null,null,null,null,null,104,79410.816961115925,727.17639515928954,460.93721457365757,266.23918058563197]
[null,null,null,null,null,null,null,null,null,null,null,null,null,null,null,105,78948.343289160359,727.17639515928954,462.47367195556978,264.70272320371976]
[null,null,null,null,null,null,null,null,null,null,null,null,null,null,null,106,78484.328038298278,727.17639515928954,464.01525086208835,263.16114429720119]
[null,null,null,null,null,null,null,null,null,null,null,null,null,null,null,107,78018.766069933321,727.17639515928954,465.56196836496196,261.61442679432758]
[null,null,null,null,null,null,null,null,null,null,null,null,null,null,null,108,77551.652228340477,727.17639515928954,467.11384159284512,260.06255356644442]
[null,null,null,null,null,null,null,null,null,null,null,null,null,null,10,109,77082.981340608996,727.17639515928954,468.67088773148794,258.5055074278016]
[null,null,null,null,null,null,null,null,null,null,null,null,null,null,null,110,76612.748216585067,727.17639515928954,470.23312402392622,256.94327113536332]
[null,null,null,null,null,null,null,null,null,null,null,null,null,null,null,111,76140.947648814399,727.17639515928954,471.80056777067261,255.3758273886169]
[null,null,null,null,null,null,null,null,null,null,null,null,null,null,null,112,75667.574412484493,727.17639515928954,473.3732363299082,253.80315882938135]
[null,null,null,null,null,null,null,null,null,null,null,null,null,null,null,113,75192.623265366812,727.17639515928954,474.95114711767451,252.225248041615]
[null,null,null,null,null,null,null,null,null,null,null,null,null,null,null,114,74716.088947758748,727.17639515928954,476.53431760806683,250.64207755122271]
[null,null,null,null,null,null,null,null,null,null,null,null,null,null,null,115,74237.966182425327,727.17639515928954,478.12276533342703,249.05362982586252]
[null,null,null,null,null,null,null,null,null,null,null,null,null,null,null,116,73758.249674540784,727.17639515928954,479.71650788453843,247.45988727475111]
[null,null,null,null,null,null,null,null,null,null,null,null,null,null,null,117,73276.934111629962,727.17639515928954,481.31556291082023,245.86083224846931]
[null,null,null,null,null,null,null,null,null,null,null,null,null,null,null,118,72794.014163509433,727.17639515928954,482.91994812052297,244.25644703876657]
[null,null,null,null,null,null,null,null,null,null,null,null,null,null,null,119,72309.484482228509,727.17639515928954,484.52968128092471,242.64671387836481]
[null,null,null,null,null,null,null,null,null,null,null,null,null,null,null,120,71823.33970200998,727.17639515928954,486.14478021852784,241.0316149407617]
[null,null,null,null,null,null,null,null,null,null,null,null,null,null,11,121,71335.574439190721,727.17639515928954,487.76526281925624,239.41113234003328]
[null,null,null,null,null,null,null,null,null,null,null,null,null,null,null,122,70846.183292162066,727.17639515928954,489.39114702865379,237.78524813063575]
[null,null,null,null,null,null,null,null,null,null,null,null,null,null,null,123,70355.160841309989,727.17639515928954,491.02245085208267,236.1539443072069]
[null,null,null,null,null,null,null,null,null,null,null,null,null,null,null,124,69862.501648955062,727.17639515928954,492.65919235492288,234.51720280436663]
[null,null,null,null,null,null,null,null,null,null,null,null,null,null,null,125,69368.200259292295,727.17639515928954,494.30138966277264,232.87500549651688]
[null,null,null,null,null,null,null,null,null,null,null,null,null,null,null,126,68872.251198330647,727.17639515928954,495.94906096164857,231.227334197641]
[null,null,null,null,null,null,null,null,null,null,null,null,null,null,null,127,68374.64897383246,727.17639515928954,497.60222449818741,229.57417066110216]
[null,null,null,null,null,null,null,null,null,null,null,null,null,null,null,128,67875.388075252617,727.17639515928954,499.260898579848,227.91549657944154]
[null,null,null,null,null,null,null,null,null,null,null,null,null,null,null,129,67374.46297367751,727.17639515928954,500.92510157511413,226.25129358417541]
[null,null,null,null,null,null,null,null,null,null,null,null,null,null,null,130,66871.868121763808,727.17639515928954,502.59485191369782,224.58154324559172]
[null,null,null,null,null,null,null,null,null,null,null,null,null,null,null,131,{"$f":"Q144-S145","v":66367.597953677061},{"$f":"IF(T145=0,0,$R$15)","v":727.17639515928954},{"$f":"IF(T145=0,0,R145-T145)","v":504.27016808674352},{"$f":"IF(($Q$6/12)*Q144<=0,0,($Q$6/12)*Q144)","v":222.90622707254605}]
[null,null,null,null,null,null,null,null,null,null,null,null,null,null,null,132,65861.64688503003,727.17639515928954,505.95106864703268,221.22532651225688]
[null,null,null,null,null,null,null,null,null,null,null,null,null,null,12,133,65354.009312820839,727.17639515928954,507.63757220918944,219.53882295010013]
[null,null,null,null,null,null,null,null,null,null,null,null,null,null,null,134,64844.679615370951,727.17639515928954,509.32969744988674,217.8466977094028]
[null,null,null,null,null,null,null,null,null,null,null,null,null,null,null,135,64333.652152262897,727.17639515928954,511.02746310805298,216.14893205123653]
[null,null,null,null,null,null,null,null,null,null,null,null,null,null,null,136,63820.921264277815,727.17639515928954,512.7308879850799,214.44550717420967]
[null,null,null,null,null,null,null,null,null,null,null,null,null,null,null,137,63306.481273332785,727.17639515928954,514.4399909450301,212.73640421425941]
[null,null,null,null,null,null,null,null,null,null,null,null,null,null,null,138,62790.326482417935,727.17639515928954,516.1547909148469,211.02160424444264]
[null,null,null,null,null,null,null,null,null,null,null,null,null,null,null,139,62272.451175533373,727.17639515928954,517.87530688456309,209.30108827472645]
[null,null,null,null,null,null,null,null,null,null,null,null,null,null,null,140,61752.849617625863,727.17639515928954,519.60155790751162,207.57483725177792]
[null,null,null,null,null,null,null,null,null,null,null,null,null,null,null,141,61231.516054525324,727.17639515928954,521.33356310053659,205.84283205875289]
[null,null,null,null,null,null,null,null,null,null,null,null,null,null,null,142,60708.444712881115,727.17639515928954,523.07134164420518,204.10505351508442]
[null,null,null,null,null,null,null,null,null,null,null,null,null,null,null,143,60183.629800098097,727.17639515928954,524.81491278301917,202.3614823762704]
[null,null,null,null,null,null,null,null,null,null,null,null,null,null,null,144,59657.065504272468,727.17639515928954,526.56429582562919,200.61209933366032]
[null,null,null,null,null,null,null,null,null,null,null,null,null,null,13,145,59128.745994127421,727.17639515928954,528.31951014504796,198.85688501424158]
[null,null,null,null,null,null,null,null,null,null,null,null,null,null,null,146,58598.665418948556,727.17639515928954,530.08057517886482,197.09581998042475]
[null,null,null,null,null,null,null,null,null,null,null,null,null,null,null,147,58066.817908519093,727.17639515928954,531.84751042946095,195.32888472982853]
[null,null,null,null,null,null,null,null,null,null,null,null,null,null,null,148,57533.197573054866,727.17639515928954,533.62033546422595,193.55605969506365]
[null,null,null,null,null,null,null,null,null,null,null,null,null,null,null,149,56997.798503139093,727.17639515928954,535.39906991577334,191.77732524351623]
[null,null,null,null,null,null,null,null,null,null,null,null,null,null,null,150,56460.614769656931,727.17639515928954,537.18373348215925,189.99266167713031]
[null,null,null,null,null,null,null,null,null,null,null,null,null,null,null,151,55921.640423729834,727.17639515928954,538.97434592709976,188.20204923218978]
[null,null,null,null,null,null,null,null,null,null,null,null,null,null,null,152,55380.86949664964,727.17639515928954,540.77092708019006,186.40546807909945]
[null,null,null,null,null,null,null,null,null,null,null,null,null,null,null,153,54838.295999812515,727.17639515928954,542.57349683712403,184.60289832216549]
[null,null,null,null,null,null,null,null,null,null,null,null,null,null,null,154,54293.913924652603,727.17639515928954,544.38207515991451,182.79431999937506]
[null,null,null,null,null,null,null,null,null,null,null,null,null,null,null,155,53747.717242575491,727.17639515928954,546.19668207711425,180.97971308217535]
[null,null,null,null,null,null,null,null,null,null,null,null,null,null,null,156,53199.699904891451,727.17639515928954,548.0173376840379,179.15905747525164]
[null,null,null,null,null,null,null,null,null,null,null,null,null,null,14,157,52649.855842748468,727.17639515928954,549.84406214298474,177.33233301630486]
[null,null,null,null,null,null,null,null,null,null,null,null,null,null,null,158,52098.178967065003,727.17639515928954,551.67687568346128,175.49951947582824]
[null,null,null,null,null,null,null,null,null,null,null,null,null,null,null,159,51544.663168462597,727.17639515928954,553.51579860240622,173.66059655688335]
[null,null,null,null,null,null,null,null,null,null,null,null,null,null,null,160,50989.302317198184,727.17639515928954,555.36085126441424,171.81554389487533]
[null,null,null,null,null,null,null,null,null,null,null,null,null,null,null,161,50432.090263096223,727.17639515928954,557.21205410196228,169.96434105732729]
[null,null,null,null,null,null,null,null,null,null,null,null,null,null,null,162,49873.020835480587,727.17639515928954,559.0694276156355,168.10696754365409]
[null,null,null,null,null,null,null,null,null,null,null,null,null,null,null,163,49312.08784310623,727.17639515928954,560.93299237435417,166.24340278493531]
[null,null,null,null,null,null,null,null,null,null,null,null,null,null,null,164,48749.285074090629,727.17639515928954,562.80276901560205,164.37362614368743]
[null,null,null,null,null,null,null,null,null,null,null,null,null,null,null,165,48184.606295844977,727.17639515928954,564.67877824565414,162.49761691363543]
[null,null,null,null,null,null,null,null,null,null,null,null,null,null,null,166,47618.04525500517,727.17639515928954,566.56104083980631,160.61535431948326]
[null,null,null,null,null,null,null,null,null,null,null,null,null,null,null,167,47049.595677362566,727.17639515928954,568.44957764260562,158.72681751668392]
[null,null,null,null,null,null,null,null,null,null,null,null,null,null,null,168,46479.251267794483,727.17639515928954,570.34440956808101,156.83198559120856]
[null,null,null,null,null,null,null,null,null,null,null,null,null,null,15,169,45907.005710194506,727.17639515928954,572.24555759997452,154.93083755931497]
[null,null,null,null,null,null,null,null,null,null,null,null,null,null,null,170,45332.852667402534,727.17639515928954,574.15304279197449,153.02335236731503]
[null,null,null,null,null,null,null,null,null,null,null,null,null,null,null,171,44756.785781134589,727.17639515928954,576.06688626794778,151.10950889134179]
[null,null,null,null,null,null,null,null,null,null,null,null,null,null,null,172,44178.798671912416,727.17639515928954,577.98710922217424,149.1892859371153]
[null,null,null,null,null,null,null,null,null,null,null,null,null,null,null,173,43598.884938992836,727.17639515928954,579.91373291958143,147.26266223970808]
[null,null,null,null,null,null,null,null,null,null,null,null,null,null,null,174,43017.038160296855,727.17639515928954,581.84677869598011,145.32961646330946]
[null,null,null,null,null,null,null,null,null,null,null,null,null,null,null,175,42433.251892338558,727.17639515928954,583.78626795829996,143.39012720098953]
[null,null,null,null,null,null,null,null,null,null,null,null,null,null,null,176,41847.519670153728,727.17639515928954,585.73222218482761,141.44417297446188]
[null,null,null,null,null,null,null,null,null,null,null,null,null,null,null,177,41259.835007228285,727.17639515928954,587.68466292544372,139.49173223384577]
[null,null,null,null,null,null,null,null,null,null,null,null,null,null,null,178,40670.191395426424,727.17639515928954,589.64361180186188,137.53278335742763]
[null,null,null,null,null,null,null,null,null,null,null,null,null,null,null,179,40078.582304918556,727.17639515928954,591.60909050786813,135.56730465142141]
[null,null,null,null,null,null,null,null,null,null,null,null,null,null,null,180,39485.001184108994,727.17639515928954,593.58112080956107,133.59527434972853]
[null,null,null,null,null,null,null,null,null,null,null,null,null,null,16,181,38889.441459563401,727.17639515928954,595.55972454559287,131.61667061369667]
[null,null,null,null,null,null,null,null,null,null,null,null,null,null,null,182,38291.896535935986,727.17639515928954,597.54492362741155,129.63147153187802]
[null,null,null,null,null,null,null,null,null,null,null,null,null,null,null,183,37692.359795896482,727.17639515928954,599.53674003950289,127.63965511978662]
[null,null,null,null,null,null,null,null,null,null,null,null,null,null,null,184,37090.824600056847,727.17639515928954,601.53519583963464,125.64119931965494]
[null,null,null,null,null,null,null,null,null,null,null,null,null,null,null,185,36487.284286897746,727.17639515928954,603.54031315910004,123.6360820001895]
[null,null,null,null,null,null,null,null,null,null,null,null,null,null,null,186,35881.732172694785,727.17639515928954,605.55211420296371,121.62428095632583]
[null,null,null,null,null,null,null,null,null,null,null,null,null,null,null,187,35274.161551444478,727.17639515928954,607.57062125030689,119.60577390898263]
[null,null,null,null,null,null,null,null,null,null,null,null,null,null,null,188,34664.565694790006,727.17639515928954,609.59585665447457,117.58053850481494]
[null,null,null,null,null,null,null,null,null,null,null,null,null,null,null,189,34052.937851946685,727.17639515928954,611.62784284332281,115.54855231596669]
[null,null,null,null,null,null,null,null,null,null,null,null,null,null,null,190,33439.271249627214,727.17639515928954,613.6666023194673,113.50979283982228]
[null,null,null,null,null,null,null,null,null,null,null,null,null,null,null,191,32823.559091966679,727.17639515928954,615.71215766053217,111.46423749875738]
[null,null,null,null,null,null,null,null,null,null,null,null,null,null,null,192,32205.794560447277,727.17639515928954,617.76453151940063,109.41186363988894]
[null,null,null,null,null,null,null,null,null,null,null,null,null,null,17,193,31585.970813822812,727.17639515928954,619.82374662446523,107.35264853482427]
[null,null,null,null,null,null,null,null,null,null,null,null,null,null,null,194,30964.080988042933,727.17639515928954,621.8898257798802,105.28656937940939]
[null,null,null,null,null,null,null,null,null,null,null,null,null,null,null,195,{"$f":"Q208-S209","v":30340.118196177122},{"$f":"IF(T209=0,0,$R$15)","v":727.17639515928954},{"$f":"IF(T209=0,0,R209-T209)","v":623.96279186581307},{"$f":"IF(($Q$6/12)*Q208<=0,0,($Q$6/12)*Q208)","v":103.21360329347645}]
[null,null,null,null,null,null,null,null,null,null,null,null,null,null,null,196,29714.075528338424,727.17639515928954,626.04266783869912,101.13372732059041]
[null,null,null,null,null,null,null,null,null,null,null,null,null,null,null,197,29085.94605160693,727.17639515928954,628.12947673149483,99.046918427794751]
[null,null,null,null,null,null,null,null,null,null,null,null,null,null,null,198,28455.722809952997,727.17639515928954,630.22324165393309,96.95315350535644]
[null,null,null,null,null,null,null,null,null,null,null,null,null,null,null,199,27823.398824160216,727.17639515928954,632.32398579277958,94.852409366509988]
[null,null,null,null,null,null,null,null,null,null,null,null,null,null,null,200,27188.967091748127,727.17639515928954,634.43173241208888,92.744662747200721]
[null,null,null,null,null,null,null,null,null,null,null,null,null,null,null,201,26552.420586894666,727.17639515928954,636.54650485346247,90.629890305827089]
[null,null,null,null,null,null,null,null,null,null,null,null,null,null,null,202,25913.75226035836,727.17639515928954,638.66832653630729,88.508068622982222]
[null,null,null,null,null,null,null,null,null,null,null,null,null,null,null,203,25272.955039400265,727.17639515928954,640.79722095809495,86.379174201194544]
[null,null,null,null,null,null,null,null,null,null,null,null,null,null,null,204,24630.021827705645,727.17639515928954,642.93321169462195,84.243183464667553]
[null,null,null,null,null,null,null,null,null,null,null,null,null,null,18,205,23984.945505305375,727.17639515928954,645.07632240027078,82.100072759018815]
[null,null,null,null,null,null,null,null,null,null,null,null,null,null,null,206,23337.718928497103,727.17639515928954,647.2265768082716,79.949818351017925]
[null,null,null,null,null,null,null,null,null,null,null,null,null,null,null,207,22688.334929766137,727.17639515928954,649.38399873096591,77.792396428323684]
[null,null,null,null,null,null,null,null,null,null,null,null,null,null,null,208,22036.786317706068,727.17639515928954,651.5486120600691,75.627783099220466]
[null,null,null,null,null,null,null,null,null,null,null,null,null,null,null,209,21383.06587693913,727.17639515928954,653.72044076693601,73.455954392353561]
[null,null,null,null,null,null,null,null,null,null,null,null,null,null,null,210,20727.166368036305,727.17639515928954,655.8995089028258,71.276886256463769]
[null,null,null,null,null,null,null,null,null,null,null,null,null,null,null,211,20069.080527437138,727.17639515928954,658.08584059916848,69.090554560121021]
[null,null,null,null,null,null,null,null,null,null,null,null,null,null,null,212,19408.801067369306,727.17639515928954,660.27946006783236,66.896935091457124]
[null,null,null,null,null,null,null,null,null,null,null,null,null,null,null,213,18746.320675767915,727.17639515928954,662.48039160139183,64.696003557897697]
[null,null,null,null,null,null,null,null,null,null,null,null,null,null,null,214,18081.632016194519,727.17639515928954,664.68865957339654,62.487735585893056]
[null,null,null,null,null,null,null,null,null,null,null,null,null,null,null,215,17414.727727755879,727.17639515928954,666.90428843864117,60.272106720648402]
[null,null,null,null,null,null,null,null,null,null,null,null,null,null,null,216,16745.600425022443,727.17639515928954,669.12730273343664,58.049092425852933]
[null,null,null,null,null,null,null,null,null,null,null,null,null,null,19,217,16074.242697946562,727.17639515928954,671.35772707588137,55.818668083408149]
[null,null,null,null,null,null,null,null,null,null,null,null,null,null,null,218,15400.647111780427,727.17639515928954,673.59558616613435,53.580808993155209]
[null,null,null,null,null,null,null,null,null,null,null,null,null,null,null,219,14724.806206993739,727.17639515928954,675.84090478668816,51.335490372601427]
[null,null,null,null,null,null,null,null,null,null,null,null,null,null,null,220,14046.712499191095,727.17639515928954,678.09370780264373,49.082687356645799]
[null,null,null,null,null,null,null,null,null,null,null,null,null,null,null,221,13366.35847902911,727.17639515928954,680.35402016198589,46.822374997303655]
[null,null,null,null,null,null,null,null,null,null,null,null,null,null,null,222,12683.736612133251,727.17639515928954,682.62186689585917,44.55452826343037]
[null,null,null,null,null,null,null,null,null,null,null,null,null,null,null,223,11998.839339014405,727.17639515928954,684.89727311884542,42.279122040444172]
[null,null,null,null,null,null,null,null,null,null,null,null,null,null,null,224,11311.659074985164,727.17639515928954,687.18026402924147,39.99613113004802]
[null,null,null,null,null,null,null,null,null,null,null,null,null,null,null,225,10622.188210075825,727.17639515928954,689.47086490933896,37.705530249950549]
[null,null,null,null,null,null,null,null,null,null,null,null,null,null,null,226,9930.4191089501219,727.17639515928954,691.7691011257034,35.407294033586084]
[null,null,null,null,null,null,null,null,null,null,null,null,null,null,null,227,9236.3441108206662,727.17639515928954,694.07499812945582,33.101397029833741]
[null,null,null,null,null,null,null,null,null,null,null,null,null,null,null,228,8539.9555293641115,727.17639515928954,696.38858145655399,30.787813702735555]
[null,null,null,null,null,null,null,null,null,null,null,null,null,null,20,229,7841.2456526360356,727.17639515928954,698.70987672807587,28.466518431213707]
[null,null,null,null,null,null,null,null,null,null,null,null,null,null,null,230,7140.2067429855324,727.17639515928954,701.03890965050277,26.137485508786789]
[null,null,null,null,null,null,null,null,null,null,null,null,null,null,null,231,6436.8310369695282,727.17639515928954,703.37570601600441,23.800689143285108]
[null,null,null,null,null,null,null,null,null,null,null,null,null,null,null,232,5731.1107452668039,727.17639515928954,705.72029170272447,21.456103456565096]
[null,null,null,null,null,null,null,null,null,null,null,null,null,null,null,233,5023.0380525917371,727.17639515928954,708.07269267506683,19.10370248422268]
[null,null,null,null,null,null,null,null,null,null,null,null,null,null,null,234,4312.6051176077535,727.17639515928954,710.43293498398373,16.743460175305792]
[null,null,null,null,null,null,null,null,null,null,null,null,null,null,null,235,3599.8040728404899,727.17639515928954,712.80104476726365,14.375350392025846]
[null,null,null,null,null,null,null,null,null,null,null,null,null,null,null,236,2884.6270245906685,727.17639515928954,715.17704824982127,11.999346909468301]
[null,null,null,null,null,null,null,null,null,null,null,null,null,null,null,237,2167.066052846681,727.17639515928954,717.56097174398735,9.6154234153022298]
[null,null,null,null,null,null,null,null,null,null,null,null,null,null,null,238,1447.1132111968805,727.17639515928954,719.95284164980058,7.2235535094889372]
[null,null,null,null,null,null,null,null,null,null,null,null,null,null,null,239,724.76052674158052,727.17639515928954,722.35268445529994,4.8237107039896019]
[null,null,null,null,null,null,null,null,null,null,null,null,null,null,null,240,4.7629100663471036E-9,727.17639515928954,724.76052673681761,2.4158684224719353]

{"sheet":"1.t.de.fi  (2)","index":8,"n_rows":254,"n_cols":37,"rows_kept":254,"cut":false,"hidden":true,"merged":[[242,2,253,2],[242,14,253,14],[242,26,253,26],[218,2,229,2],[218,14,229,14],[218,26,229,26],[230,2,241,2],[230,14,241,14],[230,26,241,26],[194,2,205,2],[194,14,205,14],[194,26,205,26],[206,2,217,2],[206,14,217,14],[206,26,217,26],[170,2,181,2],[170,14,181,14],[170,26,181,26],[182,2,193,2],[182,14,193,14],[182,26,193,26],[146,2,157,2],[146,14,157,14],[146,26,157,26],[158,2,169,2],[158,14,169,14],[158,26,169,26],[122,2,133,2],[122,14,133,14],[122,26,133,26],[134,2,145,2],[134,14,145,14],[134,26,145,26],[98,2,109,2],[98,14,109,14],[98,26,109,26],[110,2,121,2],[110,14,121,14],[110,26,121,26],[74,2,85,2],[74,14,85,14],[74,26,85,26],[86,2,97,2],[86,14,97,14],[86,26,97,26],[50,2,61,2],[50,14,61,14],[50,26,61,26],[62,2,73,2],[62,14,73,14],[62,26,73,26],[26,2,37,2],[26,14,37,14],[26,26,37,26],[38,2,49,2],[38,14,49,14],[38,26,49,26],[12,34,13,34],[12,35,13,35],[12,36,13,36],[14,2,25,2],[14,14,25,14],[14,26,25,26],[12,27,13,27],[12,28,13,28],[12,29,13,29],[12,30,13,30],[12,31,13,31],[12,33,13,33],[12,19,13,19],[12,21,13,21],[12,22,13,22],[12,23,13,23],[12,24,13,24],[12,26,13,26],[12,12,13,12],[12,14,13,14],[12,15,13,15],[12,16,13,16],[12,17,13,17],[12,18,13,18],[1,2,1,13],[12,2,13,2],[12,3,13,3],[12,4,13,4],[12,5,13,5],[12,6,13,6],[12,7,13,7],[12,9,13,9],[12,10,13,10],[12,11,13,11]]}
[]
[null,null,"Tableaux de financement"]
[]
[]
[]
[null,null,null,"Taux d'emprunt ",{"$f":"CalculFinancier!E45","v":9.9999999999999994E-12},null,null,null,"calculé via macro ",null,null,null,null,null,null,"Taux d'emprunt ",{"$f":"CalculFinancier!$E$43","v":0.04}]
[null,null,null,"Durée de l'emprunt",{"$f":"Données!$AE$17","v":240},"mois",null,null,"calcul dans la feuille",null,null,null,null,null,null,"Durée de l'emprunt",{"$f":"Données!$AF$17","v":240},"mois"]
[null,null,null,"Montant à financer (avec prime)",{"$f":"CalculFinancier!H30","v":60000},"€",null,null,"Eléments liés à une autre feuille",null,null,null,null,null,null,"Montant à financer (avec prime)",{"$f":"CalculFinancier!$I$30","v":40000},"€"]
[]
[]
[]
[]
[null,null,"Années","Mois","Capital restant du","Mensualité (K+i)","dont K","dont i",null,"Années","Capital remboursé","Intérêts remboursés","Annuités",null,"Années","Mois","Capital restant du","Mensualité (K+i)","dont K","dont i",null,"Années","Capital remboursé","Intérêts remboursés","Annuités",null,"Années","Mois","Capital restant du","Mensualité (K+i)","dont K","dont i",null,"Années","Capital remboursé","Intérêts remboursés","Annuités"]
[]
[null,null,1,1,59750.000020685089,{"$f":"($E$8*$E$6/12)/(1-(1+($E$6/12))^-$E$7)","v":249.99997931490896},249.99997931490896,0,null,1,{"$f":"SUM(G15:G26)","v":2999.9997517789084},{"$f":"SUM(H15:H26)","v":0},{"$f":"K15+L15","v":2999.9997517789084},null,1,1,39890.941201613568,{"$f":"IF(Q8=0,0,($Q$8*$Q$6/12)/(1-(1+($Q$6/12))^-$Q$7))","v":242.39213171976323},109.05879838642988,133.33333333333334,null,1,{"$f":"SUM(S15:S26)","v":1332.9671145724255},{"$f":"SUM(T15:T26)","v":1575.7384660647335},{"$f":"W15+X15","v":2908.7055806371591},null,1,1,{"$f":"Q15+E15","v":99640.941222298658},{"$f":"R15+F15","v":492.39211103467221},{"$f":"S15+G15","v":359.05877770133884},133.33333333333334,null,1,{"$f":"W15+K15","v":4332.9668663513339},{"$f":"X15+L15","v":1575.7384660647335},{"$f":"Y15+M15","v":5908.7053324160679}]
[null,null,null,2,{"$f":"E15-G16","v":59500.000041370178},{"$f":"$F$15","v":249.99997931490896},{"$f":"$G$15","v":249.99997931490896},0,null,2,{"$f":"SUM(G27:G38)","v":2999.9997517789084},{"$f":"SUM(H27:H38)","v":0},{"$f":"K16+L16","v":2999.9997517789084},null,null,2,{"$f":"Q15-S16","v":39781.518873899186},{"$f":"IF(T16=0,0,$R$15)","v":242.39213171976323},{"$f":"IF(T16=0,0,R16-T16)","v":109.42232771438466},{"$f":"IF(($Q$6/12)*Q15<=0,0,($Q$6/12)*Q15)","v":132.96980400537856},null,2,{"$f":"SUM(S27:S38)","v":1387.2742514814465},{"$f":"SUM(T27:T38)","v":1521.4313291557125},{"$f":"W16+X16","v":2908.7055806371591},null,null,2,{"$f":"Q16+E16","v":99281.518915269364},492.39211103467221,359.42230702929362,132.96980400537856,null,2,{"$f":"W16+K16","v":4387.2740032603551},1521.4313291557125,5908.7053324160679]
[null,null,null,3,{"$f":"E16-G17","v":59250.000062055267},{"$f":"$F$15","v":249.99997931490896},{"$f":"$G$15","v":249.99997931490896},0,null,3,{"$f":"SUM(G39:G50)","v":2999.9997517789084},{"$f":"SUM(H39:H50)","v":0},2999.9997517789084,null,null,3,{"$f":"Q16-S17","v":39671.731805092422},{"$f":"IF(T17=0,0,$R$15)","v":242.39213171976323},{"$f":"IF(T17=0,0,R17-T17)","v":109.78706880676594},{"$f":"IF(($Q$6/12)*Q16<=0,0,($Q$6/12)*Q16)","v":132.60506291299728},null,3,{"$f":"SUM(S39:S50)","v":1443.7939449396968},{"$f":"SUM(T39:T50)","v":1464.9116356974619},2908.7055806371586,null,null,3,{"$f":"Q17+E17","v":98921.731867147697},492.39211103467221,359.7870481216749,132.60506291299728,null,3,4443.7936967186051,1464.9116356974619,5908.705332416067]
[null,null,null,4,59000.000082740356,249.99997931490896,249.99997931490896,0,null,4,{"$f":"SUM(G51:G62)","v":2999.9997517789084},{"$f":"SUM(H51:H62)","v":0},2999.9997517789084,null,null,4,39561.578779389631,242.39213171976323,110.15302570278848,132.23910601697474,null,4,{"$f":"SUM(S51:S62)","v":1502.6163379147897},{"$f":"SUM(T51:T62)","v":1406.0892427223689},2908.7055806371586,null,null,4,98561.578862129987,492.39211103467221,360.15300501769741,132.23910601697474,null,4,4502.6160896936981,1406.0892427223689,5908.705332416067]
[null,null,null,5,58750.000103425446,249.99997931490896,249.99997931490896,0,null,5,{"$f":"SUM(G63:G74)","v":2999.9997517789084},{"$f":"SUM(H63:H74)","v":0},2999.9997517789084,null,null,5,39451.058576934498,242.39213171976323,110.52020245513111,131.87192926463212,null,5,{"$f":"SUM(S63:S74)","v":1563.8352459379225},{"$f":"SUM(T63:T74)","v":1344.8703346992363},2908.7055806371591,null,null,5,98201.058680359944,492.39211103467221,360.52018177004004,131.87192926463212,null,5,4563.8349977168309,1344.8703346992363,5908.7053324160679]
[null,null,null,6,58500.000124110535,249.99997931490896,249.99997931490896,0,null,6,{"$f":"SUM(G75:G86)","v":2999.9997517789084},{"$f":"SUM(H75:H86)","v":0},2999.9997517789084,null,null,6,39340.169973804514,242.39213171976323,110.88860312998156,131.50352858978167,null,6,{"$f":"SUM(S75:S86)","v":1627.5483067297823},{"$f":"SUM(T75:T86)","v":1281.1572739073767},{"$f":"W20+X20","v":2908.7055806371591},null,null,6,97840.170097915048,492.39211103467221,360.88858244489052,131.50352858978167,null,6,4627.5480585086907,1281.1572739073767,5908.7053324160679]
[null,null,null,7,58250.000144795624,249.99997931490896,249.99997931490896,0,null,7,{"$f":"SUM(G87:G98)","v":2999.9997517789084},{"$f":"SUM(H87:H98)","v":0},2999.9997517789084,null,null,7,39228.911741997435,242.39213171976323,111.2582318070815,131.13389991268173,null,7,{"$f":"SUM(S87:S98)","v":1693.8571359224443},{"$f":"SUM(T87:T98)","v":1214.8484447147143},{"$f":"W21+X21","v":2908.7055806371586},null,null,7,97478.911886793067,492.39211103467221,361.25821112199048,131.13389991268173,null,7,4693.8568877013531,1214.8484447147143,5908.705332416067]
[null,null,null,8,58000.000165480713,249.99997931490896,249.99997931490896,0,null,8,{"$f":"SUM(G99:G110)","v":2999.9997517789084},{"$f":"SUM(H99:H110)","v":0},2999.9997517789084,null,null,8,39117.282649417662,242.39213171976323,111.62909257977176,130.76303913999146,null,8,{"$f":"SUM(S99:S110)","v":1762.8674891256205},{"$f":"SUM(T99:T110)","v":1145.8380915115381},2908.7055806371586,null,null,8,97117.282814898383,492.39211103467221,361.62907189468069,130.76303913999146,null,8,4762.8672409045284,1145.8380915115381,{"$f":"Y22+M22","v":5908.705332416067}]
[null,null,null,9,57750.000186165802,249.99997931490896,249.99997931490896,0,null,9,{"$f":"SUM(G111:G122)","v":2999.9997517789084},{"$f":"SUM(H111:H122)","v":0},2999.9997517789084,null,null,9,39005.281459862628,242.39213171976323,112.00118955503768,130.39094216472554,null,9,{"$f":"SUM(S111:S122)","v":1834.6894305957339},{"$f":"SUM(T111:T122)","v":1074.0161500414247},2908.7055806371586,null,null,9,96755.281646028423,492.39211103467221,362.00116886994664,130.39094216472554,null,9,4834.6891823746428,1074.0161500414247,5908.705332416067]
[null,null,null,10,57500.000206850891,249.99997931490896,249.99997931490896,0,null,10,{"$f":"SUM(G123:G134)","v":2999.9997517789084},{"$f":"SUM(H123:H134)","v":0},2999.9997517789084,null,null,10,38892.906933009072,242.39213171976323,112.37452685355447,130.01760486620876,null,10,{"$f":"SUM(S123:S134)","v":1909.4375087768346},{"$f":"SUM(T123:T134)","v":999.26807186032386},2908.7055806371586,null,null,10,96392.907139859963,492.39211103467221,362.37450616846343,130.01760486620876,null,10,4909.4372605557428,999.26807186032386,5908.705332416067]
[null,null,null,11,57250.00022753598,249.99997931490896,249.99997931490896,0,null,11,{"$f":"SUM(G135:G146)","v":2999.9997517789084},{"$f":"SUM(H135:H146)","v":0},2999.9997517789084,null,null,11,38780.157824399335,242.39213171976323,112.74910860973299,129.64302311003024,null,11,{"$f":"SUM(S135:S146)","v":1987.2309389933223},{"$f":"SUM(T135:T146)","v":921.47464164383643},2908.7055806371586,null,null,11,96030.158051935316,492.39211103467221,362.74908792464191,129.64302311003024,null,11,4987.2306907722304,921.47464164383643,5908.705332416067]
[null,null,null,12,57000.000248221069,249.99997931490896,249.99997931490896,0,null,12,{"$f":"SUM(G147:G158)","v":2999.9997517789084},{"$f":"SUM(H147:H158)","v":0},2999.9997517789084,null,null,12,38667.032885427572,242.39213171976323,113.12493897176543,129.2671927479978,null,12,{"$f":"SUM(S147:S158)","v":2068.1937935858527},{"$f":"SUM(T147:T158)","v":840.5117870513061},2908.7055806371591,null,null,12,95667.033133648642,492.39211103467221,363.12491828667441,129.2671927479978,null,12,5068.1935453647611,840.5117870513061,5908.7053324160679]
[null,null,2,13,56750.000268906158,249.99997931490896,249.99997931490896,0,null,13,{"$f":"SUM(G159:G170)","v":2999.9997517789084},{"$f":"SUM(H159:H170)","v":0},2999.9997517789084,null,2,13,38553.530863325897,242.39213171976323,113.50202210167132,128.89010961809191,null,13,{"$f":"SUM(S159:S170)","v":2152.4551997936733},{"$f":"SUM(T159:T170)","v":756.25038084348569},2908.7055806371591,null,2,13,95303.531132232049,492.39211103467221,363.50200141658024,128.89010961809191,null,13,5152.4549515725812,756.25038084348569,5908.7053324160679]
[null,null,null,14,56500.000289591248,249.99997931490896,249.99997931490896,0,null,14,{"$f":"SUM(G171:G182)","v":2999.9997517789084},{"$f":"SUM(H171:H182)","v":0},2999.9997517789084,null,null,14,38439.650501150551,242.39213171976323,113.88036217534355,128.51176954441968,null,14,{"$f":"SUM(S171:S182)","v":2240.149545698991},{"$f":"SUM(T171:T182)","v":668.55603493816761},2908.7055806371586,null,null,14,94939.650790741798,492.39211103467221,363.88034149025248,128.51176954441968,null,14,5240.1492974778994,668.55603493816761,5908.705332416067]
[null,null,null,15,56250.000310276337,249.99997931490896,249.99997931490896,0,null,15,{"$f":"SUM(G183:G194)","v":2999.9997517789084},{"$f":"SUM(H183:H194)","v":0},2999.9997517789084,null,null,15,38325.390537767955,242.39213171976323,114.25996338259472,128.13216833716851,null,15,{"$f":"SUM(S183:S194)","v":2331.416694561834},{"$f":"SUM(T183:T194)","v":577.28888607532485},2908.7055806371591,null,null,15,94575.390848044291,492.39211103467221,364.25994269750367,128.13216833716851,null,15,5331.4164463407424,577.28888607532485,5908.7053324160679]
[null,null,null,16,56000.000330961426,249.99997931490896,249.99997931490896,0,null,16,{"$f":"SUM(G195:G206)","v":2999.9997517789084},{"$f":"SUM(H195:H206)","v":0},2999.9997517789084,null,null,16,38210.749707840754,242.39213171976323,114.64082992720337,127.75130179255986,null,16,{"$f":"SUM(S195:S206)","v":2426.4022078872395},{"$f":"SUM(T195:T206)","v":482.30337274991984},2908.7055806371591,null,null,16,94210.750038802187,492.39211103467221,364.64080924211231,127.75130179255986,null,16,5426.4019596661474,482.30337274991984,5908.7053324160679]
[null,null,null,17,55750.000351646515,249.99997931490896,249.99997931490896,0,null,17,{"$f":"SUM(G207:G218)","v":2999.9997517789084},{"$f":"SUM(H207:H218)","v":0},2999.9997517789084,null,null,17,38095.726741813793,242.39213171976323,115.0229660269607,127.36916569280253,null,17,{"$f":"SUM(S207:S218)","v":2525.2575775805494},{"$f":"SUM(T207:T218)","v":383.44800305660942},2908.7055806371591,null,null,17,93845.7270934603,492.39211103467221,365.02294534186967,127.36916569280253,null,17,5525.2573293594578,383.44800305660942,5908.7053324160679]
[null,null,null,18,55500.000372331604,249.99997931490896,249.99997931490896,0,null,18,{"$f":"SUM(G219:G230)","v":2999.9997517789084},{"$f":"SUM(H219:H230)","v":0},2999.9997517789084,null,null,18,37980.320365900072,242.39213171976323,115.40637591371724,126.98575580604599,null,18,{"$f":"SUM(S219:S230)","v":2628.1404675610706},{"$f":"SUM(T219:T230)","v":280.56511307608753},2908.7055806371582,null,null,18,93480.320738231676,492.39211103467221,365.40635522862618,126.98575580604599,null,18,5628.140219339979,280.56511307608753,5908.7053324160661]
[null,null,null,19,55250.000393016693,249.99997931490896,249.99997931490896,0,null,19,{"$f":"SUM(G231:G242)","v":2999.9997517789084},{"$f":"SUM(H231:H242)","v":0},2999.9997517789084,null,null,19,37864.529302066643,242.39213171976323,115.79106383342965,126.60106788633358,null,19,{"$f":"SUM(S231:S242)","v":2735.2149652194471},{"$f":"SUM(T231:T242)","v":173.49061541771212},2908.7055806371591,null,null,19,93114.529695083329,492.39211103467221,365.79104314833859,126.60106788633358,null,19,5735.2147169983555,173.49061541771212,5908.7053324160679]
[null,null,null,20,55000.000413701782,249.99997931490896,249.99997931490896,0,null,20,{"$f":"SUM(G243:G254)","v":2999.9997517789084},{"$f":"SUM(H243:H254)","v":0},2999.9997517789084,null,null,20,37748.352268020433,242.39213171976323,116.17703404620774,126.21509767355549,null,20,{"$f":"SUM(S243:S254)","v":2846.6518431197856},{"$f":"SUM(T243:T254)","v":62.053737517373108},2908.7055806371586,null,null,20,92748.352681722215,492.39211103467221,366.17701336111668,126.21509767355549,null,20,5846.6515948986944,62.053737517373108,5908.705332416067]
[null,null,null,21,54750.000434386871,249.99997931490896,249.99997931490896,0,null,"Total",{"$f":"SUM(K15:K34)","v":59999.995035578169},{"$f":"SUM(L15:L34)","v":0},{"$f":"SUM(M15:M34)","v":59999.995035578169},null,null,21,37631.787977194072,242.39213171976323,116.56429082636177,125.82784089340146,null,"Total",{"$f":"SUM(W15:W34)","v":39999.999999998465},{"$f":"SUM(X15:X34)","v":18174.111612744713},{"$f":"SUM(Y15:Y34)","v":58174.11161274316},null,null,21,92381.788411580943,492.39211103467221,366.56427014127075,125.82784089340146,null,"Total",{"$f":"SUM(AI15:AI34)","v":99999.995035576634},{"$f":"SUM(AJ15:AJ34)","v":18174.111612744713},{"$f":"SUM(AK15:AK34)","v":118174.10664832134}]
[null,null,null,22,54500.00045507196,249.99997931490896,249.99997931490896,0,null,null,null,null,null,null,null,22,37514.835138731622,242.39213171976323,116.95283846244965,125.43929325731358,null,null,null,null,null,null,null,22,92014.835593803582,492.39211103467221,366.95281777735863,125.43929325731358]
[null,null,null,23,54250.00047575705,249.99997931490896,249.99997931490896,0,null,null,null,null,null,null,null,23,37397.492457474298,242.39213171976323,117.34268125732449,125.04945046243874,null,null,null,null,null,null,null,23,91647.492933231348,492.39211103467221,367.34266057223346,125.04945046243874]
[null,null,null,24,54000.000496442139,249.99997931490896,249.99997931490896,0,null,null,null,null,null,null,null,24,37279.75863394612,242.39213171976323,117.73382352818223,124.658308191581,null,null,null,null,null,null,null,24,91279.759130388265,492.39211103467221,367.73380284309121,124.658308191581]
[null,null,3,25,53750.000517127228,249.99997931490896,249.99997931490896,0,null,null,null,null,null,null,3,25,37161.632364339508,242.39213171976323,118.12626960660948,124.26586211315374,null,null,null,null,null,null,3,25,90911.632881466736,492.39211103467221,368.12624892151842,124.26586211315374]
[null,null,null,26,53500.000537812317,249.99997931490896,249.99997931490896,0,null,null,null,null,null,null,null,26,37043.112340500877,242.39213171976323,118.52002383863153,123.8721078811317,null,null,null,null,null,null,null,26,90543.112878313201,492.39211103467221,368.52000315354047,123.8721078811317]
[null,null,null,27,53250.000558497406,249.99997931490896,249.99997931490896,0,null,null,null,null,null,null,null,27,36924.197249916113,242.39213171976323,118.91509058476029,123.47704113500293,null,null,null,null,null,null,null,27,90174.197808413519,492.39211103467221,368.91506989966922,123.47704113500293]
[null,null,null,28,53000.000579182495,249.99997931490896,249.99997931490896,0,null,null,null,null,null,null,null,28,36804.885775696072,242.39213171976323,119.31147422004284,123.08065749972039,null,null,null,null,null,null,null,28,89804.886354878574,492.39211103467221,369.3114535349518,123.08065749972039]
[null,null,null,29,52750.000599867584,249.99997931490896,249.99997931490896,0,null,null,null,null,null,null,null,29,36685.176596561963,242.39213171976323,119.70917913410965,122.68295258565358,null,null,null,null,null,null,null,29,89435.177196429548,492.39211103467221,369.70915844901862,122.68295258565358]
[null,null,null,30,52500.000620552673,249.99997931490896,249.99997931490896,0,null,null,null,null,null,null,null,30,36565.068386830739,242.39213171976323,120.10820973122334,122.28392198853989,null,null,null,null,null,null,null,30,89065.069007383412,492.39211103467221,370.10818904613228,122.28392198853989]
[null,null,null,31,52250.000641237762,249.99997931490896,249.99997931490896,0,null,null,null,null,null,null,null,31,36444.559816400411,242.39213171976323,120.50857043032742,121.8835612894358,null,null,null,null,null,null,null,31,88694.560457638174,492.39211103467221,370.50854974523639,121.8835612894358]
[null,null,null,32,52000.000661922852,249.99997931490896,249.99997931490896,0,null,null,null,null,null,null,null,32,36323.649550735317,242.39213171976323,120.91026566509518,121.48186605466805,null,null,null,null,null,null,null,32,88323.650212658162,492.39211103467221,370.91024498000411,121.48186605466805]
[null,null,null,33,51750.000682607941,249.99997931490896,249.99997931490896,0,null,null,null,null,null,null,null,33,36202.336250851338,242.39213171976323,121.31329988397883,121.0788318357844,null,null,null,null,null,null,null,33,87952.336933459272,492.39211103467221,371.31327919888781,121.0788318357844]
[null,null,null,34,51500.00070329303,249.99997931490896,249.99997931490896,0,null,null,null,null,null,null,null,34,36080.618573301079,242.39213171976323,121.71767755025876,120.67445416950447,null,null,null,null,null,null,null,34,87580.619276594109,492.39211103467221,371.71765686516773,120.67445416950447]
[null,null,null,35,51250.000723978119,249.99997931490896,249.99997931490896,0,null,null,null,null,null,null,null,35,35958.495170158989,242.39213171976323,122.12340314209295,120.26872857767027,null,null,null,null,null,null,null,35,87208.495894137101,492.39211103467221,372.12338245700192,120.26872857767027]
[null,null,null,36,51000.000744663208,249.99997931490896,249.99997931490896,0,null,null,null,null,null,null,null,36,35835.964689006425,242.39213171976323,122.53048115256659,119.86165056719663,null,null,null,null,null,null,null,36,86835.965433669626,492.39211103467221,372.53046046747556,119.86165056719663]
[null,null,4,37,50750.000765348297,249.99997931490896,249.99997931490896,0,null,null,null,null,null,null,4,37,35713.025772916684,242.39213171976323,122.93891608974181,119.45321563002142,null,null,null,null,null,null,4,37,86463.026538264981,492.39211103467221,372.93889540465079,119.45321563002142]
[null,null,null,38,50500.000786033386,249.99997931490896,249.99997931490896,0,null,null,null,null,null,null,null,38,35589.677060439979,242.39213171976323,123.3487124767076,119.04341924305562,null,null,null,null,null,null,null,38,86089.677846473365,492.39211103467221,373.34869179161655,119.04341924305562]
[null,null,null,39,50250.000806718475,249.99997931490896,249.99997931490896,0,null,null,null,null,null,null,null,39,35465.917185588347,242.39213171976323,123.75987485162996,118.63225686813327,null,null,null,null,null,null,null,39,85715.917992306815,492.39211103467221,373.7598541665389,118.63225686813327]
[null,null,null,40,50000.000827403564,249.99997931490896,249.99997931490896,0,null,null,null,null,null,null,null,40,35341.744777820546,242.39213171976323,124.17240776780207,118.21972395196116,null,null,null,null,null,null,null,40,85341.745605224103,492.39211103467221,374.172387082711,118.21972395196116]
[null,null,null,41,49750.000848088654,249.99997931490896,249.99997931490896,0,null,null,null,null,null,null,null,41,35217.158462026848,242.39213171976323,124.58631579369474,117.80581592606849,null,null,null,null,null,null,null,41,84967.159310115501,492.39211103467221,374.58629510860368,117.80581592606849]
[null,null,null,42,49500.000868773743,249.99997931490896,249.99997931490896,0,null,null,null,null,null,null,null,42,35092.156858513838,242.39213171976323,125.00160351300705,117.39052820675617,null,null,null,null,null,null,null,42,84592.157727287587,492.39211103467221,375.00158282791602,117.39052820675617]
[null,null,null,43,49250.000889458832,249.99997931490896,249.99997931490896,0,null,null,null,null,null,null,null,43,34966.738582989121,242.39213171976323,125.41827552471709,116.97385619504614,null,null,null,null,null,null,null,43,84216.739472447953,492.39211103467221,375.41825483962606,116.97385619504614]
[null,null,null,44,49000.000910143921,249.99997931490896,249.99997931490896,0,null,null,null,null,null,null,null,44,34840.902246545986,242.39213171976323,125.83633644313282,116.55579527663041,null,null,null,null,null,null,null,44,83840.903156689907,492.39211103467221,375.83631575804179,116.55579527663041]
[null,null,null,45,48750.00093082901,249.99997931490896,249.99997931490896,0,null,null,null,null,null,null,null,45,34714.646455648042,242.39213171976323,126.25579089794327,116.13634082181996,null,null,null,null,null,null,null,45,83464.647386477052,492.39211103467221,376.25577021285221,116.13634082181996]
[null,null,null,46,48500.000951514099,249.99997931490896,249.99997931490896,0,null,null,null,null,null,null,null,46,34587.96981211377,242.39213171976323,126.67664353426974,115.71548818549348,null,null,null,null,null,null,null,46,83087.970763627876,492.39211103467221,376.67662284917867,115.71548818549348]
[null,null,null,47,48250.000972199188,249.99997931490896,249.99997931490896,0,null,null,null,null,null,null,null,47,34460.870913101055,242.39213171976323,127.09889901271733,115.2932327070459,null,null,null,null,null,null,null,47,82710.871885300236,492.39211103467221,377.09887832762627,115.2932327070459]
[null,null,null,48,48000.000992884277,249.99997931490896,249.99997931490896,0,null,null,null,null,null,null,null,48,34333.348351091627,242.39213171976323,127.52256200942637,114.86956971033686,null,null,null,null,null,null,null,48,82333.349343975904,492.39211103467221,377.52254132433529,114.86956971033686]
[null,null,5,49,47750.001013569366,249.99997931490896,249.99997931490896,0,null,null,null,null,null,null,5,49,34205.400713875504,242.39213171976323,127.94763721612446,114.44449450363877,null,null,null,null,null,null,5,49,81955.401727444871,492.39211103467221,377.94761653103342,114.44449450363877]
[null,null,null,50,47500.001034254456,249.99997931490896,249.99997931490896,0,null,null,null,null,null,null,null,50,34077.026584535328,242.39213171976323,128.3741293401782,114.01800237958503,null,null,null,null,null,null,null,50,81577.027618789783,492.39211103467221,378.37410865508718,114.01800237958503]
[null,null,null,51,47250.001054939545,249.99997931490896,249.99997931490896,0,null,null,null,null,null,null,null,51,33948.224541430682,242.39213171976323,128.80204310464546,113.59008861511776,null,null,null,null,null,null,null,51,81198.225596370234,492.39211103467221,378.80202241955442,113.59008861511776]
[null,null,null,52,47000.001075624634,249.99997931490896,249.99997931490896,0,null,null,null,null,null,null,null,52,33818.993158182355,242.39213171976323,129.23138324832763,113.16074847143561,null,null,null,null,null,null,null,52,80818.994233806996,492.39211103467221,379.23136256323659,113.16074847143561]
[null,null,null,53,46750.001096309723,249.99997931490896,249.99997931490896,0,null,null,null,null,null,null,null,53,33689.331003656531,242.39213171976323,129.66215452582202,112.7299771939412,null,null,null,null,null,null,null,53,80439.332099966254,492.39211103467221,379.66213384073097,112.7299771939412]
[null,null,null,54,46500.001116994812,249.99997931490896,249.99997931490896,0,null,null,null,null,null,null,null,54,33559.236641948955,242.39213171976323,130.09436170757479,112.29777001218844,null,null,null,null,null,null,null,54,80059.237758943767,492.39211103467221,380.09434102248372,112.29777001218844]
[null,null,null,55,46250.001137679901,249.99997931490896,249.99997931490896,0,null,null,null,null,null,null,null,55,33428.708632369024,242.39213171976323,130.52800957993338,111.86412213982986,null,null,null,null,null,null,null,55,79678.709770048925,492.39211103467221,380.52798889484234,111.86412213982986]
[null,null,null,56,46000.00115836499,249.99997931490896,249.99997931490896,0,null,null,null,null,null,null,null,56,33297.745529423824,242.39213171976323,130.96310294519981,111.42902877456342,null,null,null,null,null,null,null,56,79297.746687788807,492.39211103467221,380.96308226010876,111.42902877456342]
[null,null,null,57,45750.001179050079,249.99997931490896,249.99997931490896,0,null,null,null,null,null,null,null,57,33166.345882802139,242.39213171976323,131.39964662168381,110.99248509807943,null,null,null,null,null,null,null,57,78916.347061852226,492.39211103467221,381.39962593659277,110.99248509807943]
[null,null,null,58,45500.001199735168,249.99997931490896,249.99997931490896,0,null,null,null,null,null,null,null,58,33034.508237358386,242.39213171976323,131.83764544375609,110.55448627600714,null,null,null,null,null,null,null,58,78534.509437093555,492.39211103467221,381.83762475866502,110.55448627600714]
[null,null,null,59,45250.001220420258,249.99997931490896,249.99997931490896,0,null,null,null,null,null,null,null,59,32902.231133096488,242.39213171976323,132.27710426190194,110.11502745786129,null,null,null,null,null,null,null,59,78152.232353516738,492.39211103467221,382.27708357681092,110.11502745786129]
[null,null,null,60,45000.001241105347,249.99997931490896,249.99997931490896,0,null,null,null,null,null,null,null,60,32769.51310515371,242.39213171976323,132.71802794277494,109.6741037769883,null,null,null,null,null,null,null,60,77769.514346259064,492.39211103467221,382.71800725768389,109.6741037769883]
[null,null,6,61,44750.001261790436,249.99997931490896,249.99997931490896,0,null,null,null,null,null,null,6,61,32636.352683784458,242.39213171976323,133.16042136925086,109.23171035051237,null,null,null,null,null,null,6,61,77386.353945574898,492.39211103467221,383.16040068415981,109.23171035051237]
[null,null,null,62,44500.001282475525,249.99997931490896,249.99997931490896,0,null,null,null,null,null,null,null,62,32502.748394343977,242.39213171976323,133.60428944048169,108.78784227928153,null,null,null,null,null,null,null,62,77002.749676819498,492.39211103467221,383.60426875539065,108.78784227928153]
[null,null,null,63,44250.001303160614,249.99997931490896,249.99997931490896,0,null,null,null,null,null,null,null,63,32368.698757272028,242.39213171976323,134.04963707194997,108.34249464781327,null,null,null,null,null,null,null,63,76618.700060432646,492.39211103467221,384.04961638685893,108.34249464781327]
[null,null,null,64,44000.001323845703,249.99997931490896,249.99997931490896,0,null,null,null,null,null,null,null,64,32234.202288076503,242.39213171976323,134.49646919552313,107.89566252424009,null,null,null,null,null,null,null,64,76234.203611922203,492.39211103467221,384.49644851043206,107.89566252424009]
[null,null,null,65,43750.001344530792,249.99997931490896,249.99997931490896,0,null,null,null,null,null,null,null,65,32099.257497316994,242.39213171976323,134.94479075950821,107.44734096025502,null,null,null,null,null,null,null,65,75849.258841847783,492.39211103467221,384.94477007441719,107.44734096025502]
[null,null,null,66,43500.001365215881,249.99997931490896,249.99997931490896,0,null,null,null,null,null,null,null,66,31963.862890588287,242.39213171976323,135.39460672870658,106.99752499105665,null,null,null,null,null,null,null,66,{"$f":"Q80+E80","v":75463.864255804161},492.39211103467221,385.3945860436155,106.99752499105665]
[null,null,null,67,{"$f":"E80-G81","v":43250.00138590097},{"$f":"$F$15","v":249.99997931490896},{"$f":"$G$15","v":249.99997931490896},0,null,null,null,null,null,null,null,67,{"$f":"Q80-S81","v":31828.016968503816},{"$f":"IF(T81=0,0,$R$15)","v":242.39213171976323},{"$f":"IF(T81=0,0,R81-T81)","v":135.84592208446892},{"$f":"IF(($Q$6/12)*Q80<=0,0,($Q$6/12)*Q80)","v":106.5462096352943},null,null,null,null,null,null,null,67,75078.01835440479,492.39211103467221,385.84590139937791,106.5462096352943]
[null,null,null,68,43000.00140658606,249.99997931490896,249.99997931490896,0,null,null,null,null,null,null,null,68,31691.718226679066,242.39213171976323,136.29874182475049,106.09338989501273,null,null,null,null,null,null,null,68,74691.719633265122,492.39211103467221,386.29872113965945,106.09338989501273]
[null,null,null,69,42750.001427271149,249.99997931490896,249.99997931490896,0,null,null,null,null,null,null,null,69,31554.965155714901,242.39213171976323,136.75307096416634,105.63906075559689,null,null,null,null,null,null,null,69,74304.966582986046,492.39211103467221,386.7530502790753,105.63906075559689]
[null,null,null,70,42500.001447956238,249.99997931490896,249.99997931490896,0,null,null,null,null,null,null,null,70,31417.756241180854,242.39213171976323,137.20891453404687,105.18321718571634,null,null,null,null,null,null,null,70,73917.757689137099,492.39211103467221,387.20889384895582,105.18321718571634]
[null,null,null,71,42250.001468641327,249.99997931490896,249.99997931490896,0,null,null,null,null,null,null,null,71,31280.089963598359,242.39213171976323,137.66627758249371,104.72585413726952,null,null,null,null,null,null,null,71,73530.091432239686,492.39211103467221,387.66625689740266,104.72585413726952]
[null,null,null,72,42000.001489326416,249.99997931490896,249.99997931490896,0,null,null,null,null,null,null,null,72,31141.964798423924,242.39213171976323,138.12516517443535,104.26696654532788,null,null,null,null,null,null,null,72,73141.966287750343,492.39211103467221,388.12514448934428,104.26696654532788]
[null,null,7,73,41750.001510011505,249.99997931490896,249.99997931490896,0,null,null,null,null,null,null,7,73,31003.379216032241,242.39213171976323,138.58558239168349,103.80654932807975,null,null,null,null,null,null,7,73,72753.380726043746,492.39211103467221,388.58556170659244,103.80654932807975]
[null,null,null,74,41500.001530696594,249.99997931490896,249.99997931490896,0,null,null,null,null,null,null,null,74,30864.331681699252,242.39213171976323,139.04753433298907,103.34459738677414,null,null,null,null,null,null,null,74,72364.333212395839,492.39211103467221,389.04751364789803,103.34459738677414]
[null,null,null,75,41250.001551381683,249.99997931490896,249.99997931490896,0,null,null,null,null,null,null,null,75,30724.820655585154,242.39213171976323,139.51102611409905,102.88110560566417,null,null,null,null,null,null,null,75,71974.822206966841,492.39211103467221,389.51100542900804,102.88110560566417]
[null,null,null,76,41000.001572066772,249.99997931490896,249.99997931490896,0,null,null,null,null,null,null,null,76,30584.844592717342,242.39213171976323,139.97606286781271,102.41606885195051,null,null,null,null,null,null,null,76,71584.846164784118,492.39211103467221,389.9760421827217,102.41606885195051]
[null,null,null,77,40750.001592751862,249.99997931490896,249.99997931490896,0,null,null,null,null,null,null,null,77,30444.401942973302,242.39213171976323,140.44264974403876,101.94948197572448,null,null,null,null,null,null,null,77,71194.403535725171,492.39211103467221,390.44262905894772,101.94948197572448]
[null,null,null,78,40500.001613436951,249.99997931490896,249.99997931490896,0,null,null,null,null,null,null,null,78,30303.491151063448,242.39213171976323,140.91079190985221,101.48133980991101,null,null,null,null,null,null,null,78,70803.492764500406,492.39211103467221,390.91077122476116,101.48133980991101]
[null,null,null,79,40250.00163412204,249.99997931490896,249.99997931490896,0,null,null,null,null,null,null,null,79,30162.110656513898,242.39213171976323,141.38049454955171,101.0116371702115,null,null,null,null,null,null,null,79,70412.112290635938,492.39211103467221,391.38047386446067,101.0116371702115]
[null,null,null,80,40000.001654807129,249.99997931490896,249.99997931490896,0,null,null,null,null,null,null,null,80,30020.258893649181,242.39213171976323,141.85176286471687,100.54036885504634,null,null,null,null,null,null,null,80,70020.26054845631,492.39211103467221,391.85174217962583,100.54036885504634]
[null,null,null,81,39750.001675492218,249.99997931490896,249.99997931490896,0,null,null,null,null,null,null,null,81,29877.934291574915,242.39213171976323,142.32460207426595,100.06752964549727,null,null,null,null,null,null,null,81,69627.93596706714,492.39211103467221,392.32458138917491,100.06752964549727]
[null,null,null,82,39500.001696177307,249.99997931490896,249.99997931490896,0,null,null,null,null,null,null,null,82,29735.135274160402,242.39213171976323,142.79901741451351,99.593114305249728,null,null,null,null,null,null,null,82,69235.136970337713,492.39211103467221,392.79899672942247,99.593114305249728]
[null,null,null,83,39250.001716862396,249.99997931490896,249.99997931490896,0,null,null,null,null,null,null,null,83,29591.860260021174,242.39213171976323,143.27501413922855,99.117117580534682,null,null,null,null,null,null,null,83,68841.861976883578,492.39211103467221,393.27499345413753,99.117117580534682]
[null,null,null,84,39000.001737547485,249.99997931490896,249.99997931490896,0,null,null,null,null,null,null,null,84,{"$f":"Q97-S98","v":29448.107662501483},242.39213171976323,143.75259751969264,98.639534200070585,null,null,null,null,null,null,null,84,68448.109400048968,492.39211103467221,393.7525768346016,98.639534200070585]
[null,null,8,85,38750.001758232575,249.99997931490896,249.99997931490896,0,null,null,null,null,null,null,8,85,{"$f":"Q98-S99","v":29303.875889656723},242.39213171976323,144.23177284475827,98.160358875004945,null,null,null,null,null,null,8,85,68053.877647889298,492.39211103467221,394.23175215966722,98.160358875004945]
[null,null,null,86,38500.001778917664,249.99997931490896,249.99997931490896,0,null,null,null,null,null,null,null,86,29159.163344235814,242.39213171976323,144.71254542090747,97.679586298855753,null,null,null,null,null,null,null,86,67659.165123153478,492.39211103467221,394.71252473581643,97.679586298855753]
[null,null,null,87,38250.001799602753,249.99997931490896,249.99997931490896,0,null,null,null,null,null,null,null,87,29013.968423663504,242.39213171976323,145.19492057231051,97.19721114745272,null,null,null,null,null,null,null,87,67263.970223266253,492.39211103467221,395.19489988721944,97.19721114745272]
[null,null,null,88,38000.001820287842,249.99997931490896,249.99997931490896,0,null,null,null,null,null,null,null,88,28868.289520022619,242.39213171976323,145.67890364088487,96.713228078878359,null,null,null,null,null,null,null,88,66868.291340310461,492.39211103467221,395.67888295579382,96.713228078878359]
[null,null,null,89,37750.001840972931,249.99997931490896,249.99997931490896,0,null,null,null,null,null,null,null,89,28722.125020036267,242.39213171976323,146.16449998635449,96.227631733408742,null,null,null,null,null,null,null,89,66472.126861009194,492.39211103467221,396.16447930126344,96.227631733408742]
[null,null,null,90,37500.00186165802,249.99997931490896,249.99997931490896,0,null,null,null,null,null,null,null,90,28575.473305049956,242.39213171976323,146.651714986309,95.740416733454225,null,null,null,null,null,null,null,90,66075.475166707969,492.39211103467221,396.65169430121796,95.740416733454225]
[null,null,null,91,37250.001882343109,249.99997931490896,249.99997931490896,0,null,null,null,null,null,null,null,91,28428.332751013691,242.39213171976323,147.14055403626338,95.25157768349986,null,null,null,null,null,null,null,91,65678.334633356804,492.39211103467221,397.14053335117234,95.25157768349986]
[null,null,null,92,37000.001903028198,249.99997931490896,249.99997931490896,0,null,null,null,null,null,null,null,92,28280.701728463973,242.39213171976323,147.63102254971758,94.761109170045643,null,null,null,null,null,null,null,92,65280.703631492172,492.39211103467221,397.63100186462657,94.761109170045643]
[null,null,null,93,36750.001923713287,249.99997931490896,249.99997931490896,0,null,null,null,null,null,null,null,93,28132.578602505757,242.39213171976323,148.12312595821663,94.26900576154658,null,null,null,null,null,null,null,93,64882.580526219041,492.39211103467221,398.12310527312559,94.26900576154658]
[null,null,null,94,36500.001944398377,249.99997931490896,249.99997931490896,0,null,null,null,null,null,null,null,94,27983.961732794345,242.39213171976323,148.61686971141069,93.775262008352527,null,null,null,null,null,null,null,94,64483.963677192718,492.39211103467221,398.61684902631964,93.775262008352527]
[null,null,null,95,36250.001965083466,249.99997931490896,249.99997931490896,0,null,null,null,null,null,null,null,95,27834.849473517228,242.39213171976323,149.11225927711541,93.279872442647829,null,null,null,null,null,null,null,95,64084.851438600694,492.39211103467221,399.11223859202437,93.279872442647829]
[null,null,null,96,36000.001985768555,249.99997931490896,249.99997931490896,0,null,null,null,null,null,null,null,96,27685.240173375856,242.39213171976323,149.60930014137244,92.78283157839077,null,null,null,null,null,null,null,96,63685.242159144414,492.39211103467221,399.6092794562814,92.78283157839077]
[null,null,9,97,35750.002006453644,249.99997931490896,249.99997931490896,0,null,null,null,null,null,null,9,97,27535.132175567345,242.39213171976323,150.10799780851036,92.284133911252866,null,null,null,null,null,null,9,97,63285.134182020993,492.39211103467221,400.10797712341935,92.284133911252866]
[null,null,null,98,35500.002027138733,249.99997931490896,249.99997931490896,0,null,null,null,null,null,null,null,98,27384.523817766141,242.39213171976323,150.60835780120539,91.783773918557827,null,null,null,null,null,null,null,98,62884.525844904871,492.39211103467221,400.60833711611434,91.783773918557827]
[null,null,null,99,35250.002047823822,249.99997931490896,249.99997931490896,0,null,null,null,null,null,null,null,99,27233.413432105597,242.39213171976323,151.11038566054276,91.281746059220481,null,null,null,null,null,null,null,99,62483.415479929419,492.39211103467221,401.11036497545172,91.281746059220481]
[null,null,null,100,35000.002068508911,249.99997931490896,249.99997931490896,0,null,null,null,null,null,null,null,100,27081.799345159518,242.39213171976323,151.61408694607792,90.778044773685323,null,null,null,null,null,null,null,100,62081.801413668429,492.39211103467221,401.61406626098687,90.778044773685323]
[null,null,null,101,34750.002089194,249.99997931490896,249.99997931490896,0,null,null,null,null,null,null,null,101,26929.67987792362,242.39213171976323,152.11946723589816,90.272664483865071,null,null,null,null,null,null,null,101,61679.68196711762,492.39211103467221,402.11944655080708,90.272664483865071]
[null,null,null,102,34500.002109879089,249.99997931490896,249.99997931490896,0,null,null,null,null,null,null,null,102,26777.053345796936,242.39213171976323,152.62653212668448,89.765599593078733,null,null,null,null,null,null,null,102,61277.055455676025,492.39211103467221,402.62651144159344,89.765599593078733]
[null,null,null,103,34250.002130564179,249.99997931490896,249.99997931490896,0,null,null,null,null,null,null,null,103,26623.918058563162,242.39213171976323,153.13528723377345,89.256844485989788,null,null,null,null,null,null,null,103,60873.920189127341,492.39211103467221,403.13526654868241,89.256844485989788]
[null,null,null,104,34000.002151249268,249.99997931490896,249.99997931490896,0,null,null,null,null,null,null,null,104,26470.272320371943,242.39213171976323,153.64573819121935,88.746393528543877,null,null,null,null,null,null,null,104,60470.274471621211,492.39211103467221,403.64571750612834,88.746393528543877]
[null,null,null,105,33750.002171934357,249.99997931490896,249.99997931490896,0,null,null,null,null,null,null,null,105,26316.114429720088,242.39213171976323,154.15789065185675,88.234241067906481,null,null,null,null,null,null,null,105,60066.116601654445,492.39211103467221,404.1578699667657,88.234241067906481]
[null,null,null,106,33500.002192619446,249.99997931490896,249.99997931490896,0,null,null,null,null,null,null,null,106,26161.442679432726,242.39213171976323,154.67175028736293,87.720381432400302,null,null,null,null,null,null,null,106,59661.444872052176,492.39211103467221,404.67172960227185,87.720381432400302]
[null,null,null,107,33250.002213304535,249.99997931490896,249.99997931490896,0,null,null,null,null,null,null,null,107,26006.255356644404,242.39213171976323,155.18732278832078,87.204808931442429,null,null,null,null,null,null,null,107,59256.257569948939,492.39211103467221,405.18730210322974,87.204808931442429]
[null,null,null,108,33000.002233989624,249.99997931490896,249.99997931490896,0,null,null,null,null,null,null,null,108,25850.55074278012,242.39213171976323,155.7046138642819,86.687517855481346,null,null,null,null,null,null,null,108,58850.552976769744,492.39211103467221,405.70459317919085,86.687517855481346]
[null,null,10,109,32750.002254674717,249.99997931490896,249.99997931490896,0,null,null,null,null,null,null,10,109,25694.327113536292,242.39213171976323,156.22362924382949,86.168502475933735,null,null,null,null,null,null,10,109,58444.329368211009,492.39211103467221,406.22360855873842,86.168502475933735]
[null,null,null,110,32500.00227535981,249.99997931490896,249.99997931490896,0,null,null,null,null,null,null,null,110,25537.582738861649,242.39213171976323,156.74437467464224,85.647757045120983,null,null,null,null,null,null,null,110,58037.585014221462,492.39211103467221,406.7443539895512,85.647757045120983]
[null,null,null,111,32250.002296044902,249.99997931490896,249.99997931490896,0,null,null,null,null,null,null,null,111,25380.315882938092,242.39213171976323,157.26685592355773,85.1252757962055,null,null,null,null,null,null,null,111,57630.318178982998,492.39211103467221,407.26683523846668,85.1252757962055]
[null,null,null,112,32000.002316729995,249.99997931490896,249.99997931490896,0,null,null,null,null,null,null,null,112,25222.524804161454,242.39213171976323,157.79107877663625,84.601052943126973,null,null,null,null,null,null,null,112,57222.527120891449,492.39211103467221,407.79105809154521,84.601052943126973]
[null,null,null,113,31750.002337415088,249.99997931490896,249.99997931490896,0,null,null,null,null,null,null,null,113,25064.207755122228,242.39213171976323,158.31704903922503,84.075082680538188,null,null,null,null,null,null,null,113,56814.210092537316,492.39211103467221,408.31702835413398,84.075082680538188]
[null,null,null,114,31500.002358100181,249.99997931490896,249.99997931490896,0,null,null,null,null,null,null,null,114,24905.362982586204,242.39213171976323,158.84477253602245,83.547359183740767,null,null,null,null,null,null,null,114,56405.365340686389,492.39211103467221,408.8447518509314,83.547359183740767]
[null,null,null,115,31250.002378785273,249.99997931490896,249.99997931490896,0,null,null,null,null,null,null,null,115,24745.988727475062,242.39213171976323,159.37425511114253,83.017876608620682,null,null,null,null,null,null,null,115,55995.991106260335,492.39211103467221,409.37423442605149,83.017876608620682]
[null,null,null,116,31000.002399470366,249.99997931490896,249.99997931490896,0,null,null,null,null,null,null,null,116,24586.083224846883,242.39213171976323,159.9055026281797,82.486629091583538,null,null,null,null,null,null,null,116,55586.085624317246,492.39211103467221,409.90548194308866,82.486629091583538]
[null,null,null,117,30750.002420155459,249.99997931490896,249.99997931490896,0,null,null,null,null,null,null,null,117,24425.644703876609,242.39213171976323,160.4385209702736,81.953610749489613,null,null,null,null,null,null,null,117,55175.647124032068,492.39211103467221,410.43850028518256,81.953610749489613]
[null,null,null,118,30500.002440840552,249.99997931490896,249.99997931490896,0,null,null,null,null,null,null,null,118,24264.671387836435,242.39213171976323,160.97331604017452,81.418815679588704,null,null,null,null,null,null,null,118,54764.673828676983,492.39211103467221,410.97329535508345,81.418815679588704]
[null,null,null,119,30250.002461525644,249.99997931490896,249.99997931490896,0,null,null,null,null,null,null,null,119,24103.161494076128,242.39213171976323,161.50989376030844,80.882237959454784,null,null,null,null,null,null,null,119,54353.163955601776,492.39211103467221,411.5098730752174,80.882237959454784]
[null,null,null,120,30000.002482210737,249.99997931490896,249.99997931490896,0,null,null,null,null,null,null,null,120,23941.113234003285,242.39213171976323,162.04826007284279,80.343871646920434,null,null,null,null,null,null,null,120,53941.115716214023,492.39211103467221,412.04823938775178,80.343871646920434]
[null,null,11,121,29750.00250289583,249.99997931490896,249.99997931490896,0,null,null,null,null,null,null,11,121,23778.524813063534,242.39213171976323,162.58842093975227,79.80371078001096,null,null,null,null,null,null,11,121,53528.527315959363,492.39211103467221,412.58840025466122,79.80371078001096]
[null,null,null,122,29500.002523580923,249.99997931490896,249.99997931490896,0,null,null,null,null,null,null,null,122,23615.394430720648,242.39213171976323,163.13038234288479,79.261749376878456,null,null,null,null,null,null,null,122,53115.39695430157,492.39211103467221,413.13036165779374,79.261749376878456]
[null,null,null,123,29250.002544266015,249.99997931490896,249.99997931490896,0,null,null,null,null,null,null,null,123,23451.720280436621,242.39213171976323,163.67415028402775,78.717981435735496,null,null,null,null,null,null,null,123,52701.722824702636,492.39211103467221,413.6741295989367,78.717981435735496]
[null,null,null,124,29000.002564951108,249.99997931490896,249.99997931490896,0,null,null,null,null,null,null,null,124,23287.500549651646,242.39213171976323,164.2197307849745,78.17240093478874,null,null,null,null,null,null,null,124,52287.503114602754,492.39211103467221,414.21971009988346,78.17240093478874]
[null,null,null,125,28750.002585636201,249.99997931490896,249.99997931490896,0,null,null,null,null,null,null,null,125,23122.733419764056,242.39213171976323,164.76712988759107,77.62500183217216,null,null,null,null,null,null,null,125,51872.736005400257,492.39211103467221,414.76710920250002,77.62500183217216]
[null,null,null,126,28500.002606321294,249.99997931490896,249.99997931490896,0,null,null,null,null,null,null,null,126,22957.417066110174,242.39213171976323,165.31635365388303,77.075778065880186,null,null,null,null,null,null,null,126,51457.419672431468,492.39211103467221,415.31633296879198,77.075778065880186]
[null,null,null,127,28250.002627006386,249.99997931490896,249.99997931490896,0,null,null,null,null,null,null,null,127,22791.549657944113,242.39213171976323,165.86740816606266,76.524723553700582,null,null,null,null,null,null,null,127,51041.5522849505,492.39211103467221,415.86738748097162,76.524723553700582]
[null,null,null,128,28000.002647691479,249.99997931490896,249.99997931490896,0,null,null,null,null,null,null,null,128,22625.129358417496,242.39213171976323,166.42029952661619,75.971832193147051,null,null,null,null,null,null,null,128,50625.132006108979,492.39211103467221,416.42027884152515,75.971832193147051]
[null,null,null,129,27750.002668376572,249.99997931490896,249.99997931490896,0,null,null,null,null,null,null,null,129,22458.154324559124,242.39213171976323,166.97503385837157,75.417097861391653,null,null,null,null,null,null,null,129,50208.156992935692,492.39211103467221,416.97501317328056,{"$f":"T143+H143","v":75.417097861391653}]
[null,null,null,130,27500.002689061665,249.99997931490896,249.99997931490896,0,null,null,null,null,null,null,null,130,22290.622707254559,242.39213171976323,167.53161730456614,74.860514415197088,null,null,null,null,null,null,null,130,{"$f":"Q144+E144","v":49790.625396316223},492.39211103467221,417.53159661947507,74.860514415197088]
[null,null,null,131,{"$f":"E144-G145","v":27250.002709746757},{"$f":"$F$15","v":249.99997931490896},{"$f":"$G$15","v":249.99997931490896},0,null,null,null,null,null,null,null,131,22122.532651225643,{"$f":"IF(T145=0,0,$R$15)","v":242.39213171976323},{"$f":"IF(T145=0,0,R145-T145)","v":168.09005602891469},{"$f":"IF(($Q$6/12)*Q144<=0,0,($Q$6/12)*Q144)","v":74.30207569084854},null,null,null,null,null,null,null,131,49372.535360972397,492.39211103467221,418.09003534382362,74.30207569084854]
[null,null,null,132,27000.00273043185,249.99997931490896,249.99997931490896,0,null,null,null,null,null,null,null,132,21953.882295009964,242.39213171976323,168.65035621567773,73.741775504085481,null,null,null,null,null,null,null,132,48953.885025441814,492.39211103467221,418.65033553058669,73.741775504085481]
[null,null,12,133,26750.002751116943,249.99997931490896,249.99997931490896,0,null,null,null,null,null,null,12,133,21784.669770940232,242.39213171976323,169.21252406973002,73.179607650033219,null,null,null,null,null,null,12,133,48534.672522057175,492.39211103467221,419.21250338463898,73.179607650033219]
[null,null,null,134,26500.002771802036,249.99997931490896,249.99997931490896,0,null,null,null,null,null,null,null,134,21614.893205123604,242.39213171976323,169.7765658166291,72.615565903134112,null,null,null,null,null,null,null,134,48114.89597692564,492.39211103467221,419.77654513153806,72.615565903134112]
[null,null,null,135,26250.002792487128,249.99997931490896,249.99997931490896,0,null,null,null,null,null,null,null,135,21444.55071742092,242.39213171976323,170.34248770268454,72.049644017078691,null,null,null,null,null,null,null,135,47694.553509908044,492.39211103467221,420.34246701759349,72.049644017078691]
[null,null,null,136,26000.002813172221,249.99997931490896,249.99997931490896,0,null,null,null,null,null,null,null,136,21273.640421425895,242.39213171976323,170.91029599502684,71.481835724736399,null,null,null,null,null,null,null,136,47273.643234598116,492.39211103467221,420.9102753099358,71.481835724736399]
[null,null,null,137,25750.002833857314,249.99997931490896,249.99997931490896,0,null,null,null,null,null,null,null,137,21102.160424444217,242.39213171976323,171.47999698167689,70.912134738086323,null,null,null,null,null,null,null,137,46852.163258301531,492.39211103467221,421.47997629658585,70.912134738086323]
[null,null,null,138,25500.002854542407,249.99997931490896,249.99997931490896,0,null,null,null,null,null,null,null,138,20930.108827472603,242.39213171976323,172.05159697161582,70.340534748147391,null,null,null,null,null,null,null,138,46430.111682015005,492.39211103467221,422.05157628652478,70.340534748147391]
[null,null,null,139,25250.002875227499,249.99997931490896,249.99997931490896,0,null,null,null,null,null,null,null,139,20757.483725177746,242.39213171976323,172.62510229485454,69.767029424908685,null,null,null,null,null,null,null,139,46007.486600405246,492.39211103467221,422.62508160976347,69.767029424908685]
[null,null,null,140,25000.002895912592,249.99997931490896,249.99997931490896,0,null,null,null,null,null,null,null,140,20584.283205875243,242.39213171976323,173.20051930250406,69.191612417259165,null,null,null,null,null,null,null,140,45584.286101787831,492.39211103467221,423.20049861741302,69.191612417259165]
[null,null,null,141,24750.002916597685,249.99997931490896,249.99997931490896,0,null,null,null,null,null,null,null,141,20410.505351508396,242.39213171976323,173.77785436684576,68.614277352917483,null,null,null,null,null,null,null,141,45160.508268106081,492.39211103467221,423.77783368175471,68.614277352917483]
[null,null,null,142,24500.002937282778,249.99997931490896,249.99997931490896,0,null,null,null,null,null,null,null,142,20236.148237626996,242.39213171976323,174.35711388140192,68.035017838361327,null,null,null,null,null,null,null,142,44736.15117490977,492.39211103467221,424.35709319631087,68.035017838361327]
[null,null,null,143,24250.00295796787,249.99997931490896,249.99997931490896,0,null,null,null,null,null,null,null,143,20061.20993336599,242.39213171976323,174.93830426100658,67.453827458756663,null,null,null,null,null,null,null,143,44311.21289133386,492.39211103467221,424.93828357591553,67.453827458756663]
[null,null,null,144,24000.002978652963,249.99997931490896,249.99997931490896,0,null,null,null,null,null,null,null,144,19885.688501424112,242.39213171976323,175.52143194187659,66.870699777886642,null,null,null,null,null,null,null,144,43885.691480077076,492.39211103467221,425.52141125678554,66.870699777886642]
[null,null,13,145,23750.002999338056,249.99997931490896,249.99997931490896,0,null,null,null,null,null,null,13,145,19709.581998042431,242.39213171976323,176.10650338168284,66.285628338080386,null,null,null,null,null,null,13,145,43459.584997380487,492.39211103467221,426.1064826965918,66.285628338080386]
[null,null,null,146,23500.003020023149,249.99997931490896,249.99997931490896,0,null,null,null,null,null,null,null,146,19532.88847298281,242.39213171976323,176.69352505962178,65.698606660141436,null,null,null,null,null,null,null,146,43032.891493005955,492.39211103467221,426.69350437453073,65.698606660141436]
[null,null,null,147,23250.003040708241,249.99997931490896,249.99997931490896,0,null,null,null,null,null,null,null,147,19355.605969506323,242.39213171976323,177.28250347648719,65.109628243276035,null,null,null,null,null,null,null,147,42605.609010214568,492.39211103467221,427.28248279139615,65.109628243276035]
[null,null,null,148,23000.003061393334,249.99997931490896,249.99997931490896,0,null,null,null,null,null,null,null,148,19177.732524351581,242.39213171976323,177.87344515474214,64.518686565021085,null,null,null,null,null,null,null,148,42177.735585744915,492.39211103467221,427.87342446965113,64.518686565021085]
[null,null,null,149,22750.003082078427,249.99997931490896,249.99997931490896,0,null,null,null,null,null,null,null,149,{"$f":"Q162-S163","v":18999.266167712991},242.39213171976323,178.46635663859129,63.925775081171942,null,null,null,null,null,null,null,149,41749.269249791418,492.39211103467221,428.46633595350022,63.925775081171942]
[null,null,null,150,22500.00310276352,249.99997931490896,249.99997931490896,0,null,null,null,null,null,null,null,150,18820.204923218938,242.39213171976323,179.06124449405326,63.330887225709972,null,null,null,null,null,null,null,150,41320.208025982458,492.39211103467221,429.06122380896221,63.330887225709972]
[null,null,null,151,22250.003123448612,249.99997931490896,249.99997931490896,0,null,null,null,null,null,null,null,151,18640.546807909905,242.39213171976323,179.65811530903343,62.734016410729801,null,null,null,null,null,null,null,151,40890.549931358517,492.39211103467221,429.65809462394236,62.734016410729801]
[null,null,null,152,22000.003144133705,249.99997931490896,249.99997931490896,0,null,null,null,null,null,null,null,152,18460.289832216509,242.39213171976323,180.25697569339687,62.135156026366353,null,null,null,null,null,null,null,152,40460.292976350218,492.39211103467221,430.25695500830579,62.135156026366353]
[null,null,null,153,21750.003164818798,249.99997931490896,249.99997931490896,0,null,null,null,null,null,null,null,153,18279.431999937467,242.39213171976323,180.85783227904153,61.534299440721703,null,null,null,null,null,null,null,153,40029.435164756265,492.39211103467221,430.85781159395049,61.534299440721703]
[null,null,null,154,21500.003185503891,249.99997931490896,249.99997931490896,0,null,null,null,null,null,null,null,154,18097.971308217497,242.39213171976323,181.46069171997166,60.931439999791564,null,null,null,null,null,null,null,154,39597.974493721384,492.39211103467221,431.46067103488065,60.931439999791564]
[null,null,null,155,21250.003206188983,249.99997931490896,249.99997931490896,0,null,null,null,null,null,null,null,155,17915.905747525125,242.39213171976323,182.06556069237158,60.326571027391658,null,null,null,null,null,null,null,155,39165.908953714112,492.39211103467221,432.06554000728056,60.326571027391658]
[null,null,null,156,21000.003226874076,249.99997931490896,249.99997931490896,0,null,null,null,null,null,null,null,156,17733.233301630444,242.39213171976323,182.67244589467947,59.719685825083751,null,null,null,null,null,null,null,156,38733.236528504523,492.39211103467221,432.67242520958843,59.719685825083751]
[null,null,14,157,20750.003247559169,249.99997931490896,249.99997931490896,0,null,null,null,null,null,null,14,157,17549.951947582784,242.39213171976323,183.28135404766175,59.110777672101484,null,null,null,null,null,null,14,157,38299.955195141956,492.39211103467221,433.28133336257071,59.110777672101484]
[null,null,null,158,20500.003268244262,249.99997931490896,249.99997931490896,0,null,null,null,null,null,null,null,158,17366.059655688296,242.39213171976323,183.89229189448727,58.499839825275949,null,null,null,null,null,null,null,158,37866.062923932557,492.39211103467221,433.8922712093962,58.499839825275949]
[null,null,null,159,20250.003288929354,249.99997931490896,249.99997931490896,0,null,null,null,null,null,null,null,159,17181.554389487494,242.39213171976323,184.50526620080223,57.886865518960988,null,null,null,null,null,null,null,159,37431.557678416852,492.39211103467221,434.50524551571118,57.886865518960988]
[null,null,null,160,20000.003309614447,249.99997931490896,249.99997931490896,0,null,null,null,null,null,null,null,160,16996.434105732689,242.39213171976323,185.12028375480492,57.271847964958319,null,null,null,null,null,null,null,160,36996.437415347136,492.39211103467221,435.12026306971387,57.271847964958319]
[null,null,null,161,19750.00333029954,249.99997931490896,249.99997931490896,0,null,null,null,null,null,null,null,161,16810.69675436537,242.39213171976323,185.73735136732091,56.654780352442302,null,null,null,null,null,null,null,161,36560.70008466491,492.39211103467221,435.73733068222987,56.654780352442302]
[null,null,null,162,19500.003350984633,249.99997931490896,249.99997931490896,0,null,null,null,null,null,null,null,162,16624.340278493491,242.39213171976323,186.35647587187867,56.03565584788457,null,null,null,null,null,null,null,162,36124.343629478128,492.39211103467221,436.35645518678763,56.03565584788457]
[null,null,null,163,19250.003371669725,249.99997931490896,249.99997931490896,0,null,null,null,null,null,null,null,163,16437.362614368707,242.39213171976323,186.97766412478492,55.414467594978312,null,null,null,null,null,null,null,163,35687.365986038436,492.39211103467221,436.97764343969391,55.414467594978312]
[null,null,null,164,19000.003392354818,249.99997931490896,249.99997931490896,0,null,null,null,null,null,null,null,164,16249.761691363507,242.39213171976323,187.60092300520085,54.791208714562359,null,null,null,null,null,null,null,164,35249.765083718325,492.39211103467221,437.60090232010981,54.791208714562359]
[null,null,null,165,18750.003413039911,249.99997931490896,249.99997931490896,0,null,null,null,null,null,null,null,165,16061.535431948289,242.39213171976323,188.22625941521821,54.165872304545026,null,null,null,null,null,null,null,165,34811.538844988201,492.39211103467221,438.22623873012719,54.165872304545026]
[null,null,null,166,18500.003433725004,249.99997931490896,249.99997931490896,0,null,null,null,null,null,null,null,166,15872.681751668353,242.39213171976323,188.85368027993559,53.538451439827632,null,null,null,null,null,null,null,166,34372.685185393355,492.39211103467221,438.85365959484454,53.538451439827632]
[null,null,null,167,18250.003454410096,249.99997931490896,249.99997931490896,0,null,null,null,null,null,null,null,167,15683.198559120818,242.39213171976323,189.4831925475354,52.908939172227846,null,null,null,null,null,null,null,167,33933.202013530914,492.39211103467221,439.48317186244435,52.908939172227846]
[null,null,null,168,18000.003475095189,249.99997931490896,249.99997931490896,0,null,null,null,null,null,null,null,168,15493.083755931457,242.39213171976323,190.11480318936049,52.277328530402727,null,null,null,null,null,null,null,168,33493.087231026642,492.39211103467221,440.11478250426944,52.277328530402727]
[null,null,15,169,17750.003495780282,249.99997931490896,249.99997931490896,0,null,null,null,null,null,null,15,169,15302.335236731466,242.39213171976323,190.7485191999917,51.643612519771523,null,null,null,null,null,null,15,169,33052.338732511751,492.39211103467221,440.74849851490069,51.643612519771523]
[null,null,null,170,17500.003516465375,249.99997931490896,249.99997931490896,0,null,null,null,null,null,null,null,170,15110.950889134141,242.39213171976323,191.38434759732502,51.007784122438224,null,null,null,null,null,null,null,170,32610.954405599514,492.39211103467221,441.38432691223397,51.007784122438224]
[null,null,null,171,17250.003537150467,249.99997931490896,249.99997931490896,0,null,null,null,null,null,null,null,171,14918.928593711491,242.39213171976323,192.02229542264942,50.369836297113807,null,null,null,null,null,null,null,171,32168.932130861958,492.39211103467221,442.0222747375584,50.369836297113807]
[null,null,null,172,17000.00355783556,249.99997931490896,249.99997931490896,0,null,null,null,null,null,null,null,172,14726.266223970766,242.39213171976323,192.66236974072493,49.729761979038308,null,null,null,null,null,null,null,172,31726.269781806324,492.39211103467221,442.66234905563385,49.729761979038308]
[null,null,null,173,16750.003578520653,249.99997931490896,249.99997931490896,0,null,null,null,null,null,null,null,173,14532.961646330905,242.39213171976323,193.30457763986067,49.08755407990256,null,null,null,null,null,null,null,173,31282.965224851556,492.39211103467221,443.30455695476962,49.08755407990256]
[null,null,null,174,16500.003599205746,249.99997931490896,249.99997931490896,0,null,null,null,null,null,null,null,174,14339.012720098912,242.39213171976323,193.94892623199354,48.443205487769688,null,null,null,null,null,null,null,174,30839.016319304657,492.39211103467221,443.94890554690249,48.443205487769688]
[null,null,null,175,16250.003619890836,249.99997931490896,249.99997931490896,0,null,null,null,null,null,null,null,175,14144.417297446145,242.39213171976323,194.59542265276684,47.796709066996378,null,null,null,null,null,null,null,175,30394.420917336982,492.39211103467221,444.5954019676758,47.796709066996378]
[null,null,null,176,16000.003640575927,249.99997931490896,249.99997931490896,0,null,null,null,null,null,null,null,176,13949.173223384536,242.39213171976323,195.24407406160941,47.148057658153817,null,null,null,null,null,null,null,176,29949.176863960463,492.39211103467221,445.24405337651837,47.148057658153817]
[null,null,null,177,15750.003661261018,249.99997931490896,249.99997931490896,0,null,null,null,null,null,null,null,177,13753.278335742722,242.39213171976323,195.89488764181476,46.497244077948459,null,null,null,null,null,null,null,177,29503.281997003738,492.39211103467221,445.89486695672372,46.497244077948459]
[null,null,null,178,15500.003681946109,249.99997931490896,249.99997931490896,0,null,null,null,null,null,null,null,178,13556.7304651421,242.39213171976323,196.54787060062083,45.844261119142409,null,null,null,null,null,null,null,178,29056.734147088209,492.39211103467221,446.54784991552981,45.844261119142409]
[null,null,null,179,15250.0037026312,249.99997931490896,249.99997931490896,0,null,null,null,null,null,null,null,179,13359.52743497281,242.39213171976323,197.20303016928955,45.189101550473673,null,null,null,null,null,null,null,179,28609.531137604012,492.39211103467221,447.2030094841985,45.189101550473673]
[null,null,null,180,15000.003723316291,249.99997931490896,249.99997931490896,0,null,null,null,null,null,null,null,180,13161.667061369622,242.39213171976323,197.86037360318718,44.531758116576036,null,null,null,null,null,null,null,180,28161.670784685914,492.39211103467221,447.86035291809617,44.531758116576036]
[null,null,16,181,14750.003744001382,249.99997931490896,249.99997931490896,0,null,null,null,null,null,null,16,181,12963.147153187758,242.39213171976323,198.51990818186448,43.872223537898741,null,null,null,null,null,null,16,181,27713.150897189138,492.39211103467221,448.51988749677344,43.872223537898741]
[null,null,null,182,14500.003764686473,249.99997931490896,249.99997931490896,0,null,null,null,null,null,null,null,182,12763.96551197862,242.39213171976323,199.18164120913735,43.21049051062586,null,null,null,null,null,null,null,182,27263.969276665091,492.39211103467221,449.18162052404631,43.21049051062586]
[null,null,null,183,14250.003785371564,249.99997931490896,249.99997931490896,0,null,null,null,null,null,null,null,183,12564.119931965452,242.39213171976323,199.84558001316782,42.546551706595402,null,null,null,null,null,null,null,183,26814.123717337017,492.39211103467221,449.84555932807677,42.546551706595402]
[null,null,null,184,14000.003806056655,249.99997931490896,249.99997931490896,0,null,null,null,null,null,null,null,184,12363.608200018907,242.39213171976323,200.51173194654507,41.880399773218173,null,null,null,null,null,null,null,184,26363.612006075564,492.39211103467221,450.51171126145402,41.880399773218173]
[null,null,null,185,13750.003826741746,249.99997931490896,249.99997931490896,0,null,null,null,null,null,null,null,185,12162.42809563254,242.39213171976323,201.18010438636688,41.212027333396357,null,null,null,null,null,null,null,185,25912.431922374286,492.39211103467221,451.18008370127586,41.212027333396357]
[null,null,null,186,13500.003847426837,249.99997931490896,249.99997931490896,0,null,null,null,null,null,null,null,186,11960.577390898219,242.39213171976323,201.85070473432143,40.541426985441802,null,null,null,null,null,null,null,186,25460.581238325056,492.39211103467221,451.85068404923038,40.541426985441802]
[null,null,null,187,13250.003868111928,249.99997931490896,249.99997931490896,0,null,null,null,null,null,null,null,187,11758.05385048145,242.39213171976323,202.52354041676915,39.868591302994069,null,null,null,null,null,null,null,187,25008.05771859338,492.39211103467221,452.52351973167811,39.868591302994069]
[null,null,null,188,13000.003888797019,249.99997931490896,249.99997931490896,0,null,null,null,null,null,null,null,188,11554.855231596624,242.39213171976323,203.19861888482507,39.193512834938169,null,null,null,null,null,null,null,188,24554.859120393645,492.39211103467221,453.19859819973402,39.193512834938169]
[null,null,null,189,12750.00390948211,249.99997931490896,249.99997931490896,0,null,null,null,null,null,null,null,189,11350.979283982184,242.39213171976323,203.87594761444115,38.516184105322083,null,null,null,null,null,null,null,189,24100.983193464293,492.39211103467221,453.8759269293501,38.516184105322083]
[null,null,null,190,12500.0039301672,249.99997931490896,249.99997931490896,0,null,null,null,null,null,null,null,190,11146.423749875694,242.39213171976323,204.55553410648929,37.836597613273952,null,null,null,null,null,null,null,190,23646.427680042892,492.39211103467221,454.55551342139825,37.836597613273952]
[null,null,null,191,12250.003950852291,249.99997931490896,249.99997931490896,0,null,null,null,null,null,null,null,191,10941.186363988849,242.39213171976323,205.23738588684424,37.154745832918984,null,null,null,null,null,null,null,191,23191.19031484114,492.39211103467221,455.23736520175316,37.154745832918984]
[null,null,null,192,12000.003971537382,249.99997931490896,249.99997931490896,0,null,null,null,null,null,null,null,192,10735.264853482382,242.39213171976323,205.92151050646706,36.470621213296162,null,null,null,null,null,null,null,192,22735.268825019764,492.39211103467221,455.92148982137599,36.470621213296162]
[null,null,17,193,11750.003992222473,249.99997931490896,249.99997931490896,0,null,null,null,null,null,null,17,193,10528.656937940894,242.39213171976323,206.60791554148861,35.784216178274612,null,null,null,null,null,null,17,193,22278.660930163365,492.39211103467221,456.60789485639759,35.784216178274612]
[null,null,null,194,11500.004012907564,249.99997931490896,249.99997931490896,0,null,null,null,null,null,null,null,194,10321.360329347601,242.39213171976323,207.29660859329357,35.095523126469651,null,null,null,null,null,null,null,194,{"$f":"Q208+E208","v":21821.364342255165},492.39211103467221,457.29658790820253,35.095523126469651]
[null,null,null,195,{"$f":"E208-G209","v":11250.004033592655},{"$f":"$F$15","v":249.99997931490896},{"$f":"$G$15","v":249.99997931490896},0,null,null,null,null,null,null,null,195,10113.372732058997,{"$f":"IF(T209=0,0,$R$15)","v":242.39213171976323},{"$f":"IF(T209=0,0,R209-T209)","v":207.98759728860455},{"$f":"IF(($Q$6/12)*Q208<=0,0,($Q$6/12)*Q208)","v":34.404534431158673},null,null,null,null,null,null,null,195,21363.37676565165,492.39211103467221,457.9875766035135,34.404534431158673]
[null,null,null,196,11000.004054277746,249.99997931490896,249.99997931490896,0,null,null,null,null,null,null,null,196,9904.6918427794299,242.39213171976323,208.68088927956657,33.711242440196656,null,null,null,null,null,null,null,196,20904.695897057176,492.39211103467221,458.68086859447556,33.711242440196656]
[null,null,null,197,10750.004074962837,249.99997931490896,249.99997931490896,0,null,null,null,null,null,null,null,197,9695.3153505355986,242.39213171976323,209.37649224383179,33.015639475931437,null,null,null,null,null,null,null,197,20445.319425498434,492.39211103467221,459.37647155874072,33.015639475931437]
[null,null,null,198,10500.004095647928,249.99997931490896,249.99997931490896,0,null,null,null,null,null,null,null,198,9485.2409366509546,242.39213171976323,210.07441388464457,32.317717835118664,null,null,null,null,null,null,null,198,19985.245032298881,492.39211103467221,460.07439319955353,32.317717835118664]
[null,null,null,199,10250.004116333019,249.99997931490896,249.99997931490896,0,null,null,null,null,null,null,null,199,9274.4662747200273,242.39213171976323,210.7746619309267,31.617469788836516,null,null,null,null,null,null,null,199,19524.470391053044,492.39211103467221,460.77464124583565,31.617469788836516]
[null,null,null,200,10000.00413701811,249.99997931490896,249.99997931490896,0,null,null,null,null,null,null,null,200,9062.9890305826648,242.39213171976323,211.47724413736313,30.914887582400095,null,null,null,null,null,null,null,200,19062.993167600776,492.39211103467221,461.47722345227209,30.914887582400095]
[null,null,null,201,9750.0041577032007,249.99997931490896,249.99997931490896,0,null,null,null,null,null,null,null,201,8850.8068622981773,242.39213171976323,212.18216828448769,30.209963435275551,null,null,null,null,null,null,null,201,18600.811020001376,492.39211103467221,462.18214759939667,30.209963435275551]
[null,null,null,202,9500.0041783882916,249.99997931490896,249.99997931490896,0,null,null,null,null,null,null,null,202,8637.9174201194073,242.39213171976323,212.88944217876929,29.502689540993927,null,null,null,null,null,null,null,202,18137.921598507699,492.39211103467221,462.88942149367824,29.502689540993927]
[null,null,null,203,9250.0041990733826,249.99997931490896,249.99997931490896,0,null,null,null,null,null,null,null,203,8424.318346466709,242.39213171976323,213.59907365269854,28.793058067064692,null,null,null,null,null,null,null,203,17674.32254554009,492.39211103467221,463.59905296760746,28.793058067064692]
[null,null,null,204,9000.0042197584735,249.99997931490896,249.99997931490896,0,null,null,null,null,null,null,null,204,8210.0072759018349,242.39213171976323,214.3110705648742,28.081061154889031,null,null,null,null,null,null,null,204,17210.011495660307,492.39211103467221,464.31104987978313,28.081061154889031]
[null,null,18,205,8750.0042404435644,249.99997931490896,249.99997931490896,0,null,null,null,null,null,null,18,205,7994.9818351017448,242.39213171976323,215.02544080009045,27.366690919672784,null,null,null,null,null,null,18,205,16744.986075545308,492.39211103467221,465.02542011499941,27.366690919672784]
[null,null,null,206,8500.0042611286553,249.99997931490896,249.99997931490896,0,null,null,null,null,null,null,null,206,7779.2396428323209,242.39213171976323,215.74219226942407,26.649939450339151,null,null,null,null,null,null,null,206,16279.243903960976,492.39211103467221,465.74217158433305,26.649939450339151]
[null,null,null,207,8250.0042818137463,249.99997931490896,249.99997931490896,0,null,null,null,null,null,null,null,207,7562.7783099219987,242.39213171976323,216.46133291032214,25.930798809441072,null,null,null,null,null,null,null,207,15812.782591735744,492.39211103467221,466.4613122252311,25.930798809441072]
[null,null,null,208,8000.0043024988372,249.99997931490896,249.99997931490896,0,null,null,null,null,null,null,null,208,7345.5954392353087,242.39213171976323,217.18287068668991,25.209261033073332,null,null,null,null,null,null,null,208,15345.599741734146,492.39211103467221,467.18285000159887,25.209261033073332]
[null,null,null,209,7750.0043231839281,249.99997931490896,249.99997931490896,0,null,null,null,null,null,null,null,209,7127.6886256463295,242.39213171976323,217.90681358897888,24.485318130784364,null,null,null,null,null,null,null,209,14877.692948830258,492.39211103467221,467.90679290388783,24.485318130784364]
[null,null,null,210,7500.0043438690191,249.99997931490896,249.99997931490896,0,null,null,null,null,null,null,null,210,6909.0554560120536,242.39213171976323,218.63316963427548,23.758962085487767,null,null,null,null,null,null,null,210,14409.059799881074,492.39211103467221,468.63314894918443,23.758962085487767]
[null,null,null,211,7250.00436455411,249.99997931490896,249.99997931490896,0,null,null,null,null,null,null,null,211,6689.6935091456635,242.39213171976323,219.3619468663897,23.030184853373513,null,null,null,null,null,null,null,211,13939.697873699773,492.39211103467221,469.36192618129866,23.030184853373513]
[null,null,null,212,7000.0043852392009,249.99997931490896,249.99997931490896,0,null,null,null,null,null,null,null,212,6469.6003557897193,242.39213171976323,220.09315335594434,22.298978363818879,null,null,null,null,null,null,null,212,13469.604741028921,492.39211103467221,470.09313267085327,22.298978363818879]
[null,null,null,213,6750.0044059242919,249.99997931490896,249.99997931490896,0,null,null,null,null,null,null,null,213,{"$f":"Q226-S227","v":6248.7735585892551},242.39213171976323,220.82679720046417,21.565334519299064,null,null,null,null,null,null,null,213,12998.777964513547,492.39211103467221,470.82677651537313,21.565334519299064]
[null,null,null,214,6500.0044266093828,249.99997931490896,249.99997931490896,0,null,null,null,null,null,null,null,214,6027.2106720647898,242.39213171976323,221.56288652446571,20.829245195297517,null,null,null,null,null,null,null,214,12527.215098674173,492.39211103467221,471.56286583937469,20.829245195297517]
[null,null,null,215,6250.0044472944737,249.99997931490896,249.99997931490896,0,null,null,null,null,null,null,null,215,5804.9092425852423,242.39213171976323,222.30142947954727,20.090702240215968,null,null,null,null,null,null,null,215,12054.913689879715,492.39211103467221,472.30140879445622,20.090702240215968]
[null,null,null,216,6000.0044679795647,249.99997931490896,249.99997931490896,0,null,null,null,null,null,null,null,216,5581.8668083407629,242.39213171976323,223.0424342444791,19.349697475284142,null,null,null,null,null,null,null,216,11581.871276320328,492.39211103467221,473.04241355938802,19.349697475284142]
[null,null,19,217,5750.0044886646556,249.99997931490896,249.99997931490896,0,null,null,null,null,null,null,19,217,5358.0808993154687,242.39213171976323,223.78590902529402,18.60622269446921,null,null,null,null,null,null,19,217,11108.085387980125,492.39211103467221,473.78588834020297,18.60622269446921]
[null,null,null,218,5500.0045093497465,249.99997931490896,249.99997931490896,0,null,null,null,null,null,null,null,218,5133.5490372600907,242.39213171976323,224.53186205537833,17.860269664384898,null,null,null,null,null,null,null,218,10633.553546609837,492.39211103467221,474.53184137028728,17.860269664384898]
[null,null,null,219,5250.0045300348374,249.99997931490896,249.99997931490896,0,null,null,null,null,null,null,null,219,4908.2687356645274,242.39213171976323,225.28030159556292,17.111830124200303,null,null,null,null,null,null,null,219,10158.273265699365,492.39211103467221,475.2802809104719,17.111830124200303]
[null,null,null,220,5000.0045507199284,249.99997931490896,249.99997931490896,0,null,null,null,null,null,null,null,220,4682.2374997303123,242.39213171976323,226.03123593421481,16.360895785548426,null,null,null,null,null,null,null,220,9682.2420504502406,492.39211103467221,476.03121524912376,16.360895785548426]
[null,null,null,221,4750.0045714050193,249.99997931490896,249.99997931490896,0,null,null,null,null,null,null,null,221,4455.4528263429838,242.39213171976323,226.78467338732887,15.607458332434375,null,null,null,null,null,null,null,221,9205.4573977480031,492.39211103467221,476.78465270223785,15.607458332434375]
[null,null,null,222,4500.0045920901102,249.99997931490896,249.99997931490896,0,null,null,null,null,null,null,null,222,4227.9122040443635,242.39213171976323,227.54062229861995,14.85150942114328,null,null,null,null,null,null,null,222,8727.9167961344738,492.39211103467221,477.54060161352891,14.85150942114328]
[null,null,null,223,4250.0046127752012,249.99997931490896,249.99997931490896,0,null,null,null,null,null,null,null,223,3999.6131130047484,242.39213171976323,228.29909103961535,14.09304068014788,null,null,null,null,null,null,null,223,8249.61772577995,492.39211103467221,478.2990703545243,14.09304068014788]
[null,null,null,224,4000.0046334602921,249.99997931490896,249.99997931490896,0,null,null,null,null,null,null,null,224,3770.5530249950011,242.39213171976323,229.0600880097474,13.332043710015828,null,null,null,null,null,null,null,224,7770.5576584552928,492.39211103467221,479.06006732465636,13.332043710015828]
[null,null,null,225,3750.004654145383,249.99997931490896,249.99997931490896,0,null,null,null,null,null,null,null,225,3540.7294033585545,242.39213171976323,229.82362163644655,12.568510083316671,null,null,null,null,null,null,null,225,7290.7340575039379,492.39211103467221,479.8236009513555,12.568510083316671]
[null,null,null,226,3500.004674830474,249.99997931490896,249.99997931490896,0,null,null,null,null,null,null,null,226,3310.1397029833197,242.39213171976323,230.58970037523471,11.802431344528516,null,null,null,null,null,null,null,226,6810.1443778137937,492.39211103467221,480.58967969014367,11.802431344528516]
[null,null,null,227,3250.0046955155649,249.99997931490896,249.99997931490896,0,null,null,null,null,null,null,null,227,3078.7813702735007,242.39213171976323,231.35833270981882,11.033799009944399,null,null,null,null,null,null,null,227,6328.7860657890651,492.39211103467221,481.35831202472775,11.033799009944399]
[null,null,null,228,3000.0047162006558,249.99997931490896,249.99997931490896,0,null,null,null,null,null,null,null,228,2846.6518431213158,242.39213171976323,232.12952715218489,10.262604567578336,null,null,null,null,null,null,null,228,5846.6565593219711,492.39211103467221,482.12950646709385,10.262604567578336]
[null,null,20,229,2750.0047368857468,249.99997931490896,249.99997931490896,0,null,null,null,null,null,null,20,229,2613.7485508786235,242.39213171976323,232.90329224269217,9.4888394770710534,null,null,null,null,null,null,20,229,5363.7532877643698,492.39211103467221,482.9032715576011,9.4888394770710534]
[null,null,null,230,2500.0047575708377,249.99997931490896,249.99997931490896,0,null,null,null,null,null,null,null,230,2380.0689143284558,242.39213171976323,233.67963655016783,8.712495169595412,null,null,null,null,null,null,null,230,4880.0736718992939,492.39211103467221,483.67961586507681,8.712495169595412]
[null,null,null,231,2250.0047782559286,249.99997931490896,249.99997931490896,0,null,null,null,null,null,null,null,231,2145.6103456564542,242.39213171976323,234.45856867200172,7.9335630477615195,null,null,null,null,null,null,null,231,4395.6151239123828,492.39211103467221,484.45854798691067,7.9335630477615195]
[null,null,null,232,2000.0047989410195,249.99997931490896,249.99997931490896,0,null,null,null,null,null,null,null,232,1910.3702484222126,242.39213171976323,235.24009723424172,7.152034485521515,null,null,null,null,null,null,null,232,3910.3750473632322,492.39211103467221,485.24007654915067,7.152034485521515]
[null,null,null,233,1750.0048196261105,249.99997931490896,249.99997931490896,0,null,null,null,null,null,null,null,233,1674.3460175305236,242.39213171976323,236.02423089168917,6.3679008280740428,null,null,null,null,null,null,null,233,3424.350837156634,492.39211103467221,486.02421020659813,6.3679008280740428]
[null,null,null,234,1500.0048403112014,249.99997931490896,249.99997931490896,0,null,null,null,null,null,null,null,234,1437.5350392025289,242.39213171976323,236.8109783279948,5.581153391768412,null,null,null,null,null,null,null,234,2937.5398795137303,492.39211103467221,486.81095764290376,5.581153391768412]
[null,null,null,235,1250.0048609962923,249.99997931490896,249.99997931490896,0,null,null,null,null,null,null,null,235,1199.934690946774,242.39213171976323,237.6003482557548,4.7917834640084296,null,null,null,null,null,null,null,235,2449.9395519430664,492.39211103467221,487.60032757066375,4.7917834640084296]
[null,null,null,236,1000.0048816813834,249.99997931490896,249.99997931490896,0,null,null,null,null,null,null,null,236,961.54234153016671,242.39213171976323,238.39234941660732,3.9997823031559139,null,null,null,null,null,null,null,236,1961.5472232115501,492.39211103467221,488.39232873151627,3.9997823031559139]
[null,null,null,237,750.00490236647443,249.99997931490896,249.99997931490896,0,null,null,null,null,null,null,null,237,722.35535094883744,242.39213171976323,239.18699058132933,3.205141138433889,null,null,null,null,null,null,null,237,1472.3602533153119,492.39211103467221,489.18696989623828,3.205141138433889]
[null,null,null,238,500.00492305156547,249.99997931490896,249.99997931490896,0,null,null,null,null,null,null,null,238,482.37107039890367,242.39213171976323,239.98428054993377,2.4078511698294585,null,null,null,null,null,null,null,238,982.3759934504692,492.39211103467221,489.98425986484273,2.4078511698294585]
[null,null,null,239,250.00494373665651,249.99997931490896,249.99997931490896,0,null,null,null,null,null,null,null,239,241.58684224713679,242.39213171976323,240.78422815176688,1.6079035679963456,null,null,null,null,null,null,null,239,491.59178598379333,492.39211103467221,490.78420746667587,1.6079035679963456]
[null,null,null,240,4.9644217475588448E-3,249.99997931490896,249.99997931490896,0,null,null,null,null,null,null,null,240,1.5306795830838382E-9,242.39213171976323,241.58684224560611,0.80528947415712271,null,null,null,null,null,null,null,240,4.9644232782384279E-3,492.39211103467221,491.58682156051509,0.80528947415712271]